{"text_format":"1","workbook":"xlsx","n_sheets":12,"sheets":["Forside","Analyse, voksne","Overblik, voksne","Overblik, Uddyb, voksne","Analyse, B&U","Overblik, B&U","Overblik, Uddyb, B&U","Skabelon, voksne","Skabelon, B&U","Hjælpeark","Svarkategorier","Infobokse"],"not_rendered":{"charts":2,"images":12,"macros":1,"external_links":0,"defined_names":57,"comments":0,"pivot_tables":0},"unopened":[],"bounds":{"document_bytes":16777216,"sheet_cells":100000,"rows_first":2000,"rows_last":500,"rows_between":2000,"halvings":0,"cell_chars":16384,"cell_head_chars":4096},"cells_cut":0,"cells_raw":0,"read":"whole","date_system":"1900"}

{"sheet":"Forside","index":0,"n_rows":16,"n_cols":18,"rows_kept":16,"cut":false,"hidden":false,"merged":[[15,0,15,2],[13,0,13,2],[12,0,12,12],[4,0,4,14],[5,0,5,14],[6,0,6,14],[7,0,7,14],[8,0,8,14],[9,0,9,14],[10,0,10,14],[11,0,11,14]]}
[]
[]
[]
["Ledelsestilsyn på handicapområdet"]
["Dette er et redskab til gennemførelse af ledelsestilsyn på handicapområdet. Øverst kan du se, at redskabet rummer både børnehandicapområdet og voksenhandicapområdet, så du kan gå direkte til det område, som du er ansvarlig for.",null,null,null,null,null,null,null,null,null,null,null,null,null,null,null,null,"Herunder kan du få en videointroduktion til tilsynene \n(tryk på teksten - den sender dig videre til linket)"]
["Når du skal gennemgå en sag, trykker du på ”Opret et tilsyn”. Redskabet gemmer alle de tilsyn dvs. sagsgennemgange, som du opretter, og du kan altid gå tilbage til en sag via ”Gå til et oprettet tilsyn”.",null,null,null,null,null,null,null,null,null,null,null,null,null,null,null,null,"Hvordan du opretter et tilsyn"]
["Redskabet består af et overordnet ledelsestilsyn og et uddybende ledelsestilsyn. Når du opretter et tilsyn, vil du få mulighed for at udfylde begge dele. Redskabet gemmer dine svar, når du gemmer filen, og du kan altid gå tilbage til en sag og ændre i dine svar, ligesom du kan udfylde det overordnede tilsyn først og komme tilbage senere og udfylde det uddybende tilsyn, når du har taget stilling til, hvilket af temaerne i det uddybende tilsyn, som du vil kigge nærmere på.",null,null,null,null,null,null,null,null,null,null,null,null,null,null,null,null,"Det overordnede tilsyn"]
["Du finder et overblik over, hvad du har vurderet på de enkelte sager via knapperne ”Overblik over de overordnede tilsyn” og ”Overblik over det uddybende tilsyn”. Redskabet generer også statistik på dine vurderinger, som er samlet i en kort præsentation via ”Ledelsesinformation”.",null,null,null,null,null,null,null,null,null,null,null,null,null,null,null,null,"Det uddybende tilsyn"]
["Vi anbefaler, at du downloader et nyt redskab, når du skal foretage et nyt rul med ledelsestilsyn, så resultaterne ikke bliver blandet sammen i statistikkerne. Du kan hente redskabet på Social- og Boligstyrelsens hjemmeside.",null,null,null,null,null,null,null,null,null,null,null,null,null,null,null,null,"Overblik over det overordnede tilsyn"]
["Redskabet hjælper dig med at få et indblik i jeres aktuelle sagsbehandling. Det er dog ikke et redskab, som kan validere sagerne i forhold til, om de er blevet behandlet korrekt. Denne vurdering foretages af den, som gennemfører tilsynet, ligesom det skal ses i forhold til de lokale arbejdsgange og standarder, som kommunen arbejder efter.",null,null,null,null,null,null,null,null,null,null,null,null,null,null,null,null,"Overblik over det uddybende tilsyn"]
["Redskabet er udviklet i et samarbejde mellem Social- og Boligstyrelsen og Ankestyrelsen. Du kan finde mere viden om, hvordan du bruger redskabet, gennemfører et ledelsestilsyn og omsætter resultaterne til læring på Social- og Boligstyrelsens hjemmeside.",null,null,null,null,null,null,null,null,null,null,null,null,null,null,null,null,"Ledelsesinformation"]
["https://www.sbst.dk/tvaergaende-omrader/sagsbehandling/ledelsestilsyn"]
["Antal oprettede tilsyn"]
["Der er dags dato udarbejdet",null,null,0,"tilsyn på børnehandicapområdet"]
[]
["Der er dags dato udarbejdet",null,null,0,"tilsyn på voksenhandicapområdet"]

{"sheet":"Analyse, voksne","index":1,"n_rows":40,"n_cols":4,"rows_kept":40,"cut":false,"hidden":false,"merged":[[5,0,11,7],[39,0,51,7],[2,0,2,6],[1,0,1,7]]}
[]
["Du kan se en introduktion til, hvordan du kan bruge ledelsesinformationen her."]
["Ledelsesinformation for tilsyn på voksenhandicapområdet"]
[]
["Konklusion fra leder"]
["[Her kan du skrive din konklusion]"]
[]
[]
[]
[]
[]
[]
[]
["Figur 1"]
[]
[]
[]
[]
[]
[]
[]
[]
[]
[]
[]
[]
[]
[]
["Tabel 1"]
[null,"Ingen opmærksomhed","Let opmærksomhed","Særlig opmærksomhed"]
[{"$f":"'Skabelon, voksne'!B23","v":"Opstart af sagen"},{"$f":"COUNTIFS(Hjælpeark!B$62:B$361,Hjælpeark!$A$58,Hjælpeark!C$62:C$361,1)","v":0},{"$f":"COUNTIFS(Hjælpeark!B$62:B$361,Hjælpeark!$A$59,Hjælpeark!C$62:C$361,1)","v":0},{"$f":"COUNTIFS(Hjælpeark!B$62:B$361,Hjælpeark!$A$60,Hjælpeark!C$62:C$361,1)","v":0}]
[{"$f":"'Skabelon, voksne'!B34","v":"Oplysning af sagen samt faglig udredning og vurdering"},{"$f":"COUNTIFS(Hjælpeark!B$62:B$361,Hjælpeark!$A$58,Hjælpeark!D$62:D$361,1)","v":0},{"$f":"COUNTIFS(Hjælpeark!B$62:B$361,Hjælpeark!$A$59,Hjælpeark!D$62:D$361,1)","v":0},{"$f":"COUNTIFS(Hjælpeark!B$62:B$361,Hjælpeark!$A$60,Hjælpeark!D$62:D$361,1)","v":0}]
[{"$f":"'Skabelon, voksne'!B44","v":"Afgørelse"},{"$f":"COUNTIFS(Hjælpeark!B$62:B$361,Hjælpeark!$A$58,Hjælpeark!E$62:E$361,1)","v":0},{"$f":"COUNTIFS(Hjælpeark!B$62:B$361,Hjælpeark!$A$59,Hjælpeark!E$62:E$361,1)","v":0},{"$f":"COUNTIFS(Hjælpeark!B$62:B$361,Hjælpeark!$A$60,Hjælpeark!E$62:E$361,1)","v":0}]
[{"$f":"'Skabelon, voksne'!B53","v":"Handleplan"},{"$f":"COUNTIFS(Hjælpeark!B$62:B$361,Hjælpeark!$A$58,Hjælpeark!F$62:F$361,1)","v":0},{"$f":"COUNTIFS(Hjælpeark!B$62:B$361,Hjælpeark!$A$59,Hjælpeark!F$62:F$361,1)","v":0},{"$f":"COUNTIFS(Hjælpeark!B$62:B$361,Hjælpeark!$A$60,Hjælpeark!F$62:F$361,1)","v":0}]
[{"$f":"'Skabelon, voksne'!B61","v":"Opfølgning"},{"$f":"COUNTIFS(Hjælpeark!B$62:B$361,Hjælpeark!$A$58,Hjælpeark!G$62:G$361,1)","v":0},{"$f":"COUNTIFS(Hjælpeark!B$62:B$361,Hjælpeark!$A$59,Hjælpeark!G$62:G$361,1)","v":0},{"$f":"COUNTIFS(Hjælpeark!B$62:B$361,Hjælpeark!$A$60,Hjælpeark!G$62:G$361,1)","v":0}]
[{"$f":"'Skabelon, voksne'!B72","v":"Notatpligt og journalisering"},{"$f":"COUNTIFS(Hjælpeark!B$62:B$361,Hjælpeark!$A$58,Hjælpeark!H$62:H$361,1)","v":0},{"$f":"COUNTIFS(Hjælpeark!B$62:B$361,Hjælpeark!$A$59,Hjælpeark!H$62:H$361,1)","v":0},{"$f":"COUNTIFS(Hjælpeark!B$62:B$361,Hjælpeark!$A$60,Hjælpeark!H$62:H$361,1)","v":0}]
[]
[]
["Særlige opmærksomheder på tværs af tilsynene"]
["[Her kan du begrunde konklusionen og tilføje særlige opmærksomheder til figur og tabel].\n[Husk at du skal holde Alt ned og trykke Enter, når du vil skrifte linje]."]

{"sheet":"Overblik, voksne","index":2,"n_rows":104,"n_cols":19,"rows_kept":104,"cut":false,"hidden":false,"merged":[[2,9,2,16]]}
[]
[null,"Overblik over det overordnede ledelsestilsyn på voksenhandicapområdet"]
[null,"Her skal du ikke indtaste noget. Du kan bruge de grå bokse til at sortere i data på dato, sagstype og rådgiver.",null,null,null,null,null,null,null,"Du kan få inspiration til dit arbejde med overblikket her."]
[null,"Tilsyn","Sagsnummer","Dato","Sagstype","Rådgiver",{"$f":"'Analyse, voksne'!A31","v":"Opstart af sagen"},null,{"$f":"'Analyse, voksne'!A32","v":"Oplysning af sagen samt faglig udredning og vurdering"},null,{"$f":"'Analyse, voksne'!A33","v":"Afgørelse"},null,{"$f":"'Analyse, voksne'!A34","v":"Handleplan"},null,{"$f":"'Analyse, voksne'!A35","v":"Opfølgning"},null,{"$f":"'Analyse, voksne'!A36","v":"Notatpligt og journalisering"}]
[null,{"$f":"IFERROR(IF(Hjælpeark!C64>=0,Hjælpeark!A62,\"\"),\"\")","v":""},{"$f":"IF(ISERROR(INDIRECT(\"'Voksen \"&B5&\"'!$c$17\",TRUE)),\"\",INDIRECT(\"'Voksen \"&B5&\"'!$c$17\",TRUE))","v":""},{"$f":"IF(ISERROR(INDIRECT(\"'Voksen \"&B5&\"'!$c$13\",TRUE)),\"\",INDIRECT(\"'Voksen \"&B5&\"'!$c$13\",TRUE))","v":""},{"$f":"IF(ISERROR(INDIRECT(\"'Voksen \"&B5&\"'!$c$18\",TRUE)),\"\",INDIRECT(\"'Voksen \"&B5&\"'!$c$18\",TRUE))","v":""},{"$f":"IF(ISERROR(INDIRECT(\"'Voksen \"&B5&\"'!$c$16\",TRUE)),\"\",INDIRECT(\"'Voksen \"&B5&\"'!$c$16\",TRUE))","v":""}]
[null,{"$f":"IFERROR(IF(Hjælpeark!C65>=0,Hjælpeark!A65,\"\"),\"\")","v":""},{"$f":"IF(ISERROR(INDIRECT(\"'Voksen \"&B6&\"'!$c$17\",TRUE)),\"\",INDIRECT(\"'Voksen \"&B6&\"'!$c$17\",TRUE))","v":""},{"$f":"IF(ISERROR(INDIRECT(\"'Voksen \"&B6&\"'!$c$13\",TRUE)),\"\",INDIRECT(\"'Voksen \"&B6&\"'!$c$13\",TRUE))","v":""},"",""]
[null,{"$f":"IFERROR(IF(Hjælpeark!C68>=0,Hjælpeark!A68,\"\"),\"\")","v":""},"","","",""]
[null,{"$f":"IFERROR(IF(Hjælpeark!C71>=0,Hjælpeark!A71,\"\"),\"\")","v":""},"","","",""]
[null,{"$f":"IFERROR(IF(Hjælpeark!C74>=0,Hjælpeark!A74,\"\"),\"\")","v":""},"","","",""]
[null,{"$f":"IFERROR(IF(Hjælpeark!C77>=0,Hjælpeark!A77,\"\"),\"\")","v":""},"","","",""]
[null,{"$f":"IFERROR(IF(Hjælpeark!C80>=0,Hjælpeark!A80,\"\"),\"\")","v":""},"","","",""]
[null,{"$f":"IFERROR(IF(Hjælpeark!C83>=0,Hjælpeark!A83,\"\"),\"\")","v":""},"","","",""]
[null,{"$f":"IFERROR(IF(Hjælpeark!C86>=0,Hjælpeark!A86,\"\"),\"\")","v":""},"","","",""]
[null,{"$f":"IFERROR(IF(Hjælpeark!C89>=0,Hjælpeark!A89,\"\"),\"\")","v":""},"","","",""]
[null,{"$f":"IFERROR(IF(Hjælpeark!C92>=0,Hjælpeark!A92,\"\"),\"\")","v":""},"","","",""]
[null,{"$f":"IFERROR(IF(Hjælpeark!C95>=0,Hjælpeark!A95,\"\"),\"\")","v":""},"","","",""]
[null,{"$f":"IFERROR(IF(Hjælpeark!C98>=0,Hjælpeark!A98,\"\"),\"\")","v":""},"","","",""]
[null,{"$f":"IFERROR(IF(Hjælpeark!C101>=0,Hjælpeark!A101,\"\"),\"\")","v":""},"","","",""]
[null,{"$f":"IFERROR(IF(Hjælpeark!C104>=0,Hjælpeark!A104,\"\"),\"\")","v":""},"","","",""]
[null,{"$f":"IFERROR(IF(Hjælpeark!C107>=0,Hjælpeark!A107,\"\"),\"\")","v":""},"","","",""]
[null,{"$f":"IFERROR(IF(Hjælpeark!C110>=0,Hjælpeark!A110,\"\"),\"\")","v":""},"","","",""]
[null,{"$f":"IFERROR(IF(Hjælpeark!C113>=0,Hjælpeark!A113,\"\"),\"\")","v":""},"","","",""]
[null,{"$f":"IFERROR(IF(Hjælpeark!C116>=0,Hjælpeark!A116,\"\"),\"\")","v":""},"","","",""]
[null,{"$f":"IFERROR(IF(Hjælpeark!C119>=0,Hjælpeark!A119,\"\"),\"\")","v":""},"","","",""]
[null,{"$f":"IFERROR(IF(Hjælpeark!C122>=0,Hjælpeark!A122,\"\"),\"\")","v":""},"","","",""]
[null,{"$f":"IFERROR(IF(Hjælpeark!C125>=0,Hjælpeark!A125,\"\"),\"\")","v":""},"","","",""]
[null,{"$f":"IFERROR(IF(Hjælpeark!C128>=0,Hjælpeark!A128,\"\"),\"\")","v":""},"","","",""]
[null,{"$f":"IFERROR(IF(Hjælpeark!C131>=0,Hjælpeark!A131,\"\"),\"\")","v":""},"","","",""]
[null,{"$f":"IFERROR(IF(Hjælpeark!C134>=0,Hjælpeark!A134,\"\"),\"\")","v":""},"","","",""]
[null,{"$f":"IFERROR(IF(Hjælpeark!C137>=0,Hjælpeark!A137,\"\"),\"\")","v":""},"","","",""]
[null,{"$f":"IFERROR(IF(Hjælpeark!C140>=0,Hjælpeark!A140,\"\"),\"\")","v":""},"","","",""]
[null,{"$f":"IFERROR(IF(Hjælpeark!C143>=0,Hjælpeark!A143,\"\"),\"\")","v":""},"","","",""]
[null,{"$f":"IFERROR(IF(Hjælpeark!C146>=0,Hjælpeark!A146,\"\"),\"\")","v":""},"","","",""]
[null,{"$f":"IFERROR(IF(Hjælpeark!C149>=0,Hjælpeark!A149,\"\"),\"\")","v":""},"","","",""]
[null,{"$f":"IFERROR(IF(Hjælpeark!C152>=0,Hjælpeark!A152,\"\"),\"\")","v":""},"","","",""]
[null,{"$f":"IFERROR(IF(Hjælpeark!C155>=0,Hjælpeark!A155,\"\"),\"\")","v":""},"","","",""]
[null,{"$f":"IFERROR(IF(Hjælpeark!C158>=0,Hjælpeark!A158,\"\"),\"\")","v":""},{"$f":"IF(ISERROR(INDIRECT(\"'Voksen \"&B37&\"'!$c$17\",TRUE)),\"\",INDIRECT(\"'Voksen \"&B37&\"'!$c$17\",TRUE))","v":""},"",{"$f":"IF(ISERROR(INDIRECT(\"'Voksen \"&B37&\"'!$c$18\",TRUE)),\"\",INDIRECT(\"'Voksen \"&B37&\"'!$c$18\",TRUE))","v":""},{"$f":"IF(ISERROR(INDIRECT(\"'Voksen \"&B37&\"'!$c$16\",TRUE)),\"\",INDIRECT(\"'Voksen \"&B37&\"'!$c$16\",TRUE))","v":""}]
[null,{"$f":"IFERROR(IF(Hjælpeark!C161>=0,Hjælpeark!A161,\"\"),\"\")","v":""},"","","",""]
[null,{"$f":"IFERROR(IF(Hjælpeark!C164>=0,Hjælpeark!A164,\"\"),\"\")","v":""},"","","",""]
[null,{"$f":"IFERROR(IF(Hjælpeark!C167>=0,Hjælpeark!A167,\"\"),\"\")","v":""},"","","",""]
[null,{"$f":"IFERROR(IF(Hjælpeark!C170>=0,Hjælpeark!A170,\"\"),\"\")","v":""},"","","",""]
[null,{"$f":"IFERROR(IF(Hjælpeark!C173>=0,Hjælpeark!A173,\"\"),\"\")","v":""},"","","",""]
[null,{"$f":"IFERROR(IF(Hjælpeark!C176>=0,Hjælpeark!A176,\"\"),\"\")","v":""},"","","",""]
[null,{"$f":"IFERROR(IF(Hjælpeark!C179>=0,Hjælpeark!A179,\"\"),\"\")","v":""},"","","",""]
[null,{"$f":"IFERROR(IF(Hjælpeark!C182>=0,Hjælpeark!A182,\"\"),\"\")","v":""},"","","",""]
[null,{"$f":"IFERROR(IF(Hjælpeark!C185>=0,Hjælpeark!A185,\"\"),\"\")","v":""},"","","",""]
[null,{"$f":"IFERROR(IF(Hjælpeark!C188>=0,Hjælpeark!A188,\"\"),\"\")","v":""},"","","",""]
[null,{"$f":"IFERROR(IF(Hjælpeark!C191>=0,Hjælpeark!A191,\"\"),\"\")","v":""},"","","",""]
[null,{"$f":"IFERROR(IF(Hjælpeark!C194>=0,Hjælpeark!A194,\"\"),\"\")","v":""},"","","",""]
[null,{"$f":"IFERROR(IF(Hjælpeark!C197>=0,Hjælpeark!A197,\"\"),\"\")","v":""},"","","",""]
[null,{"$f":"IFERROR(IF(Hjælpeark!C200>=0,Hjælpeark!A200,\"\"),\"\")","v":""},"","","",""]
[null,{"$f":"IFERROR(IF(Hjælpeark!C203>=0,Hjælpeark!A203,\"\"),\"\")","v":""},"","","",""]
[null,{"$f":"IFERROR(IF(Hjælpeark!C206>=0,Hjælpeark!A206,\"\"),\"\")","v":""},"","","",""]
[null,{"$f":"IFERROR(IF(Hjælpeark!C209>=0,Hjælpeark!A209,\"\"),\"\")","v":""},"","","",""]
[null,{"$f":"IFERROR(IF(Hjælpeark!C210>=0,Hjælpeark!A210,\"\"),\"\")","v":""},"","","","",null,null,null,null,null,null,null,null,null,null,null,null,"x"]
[null,{"$f":"IFERROR(IF(Hjælpeark!C211>=0,Hjælpeark!A211,\"\"),\"\")","v":""},"","","",""]
[null,{"$f":"IFERROR(IF(Hjælpeark!C212>=0,Hjælpeark!A212,\"\"),\"\")","v":""},"","","",""]
[null,{"$f":"IFERROR(IF(Hjælpeark!C213>=0,Hjælpeark!A213,\"\"),\"\")","v":""},"","","",""]
[null,{"$f":"IFERROR(IF(Hjælpeark!C214>=0,Hjælpeark!A214,\"\"),\"\")","v":""},"","","",""]
[null,{"$f":"IFERROR(IF(Hjælpeark!C215>=0,Hjælpeark!A215,\"\"),\"\")","v":""},"","","",""]
[null,{"$f":"IFERROR(IF(Hjælpeark!C216>=0,Hjælpeark!A216,\"\"),\"\")","v":""},"","","",""]
[null,{"$f":"IFERROR(IF(Hjælpeark!C217>=0,Hjælpeark!A217,\"\"),\"\")","v":""},"","","",""]
[null,{"$f":"IFERROR(IF(Hjælpeark!C218>=0,Hjælpeark!A218,\"\"),\"\")","v":""},"","","",""]
[null,{"$f":"IFERROR(IF(Hjælpeark!C219>=0,Hjælpeark!A219,\"\"),\"\")","v":""},"","","",""]
[null,{"$f":"IFERROR(IF(Hjælpeark!C220>=0,Hjælpeark!A220,\"\"),\"\")","v":""},"","","",""]
[null,{"$f":"IFERROR(IF(Hjælpeark!C221>=0,Hjælpeark!A221,\"\"),\"\")","v":""},"","","",""]
[null,{"$f":"IFERROR(IF(Hjælpeark!C222>=0,Hjælpeark!A222,\"\"),\"\")","v":""},"","","",""]
[null,{"$f":"IFERROR(IF(Hjælpeark!C223>=0,Hjælpeark!A223,\"\"),\"\")","v":""},"","","",""]
[null,{"$f":"IFERROR(IF(Hjælpeark!C224>=0,Hjælpeark!A224,\"\"),\"\")","v":""},{"$f":"IF(ISERROR(INDIRECT(\"'Voksen \"&B69&\"'!$c$17\",TRUE)),\"\",INDIRECT(\"'Voksen \"&B69&\"'!$c$17\",TRUE))","v":""},"",{"$f":"IF(ISERROR(INDIRECT(\"'Voksen \"&B69&\"'!$c$18\",TRUE)),\"\",INDIRECT(\"'Voksen \"&B69&\"'!$c$18\",TRUE))","v":""},{"$f":"IF(ISERROR(INDIRECT(\"'Voksen \"&B69&\"'!$c$16\",TRUE)),\"\",INDIRECT(\"'Voksen \"&B69&\"'!$c$16\",TRUE))","v":""}]
[null,{"$f":"IFERROR(IF(Hjælpeark!C225>=0,Hjælpeark!A225,\"\"),\"\")","v":""},"",{"$f":"IF(ISERROR(INDIRECT(\"'Voksen \"&B70&\"'!$c$13\",TRUE)),\"\",INDIRECT(\"'Voksen \"&B70&\"'!$c$13\",TRUE))","v":""},"",""]
[null,{"$f":"IFERROR(IF(Hjælpeark!C226>=0,Hjælpeark!A226,\"\"),\"\")","v":""},"","","",""]
[null,{"$f":"IFERROR(IF(Hjælpeark!C227>=0,Hjælpeark!A227,\"\"),\"\")","v":""},"","","",""]
[null,{"$f":"IFERROR(IF(Hjælpeark!C228>=0,Hjælpeark!A228,\"\"),\"\")","v":""},"","","",""]
[null,{"$f":"IFERROR(IF(Hjælpeark!C229>=0,Hjælpeark!A229,\"\"),\"\")","v":""},"","","",""]
[null,{"$f":"IFERROR(IF(Hjælpeark!C230>=0,Hjælpeark!A230,\"\"),\"\")","v":""},"","","",""]
[null,{"$f":"IFERROR(IF(Hjælpeark!C231>=0,Hjælpeark!A231,\"\"),\"\")","v":""},"","","",""]
[null,{"$f":"IFERROR(IF(Hjælpeark!C232>=0,Hjælpeark!A232,\"\"),\"\")","v":""},"","","",""]
[null,{"$f":"IFERROR(IF(Hjælpeark!C233>=0,Hjælpeark!A233,\"\"),\"\")","v":""},"","","",""]
[null,{"$f":"IFERROR(IF(Hjælpeark!C234>=0,Hjælpeark!A234,\"\"),\"\")","v":""},"","","",""]
[null,{"$f":"IFERROR(IF(Hjælpeark!C235>=0,Hjælpeark!A235,\"\"),\"\")","v":""},"","","",""]
[null,{"$f":"IFERROR(IF(Hjælpeark!C236>=0,Hjælpeark!A236,\"\"),\"\")","v":""},"","","",""]
[null,{"$f":"IFERROR(IF(Hjælpeark!C237>=0,Hjælpeark!A237,\"\"),\"\")","v":""},"","","",""]
[null,{"$f":"IFERROR(IF(Hjælpeark!C238>=0,Hjælpeark!A238,\"\"),\"\")","v":""},"","","",""]
[null,{"$f":"IFERROR(IF(Hjælpeark!C239>=0,Hjælpeark!A239,\"\"),\"\")","v":""},"","","",""]
[null,{"$f":"IFERROR(IF(Hjælpeark!C240>=0,Hjælpeark!A240,\"\"),\"\")","v":""},"","","",""]
[null,{"$f":"IFERROR(IF(Hjælpeark!C241>=0,Hjælpeark!A241,\"\"),\"\")","v":""},"","","",""]
[null,{"$f":"IFERROR(IF(Hjælpeark!C242>=0,Hjælpeark!A242,\"\"),\"\")","v":""},"","","",""]
[null,{"$f":"IFERROR(IF(Hjælpeark!C243>=0,Hjælpeark!A243,\"\"),\"\")","v":""},"","","",""]
[null,{"$f":"IFERROR(IF(Hjælpeark!C244>=0,Hjælpeark!A244,\"\"),\"\")","v":""},"","","",""]
[null,{"$f":"IFERROR(IF(Hjælpeark!C245>=0,Hjælpeark!A245,\"\"),\"\")","v":""},"","","",""]
[null,{"$f":"IFERROR(IF(Hjælpeark!C246>=0,Hjælpeark!A246,\"\"),\"\")","v":""},"","","",""]
[null,{"$f":"IFERROR(IF(Hjælpeark!C247>=0,Hjælpeark!A247,\"\"),\"\")","v":""},"","","",""]
[null,{"$f":"IFERROR(IF(Hjælpeark!C248>=0,Hjælpeark!A248,\"\"),\"\")","v":""},"","","",""]
[null,{"$f":"IFERROR(IF(Hjælpeark!C249>=0,Hjælpeark!A249,\"\"),\"\")","v":""},"","","",""]
[null,{"$f":"IFERROR(IF(Hjælpeark!C250>=0,Hjælpeark!A250,\"\"),\"\")","v":""},"","","",""]
[null,{"$f":"IFERROR(IF(Hjælpeark!C251>=0,Hjælpeark!A251,\"\"),\"\")","v":""},"","","",""]
[null,{"$f":"IFERROR(IF(Hjælpeark!C252>=0,Hjælpeark!A252,\"\"),\"\")","v":""},"","","",""]
[null,{"$f":"IFERROR(IF(Hjælpeark!C253>=0,Hjælpeark!A253,\"\"),\"\")","v":""},"","","",""]
[null,{"$f":"IFERROR(IF(Hjælpeark!C254>=0,Hjælpeark!A254,\"\"),\"\")","v":""},"","","",""]
[null,{"$f":"IFERROR(IF(Hjælpeark!C255>=0,Hjælpeark!A255,\"\"),\"\")","v":""},"","","",""]
[null,{"$f":"IFERROR(IF(Hjælpeark!C256>=0,Hjælpeark!A256,\"\"),\"\")","v":""},{"$f":"IF(ISERROR(INDIRECT(\"'Voksen \"&B101&\"'!$c$17\",TRUE)),\"\",INDIRECT(\"'Voksen \"&B101&\"'!$c$17\",TRUE))","v":""},"","",""]
[null,{"$f":"IFERROR(IF(Hjælpeark!C257>=0,Hjælpeark!A257,\"\"),\"\")","v":""},"","","",""]
[null,{"$f":"IFERROR(IF(Hjælpeark!C258>=0,Hjælpeark!A258,\"\"),\"\")","v":""},"","","",""]
[null,{"$f":"IFERROR(IF(Hjælpeark!C259>=0,Hjælpeark!A259,\"\"),\"\")","v":""},"","","",""]

{"sheet":"Overblik, Uddyb, voksne","index":3,"n_rows":205,"n_cols":29,"rows_kept":205,"cut":false,"hidden":false,"merged":[[195,13,195,14],[195,15,195,16],[198,11,198,12],[198,13,198,14],[187,13,187,14],[187,15,187,16],[188,3,188,4],[188,5,188,6],[188,7,188,8],[2,3,2,10],[201,15,201,16],[197,3,197,4],[197,5,197,6],[197,7,197,8],[197,9,197,10],[197,11,197,12],[197,13,197,14],[197,15,197,16],[199,3,199,4],[199,5,199,6],[199,7,199,8],[199,9,199,10],[199,11,199,12],[199,13,199,14],[199,15,199,16],[193,3,193,4],[193,5,193,6],[193,7,193,8],[193,9,193,10],[193,11,193,12],[193,13,193,14],[195,3,195,4],[195,5,195,6],[195,7,195,8],[195,9,195,10],[188,11,188,12],[188,13,188,14],[188,15,188,16],[181,3,181,4],[181,5,181,6],[196,3,196,4],[189,3,189,4],[189,5,189,6],[189,7,189,8],[189,9,189,10],[189,11,189,12],[189,13,189,14],[189,15,189,16],[191,3,191,4],[191,5,191,6],[191,7,191,8],[191,9,191,10],[191,11,191,12],[191,13,191,14],[191,15,191,16],[185,3,185,4],[185,5,185,6],[185,7,185,8],[185,9,185,10],[185,11,185,12],[185,13,185,14],[185,15,185,16],[195,11,195,12],[187,3,187,4],[187,5,187,6],[187,7,187,8],[187,9,187,10],[187,11,187,12],[178,7,178,8],[178,9,178,10],[178,11,178,12],[178,13,178,14],[178,15,178,16],[180,3,180,4],[180,5,180,6],[180,7,180,8],[180,9,180,10],[180,11,180,12],[180,13,180,14],[180,15,180,16],[183,11,183,12],[183,13,183,14],[183,9,183,10],[181,7,181,8],[181,9,181,10],[181,11,181,12],[181,13,181,14],[181,15,181,16],[179,3,179,4],[179,5,179,6],[179,7,179,8],[179,9,179,10],[179,11,179,12],[179,13,179,14],[174,3,174,4],[174,5,174,6],[174,7,174,8],[174,9,174,10],[174,11,174,12],[174,13,174,14],[174,15,174,16],[176,3,176,4],[176,5,176,6],[176,7,176,8],[176,9,176,10],[176,11,176,12],[176,13,176,14],[176,15,176,16],[170,5,170,6],[170,7,170,8],[170,9,170,10],[170,11,170,12],[170,13,170,14],[170,15,170,16],[172,3,172,4],[172,5,172,6],[172,7,172,8],[172,9,172,10],[172,11,172,12],[172,13,172,14],[172,15,172,16],[170,3,170,4],[175,15,175,16],[166,3,166,4],[166,5,166,6],[166,7,166,8],[166,9,166,10],[166,11,166,12],[166,13,166,14],[166,15,166,16],[168,3,168,4],[168,5,168,6],[168,7,168,8],[168,9,168,10],[168,11,168,12],[168,13,168,14],[168,15,168,16],[162,5,162,6],[162,7,162,8],[162,9,162,10],[162,11,162,12],[162,13,162,14],[162,15,162,16],[164,3,164,4],[164,5,164,6],[164,7,164,8],[164,9,164,10],[164,11,164,12],[164,13,164,14],[164,15,164,16],[167,5,167,6],[167,7,167,8],[167,9,167,10],[167,11,167,12],[167,13,167,14],[158,3,158,4],[158,5,158,6],[158,7,158,8],[158,9,158,10],[158,11,158,12],[158,13,158,14],[158,15,158,16],[160,3,160,4],[160,5,160,6],[160,7,160,8],[160,9,160,10],[160,11,160,12],[160,13,160,14],[160,15,160,16],[154,5,154,6],[154,7,154,8],[154,9,154,10],[154,11,154,12],[154,13,154,14],[154,15,154,16],[156,3,156,4],[156,5,156,6],[156,7,156,8],[156,9,156,10],[156,11,156,12],[156,13,156,14],[156,15,156,16],[150,3,150,4],[150,5,150,6],[150,7,150,8],[150,9,150,10],[150,11,150,12],[150,13,150,14],[150,15,150,16],[152,3,152,4],[152,5,152,6],[152,7,152,8],[152,9,152,10],[152,11,152,12],[152,13,152,14],[152,15,152,16],[155,15,155,16],[146,3,146,4],[146,5,146,6],[146,7,146,8],[146,9,146,10],[146,11,146,12],[146,13,146,14],[146,15,146,16],[148,3,148,4],[148,5,148,6],[148,7,148,8],[148,9,148,10],[148,11,148,12],[148,13,148,14],[148,15,148,16],[155,13,155,14],[151,15,151,16],[153,3,153,4],[142,3,142,4],[142,5,142,6],[142,7,142,8],[142,9,142,10],[142,11,142,12],[142,13,142,14],[142,15,142,16],[144,3,144,4],[144,5,144,6],[144,7,144,8],[144,9,144,10],[144,11,144,12],[144,13,144,14],[144,15,144,16],[147,15,147,16],[138,5,138,6],[138,7,138,8],[138,9,138,10],[138,11,138,12],[138,13,138,14],[138,15,138,16],[140,3,140,4],[140,5,140,6],[140,7,140,8],[140,9,140,10],[140,11,140,12],[140,13,140,14],[140,15,140,16],[145,3,145,4],[145,5,145,6],[145,7,145,8],[145,9,145,10],[134,3,134,4],[134,5,134,6],[134,7,134,8],[134,9,134,10],[134,11,134,12],[134,13,134,14],[134,15,134,16],[136,3,136,4],[136,5,136,6],[136,7,136,8],[136,9,136,10],[136,11,136,12],[136,13,136,14],[136,15,136,16],[139,15,139,16],[130,3,130,4],[130,5,130,6],[130,7,130,8],[130,9,130,10],[130,11,130,12],[130,13,130,14],[130,15,130,16],[132,3,132,4],[132,5,132,6],[132,7,132,8],[132,9,132,10],[132,11,132,12],[132,13,132,14],[132,15,132,16],[137,13,137,14],[137,15,137,16],[133,3,133,4],[126,3,126,4],[126,5,126,6],[126,7,126,8],[126,9,126,10],[126,11,126,12],[126,13,126,14],[126,15,126,16],[128,3,128,4],[128,5,128,6],[128,7,128,8],[128,9,128,10],[128,11,128,12],[128,13,128,14],[128,15,128,16],[131,15,131,16],[122,3,122,4],[122,5,122,6],[122,7,122,8],[122,9,122,10],[122,11,122,12],[122,13,122,14],[122,15,122,16],[124,3,124,4],[124,5,124,6],[124,7,124,8],[124,9,124,10],[124,11,124,12],[124,13,124,14],[124,15,124,16],[125,3,125,4],[125,5,125,6],[125,7,125,8],[118,3,118,4],[118,5,118,6],[118,7,118,8],[118,9,118,10],[118,11,118,12],[118,13,118,14],[118,15,118,16],[120,3,120,4],[120,5,120,6],[120,7,120,8],[120,9,120,10],[120,11,120,12],[120,13,120,14],[120,15,120,16],[123,15,123,16],[114,7,114,8],[114,9,114,10],[114,11,114,12],[114,13,114,14],[114,15,114,16],[116,3,116,4],[116,5,116,6],[116,7,116,8],[116,9,116,10],[116,11,116,12],[116,13,116,14],[116,15,116,16],[119,5,119,6],[119,7,119,8],[119,9,119,10],[119,11,119,12],[119,13,119,14],[110,3,110,4],[110,5,110,6],[110,7,110,8],[110,9,110,10],[110,11,110,12],[110,13,110,14],[110,15,110,16],[112,3,112,4],[112,5,112,6],[112,7,112,8],[112,9,112,10],[112,11,112,12],[112,13,112,14],[112,15,112,16],[115,15,115,16],[106,5,106,6],[106,7,106,8],[106,9,106,10],[106,11,106,12],[106,13,106,14],[106,15,106,16],[108,3,108,4],[108,5,108,6],[108,7,108,8],[108,9,108,10],[108,11,108,12],[108,13,108,14],[108,15,108,16],[111,5,111,6],[111,7,111,8],[111,9,111,10],[111,11,111,12],[102,3,102,4],[102,5,102,6],[102,7,102,8],[102,9,102,10],[102,11,102,12],[102,13,102,14],[102,15,102,16],[104,3,104,4],[104,5,104,6],[104,7,104,8],[104,9,104,10],[104,11,104,12],[104,13,104,14],[104,15,104,16],[107,15,107,16],[98,7,98,8],[98,9,98,10],[98,11,98,12],[98,13,98,14],[98,15,98,16],[100,3,100,4],[100,5,100,6],[100,7,100,8],[100,9,100,10],[100,11,100,12],[100,13,100,14],[100,15,100,16],[103,3,103,4],[103,5,103,6],[103,7,103,8],[103,9,103,10],[103,11,103,12],[94,3,94,4],[94,5,94,6],[94,7,94,8],[94,9,94,10],[94,11,94,12],[94,13,94,14],[94,15,94,16],[96,3,96,4],[96,5,96,6],[96,7,96,8],[96,9,96,10],[96,11,96,12],[96,13,96,14],[96,15,96,16],[99,15,99,16],[90,5,90,6],[90,7,90,8],[90,9,90,10],[90,11,90,12],[90,13,90,14],[90,15,90,16],[92,3,92,4],[92,5,92,6],[92,7,92,8],[92,9,92,10],[92,11,92,12],[92,13,92,14],[92,15,92,16],[95,5,95,6],[95,7,95,8],[95,9,95,10],[95,11,95,12],[86,3,86,4],[86,5,86,6],[86,7,86,8],[86,9,86,10],[86,11,86,12],[86,13,86,14],[86,15,86,16],[88,3,88,4],[88,5,88,6],[88,7,88,8],[88,9,88,10],[88,11,88,12],[88,13,88,14],[88,15,88,16],[91,15,91,16],[82,7,82,8],[82,9,82,10],[82,11,82,12],[82,13,82,14],[82,15,82,16],[84,3,84,4],[84,5,84,6],[84,7,84,8],[84,9,84,10],[84,11,84,12],[84,13,84,14],[84,15,84,16],[87,5,87,6],[87,7,87,8],[87,9,87,10],[87,11,87,12],[87,13,87,14],[78,3,78,4],[78,5,78,6],[78,7,78,8],[78,9,78,10],[78,11,78,12],[78,13,78,14],[78,15,78,16],[80,3,80,4],[80,5,80,6],[80,7,80,8],[80,9,80,10],[80,11,80,12],[80,13,80,14],[80,15,80,16],[83,15,83,16],[74,7,74,8],[74,9,74,10],[74,11,74,12],[74,13,74,14],[74,15,74,16],[76,3,76,4],[76,5,76,6],[76,7,76,8],[76,9,76,10],[76,11,76,12],[76,13,76,14],[76,15,76,16],[79,5,79,6],[79,7,79,8],[79,9,79,10],[79,11,79,12],[79,13,79,14],[70,3,70,4],[70,5,70,6],[70,7,70,8],[70,9,70,10],[70,11,70,12],[70,13,70,14],[70,15,70,16],[72,3,72,4],[72,5,72,6],[72,7,72,8],[72,9,72,10],[72,11,72,12],[72,13,72,14],[72,15,72,16],[75,15,75,16],[66,3,66,4],[66,5,66,6],[66,7,66,8],[66,9,66,10],[66,11,66,12],[66,13,66,14],[66,15,66,16],[68,3,68,4],[68,5,68,6],[68,7,68,8],[68,9,68,10],[68,11,68,12],[68,13,68,14],[68,15,68,16],[71,5,71,6],[71,7,71,8],[71,9,71,10],[62,3,62,4],[62,5,62,6],[62,7,62,8],[62,9,62,10],[62,11,62,12],[62,13,62,14],[62,15,62,16],[64,3,64,4],[64,5,64,6],[64,7,64,8],[64,9,64,10],[64,11,64,12],[64,13,64,14],[64,15,64,16],[67,15,67,16],[58,3,58,4],[58,5,58,6],[58,7,58,8],[58,9,58,10],[58,11,58,12],[58,13,58,14],[58,15,58,16],[60,3,60,4],[60,5,60,6],[60,7,60,8],[60,9,60,10],[60,11,60,12],[60,13,60,14],[60,15,60,16],[54,3,54,4],[54,5,54,6],[54,7,54,8],[54,9,54,10],[54,11,54,12],[54,13,54,14],[54,15,54,16],[56,3,56,4],[56,5,56,6],[56,7,56,8],[56,9,56,10],[56,11,56,12],[56,13,56,14],[56,15,56,16],[59,15,59,16],[50,5,50,6],[50,7,50,8],[50,9,50,10],[50,11,50,12],[50,13,50,14],[50,15,50,16],[52,3,52,4],[52,5,52,6],[52,7,52,8],[52,9,52,10],[52,11,52,12],[52,13,52,14],[52,15,52,16],[55,3,55,4],[55,5,55,6],[55,7,55,8],[55,9,55,10],[46,3,46,4],[46,5,46,6],[46,7,46,8],[46,9,46,10],[46,11,46,12],[46,13,46,14],[46,15,46,16],[48,3,48,4],[48,5,48,6],[48,7,48,8],[48,9,48,10],[48,11,48,12],[48,13,48,14],[48,15,48,16],[51,15,51,16],[42,5,42,6],[42,7,42,8],[42,9,42,10],[42,11,42,12],[42,13,42,14],[42,15,42,16],[44,3,44,4],[44,5,44,6],[44,7,44,8],[44,9,44,10],[44,11,44,12],[44,13,44,14],[44,15,44,16],[47,3,47,4],[47,5,47,6],[47,7,47,8],[47,9,47,10],[38,3,38,4],[38,5,38,6],[38,7,38,8],[38,9,38,10],[38,11,38,12],[38,13,38,14],[38,15,38,16],[40,3,40,4],[40,5,40,6],[40,7,40,8],[40,9,40,10],[40,11,40,12],[40,13,40,14],[40,15,40,16],[43,15,43,16],[34,5,34,6],[34,7,34,8],[34,9,34,10],[34,11,34,12],[34,13,34,14],[34,15,34,16],[36,3,36,4],[36,5,36,6],[36,7,36,8],[36,9,36,10],[36,11,36,12],[36,13,36,14],[36,15,36,16],[39,3,39,4],[39,5,39,6],[39,7,39,8],[39,9,39,10],[30,3,30,4],[30,5,30,6],[30,7,30,8],[30,9,30,10],[30,11,30,12],[30,13,30,14],[30,15,30,16],[32,3,32,4],[32,5,32,6],[32,7,32,8],[32,9,32,10],[32,11,32,12],[32,13,32,14],[32,15,32,16],[35,15,35,16],[26,5,26,6],[26,7,26,8],[26,9,26,10],[26,11,26,12],[26,13,26,14],[26,15,26,16],[28,3,28,4],[28,5,28,6],[28,7,28,8],[28,9,28,10],[28,11,28,12],[28,13,28,14],[28,15,28,16],[31,3,31,4],[31,5,31,6],[31,7,31,8],[31,9,31,10],[22,3,22,4],[22,5,22,6],[22,7,22,8],[22,9,22,10],[22,11,22,12],[22,13,22,14],[22,15,22,16],[24,3,24,4],[24,5,24,6],[24,7,24,8],[24,9,24,10],[24,11,24,12],[24,13,24,14],[24,15,24,16],[27,15,27,16],[18,13,18,14],[18,15,18,16],[20,3,20,4],[20,5,20,6],[20,7,20,8],[20,9,20,10],[20,11,20,12],[20,13,20,14],[20,15,20,16],[23,3,23,4],[23,5,23,6],[23,7,23,8],[23,9,23,10],[23,11,23,12],[23,13,23,14],[26,3,26,4],[18,9,18,10],[14,3,14,4],[14,5,14,6],[14,7,14,8],[14,9,14,10],[14,11,14,12],[14,13,14,14],[14,15,14,16],[16,3,16,4],[16,5,16,6],[16,7,16,8],[16,9,16,10],[16,11,16,12],[16,13,16,14],[16,15,16,16],[19,15,19,16],[12,3,12,4],[12,5,12,6],[12,7,12,8],[12,9,12,10],[12,11,12,12],[12,13,12,14],[12,15,12,16],[15,3,15,4],[15,5,15,6],[15,7,15,8],[15,9,15,10],[15,11,15,12],[15,13,15,14],[18,11,18,12],[18,3,18,4],[18,5,18,6],[18,7,18,8],[197,17,197,18],[199,17,199,18],[160,17,160,18],[162,17,162,18],[164,17,164,18],[166,17,166,18],[130,17,130,18],[132,17,132,18],[134,17,134,18],[136,17,136,18],[138,17,138,18],[140,17,140,18],[142,17,142,18],[144,17,144,18],[146,17,146,18],[187,17,187,18],[150,17,150,18],[152,17,152,18],[154,17,154,18],[156,17,156,18],[158,17,158,18],[168,17,168,18],[181,17,181,18],[175,17,175,18],[151,17,151,18],[137,17,137,18],[131,17,131,18],[201,17,201,18],[6,3,6,4],[6,5,6,6],[6,7,6,8],[6,9,6,10],[6,11,6,12],[6,13,6,14],[6,15,6,16],[8,3,8,4],[8,5,8,6],[8,7,8,8],[8,9,8,10],[8,11,8,12],[8,13,8,14],[8,15,8,16],[10,3,10,4],[10,5,10,6],[10,7,10,8],[170,17,170,18],[172,17,172,18],[174,17,174,18],[176,17,176,18],[178,17,178,18],[180,17,180,18],[183,17,183,18],[185,17,185,18],[189,17,189,18],[191,17,191,18],[94,17,94,18],[96,17,96,18],[98,17,98,18],[100,17,100,18],[102,17,102,18],[104,17,104,18],[106,17,106,18],[70,17,70,18],[72,17,72,18],[74,17,74,18],[76,17,76,18],[78,17,78,18],[80,17,80,18],[82,17,82,18],[84,17,84,18],[86,17,86,18],[123,17,123,18],[115,17,115,18],[107,17,107,18],[99,17,99,18],[91,17,91,18],[83,17,83,18],[75,17,75,18],[122,17,122,18],[88,17,88,18],[110,17,110,18],[112,17,112,18],[62,17,62,18],[64,17,64,18],[66,17,66,18],[204,15,204,16],[204,17,204,18],[14,17,14,18],[16,17,16,18],[18,17,18,18],[20,17,20,18],[22,17,22,18],[24,17,24,18],[203,15,203,16],[203,17,203,18],[202,17,202,18],[198,17,198,18],[200,17,200,18],[194,15,194,16],[194,17,194,18],[186,15,186,16],[186,17,186,18],[183,15,183,16],[179,15,179,16],[179,17,179,18],[171,15,171,16],[171,17,171,18],[163,15,163,16],[114,17,114,18],[116,17,116,18],[118,17,118,18],[120,17,120,18],[126,17,126,18],[90,17,90,18],[12,17,12,18],[26,17,26,18],[28,17,28,18],[30,17,30,18],[32,17,32,18],[34,17,34,18],[36,17,36,18],[38,17,38,18],[40,17,40,18],[42,17,42,18],[44,17,44,18],[46,17,46,18],[48,17,48,18],[199,1,200,1],[163,1,164,1],[165,1,166,1],[167,1,168,1],[169,1,170,1],[171,1,172,1],[173,1,174,1],[175,1,176,1],[177,1,178,1],[179,1,180,1],[145,1,146,1],[147,1,148,1],[149,1,150,1],[151,1,152,1],[153,1,154,1],[155,1,156,1],[50,17,50,18],[52,17,52,18],[54,17,54,18],[201,1,202,1],[203,1,204,1],[204,3,204,4],[204,5,204,6],[204,7,204,8],[204,9,204,10],[204,11,204,12],[204,13,204,14],[201,3,201,4],[201,5,201,6],[201,7,201,8],[201,9,201,10],[201,11,201,12],[201,13,201,14],[181,1,182,1],[183,1,184,1],[185,1,186,1],[187,1,188,1],[189,1,190,1],[191,1,192,1],[193,1,194,1],[195,1,196,1],[197,1,198,1],[203,3,203,4],[203,5,203,6],[203,7,203,8],[203,9,203,10],[203,11,203,12],[203,13,203,14],[198,5,198,6],[198,7,198,8],[198,9,198,10],[157,1,158,1],[159,1,160,1],[161,1,162,1],[127,1,128,1],[129,1,130,1],[131,1,132,1],[133,1,134,1],[135,1,136,1],[137,1,138,1],[139,1,140,1],[141,1,142,1],[143,1,144,1],[109,1,110,1],[111,1,112,1],[113,1,114,1],[115,1,116,1],[117,1,118,1],[119,1,120,1],[121,1,122,1],[123,1,124,1],[125,1,126,1],[91,1,92,1],[93,1,94,1],[95,1,96,1],[97,1,98,1],[99,1,100,1],[101,1,102,1],[103,1,104,1],[105,1,106,1],[107,1,108,1],[73,1,74,1],[75,1,76,1],[77,1,78,1],[79,1,80,1],[81,1,82,1],[83,1,84,1],[85,1,86,1],[87,1,88,1],[89,1,90,1],[55,1,56,1],[57,1,58,1],[59,1,60,1],[61,1,62,1],[63,1,64,1],[65,1,66,1],[67,1,68,1],[69,1,70,1],[71,1,72,1],[37,1,38,1],[39,1,40,1],[41,1,42,1],[43,1,44,1],[45,1,46,1],[47,1,48,1],[49,1,50,1],[51,1,52,1],[53,1,54,1],[5,1,6,1],[7,1,8,1],[9,1,10,1],[11,1,12,1],[13,1,14,1],[15,1,16,1],[17,1,18,1],[19,1,20,1],[21,1,22,1],[23,1,24,1]],"merged_total":1710,"flags":["merged_cut"]}
[]
[null,null,null,"Overblik over de uddybende ledelsestilsyn på voksenhandicapområdet"]
[null,null,null,"Her kan du se hvilke uddybende tilsyn der er udarbejdet. Alt du behøver er indtastet og du ser kun de tilsyn som du har udfyldt.\nPå de grå pile kan du sortere og udvælge det, som du gerne vil se under hvert tema."]
[null,null,null,"Du kan se en introduktion til, hvordan du kan arbejde med det uddybende tilsyn her."]
[null,null,null,{"$f":"'Skabelon, voksne'!B102","v":"Samarbejde med kommunen"},null,{"$f":"'Skabelon, voksne'!B119","v":"Oplysning af sagen samt faglig udredning og vurdering"},null,{"$f":"'Skabelon, voksne'!B141","v":"Inddragelse af borgeren og andre"},null,{"$f":"'Skabelon, voksne'!B162","v":"Partsrepræsentation"},null,{"$f":"'Skabelon, voksne'!B177","v":"Værgemål"},null,{"$f":"'Skabelon, voksne'!B194","v":"Afgørelse"},null,{"$f":"'Skabelon, voksne'!B215","v":"Handleplan"},null,{"$f":"'Skabelon, voksne'!B237","v":"Opfølgning"}]
[null,"Tilsyn 1","Vi bør gøre ",{"$f":"IFERROR(Hjælpeark!V62,\"\")","v":""},null,{"$f":"IFERROR(Hjælpeark!W62,\"\")","v":""},null,{"$f":"IFERROR(Hjælpeark!X62,\"\")","v":""},null,{"$f":"IFERROR(Hjælpeark!Y62,\"\")","v":""},null,{"$f":"IFERROR(Hjælpeark!Z62,\"\")","v":""},null,{"$f":"IFERROR(Hjælpeark!AA62,\"\")","v":""},null,{"$f":"IFERROR(Hjælpeark!AB62,\"\")","v":""},null,{"$f":"IFERROR(Hjælpeark!AC62,\"\")","v":""},null,null,{"$f":"COUNTIF(V6:AC6,\"SAND\")","v":0},{"$f":"SUMPRODUCT(--ISNUMBER(SEARCH(Liste,D6)))>0","v":false},{"$f":"SUMPRODUCT(--ISNUMBER(SEARCH(Liste,F6)))>0","v":false},{"$f":"SUMPRODUCT(--ISNUMBER(SEARCH(Liste,H6)))>0","v":false},{"$f":"SUMPRODUCT(--ISNUMBER(SEARCH(Liste,J6)))>0","v":false},{"$f":"SUMPRODUCT(--ISNUMBER(SEARCH(Liste,L6)))>0","v":false},{"$f":"SUMPRODUCT(--ISNUMBER(SEARCH(Liste,N6)))>0","v":false},{"$f":"SUMPRODUCT(--ISNUMBER(SEARCH(Liste,P6)))>0","v":false},{"$f":"SUMPRODUCT(--ISNUMBER(SEARCH(Liste,R6)))>0","v":false}]
[null,null,"Vi med fordel kan gøre",{"$f":"IFERROR(Hjælpeark!V63,\"\")","v":""},null,{"$f":"IFERROR(Hjælpeark!W63,\"\")","v":""},null,{"$f":"IFERROR(Hjælpeark!X63,\"\")","v":""},null,{"$f":"IFERROR(Hjælpeark!Y63,\"\")","v":""},null,{"$f":"IFERROR(Hjælpeark!Z63,\"\")","v":""},null,{"$f":"IFERROR(Hjælpeark!AA63,\"\")","v":""},null,{"$f":"IFERROR(Hjælpeark!AB63,\"\")","v":""},null,{"$f":"IFERROR(Hjælpeark!AC63,\"\")","v":""},null,null,0,false,false,false,false,false,false,false,false]
[null,"Tilsyn 2",{"$f":"C6","v":"Vi bør gøre "},{"$f":"IFERROR(Hjælpeark!V64,\"\")","v":""},null,{"$f":"IFERROR(Hjælpeark!W64,\"\")","v":""},null,{"$f":"IFERROR(Hjælpeark!X64,\"\")","v":""},null,{"$f":"IFERROR(Hjælpeark!Y64,\"\")","v":""},null,{"$f":"IFERROR(Hjælpeark!Z64,\"\")","v":""},null,{"$f":"IFERROR(Hjælpeark!AA64,\"\")","v":""},null,{"$f":"IFERROR(Hjælpeark!AB64,\"\")","v":""},null,{"$f":"IFERROR(Hjælpeark!AC64,\"\")","v":""},null,null,0,false,false,false,false,false,false,false,false]
[null,null,"Vi med fordel kan gøre",{"$f":"IFERROR(Hjælpeark!V65,\"\")","v":""},null,{"$f":"IFERROR(Hjælpeark!W65,\"\")","v":""},null,{"$f":"IFERROR(Hjælpeark!X65,\"\")","v":""},null,{"$f":"IFERROR(Hjælpeark!Y65,\"\")","v":""},null,{"$f":"IFERROR(Hjælpeark!Z65,\"\")","v":""},null,{"$f":"IFERROR(Hjælpeark!AA65,\"\")","v":""},null,{"$f":"IFERROR(Hjælpeark!AB65,\"\")","v":""},null,{"$f":"IFERROR(Hjælpeark!AC65,\"\")","v":""},null,null,0,false,false,false,false,false,false,false,false]
[null,"Tilsyn 3","Vi bør gøre ",{"$f":"IFERROR(Hjælpeark!V66,\"\")","v":""},null,{"$f":"IFERROR(Hjælpeark!W66,\"\")","v":""},null,{"$f":"IFERROR(Hjælpeark!X66,\"\")","v":""},null,{"$f":"IFERROR(Hjælpeark!Y66,\"\")","v":""},null,{"$f":"IFERROR(Hjælpeark!Z66,\"\")","v":""},null,{"$f":"IFERROR(Hjælpeark!AA66,\"\")","v":""},null,{"$f":"IFERROR(Hjælpeark!AB66,\"\")","v":""},null,{"$f":"IFERROR(Hjælpeark!AC66,\"\")","v":""},null,null,0,false,false,false,false,false,false,false,false]
[null,null,"Vi med fordel kan gøre",{"$f":"IFERROR(Hjælpeark!V67,\"\")","v":""},null,{"$f":"IFERROR(Hjælpeark!W67,\"\")","v":""},null,{"$f":"IFERROR(Hjælpeark!X67,\"\")","v":""},null,{"$f":"IFERROR(Hjælpeark!Y67,\"\")","v":""},null,{"$f":"IFERROR(Hjælpeark!Z67,\"\")","v":""},null,{"$f":"IFERROR(Hjælpeark!AA67,\"\")","v":""},null,{"$f":"IFERROR(Hjælpeark!AB67,\"\")","v":""},null,{"$f":"IFERROR(Hjælpeark!AC67,\"\")","v":""},null,null,0,false,false,false,false,false,false,false,false]
[null,"Tilsyn 4","Vi bør gøre ",{"$f":"IFERROR(Hjælpeark!V68,\"\")","v":""},null,{"$f":"IFERROR(Hjælpeark!W68,\"\")","v":""},null,{"$f":"IFERROR(Hjælpeark!X68,\"\")","v":""},null,{"$f":"IFERROR(Hjælpeark!Y68,\"\")","v":""},null,{"$f":"IFERROR(Hjælpeark!Z68,\"\")","v":""},null,{"$f":"IFERROR(Hjælpeark!AA68,\"\")","v":""},null,{"$f":"IFERROR(Hjælpeark!AB68,\"\")","v":""},null,{"$f":"IFERROR(Hjælpeark!AC68,\"\")","v":""},null,null,0,false,false,false,false,false,false,false,false]
[null,null,"Vi med fordel kan gøre",{"$f":"IFERROR(Hjælpeark!V69,\"\")","v":""},null,{"$f":"IFERROR(Hjælpeark!W69,\"\")","v":""},null,{"$f":"IFERROR(Hjælpeark!X69,\"\")","v":""},null,{"$f":"IFERROR(Hjælpeark!Y69,\"\")","v":""},null,{"$f":"IFERROR(Hjælpeark!Z69,\"\")","v":""},null,{"$f":"IFERROR(Hjælpeark!AA69,\"\")","v":""},null,{"$f":"IFERROR(Hjælpeark!AB69,\"\")","v":""},null,{"$f":"IFERROR(Hjælpeark!AC69,\"\")","v":""},null,null,0,false,false,false,false,false,false,false,false]
[null,"Tilsyn 5","Vi bør gøre ",{"$f":"IFERROR(Hjælpeark!V70,\"\")","v":""},null,{"$f":"IFERROR(Hjælpeark!W70,\"\")","v":""},null,{"$f":"IFERROR(Hjælpeark!X70,\"\")","v":""},null,{"$f":"IFERROR(Hjælpeark!Y70,\"\")","v":""},null,{"$f":"IFERROR(Hjælpeark!Z70,\"\")","v":""},null,{"$f":"IFERROR(Hjælpeark!AA70,\"\")","v":""},null,{"$f":"IFERROR(Hjælpeark!AB70,\"\")","v":""},null,{"$f":"IFERROR(Hjælpeark!AC70,\"\")","v":""},null,null,0,false,false,false,false,false,false,false,false]
[null,null,"Vi med fordel kan gøre",{"$f":"IFERROR(Hjælpeark!V71,\"\")","v":""},null,{"$f":"IFERROR(Hjælpeark!W71,\"\")","v":""},null,{"$f":"IFERROR(Hjælpeark!X71,\"\")","v":""},null,{"$f":"IFERROR(Hjælpeark!Y71,\"\")","v":""},null,{"$f":"IFERROR(Hjælpeark!Z71,\"\")","v":""},null,{"$f":"IFERROR(Hjælpeark!AA71,\"\")","v":""},null,{"$f":"IFERROR(Hjælpeark!AB71,\"\")","v":""},null,{"$f":"IFERROR(Hjælpeark!AC71,\"\")","v":""},null,null,0,false,false,false,false,false,false,false,false]
[null,"Tilsyn 6","Vi bør gøre ",{"$f":"IFERROR(Hjælpeark!V72,\"\")","v":""},null,{"$f":"IFERROR(Hjælpeark!W72,\"\")","v":""},null,{"$f":"IFERROR(Hjælpeark!X72,\"\")","v":""},null,{"$f":"IFERROR(Hjælpeark!Y72,\"\")","v":""},null,{"$f":"IFERROR(Hjælpeark!Z72,\"\")","v":""},null,{"$f":"IFERROR(Hjælpeark!AA72,\"\")","v":""},null,{"$f":"IFERROR(Hjælpeark!AB72,\"\")","v":""},null,{"$f":"IFERROR(Hjælpeark!AC72,\"\")","v":""},null,null,{"$f":"COUNTIF(V16:AC16,\"SAND\")","v":0},false,false,false,false,false,false,false,false]
[null,null,"Vi med fordel kan gøre",{"$f":"IFERROR(Hjælpeark!V73,\"\")","v":""},null,{"$f":"IFERROR(Hjælpeark!W73,\"\")","v":""},null,{"$f":"IFERROR(Hjælpeark!X73,\"\")","v":""},null,{"$f":"IFERROR(Hjælpeark!Y73,\"\")","v":""},null,{"$f":"IFERROR(Hjælpeark!Z73,\"\")","v":""},null,{"$f":"IFERROR(Hjælpeark!AA73,\"\")","v":""},null,{"$f":"IFERROR(Hjælpeark!AB73,\"\")","v":""},null,{"$f":"IFERROR(Hjælpeark!AC73,\"\")","v":""},null,null,0,false,false,false,false,false,false,false,false]
[null,"Tilsyn 7","Vi bør gøre ",{"$f":"IFERROR(Hjælpeark!V74,\"\")","v":""},null,{"$f":"IFERROR(Hjælpeark!W74,\"\")","v":""},null,{"$f":"IFERROR(Hjælpeark!X74,\"\")","v":""},null,{"$f":"IFERROR(Hjælpeark!Y74,\"\")","v":""},null,{"$f":"IFERROR(Hjælpeark!Z74,\"\")","v":""},null,{"$f":"IFERROR(Hjælpeark!AA74,\"\")","v":""},null,{"$f":"IFERROR(Hjælpeark!AB74,\"\")","v":""},null,{"$f":"IFERROR(Hjælpeark!AC74,\"\")","v":""},null,null,0,false,false,false,false,false,false,false,false]
[null,null,"Vi med fordel kan gøre",{"$f":"IFERROR(Hjælpeark!V75,\"\")","v":""},null,{"$f":"IFERROR(Hjælpeark!W75,\"\")","v":""},null,{"$f":"IFERROR(Hjælpeark!X75,\"\")","v":""},null,{"$f":"IFERROR(Hjælpeark!Y75,\"\")","v":""},null,{"$f":"IFERROR(Hjælpeark!Z75,\"\")","v":""},null,{"$f":"IFERROR(Hjælpeark!AA75,\"\")","v":""},null,{"$f":"IFERROR(Hjælpeark!AB75,\"\")","v":""},null,{"$f":"IFERROR(Hjælpeark!AC75,\"\")","v":""},null,null,0,false,false,false,false,false,false,false,false]
[null,"Tilsyn 8","Vi bør gøre ",{"$f":"IFERROR(Hjælpeark!V76,\"\")","v":""},null,{"$f":"IFERROR(Hjælpeark!W76,\"\")","v":""},null,{"$f":"IFERROR(Hjælpeark!X76,\"\")","v":""},null,{"$f":"IFERROR(Hjælpeark!Y76,\"\")","v":""},null,{"$f":"IFERROR(Hjælpeark!Z76,\"\")","v":""},null,{"$f":"IFERROR(Hjælpeark!AA76,\"\")","v":""},null,{"$f":"IFERROR(Hjælpeark!AB76,\"\")","v":""},null,{"$f":"IFERROR(Hjælpeark!AC76,\"\")","v":""},null,null,0,false,false,false,false,false,false,false,false]
[null,null,"Vi med fordel kan gøre",{"$f":"IFERROR(Hjælpeark!V77,\"\")","v":""},null,{"$f":"IFERROR(Hjælpeark!W77,\"\")","v":""},null,{"$f":"IFERROR(Hjælpeark!X77,\"\")","v":""},null,{"$f":"IFERROR(Hjælpeark!Y77,\"\")","v":""},null,{"$f":"IFERROR(Hjælpeark!Z77,\"\")","v":""},null,{"$f":"IFERROR(Hjælpeark!AA77,\"\")","v":""},null,{"$f":"IFERROR(Hjælpeark!AB77,\"\")","v":""},null,{"$f":"IFERROR(Hjælpeark!AC77,\"\")","v":""},null,null,0,false,false,false,false,false,false,false,false]
[null,"Tilsyn 9","Vi bør gøre ",{"$f":"IFERROR(Hjælpeark!V78,\"\")","v":""},null,{"$f":"IFERROR(Hjælpeark!W78,\"\")","v":""},null,{"$f":"IFERROR(Hjælpeark!X78,\"\")","v":""},null,{"$f":"IFERROR(Hjælpeark!Y78,\"\")","v":""},null,{"$f":"IFERROR(Hjælpeark!Z78,\"\")","v":""},null,{"$f":"IFERROR(Hjælpeark!AA78,\"\")","v":""},null,{"$f":"IFERROR(Hjælpeark!AB78,\"\")","v":""},null,{"$f":"IFERROR(Hjælpeark!AC78,\"\")","v":""},null,null,0,false,false,false,false,false,false,false,false]
[null,null,"Vi med fordel kan gøre",{"$f":"IFERROR(Hjælpeark!V79,\"\")","v":""},null,{"$f":"IFERROR(Hjælpeark!W79,\"\")","v":""},null,{"$f":"IFERROR(Hjælpeark!X79,\"\")","v":""},null,{"$f":"IFERROR(Hjælpeark!Y79,\"\")","v":""},null,{"$f":"IFERROR(Hjælpeark!Z79,\"\")","v":""},null,{"$f":"IFERROR(Hjælpeark!AA79,\"\")","v":""},null,{"$f":"IFERROR(Hjælpeark!AB79,\"\")","v":""},null,{"$f":"IFERROR(Hjælpeark!AC79,\"\")","v":""},null,null,0,false,false,false,false,false,false,false,false]
[null,"Tilsyn 10","Vi bør gøre ",{"$f":"IFERROR(Hjælpeark!V80,\"\")","v":""},null,{"$f":"IFERROR(Hjælpeark!W80,\"\")","v":""},null,{"$f":"IFERROR(Hjælpeark!X80,\"\")","v":""},null,{"$f":"IFERROR(Hjælpeark!Y80,\"\")","v":""},null,{"$f":"IFERROR(Hjælpeark!Z80,\"\")","v":""},null,{"$f":"IFERROR(Hjælpeark!AA80,\"\")","v":""},null,{"$f":"IFERROR(Hjælpeark!AB80,\"\")","v":""},null,{"$f":"IFERROR(Hjælpeark!AC80,\"\")","v":""},null,null,0,false,false,false,false,false,false,false,false]
[null,null,"Vi med fordel kan gøre",{"$f":"IFERROR(Hjælpeark!V81,\"\")","v":""},null,{"$f":"IFERROR(Hjælpeark!W81,\"\")","v":""},null,{"$f":"IFERROR(Hjælpeark!X81,\"\")","v":""},null,{"$f":"IFERROR(Hjælpeark!Y81,\"\")","v":""},null,{"$f":"IFERROR(Hjælpeark!Z81,\"\")","v":""},null,{"$f":"IFERROR(Hjælpeark!AA81,\"\")","v":""},null,{"$f":"IFERROR(Hjælpeark!AB81,\"\")","v":""},null,{"$f":"IFERROR(Hjælpeark!AC81,\"\")","v":""},null,null,0,false,false,false,false,false,false,false,false]
[null,"Tilsyn 11","Vi bør gøre ",{"$f":"IFERROR(Hjælpeark!V82,\"\")","v":""},null,{"$f":"IFERROR(Hjælpeark!W82,\"\")","v":""},null,{"$f":"IFERROR(Hjælpeark!X82,\"\")","v":""},null,{"$f":"IFERROR(Hjælpeark!Y82,\"\")","v":""},null,{"$f":"IFERROR(Hjælpeark!Z82,\"\")","v":""},null,{"$f":"IFERROR(Hjælpeark!AA82,\"\")","v":""},null,{"$f":"IFERROR(Hjælpeark!AB82,\"\")","v":""},null,{"$f":"IFERROR(Hjælpeark!AC82,\"\")","v":""},null,null,0,false,false,false,false,false,false,false,false]
[null,null,"Vi med fordel kan gøre",{"$f":"IFERROR(Hjælpeark!V83,\"\")","v":""},null,{"$f":"IFERROR(Hjælpeark!W83,\"\")","v":""},null,{"$f":"IFERROR(Hjælpeark!X83,\"\")","v":""},null,{"$f":"IFERROR(Hjælpeark!Y83,\"\")","v":""},null,{"$f":"IFERROR(Hjælpeark!Z83,\"\")","v":""},null,{"$f":"IFERROR(Hjælpeark!AA83,\"\")","v":""},null,{"$f":"IFERROR(Hjælpeark!AB83,\"\")","v":""},null,{"$f":"IFERROR(Hjælpeark!AC83,\"\")","v":""},null,null,0,false,false,false,false,false,false,false,false]
[null,"Tilsyn 12","Vi bør gøre ",{"$f":"IFERROR(Hjælpeark!V84,\"\")","v":""},null,{"$f":"IFERROR(Hjælpeark!W84,\"\")","v":""},null,{"$f":"IFERROR(Hjælpeark!X84,\"\")","v":""},null,{"$f":"IFERROR(Hjælpeark!Y84,\"\")","v":""},null,{"$f":"IFERROR(Hjælpeark!Z84,\"\")","v":""},null,{"$f":"IFERROR(Hjælpeark!AA84,\"\")","v":""},null,{"$f":"IFERROR(Hjælpeark!AB84,\"\")","v":""},null,{"$f":"IFERROR(Hjælpeark!AC84,\"\")","v":""},null,null,0,false,false,false,false,false,false,false,false]
[null,null,"Vi med fordel kan gøre",{"$f":"IFERROR(Hjælpeark!V85,\"\")","v":""},null,{"$f":"IFERROR(Hjælpeark!W85,\"\")","v":""},null,{"$f":"IFERROR(Hjælpeark!X85,\"\")","v":""},null,{"$f":"IFERROR(Hjælpeark!Y85,\"\")","v":""},null,{"$f":"IFERROR(Hjælpeark!Z85,\"\")","v":""},null,{"$f":"IFERROR(Hjælpeark!AA85,\"\")","v":""},null,{"$f":"IFERROR(Hjælpeark!AB85,\"\")","v":""},null,{"$f":"IFERROR(Hjælpeark!AC85,\"\")","v":""},null,null,0,false,false,false,false,false,false,false,false]
[null,"Tilsyn 13","Vi bør gøre ",{"$f":"IFERROR(Hjælpeark!V86,\"\")","v":""},null,{"$f":"IFERROR(Hjælpeark!W86,\"\")","v":""},null,{"$f":"IFERROR(Hjælpeark!X86,\"\")","v":""},null,{"$f":"IFERROR(Hjælpeark!Y86,\"\")","v":""},null,{"$f":"IFERROR(Hjælpeark!Z86,\"\")","v":""},null,{"$f":"IFERROR(Hjælpeark!AA86,\"\")","v":""},null,{"$f":"IFERROR(Hjælpeark!AB86,\"\")","v":""},null,{"$f":"IFERROR(Hjælpeark!AC86,\"\")","v":""},null,null,0,false,false,false,false,false,false,false,false]
[null,null,"Vi med fordel kan gøre",{"$f":"IFERROR(Hjælpeark!V87,\"\")","v":""},null,{"$f":"IFERROR(Hjælpeark!W87,\"\")","v":""},null,{"$f":"IFERROR(Hjælpeark!X87,\"\")","v":""},null,{"$f":"IFERROR(Hjælpeark!Y87,\"\")","v":""},null,{"$f":"IFERROR(Hjælpeark!Z87,\"\")","v":""},null,{"$f":"IFERROR(Hjælpeark!AA87,\"\")","v":""},null,{"$f":"IFERROR(Hjælpeark!AB87,\"\")","v":""},null,{"$f":"IFERROR(Hjælpeark!AC87,\"\")","v":""},null,null,0,false,false,false,false,false,false,false,false]
[null,"Tilsyn 14","Vi bør gøre ",{"$f":"IFERROR(Hjælpeark!V88,\"\")","v":""},null,{"$f":"IFERROR(Hjælpeark!W88,\"\")","v":""},null,{"$f":"IFERROR(Hjælpeark!X88,\"\")","v":""},null,{"$f":"IFERROR(Hjælpeark!Y88,\"\")","v":""},null,{"$f":"IFERROR(Hjælpeark!Z88,\"\")","v":""},null,{"$f":"IFERROR(Hjælpeark!AA88,\"\")","v":""},null,{"$f":"IFERROR(Hjælpeark!AB88,\"\")","v":""},null,{"$f":"IFERROR(Hjælpeark!AC88,\"\")","v":""},null,null,0,false,false,false,false,false,false,false,false]
[null,null,"Vi med fordel kan gøre",{"$f":"IFERROR(Hjælpeark!V89,\"\")","v":""},null,{"$f":"IFERROR(Hjælpeark!W89,\"\")","v":""},null,{"$f":"IFERROR(Hjælpeark!X89,\"\")","v":""},null,{"$f":"IFERROR(Hjælpeark!Y89,\"\")","v":""},null,{"$f":"IFERROR(Hjælpeark!Z89,\"\")","v":""},null,{"$f":"IFERROR(Hjælpeark!AA89,\"\")","v":""},null,{"$f":"IFERROR(Hjælpeark!AB89,\"\")","v":""},null,{"$f":"IFERROR(Hjælpeark!AC89,\"\")","v":""},null,null,0,false,false,false,false,false,false,false,false]
[null,"Tilsyn 15","Vi bør gøre ",{"$f":"IFERROR(Hjælpeark!V90,\"\")","v":""},null,{"$f":"IFERROR(Hjælpeark!W90,\"\")","v":""},null,{"$f":"IFERROR(Hjælpeark!X90,\"\")","v":""},null,{"$f":"IFERROR(Hjælpeark!Y90,\"\")","v":""},null,{"$f":"IFERROR(Hjælpeark!Z90,\"\")","v":""},null,{"$f":"IFERROR(Hjælpeark!AA90,\"\")","v":""},null,{"$f":"IFERROR(Hjælpeark!AB90,\"\")","v":""},null,{"$f":"IFERROR(Hjælpeark!AC90,\"\")","v":""},null,null,0,false,false,false,false,false,false,false,false]
[null,null,"Vi med fordel kan gøre",{"$f":"IFERROR(Hjælpeark!V91,\"\")","v":""},null,{"$f":"IFERROR(Hjælpeark!W91,\"\")","v":""},null,{"$f":"IFERROR(Hjælpeark!X91,\"\")","v":""},null,{"$f":"IFERROR(Hjælpeark!Y91,\"\")","v":""},null,{"$f":"IFERROR(Hjælpeark!Z91,\"\")","v":""},null,{"$f":"IFERROR(Hjælpeark!AA91,\"\")","v":""},null,{"$f":"IFERROR(Hjælpeark!AB91,\"\")","v":""},null,{"$f":"IFERROR(Hjælpeark!AC91,\"\")","v":""},null,null,0,false,false,false,false,false,false,false,false]
[null,"Tilsyn 16","Vi bør gøre ",{"$f":"IFERROR(Hjælpeark!V92,\"\")","v":""},null,{"$f":"IFERROR(Hjælpeark!W92,\"\")","v":""},null,{"$f":"IFERROR(Hjælpeark!X92,\"\")","v":""},null,{"$f":"IFERROR(Hjælpeark!Y92,\"\")","v":""},null,{"$f":"IFERROR(Hjælpeark!Z92,\"\")","v":""},null,{"$f":"IFERROR(Hjælpeark!AA92,\"\")","v":""},null,{"$f":"IFERROR(Hjælpeark!AB92,\"\")","v":""},null,{"$f":"IFERROR(Hjælpeark!AC92,\"\")","v":""},null,null,0,false,false,false,false,false,false,false,false]
[null,null,"Vi med fordel kan gøre",{"$f":"IFERROR(Hjælpeark!V93,\"\")","v":""},null,{"$f":"IFERROR(Hjælpeark!W93,\"\")","v":""},null,{"$f":"IFERROR(Hjælpeark!X93,\"\")","v":""},null,{"$f":"IFERROR(Hjælpeark!Y93,\"\")","v":""},null,{"$f":"IFERROR(Hjælpeark!Z93,\"\")","v":""},null,{"$f":"IFERROR(Hjælpeark!AA93,\"\")","v":""},null,{"$f":"IFERROR(Hjælpeark!AB93,\"\")","v":""},null,{"$f":"IFERROR(Hjælpeark!AC93,\"\")","v":""},null,null,0,false,false,false,false,false,false,false,false]
[null,"Tilsyn 17","Vi bør gøre ",{"$f":"IFERROR(Hjælpeark!V94,\"\")","v":""},null,{"$f":"IFERROR(Hjælpeark!W94,\"\")","v":""},null,{"$f":"IFERROR(Hjælpeark!X94,\"\")","v":""},null,{"$f":"IFERROR(Hjælpeark!Y94,\"\")","v":""},null,{"$f":"IFERROR(Hjælpeark!Z94,\"\")","v":""},null,{"$f":"IFERROR(Hjælpeark!AA94,\"\")","v":""},null,{"$f":"IFERROR(Hjælpeark!AB94,\"\")","v":""},null,{"$f":"IFERROR(Hjælpeark!AC94,\"\")","v":""},null,null,0,{"$f":"SUMPRODUCT(--ISNUMBER(SEARCH(Liste,D38)))>0","v":false},{"$f":"SUMPRODUCT(--ISNUMBER(SEARCH(Liste,F38)))>0","v":false},{"$f":"SUMPRODUCT(--ISNUMBER(SEARCH(Liste,H38)))>0","v":false},{"$f":"SUMPRODUCT(--ISNUMBER(SEARCH(Liste,J38)))>0","v":false},{"$f":"SUMPRODUCT(--ISNUMBER(SEARCH(Liste,L38)))>0","v":false},{"$f":"SUMPRODUCT(--ISNUMBER(SEARCH(Liste,N38)))>0","v":false},{"$f":"SUMPRODUCT(--ISNUMBER(SEARCH(Liste,P38)))>0","v":false},{"$f":"SUMPRODUCT(--ISNUMBER(SEARCH(Liste,R38)))>0","v":false}]
[null,null,"Vi med fordel kan gøre",{"$f":"IFERROR(Hjælpeark!V95,\"\")","v":""},null,{"$f":"IFERROR(Hjælpeark!W95,\"\")","v":""},null,{"$f":"IFERROR(Hjælpeark!X95,\"\")","v":""},null,{"$f":"IFERROR(Hjælpeark!Y95,\"\")","v":""},null,{"$f":"IFERROR(Hjælpeark!Z95,\"\")","v":""},null,{"$f":"IFERROR(Hjælpeark!AA95,\"\")","v":""},null,{"$f":"IFERROR(Hjælpeark!AB95,\"\")","v":""},null,{"$f":"IFERROR(Hjælpeark!AC95,\"\")","v":""},null,null,0,false,false,false,false,false,false,false,false]
[null,"Tilsyn 18",{"$f":"C38","v":"Vi bør gøre "},{"$f":"IFERROR(Hjælpeark!V96,\"\")","v":""},null,{"$f":"IFERROR(Hjælpeark!W96,\"\")","v":""},null,{"$f":"IFERROR(Hjælpeark!X96,\"\")","v":""},null,{"$f":"IFERROR(Hjælpeark!Y96,\"\")","v":""},null,{"$f":"IFERROR(Hjælpeark!Z96,\"\")","v":""},null,{"$f":"IFERROR(Hjælpeark!AA96,\"\")","v":""},null,{"$f":"IFERROR(Hjælpeark!AB96,\"\")","v":""},null,{"$f":"IFERROR(Hjælpeark!AC96,\"\")","v":""},null,null,0,false,false,false,false,false,false,false,false]
[null,null,"Vi med fordel kan gøre",{"$f":"IFERROR(Hjælpeark!V97,\"\")","v":""},null,{"$f":"IFERROR(Hjælpeark!W97,\"\")","v":""},null,{"$f":"IFERROR(Hjælpeark!X97,\"\")","v":""},null,{"$f":"IFERROR(Hjælpeark!Y97,\"\")","v":""},null,{"$f":"IFERROR(Hjælpeark!Z97,\"\")","v":""},null,{"$f":"IFERROR(Hjælpeark!AA97,\"\")","v":""},null,{"$f":"IFERROR(Hjælpeark!AB97,\"\")","v":""},null,{"$f":"IFERROR(Hjælpeark!AC97,\"\")","v":""},null,null,0,false,false,false,false,false,false,false,false]
[null,"Tilsyn 19","Vi bør gøre ",{"$f":"IFERROR(Hjælpeark!V98,\"\")","v":""},null,{"$f":"IFERROR(Hjælpeark!W98,\"\")","v":""},null,{"$f":"IFERROR(Hjælpeark!X98,\"\")","v":""},null,{"$f":"IFERROR(Hjælpeark!Y98,\"\")","v":""},null,{"$f":"IFERROR(Hjælpeark!Z98,\"\")","v":""},null,{"$f":"IFERROR(Hjælpeark!AA98,\"\")","v":""},null,{"$f":"IFERROR(Hjælpeark!AB98,\"\")","v":""},null,{"$f":"IFERROR(Hjælpeark!AC98,\"\")","v":""},null,null,0,false,false,false,false,false,false,false,false]
[null,null,"Vi med fordel kan gøre",{"$f":"IFERROR(Hjælpeark!V99,\"\")","v":""},null,{"$f":"IFERROR(Hjælpeark!W99,\"\")","v":""},null,{"$f":"IFERROR(Hjælpeark!X99,\"\")","v":""},null,{"$f":"IFERROR(Hjælpeark!Y99,\"\")","v":""},null,{"$f":"IFERROR(Hjælpeark!Z99,\"\")","v":""},null,{"$f":"IFERROR(Hjælpeark!AA99,\"\")","v":""},null,{"$f":"IFERROR(Hjælpeark!AB99,\"\")","v":""},null,{"$f":"IFERROR(Hjælpeark!AC99,\"\")","v":""},null,null,0,false,false,false,false,false,false,false,false]
[null,"Tilsyn 20","Vi bør gøre ",{"$f":"IFERROR(Hjælpeark!V100,\"\")","v":""},null,{"$f":"IFERROR(Hjælpeark!W100,\"\")","v":""},null,{"$f":"IFERROR(Hjælpeark!X100,\"\")","v":""},null,{"$f":"IFERROR(Hjælpeark!Y100,\"\")","v":""},null,{"$f":"IFERROR(Hjælpeark!Z100,\"\")","v":""},null,{"$f":"IFERROR(Hjælpeark!AA100,\"\")","v":""},null,{"$f":"IFERROR(Hjælpeark!AB100,\"\")","v":""},null,{"$f":"IFERROR(Hjælpeark!AC100,\"\")","v":""},null,null,0,false,false,false,false,false,false,false,false]
[null,null,"Vi med fordel kan gøre",{"$f":"IFERROR(Hjælpeark!V101,\"\")","v":""},null,{"$f":"IFERROR(Hjælpeark!W101,\"\")","v":""},null,{"$f":"IFERROR(Hjælpeark!X101,\"\")","v":""},null,{"$f":"IFERROR(Hjælpeark!Y101,\"\")","v":""},null,{"$f":"IFERROR(Hjælpeark!Z101,\"\")","v":""},null,{"$f":"IFERROR(Hjælpeark!AA101,\"\")","v":""},null,{"$f":"IFERROR(Hjælpeark!AB101,\"\")","v":""},null,{"$f":"IFERROR(Hjælpeark!AC101,\"\")","v":""},null,null,0,false,false,false,false,false,false,false,false]
[null,"Tilsyn 21","Vi bør gøre ",{"$f":"IFERROR(Hjælpeark!V102,\"\")","v":""},null,{"$f":"IFERROR(Hjælpeark!W102,\"\")","v":""},null,{"$f":"IFERROR(Hjælpeark!X102,\"\")","v":""},null,{"$f":"IFERROR(Hjælpeark!Y102,\"\")","v":""},null,{"$f":"IFERROR(Hjælpeark!Z102,\"\")","v":""},null,{"$f":"IFERROR(Hjælpeark!AA102,\"\")","v":""},null,{"$f":"IFERROR(Hjælpeark!AB102,\"\")","v":""},null,{"$f":"IFERROR(Hjælpeark!AC102,\"\")","v":""},null,null,0,false,false,false,false,false,false,false,false]
[null,null,"Vi med fordel kan gøre",{"$f":"IFERROR(Hjælpeark!V103,\"\")","v":""},null,{"$f":"IFERROR(Hjælpeark!W103,\"\")","v":""},null,{"$f":"IFERROR(Hjælpeark!X103,\"\")","v":""},null,{"$f":"IFERROR(Hjælpeark!Y103,\"\")","v":""},null,{"$f":"IFERROR(Hjælpeark!Z103,\"\")","v":""},null,{"$f":"IFERROR(Hjælpeark!AA103,\"\")","v":""},null,{"$f":"IFERROR(Hjælpeark!AB103,\"\")","v":""},null,{"$f":"IFERROR(Hjælpeark!AC103,\"\")","v":""},null,null,0,false,false,false,false,false,false,false,false]
[null,"Tilsyn 22","Vi bør gøre ",{"$f":"IFERROR(Hjælpeark!V104,\"\")","v":""},null,{"$f":"IFERROR(Hjælpeark!W104,\"\")","v":""},null,{"$f":"IFERROR(Hjælpeark!X104,\"\")","v":""},null,{"$f":"IFERROR(Hjælpeark!Y104,\"\")","v":""},null,{"$f":"IFERROR(Hjælpeark!Z104,\"\")","v":""},null,{"$f":"IFERROR(Hjælpeark!AA104,\"\")","v":""},null,{"$f":"IFERROR(Hjælpeark!AB104,\"\")","v":""},null,{"$f":"IFERROR(Hjælpeark!AC104,\"\")","v":""},null,null,0,false,false,false,false,false,false,false,false]
[null,null,"Vi med fordel kan gøre",{"$f":"IFERROR(Hjælpeark!V105,\"\")","v":""},null,{"$f":"IFERROR(Hjælpeark!W105,\"\")","v":""},null,{"$f":"IFERROR(Hjælpeark!X105,\"\")","v":""},null,{"$f":"IFERROR(Hjælpeark!Y105,\"\")","v":""},null,{"$f":"IFERROR(Hjælpeark!Z105,\"\")","v":""},null,{"$f":"IFERROR(Hjælpeark!AA105,\"\")","v":""},null,{"$f":"IFERROR(Hjælpeark!AB105,\"\")","v":""},null,{"$f":"IFERROR(Hjælpeark!AC105,\"\")","v":""},null,null,0,false,false,false,false,false,false,false,false]
[null,"Tilsyn 23","Vi bør gøre ",{"$f":"IFERROR(Hjælpeark!V106,\"\")","v":""},null,{"$f":"IFERROR(Hjælpeark!W106,\"\")","v":""},null,{"$f":"IFERROR(Hjælpeark!X106,\"\")","v":""},null,{"$f":"IFERROR(Hjælpeark!Y106,\"\")","v":""},null,{"$f":"IFERROR(Hjælpeark!Z106,\"\")","v":""},null,{"$f":"IFERROR(Hjælpeark!AA106,\"\")","v":""},null,{"$f":"IFERROR(Hjælpeark!AB106,\"\")","v":""},null,{"$f":"IFERROR(Hjælpeark!AC106,\"\")","v":""},null,null,0,false,false,false,false,false,false,false,false]
[null,null,"Vi med fordel kan gøre",{"$f":"IFERROR(Hjælpeark!V107,\"\")","v":""},null,{"$f":"IFERROR(Hjælpeark!W107,\"\")","v":""},null,{"$f":"IFERROR(Hjælpeark!X107,\"\")","v":""},null,{"$f":"IFERROR(Hjælpeark!Y107,\"\")","v":""},null,{"$f":"IFERROR(Hjælpeark!Z107,\"\")","v":""},null,{"$f":"IFERROR(Hjælpeark!AA107,\"\")","v":""},null,{"$f":"IFERROR(Hjælpeark!AB107,\"\")","v":""},null,{"$f":"IFERROR(Hjælpeark!AC107,\"\")","v":""},null,null,0,false,false,false,false,false,false,false,false]
[null,"Tilsyn 24","Vi bør gøre ",{"$f":"IFERROR(Hjælpeark!V108,\"\")","v":""},null,{"$f":"IFERROR(Hjælpeark!W108,\"\")","v":""},null,{"$f":"IFERROR(Hjælpeark!X108,\"\")","v":""},null,{"$f":"IFERROR(Hjælpeark!Y108,\"\")","v":""},null,{"$f":"IFERROR(Hjælpeark!Z108,\"\")","v":""},null,{"$f":"IFERROR(Hjælpeark!AA108,\"\")","v":""},null,{"$f":"IFERROR(Hjælpeark!AB108,\"\")","v":""},null,{"$f":"IFERROR(Hjælpeark!AC108,\"\")","v":""},null,null,0,false,false,false,false,false,false,false,false]
[null,null,"Vi med fordel kan gøre",{"$f":"IFERROR(Hjælpeark!V109,\"\")","v":""},null,{"$f":"IFERROR(Hjælpeark!W109,\"\")","v":""},null,{"$f":"IFERROR(Hjælpeark!X109,\"\")","v":""},null,{"$f":"IFERROR(Hjælpeark!Y109,\"\")","v":""},null,{"$f":"IFERROR(Hjælpeark!Z109,\"\")","v":""},null,{"$f":"IFERROR(Hjælpeark!AA109,\"\")","v":""},null,{"$f":"IFERROR(Hjælpeark!AB109,\"\")","v":""},null,{"$f":"IFERROR(Hjælpeark!AC109,\"\")","v":""},null,null,0,false,false,false,false,false,false,false,false]
[null,"Tilsyn 25","Vi bør gøre ",{"$f":"IFERROR(Hjælpeark!V110,\"\")","v":""},null,{"$f":"IFERROR(Hjælpeark!W110,\"\")","v":""},null,{"$f":"IFERROR(Hjælpeark!X110,\"\")","v":""},null,{"$f":"IFERROR(Hjælpeark!Y110,\"\")","v":""},null,{"$f":"IFERROR(Hjælpeark!Z110,\"\")","v":""},null,{"$f":"IFERROR(Hjælpeark!AA110,\"\")","v":""},null,{"$f":"IFERROR(Hjælpeark!AB110,\"\")","v":""},null,{"$f":"IFERROR(Hjælpeark!AC110,\"\")","v":""},null,null,0,false,false,false,false,false,false,false,false]
[null,null,"Vi med fordel kan gøre",{"$f":"IFERROR(Hjælpeark!V111,\"\")","v":""},null,{"$f":"IFERROR(Hjælpeark!W111,\"\")","v":""},null,{"$f":"IFERROR(Hjælpeark!X111,\"\")","v":""},null,{"$f":"IFERROR(Hjælpeark!Y111,\"\")","v":""},null,{"$f":"IFERROR(Hjælpeark!Z111,\"\")","v":""},null,{"$f":"IFERROR(Hjælpeark!AA111,\"\")","v":""},null,{"$f":"IFERROR(Hjælpeark!AB111,\"\")","v":""},null,{"$f":"IFERROR(Hjælpeark!AC111,\"\")","v":""},null,null,0,false,false,false,false,false,false,false,false]
[null,"Tilsyn 26","Vi bør gøre ",{"$f":"IFERROR(Hjælpeark!V112,\"\")","v":""},null,{"$f":"IFERROR(Hjælpeark!W112,\"\")","v":""},null,{"$f":"IFERROR(Hjælpeark!X112,\"\")","v":""},null,{"$f":"IFERROR(Hjælpeark!Y112,\"\")","v":""},null,{"$f":"IFERROR(Hjælpeark!Z112,\"\")","v":""},null,{"$f":"IFERROR(Hjælpeark!AA112,\"\")","v":""},null,{"$f":"IFERROR(Hjælpeark!AB112,\"\")","v":""},null,{"$f":"IFERROR(Hjælpeark!AC112,\"\")","v":""},null,null,0,false,false,false,false,false,false,false,false]
[null,null,"Vi med fordel kan gøre",{"$f":"IFERROR(Hjælpeark!V113,\"\")","v":""},null,{"$f":"IFERROR(Hjælpeark!W113,\"\")","v":""},null,{"$f":"IFERROR(Hjælpeark!X113,\"\")","v":""},null,{"$f":"IFERROR(Hjælpeark!Y113,\"\")","v":""},null,{"$f":"IFERROR(Hjælpeark!Z113,\"\")","v":""},null,{"$f":"IFERROR(Hjælpeark!AA113,\"\")","v":""},null,{"$f":"IFERROR(Hjælpeark!AB113,\"\")","v":""},null,{"$f":"IFERROR(Hjælpeark!AC113,\"\")","v":""},null,null,0,false,false,false,false,false,false,false,false]
[null,"Tilsyn 27","Vi bør gøre ",{"$f":"IFERROR(Hjælpeark!V114,\"\")","v":""},null,{"$f":"IFERROR(Hjælpeark!W114,\"\")","v":""},null,{"$f":"IFERROR(Hjælpeark!X114,\"\")","v":""},null,{"$f":"IFERROR(Hjælpeark!Y114,\"\")","v":""},null,{"$f":"IFERROR(Hjælpeark!Z114,\"\")","v":""},null,{"$f":"IFERROR(Hjælpeark!AA114,\"\")","v":""},null,{"$f":"IFERROR(Hjælpeark!AB114,\"\")","v":""},null,{"$f":"IFERROR(Hjælpeark!AC114,\"\")","v":""},null,null,0,false,false,false,false,false,false,false,false]
[null,null,"Vi med fordel kan gøre",{"$f":"IFERROR(Hjælpeark!V115,\"\")","v":""},null,{"$f":"IFERROR(Hjælpeark!W115,\"\")","v":""},null,{"$f":"IFERROR(Hjælpeark!X115,\"\")","v":""},null,{"$f":"IFERROR(Hjælpeark!Y115,\"\")","v":""},null,{"$f":"IFERROR(Hjælpeark!Z115,\"\")","v":""},null,{"$f":"IFERROR(Hjælpeark!AA115,\"\")","v":""},null,{"$f":"IFERROR(Hjælpeark!AB115,\"\")","v":""},null,{"$f":"IFERROR(Hjælpeark!AC115,\"\")","v":""},null,null,0,false,false,false,false,false,false,false,false]
[null,"Tilsyn 28","Vi bør gøre ",{"$f":"IFERROR(Hjælpeark!V116,\"\")","v":""},null,{"$f":"IFERROR(Hjælpeark!W116,\"\")","v":""},null,{"$f":"IFERROR(Hjælpeark!X116,\"\")","v":""},null,{"$f":"IFERROR(Hjælpeark!Y116,\"\")","v":""},null,{"$f":"IFERROR(Hjælpeark!Z116,\"\")","v":""},null,{"$f":"IFERROR(Hjælpeark!AA116,\"\")","v":""},null,{"$f":"IFERROR(Hjælpeark!AB116,\"\")","v":""},null,{"$f":"IFERROR(Hjælpeark!AC116,\"\")","v":""},null,null,0,false,false,false,false,false,false,false,false]
[null,null,"Vi med fordel kan gøre",{"$f":"IFERROR(Hjælpeark!V117,\"\")","v":""},null,{"$f":"IFERROR(Hjælpeark!W117,\"\")","v":""},null,{"$f":"IFERROR(Hjælpeark!X117,\"\")","v":""},null,{"$f":"IFERROR(Hjælpeark!Y117,\"\")","v":""},null,{"$f":"IFERROR(Hjælpeark!Z117,\"\")","v":""},null,{"$f":"IFERROR(Hjælpeark!AA117,\"\")","v":""},null,{"$f":"IFERROR(Hjælpeark!AB117,\"\")","v":""},null,{"$f":"IFERROR(Hjælpeark!AC117,\"\")","v":""},null,null,0,false,false,false,false,false,false,false,false]
[null,"Tilsyn 29","Vi bør gøre ",{"$f":"IFERROR(Hjælpeark!V118,\"\")","v":""},null,{"$f":"IFERROR(Hjælpeark!W118,\"\")","v":""},null,{"$f":"IFERROR(Hjælpeark!X118,\"\")","v":""},null,{"$f":"IFERROR(Hjælpeark!Y118,\"\")","v":""},null,{"$f":"IFERROR(Hjælpeark!Z118,\"\")","v":""},null,{"$f":"IFERROR(Hjælpeark!AA118,\"\")","v":""},null,{"$f":"IFERROR(Hjælpeark!AB118,\"\")","v":""},null,{"$f":"IFERROR(Hjælpeark!AC118,\"\")","v":""},null,null,0,false,false,false,false,false,false,false,false]
[null,null,"Vi med fordel kan gøre",{"$f":"IFERROR(Hjælpeark!V119,\"\")","v":""},null,{"$f":"IFERROR(Hjælpeark!W119,\"\")","v":""},null,{"$f":"IFERROR(Hjælpeark!X119,\"\")","v":""},null,{"$f":"IFERROR(Hjælpeark!Y119,\"\")","v":""},null,{"$f":"IFERROR(Hjælpeark!Z119,\"\")","v":""},null,{"$f":"IFERROR(Hjælpeark!AA119,\"\")","v":""},null,{"$f":"IFERROR(Hjælpeark!AB119,\"\")","v":""},null,{"$f":"IFERROR(Hjælpeark!AC119,\"\")","v":""},null,null,0,false,false,false,false,false,false,false,false]
[null,"Tilsyn 30","Vi bør gøre ",{"$f":"IFERROR(Hjælpeark!V120,\"\")","v":""},null,{"$f":"IFERROR(Hjælpeark!W120,\"\")","v":""},null,{"$f":"IFERROR(Hjælpeark!X120,\"\")","v":""},null,{"$f":"IFERROR(Hjælpeark!Y120,\"\")","v":""},null,{"$f":"IFERROR(Hjælpeark!Z120,\"\")","v":""},null,{"$f":"IFERROR(Hjælpeark!AA120,\"\")","v":""},null,{"$f":"IFERROR(Hjælpeark!AB120,\"\")","v":""},null,{"$f":"IFERROR(Hjælpeark!AC120,\"\")","v":""},null,null,0,false,false,false,false,false,false,false,false]
[null,null,"Vi med fordel kan gøre",{"$f":"IFERROR(Hjælpeark!V121,\"\")","v":""},null,{"$f":"IFERROR(Hjælpeark!W121,\"\")","v":""},null,{"$f":"IFERROR(Hjælpeark!X121,\"\")","v":""},null,{"$f":"IFERROR(Hjælpeark!Y121,\"\")","v":""},null,{"$f":"IFERROR(Hjælpeark!Z121,\"\")","v":""},null,{"$f":"IFERROR(Hjælpeark!AA121,\"\")","v":""},null,{"$f":"IFERROR(Hjælpeark!AB121,\"\")","v":""},null,{"$f":"IFERROR(Hjælpeark!AC121,\"\")","v":""},null,null,0,false,false,false,false,false,false,false,false]
[null,"Tilsyn 31","Vi bør gøre ",{"$f":"IFERROR(Hjælpeark!V122,\"\")","v":""},null,{"$f":"IFERROR(Hjælpeark!W122,\"\")","v":""},null,{"$f":"IFERROR(Hjælpeark!X122,\"\")","v":""},null,{"$f":"IFERROR(Hjælpeark!Y122,\"\")","v":""},null,{"$f":"IFERROR(Hjælpeark!Z122,\"\")","v":""},null,{"$f":"IFERROR(Hjælpeark!AA122,\"\")","v":""},null,{"$f":"IFERROR(Hjælpeark!AB122,\"\")","v":""},null,{"$f":"IFERROR(Hjælpeark!AC122,\"\")","v":""},null,null,0,false,false,false,false,false,false,false,false]
[null,null,"Vi med fordel kan gøre",{"$f":"IFERROR(Hjælpeark!V123,\"\")","v":""},null,{"$f":"IFERROR(Hjælpeark!W123,\"\")","v":""},null,{"$f":"IFERROR(Hjælpeark!X123,\"\")","v":""},null,{"$f":"IFERROR(Hjælpeark!Y123,\"\")","v":""},null,{"$f":"IFERROR(Hjælpeark!Z123,\"\")","v":""},null,{"$f":"IFERROR(Hjælpeark!AA123,\"\")","v":""},null,{"$f":"IFERROR(Hjælpeark!AB123,\"\")","v":""},null,{"$f":"IFERROR(Hjælpeark!AC123,\"\")","v":""},null,null,0,false,false,false,false,false,false,false,false]
[null,"Tilsyn 32","Vi bør gøre ",{"$f":"IFERROR(Hjælpeark!V124,\"\")","v":""},null,{"$f":"IFERROR(Hjælpeark!W124,\"\")","v":""},null,{"$f":"IFERROR(Hjælpeark!X124,\"\")","v":""},null,{"$f":"IFERROR(Hjælpeark!Y124,\"\")","v":""},null,{"$f":"IFERROR(Hjælpeark!Z124,\"\")","v":""},null,{"$f":"IFERROR(Hjælpeark!AA124,\"\")","v":""},null,{"$f":"IFERROR(Hjælpeark!AB124,\"\")","v":""},null,{"$f":"IFERROR(Hjælpeark!AC124,\"\")","v":""},null,null,0,false,false,false,false,false,false,false,false]
[null,null,"Vi med fordel kan gøre",{"$f":"IFERROR(Hjælpeark!V125,\"\")","v":""},null,{"$f":"IFERROR(Hjælpeark!W125,\"\")","v":""},null,{"$f":"IFERROR(Hjælpeark!X125,\"\")","v":""},null,{"$f":"IFERROR(Hjælpeark!Y125,\"\")","v":""},null,{"$f":"IFERROR(Hjælpeark!Z125,\"\")","v":""},null,{"$f":"IFERROR(Hjælpeark!AA125,\"\")","v":""},null,{"$f":"IFERROR(Hjælpeark!AB125,\"\")","v":""},null,{"$f":"IFERROR(Hjælpeark!AC125,\"\")","v":""},null,null,0,false,false,false,false,false,false,false,false]
[null,"Tilsyn 33","Vi bør gøre ",{"$f":"IFERROR(Hjælpeark!V126,\"\")","v":""},null,{"$f":"IFERROR(Hjælpeark!W126,\"\")","v":""},null,{"$f":"IFERROR(Hjælpeark!X126,\"\")","v":""},null,{"$f":"IFERROR(Hjælpeark!Y126,\"\")","v":""},null,{"$f":"IFERROR(Hjælpeark!Z126,\"\")","v":""},null,{"$f":"IFERROR(Hjælpeark!AA126,\"\")","v":""},null,{"$f":"IFERROR(Hjælpeark!AB126,\"\")","v":""},null,{"$f":"IFERROR(Hjælpeark!AC126,\"\")","v":""},null,null,0,{"$f":"SUMPRODUCT(--ISNUMBER(SEARCH(Liste,D70)))>0","v":false},{"$f":"SUMPRODUCT(--ISNUMBER(SEARCH(Liste,F70)))>0","v":false},{"$f":"SUMPRODUCT(--ISNUMBER(SEARCH(Liste,H70)))>0","v":false},{"$f":"SUMPRODUCT(--ISNUMBER(SEARCH(Liste,J70)))>0","v":false},{"$f":"SUMPRODUCT(--ISNUMBER(SEARCH(Liste,L70)))>0","v":false},{"$f":"SUMPRODUCT(--ISNUMBER(SEARCH(Liste,N70)))>0","v":false},{"$f":"SUMPRODUCT(--ISNUMBER(SEARCH(Liste,P70)))>0","v":false},{"$f":"SUMPRODUCT(--ISNUMBER(SEARCH(Liste,R70)))>0","v":false}]
[null,null,"Vi med fordel kan gøre",{"$f":"IFERROR(Hjælpeark!V127,\"\")","v":""},null,{"$f":"IFERROR(Hjælpeark!W127,\"\")","v":""},null,{"$f":"IFERROR(Hjælpeark!X127,\"\")","v":""},null,{"$f":"IFERROR(Hjælpeark!Y127,\"\")","v":""},null,{"$f":"IFERROR(Hjælpeark!Z127,\"\")","v":""},null,{"$f":"IFERROR(Hjælpeark!AA127,\"\")","v":""},null,{"$f":"IFERROR(Hjælpeark!AB127,\"\")","v":""},null,{"$f":"IFERROR(Hjælpeark!AC127,\"\")","v":""},null,null,0,false,false,false,false,false,false,false,false]
[null,"Tilsyn 34",{"$f":"C70","v":"Vi bør gøre "},{"$f":"IFERROR(Hjælpeark!V128,\"\")","v":""},null,{"$f":"IFERROR(Hjælpeark!W128,\"\")","v":""},null,{"$f":"IFERROR(Hjælpeark!X128,\"\")","v":""},null,{"$f":"IFERROR(Hjælpeark!Y128,\"\")","v":""},null,{"$f":"IFERROR(Hjælpeark!Z128,\"\")","v":""},null,{"$f":"IFERROR(Hjælpeark!AA128,\"\")","v":""},null,{"$f":"IFERROR(Hjælpeark!AB128,\"\")","v":""},null,{"$f":"IFERROR(Hjælpeark!AC128,\"\")","v":""},null,null,0,false,false,false,false,false,false,false,false]
[null,null,"Vi med fordel kan gøre",{"$f":"IFERROR(Hjælpeark!V129,\"\")","v":""},null,{"$f":"IFERROR(Hjælpeark!W129,\"\")","v":""},null,{"$f":"IFERROR(Hjælpeark!X129,\"\")","v":""},null,{"$f":"IFERROR(Hjælpeark!Y129,\"\")","v":""},null,{"$f":"IFERROR(Hjælpeark!Z129,\"\")","v":""},null,{"$f":"IFERROR(Hjælpeark!AA129,\"\")","v":""},null,{"$f":"IFERROR(Hjælpeark!AB129,\"\")","v":""},null,{"$f":"IFERROR(Hjælpeark!AC129,\"\")","v":""},null,null,0,false,false,false,false,false,false,false,false]
[null,"Tilsyn 35","Vi bør gøre ",{"$f":"IFERROR(Hjælpeark!V130,\"\")","v":""},null,{"$f":"IFERROR(Hjælpeark!W130,\"\")","v":""},null,{"$f":"IFERROR(Hjælpeark!X130,\"\")","v":""},null,{"$f":"IFERROR(Hjælpeark!Y130,\"\")","v":""},null,{"$f":"IFERROR(Hjælpeark!Z130,\"\")","v":""},null,{"$f":"IFERROR(Hjælpeark!AA130,\"\")","v":""},null,{"$f":"IFERROR(Hjælpeark!AB130,\"\")","v":""},null,{"$f":"IFERROR(Hjælpeark!AC130,\"\")","v":""},null,null,0,false,false,false,false,false,false,false,false]
[null,null,"Vi med fordel kan gøre",{"$f":"IFERROR(Hjælpeark!V131,\"\")","v":""},null,{"$f":"IFERROR(Hjælpeark!W131,\"\")","v":""},null,{"$f":"IFERROR(Hjælpeark!X131,\"\")","v":""},null,{"$f":"IFERROR(Hjælpeark!Y131,\"\")","v":""},null,{"$f":"IFERROR(Hjælpeark!Z131,\"\")","v":""},null,{"$f":"IFERROR(Hjælpeark!AA131,\"\")","v":""},null,{"$f":"IFERROR(Hjælpeark!AB131,\"\")","v":""},null,{"$f":"IFERROR(Hjælpeark!AC131,\"\")","v":""},null,null,0,false,false,false,false,false,false,false,false]
[null,"Tilsyn 36","Vi bør gøre ",{"$f":"IFERROR(Hjælpeark!V132,\"\")","v":""},null,{"$f":"IFERROR(Hjælpeark!W132,\"\")","v":""},null,{"$f":"IFERROR(Hjælpeark!X132,\"\")","v":""},null,{"$f":"IFERROR(Hjælpeark!Y132,\"\")","v":""},null,{"$f":"IFERROR(Hjælpeark!Z132,\"\")","v":""},null,{"$f":"IFERROR(Hjælpeark!AA132,\"\")","v":""},null,{"$f":"IFERROR(Hjælpeark!AB132,\"\")","v":""},null,{"$f":"IFERROR(Hjælpeark!AC132,\"\")","v":""},null,null,0,false,false,false,false,false,false,false,false]
[null,null,"Vi med fordel kan gøre",{"$f":"IFERROR(Hjælpeark!V133,\"\")","v":""},null,{"$f":"IFERROR(Hjælpeark!W133,\"\")","v":""},null,{"$f":"IFERROR(Hjælpeark!X133,\"\")","v":""},null,{"$f":"IFERROR(Hjælpeark!Y133,\"\")","v":""},null,{"$f":"IFERROR(Hjælpeark!Z133,\"\")","v":""},null,{"$f":"IFERROR(Hjælpeark!AA133,\"\")","v":""},null,{"$f":"IFERROR(Hjælpeark!AB133,\"\")","v":""},null,{"$f":"IFERROR(Hjælpeark!AC133,\"\")","v":""},null,null,0,false,false,false,false,false,false,false,false]
[null,"Tilsyn 37","Vi bør gøre ",{"$f":"IFERROR(Hjælpeark!V134,\"\")","v":""},null,{"$f":"IFERROR(Hjælpeark!W134,\"\")","v":""},null,{"$f":"IFERROR(Hjælpeark!X134,\"\")","v":""},null,{"$f":"IFERROR(Hjælpeark!Y134,\"\")","v":""},null,{"$f":"IFERROR(Hjælpeark!Z134,\"\")","v":""},null,{"$f":"IFERROR(Hjælpeark!AA134,\"\")","v":""},null,{"$f":"IFERROR(Hjælpeark!AB134,\"\")","v":""},null,{"$f":"IFERROR(Hjælpeark!AC134,\"\")","v":""},null,null,0,false,false,false,false,false,false,false,false]
[null,null,"Vi med fordel kan gøre",{"$f":"IFERROR(Hjælpeark!V135,\"\")","v":""},null,{"$f":"IFERROR(Hjælpeark!W135,\"\")","v":""},null,{"$f":"IFERROR(Hjælpeark!X135,\"\")","v":""},null,{"$f":"IFERROR(Hjælpeark!Y135,\"\")","v":""},null,{"$f":"IFERROR(Hjælpeark!Z135,\"\")","v":""},null,{"$f":"IFERROR(Hjælpeark!AA135,\"\")","v":""},null,{"$f":"IFERROR(Hjælpeark!AB135,\"\")","v":""},null,{"$f":"IFERROR(Hjælpeark!AC135,\"\")","v":""},null,null,0,false,false,false,false,false,false,false,false]
[null,"Tilsyn 38","Vi bør gøre ",{"$f":"IFERROR(Hjælpeark!V136,\"\")","v":""},null,{"$f":"IFERROR(Hjælpeark!W136,\"\")","v":""},null,{"$f":"IFERROR(Hjælpeark!X136,\"\")","v":""},null,{"$f":"IFERROR(Hjælpeark!Y136,\"\")","v":""},null,{"$f":"IFERROR(Hjælpeark!Z136,\"\")","v":""},null,{"$f":"IFERROR(Hjælpeark!AA136,\"\")","v":""},null,{"$f":"IFERROR(Hjælpeark!AB136,\"\")","v":""},null,{"$f":"IFERROR(Hjælpeark!AC136,\"\")","v":""},null,null,{"$f":"COUNTIF(V80:AC80,\"SAND\")","v":0},false,false,false,false,false,false,false,false]
[null,null,"Vi med fordel kan gøre",{"$f":"IFERROR(Hjælpeark!V137,\"\")","v":""},null,{"$f":"IFERROR(Hjælpeark!W137,\"\")","v":""},null,{"$f":"IFERROR(Hjælpeark!X137,\"\")","v":""},null,{"$f":"IFERROR(Hjælpeark!Y137,\"\")","v":""},null,{"$f":"IFERROR(Hjælpeark!Z137,\"\")","v":""},null,{"$f":"IFERROR(Hjælpeark!AA137,\"\")","v":""},null,{"$f":"IFERROR(Hjælpeark!AB137,\"\")","v":""},null,{"$f":"IFERROR(Hjælpeark!AC137,\"\")","v":""},null,null,0,false,false,false,false,false,false,false,false]
[null,"Tilsyn 39","Vi bør gøre ",{"$f":"IFERROR(Hjælpeark!V138,\"\")","v":""},null,{"$f":"IFERROR(Hjælpeark!W138,\"\")","v":""},null,{"$f":"IFERROR(Hjælpeark!X138,\"\")","v":""},null,{"$f":"IFERROR(Hjælpeark!Y138,\"\")","v":""},null,{"$f":"IFERROR(Hjælpeark!Z138,\"\")","v":""},null,{"$f":"IFERROR(Hjælpeark!AA138,\"\")","v":""},null,{"$f":"IFERROR(Hjælpeark!AB138,\"\")","v":""},null,{"$f":"IFERROR(Hjælpeark!AC138,\"\")","v":""},null,null,0,false,false,false,false,false,false,false,false]
[null,null,"Vi med fordel kan gøre",{"$f":"IFERROR(Hjælpeark!V139,\"\")","v":""},null,{"$f":"IFERROR(Hjælpeark!W139,\"\")","v":""},null,{"$f":"IFERROR(Hjælpeark!X139,\"\")","v":""},null,{"$f":"IFERROR(Hjælpeark!Y139,\"\")","v":""},null,{"$f":"IFERROR(Hjælpeark!Z139,\"\")","v":""},null,{"$f":"IFERROR(Hjælpeark!AA139,\"\")","v":""},null,{"$f":"IFERROR(Hjælpeark!AB139,\"\")","v":""},null,{"$f":"IFERROR(Hjælpeark!AC139,\"\")","v":""},null,null,0,false,false,false,false,false,false,false,false]
[null,"Tilsyn 40","Vi bør gøre ",{"$f":"IFERROR(Hjælpeark!V140,\"\")","v":""},null,{"$f":"IFERROR(Hjælpeark!W140,\"\")","v":""},null,{"$f":"IFERROR(Hjælpeark!X140,\"\")","v":""},null,{"$f":"IFERROR(Hjælpeark!Y140,\"\")","v":""},null,{"$f":"IFERROR(Hjælpeark!Z140,\"\")","v":""},null,{"$f":"IFERROR(Hjælpeark!AA140,\"\")","v":""},null,{"$f":"IFERROR(Hjælpeark!AB140,\"\")","v":""},null,{"$f":"IFERROR(Hjælpeark!AC140,\"\")","v":""},null,null,0,false,false,false,false,false,false,false,false]
[null,null,"Vi med fordel kan gøre",{"$f":"IFERROR(Hjælpeark!V141,\"\")","v":""},null,{"$f":"IFERROR(Hjælpeark!W141,\"\")","v":""},null,{"$f":"IFERROR(Hjælpeark!X141,\"\")","v":""},null,{"$f":"IFERROR(Hjælpeark!Y141,\"\")","v":""},null,{"$f":"IFERROR(Hjælpeark!Z141,\"\")","v":""},null,{"$f":"IFERROR(Hjælpeark!AA141,\"\")","v":""},null,{"$f":"IFERROR(Hjælpeark!AB141,\"\")","v":""},null,{"$f":"IFERROR(Hjælpeark!AC141,\"\")","v":""},null,null,0,false,false,false,false,false,false,false,false]
[null,"Tilsyn 41","Vi bør gøre ",{"$f":"IFERROR(Hjælpeark!V142,\"\")","v":""},null,{"$f":"IFERROR(Hjælpeark!W142,\"\")","v":""},null,{"$f":"IFERROR(Hjælpeark!X142,\"\")","v":""},null,{"$f":"IFERROR(Hjælpeark!Y142,\"\")","v":""},null,{"$f":"IFERROR(Hjælpeark!Z142,\"\")","v":""},null,{"$f":"IFERROR(Hjælpeark!AA142,\"\")","v":""},null,{"$f":"IFERROR(Hjælpeark!AB142,\"\")","v":""},null,{"$f":"IFERROR(Hjælpeark!AC142,\"\")","v":""},null,null,0,false,false,false,false,false,false,false,false]
[null,null,"Vi med fordel kan gøre",{"$f":"IFERROR(Hjælpeark!V143,\"\")","v":""},null,{"$f":"IFERROR(Hjælpeark!W143,\"\")","v":""},null,{"$f":"IFERROR(Hjælpeark!X143,\"\")","v":""},null,{"$f":"IFERROR(Hjælpeark!Y143,\"\")","v":""},null,{"$f":"IFERROR(Hjælpeark!Z143,\"\")","v":""},null,{"$f":"IFERROR(Hjælpeark!AA143,\"\")","v":""},null,{"$f":"IFERROR(Hjælpeark!AB143,\"\")","v":""},null,{"$f":"IFERROR(Hjælpeark!AC143,\"\")","v":""},null,null,0,false,false,false,false,false,false,false,false]
[null,"Tilsyn 42","Vi bør gøre ",{"$f":"IFERROR(Hjælpeark!V144,\"\")","v":""},null,{"$f":"IFERROR(Hjælpeark!W144,\"\")","v":""},null,{"$f":"IFERROR(Hjælpeark!X144,\"\")","v":""},null,{"$f":"IFERROR(Hjælpeark!Y144,\"\")","v":""},null,{"$f":"IFERROR(Hjælpeark!Z144,\"\")","v":""},null,{"$f":"IFERROR(Hjælpeark!AA144,\"\")","v":""},null,{"$f":"IFERROR(Hjælpeark!AB144,\"\")","v":""},null,{"$f":"IFERROR(Hjælpeark!AC144,\"\")","v":""},null,null,0,false,false,false,false,false,false,false,false]
[null,null,"Vi med fordel kan gøre",{"$f":"IFERROR(Hjælpeark!V145,\"\")","v":""},null,{"$f":"IFERROR(Hjælpeark!W145,\"\")","v":""},null,{"$f":"IFERROR(Hjælpeark!X145,\"\")","v":""},null,{"$f":"IFERROR(Hjælpeark!Y145,\"\")","v":""},null,{"$f":"IFERROR(Hjælpeark!Z145,\"\")","v":""},null,{"$f":"IFERROR(Hjælpeark!AA145,\"\")","v":""},null,{"$f":"IFERROR(Hjælpeark!AB145,\"\")","v":""},null,{"$f":"IFERROR(Hjælpeark!AC145,\"\")","v":""},null,null,0,false,false,false,false,false,false,false,false]
[null,"Tilsyn 43","Vi bør gøre ",{"$f":"IFERROR(Hjælpeark!V146,\"\")","v":""},null,{"$f":"IFERROR(Hjælpeark!W146,\"\")","v":""},null,{"$f":"IFERROR(Hjælpeark!X146,\"\")","v":""},null,{"$f":"IFERROR(Hjælpeark!Y146,\"\")","v":""},null,{"$f":"IFERROR(Hjælpeark!Z146,\"\")","v":""},null,{"$f":"IFERROR(Hjælpeark!AA146,\"\")","v":""},null,{"$f":"IFERROR(Hjælpeark!AB146,\"\")","v":""},null,{"$f":"IFERROR(Hjælpeark!AC146,\"\")","v":""},null,null,0,false,false,false,false,false,false,false,false]
[null,null,"Vi med fordel kan gøre",{"$f":"IFERROR(Hjælpeark!V147,\"\")","v":""},null,{"$f":"IFERROR(Hjælpeark!W147,\"\")","v":""},null,{"$f":"IFERROR(Hjælpeark!X147,\"\")","v":""},null,{"$f":"IFERROR(Hjælpeark!Y147,\"\")","v":""},null,{"$f":"IFERROR(Hjælpeark!Z147,\"\")","v":""},null,{"$f":"IFERROR(Hjælpeark!AA147,\"\")","v":""},null,{"$f":"IFERROR(Hjælpeark!AB147,\"\")","v":""},null,{"$f":"IFERROR(Hjælpeark!AC147,\"\")","v":""},null,null,0,false,false,false,false,false,false,false,false]
[null,"Tilsyn 44","Vi bør gøre ",{"$f":"IFERROR(Hjælpeark!V148,\"\")","v":""},null,{"$f":"IFERROR(Hjælpeark!W148,\"\")","v":""},null,{"$f":"IFERROR(Hjælpeark!X148,\"\")","v":""},null,{"$f":"IFERROR(Hjælpeark!Y148,\"\")","v":""},null,{"$f":"IFERROR(Hjælpeark!Z148,\"\")","v":""},null,{"$f":"IFERROR(Hjælpeark!AA148,\"\")","v":""},null,{"$f":"IFERROR(Hjælpeark!AB148,\"\")","v":""},null,{"$f":"IFERROR(Hjælpeark!AC148,\"\")","v":""},null,null,0,false,false,false,false,false,false,false,false]
[null,null,"Vi med fordel kan gøre",{"$f":"IFERROR(Hjælpeark!V149,\"\")","v":""},null,{"$f":"IFERROR(Hjælpeark!W149,\"\")","v":""},null,{"$f":"IFERROR(Hjælpeark!X149,\"\")","v":""},null,{"$f":"IFERROR(Hjælpeark!Y149,\"\")","v":""},null,{"$f":"IFERROR(Hjælpeark!Z149,\"\")","v":""},null,{"$f":"IFERROR(Hjælpeark!AA149,\"\")","v":""},null,{"$f":"IFERROR(Hjælpeark!AB149,\"\")","v":""},null,{"$f":"IFERROR(Hjælpeark!AC149,\"\")","v":""},null,null,0,false,false,false,false,false,false,false,false]
[null,"Tilsyn 45","Vi bør gøre ",{"$f":"IFERROR(Hjælpeark!V150,\"\")","v":""},null,{"$f":"IFERROR(Hjælpeark!W150,\"\")","v":""},null,{"$f":"IFERROR(Hjælpeark!X150,\"\")","v":""},null,{"$f":"IFERROR(Hjælpeark!Y150,\"\")","v":""},null,{"$f":"IFERROR(Hjælpeark!Z150,\"\")","v":""},null,{"$f":"IFERROR(Hjælpeark!AA150,\"\")","v":""},null,{"$f":"IFERROR(Hjælpeark!AB150,\"\")","v":""},null,{"$f":"IFERROR(Hjælpeark!AC150,\"\")","v":""},null,null,0,false,false,false,false,false,false,false,false]
[null,null,"Vi med fordel kan gøre",{"$f":"IFERROR(Hjælpeark!V151,\"\")","v":""},null,{"$f":"IFERROR(Hjælpeark!W151,\"\")","v":""},null,{"$f":"IFERROR(Hjælpeark!X151,\"\")","v":""},null,{"$f":"IFERROR(Hjælpeark!Y151,\"\")","v":""},null,{"$f":"IFERROR(Hjælpeark!Z151,\"\")","v":""},null,{"$f":"IFERROR(Hjælpeark!AA151,\"\")","v":""},null,{"$f":"IFERROR(Hjælpeark!AB151,\"\")","v":""},null,{"$f":"IFERROR(Hjælpeark!AC151,\"\")","v":""},null,null,0,false,false,false,false,false,false,false,false]
[null,"Tilsyn 46","Vi bør gøre ",{"$f":"IFERROR(Hjælpeark!V152,\"\")","v":""},null,{"$f":"IFERROR(Hjælpeark!W152,\"\")","v":""},null,{"$f":"IFERROR(Hjælpeark!X152,\"\")","v":""},null,{"$f":"IFERROR(Hjælpeark!Y152,\"\")","v":""},null,{"$f":"IFERROR(Hjælpeark!Z152,\"\")","v":""},null,{"$f":"IFERROR(Hjælpeark!AA152,\"\")","v":""},null,{"$f":"IFERROR(Hjælpeark!AB152,\"\")","v":""},null,{"$f":"IFERROR(Hjælpeark!AC152,\"\")","v":""},null,null,0,false,false,false,false,false,false,false,false]
[null,null,"Vi med fordel kan gøre",{"$f":"IFERROR(Hjælpeark!V153,\"\")","v":""},null,{"$f":"IFERROR(Hjælpeark!W153,\"\")","v":""},null,{"$f":"IFERROR(Hjælpeark!X153,\"\")","v":""},null,{"$f":"IFERROR(Hjælpeark!Y153,\"\")","v":""},null,{"$f":"IFERROR(Hjælpeark!Z153,\"\")","v":""},null,{"$f":"IFERROR(Hjælpeark!AA153,\"\")","v":""},null,{"$f":"IFERROR(Hjælpeark!AB153,\"\")","v":""},null,{"$f":"IFERROR(Hjælpeark!AC153,\"\")","v":""},null,null,0,false,false,false,false,false,false,false,false]
[null,"Tilsyn 47","Vi bør gøre ",{"$f":"IFERROR(Hjælpeark!V154,\"\")","v":""},null,{"$f":"IFERROR(Hjælpeark!W154,\"\")","v":""},null,{"$f":"IFERROR(Hjælpeark!X154,\"\")","v":""},null,{"$f":"IFERROR(Hjælpeark!Y154,\"\")","v":""},null,{"$f":"IFERROR(Hjælpeark!Z154,\"\")","v":""},null,{"$f":"IFERROR(Hjælpeark!AA154,\"\")","v":""},null,{"$f":"IFERROR(Hjælpeark!AB154,\"\")","v":""},null,{"$f":"IFERROR(Hjælpeark!AC154,\"\")","v":""},null,null,0,false,false,false,false,false,false,false,false]
[null,null,"Vi med fordel kan gøre",{"$f":"IFERROR(Hjælpeark!V155,\"\")","v":""},null,{"$f":"IFERROR(Hjælpeark!W155,\"\")","v":""},null,{"$f":"IFERROR(Hjælpeark!X155,\"\")","v":""},null,{"$f":"IFERROR(Hjælpeark!Y155,\"\")","v":""},null,{"$f":"IFERROR(Hjælpeark!Z155,\"\")","v":""},null,{"$f":"IFERROR(Hjælpeark!AA155,\"\")","v":""},null,{"$f":"IFERROR(Hjælpeark!AB155,\"\")","v":""},null,{"$f":"IFERROR(Hjælpeark!AC155,\"\")","v":""},null,null,0,false,false,false,false,false,false,false,false]
[null,"Tilsyn 48","Vi bør gøre ",{"$f":"IFERROR(Hjælpeark!V156,\"\")","v":""},null,{"$f":"IFERROR(Hjælpeark!W156,\"\")","v":""},null,{"$f":"IFERROR(Hjælpeark!X156,\"\")","v":""},null,{"$f":"IFERROR(Hjælpeark!Y156,\"\")","v":""},null,{"$f":"IFERROR(Hjælpeark!Z156,\"\")","v":""},null,{"$f":"IFERROR(Hjælpeark!AA156,\"\")","v":""},null,{"$f":"IFERROR(Hjælpeark!AB156,\"\")","v":""},null,{"$f":"IFERROR(Hjælpeark!AC156,\"\")","v":""},null,null,0,false,false,false,false,false,false,false,false]
[null,null,"Vi med fordel kan gøre",{"$f":"IFERROR(Hjælpeark!V157,\"\")","v":""},null,{"$f":"IFERROR(Hjælpeark!W157,\"\")","v":""},null,{"$f":"IFERROR(Hjælpeark!X157,\"\")","v":""},null,{"$f":"IFERROR(Hjælpeark!Y157,\"\")","v":""},null,{"$f":"IFERROR(Hjælpeark!Z157,\"\")","v":""},null,{"$f":"IFERROR(Hjælpeark!AA157,\"\")","v":""},null,{"$f":"IFERROR(Hjælpeark!AB157,\"\")","v":""},null,{"$f":"IFERROR(Hjælpeark!AC157,\"\")","v":""},null,null,0,false,false,false,false,false,false,false,false]
[null,"Tilsyn 49","Vi bør gøre ",{"$f":"IFERROR(Hjælpeark!V158,\"\")","v":""},null,{"$f":"IFERROR(Hjælpeark!W158,\"\")","v":""},null,{"$f":"IFERROR(Hjælpeark!X158,\"\")","v":""},null,{"$f":"IFERROR(Hjælpeark!Y158,\"\")","v":""},null,{"$f":"IFERROR(Hjælpeark!Z158,\"\")","v":""},null,{"$f":"IFERROR(Hjælpeark!AA158,\"\")","v":""},null,{"$f":"IFERROR(Hjælpeark!AB158,\"\")","v":""},null,{"$f":"IFERROR(Hjælpeark!AC158,\"\")","v":""},null,null,0,{"$f":"SUMPRODUCT(--ISNUMBER(SEARCH(Liste,D102)))>0","v":false},{"$f":"SUMPRODUCT(--ISNUMBER(SEARCH(Liste,F102)))>0","v":false},{"$f":"SUMPRODUCT(--ISNUMBER(SEARCH(Liste,H102)))>0","v":false},{"$f":"SUMPRODUCT(--ISNUMBER(SEARCH(Liste,J102)))>0","v":false},{"$f":"SUMPRODUCT(--ISNUMBER(SEARCH(Liste,L102)))>0","v":false},{"$f":"SUMPRODUCT(--ISNUMBER(SEARCH(Liste,N102)))>0","v":false},{"$f":"SUMPRODUCT(--ISNUMBER(SEARCH(Liste,P102)))>0","v":false},{"$f":"SUMPRODUCT(--ISNUMBER(SEARCH(Liste,R102)))>0","v":false}]
[null,null,"Vi med fordel kan gøre",{"$f":"IFERROR(Hjælpeark!V159,\"\")","v":""},null,{"$f":"IFERROR(Hjælpeark!W159,\"\")","v":""},null,{"$f":"IFERROR(Hjælpeark!X159,\"\")","v":""},null,{"$f":"IFERROR(Hjælpeark!Y159,\"\")","v":""},null,{"$f":"IFERROR(Hjælpeark!Z159,\"\")","v":""},null,{"$f":"IFERROR(Hjælpeark!AA159,\"\")","v":""},null,{"$f":"IFERROR(Hjælpeark!AB159,\"\")","v":""},null,{"$f":"IFERROR(Hjælpeark!AC159,\"\")","v":""},null,null,0,false,false,false,false,false,false,false,false]
[null,"Tilsyn 50",{"$f":"C102","v":"Vi bør gøre "},{"$f":"IFERROR(Hjælpeark!V160,\"\")","v":""},null,{"$f":"IFERROR(Hjælpeark!W160,\"\")","v":""},null,{"$f":"IFERROR(Hjælpeark!X160,\"\")","v":""},null,{"$f":"IFERROR(Hjælpeark!Y160,\"\")","v":""},null,{"$f":"IFERROR(Hjælpeark!Z160,\"\")","v":""},null,{"$f":"IFERROR(Hjælpeark!AA160,\"\")","v":""},null,{"$f":"IFERROR(Hjælpeark!AB160,\"\")","v":""},null,{"$f":"IFERROR(Hjælpeark!AC160,\"\")","v":""},null,null,0,false,false,false,false,false,false,false,false]
[null,null,"Vi med fordel kan gøre",{"$f":"IFERROR(Hjælpeark!V161,\"\")","v":""},null,{"$f":"IFERROR(Hjælpeark!W161,\"\")","v":""},null,{"$f":"IFERROR(Hjælpeark!X161,\"\")","v":""},null,{"$f":"IFERROR(Hjælpeark!Y161,\"\")","v":""},null,{"$f":"IFERROR(Hjælpeark!Z161,\"\")","v":""},null,{"$f":"IFERROR(Hjælpeark!AA161,\"\")","v":""},null,{"$f":"IFERROR(Hjælpeark!AB161,\"\")","v":""},null,{"$f":"IFERROR(Hjælpeark!AC161,\"\")","v":""},null,null,0,false,false,false,false,false,false,false,false]
[null,"Tilsyn 51","Vi bør gøre ",{"$f":"IFERROR(Hjælpeark!V162,\"\")","v":""},null,{"$f":"IFERROR(Hjælpeark!W162,\"\")","v":""},null,{"$f":"IFERROR(Hjælpeark!X162,\"\")","v":""},null,{"$f":"IFERROR(Hjælpeark!Y162,\"\")","v":""},null,{"$f":"IFERROR(Hjælpeark!Z162,\"\")","v":""},null,{"$f":"IFERROR(Hjælpeark!AA162,\"\")","v":""},null,{"$f":"IFERROR(Hjælpeark!AB162,\"\")","v":""},null,{"$f":"IFERROR(Hjælpeark!AC162,\"\")","v":""},null,null,0,false,false,false,false,false,false,false,false]
[null,null,"Vi med fordel kan gøre",{"$f":"IFERROR(Hjælpeark!V163,\"\")","v":""},null,{"$f":"IFERROR(Hjælpeark!W163,\"\")","v":""},null,{"$f":"IFERROR(Hjælpeark!X163,\"\")","v":""},null,{"$f":"IFERROR(Hjælpeark!Y163,\"\")","v":""},null,{"$f":"IFERROR(Hjælpeark!Z163,\"\")","v":""},null,{"$f":"IFERROR(Hjælpeark!AA163,\"\")","v":""},null,{"$f":"IFERROR(Hjælpeark!AB163,\"\")","v":""},null,{"$f":"IFERROR(Hjælpeark!AC163,\"\")","v":""},null,null,0,false,false,false,false,false,false,false,false]
[null,"Tilsyn 52","Vi bør gøre ",{"$f":"IFERROR(Hjælpeark!V164,\"\")","v":""},null,{"$f":"IFERROR(Hjælpeark!W164,\"\")","v":""},null,{"$f":"IFERROR(Hjælpeark!X164,\"\")","v":""},null,{"$f":"IFERROR(Hjælpeark!Y164,\"\")","v":""},null,{"$f":"IFERROR(Hjælpeark!Z164,\"\")","v":""},null,{"$f":"IFERROR(Hjælpeark!AA164,\"\")","v":""},null,{"$f":"IFERROR(Hjælpeark!AB164,\"\")","v":""},null,{"$f":"IFERROR(Hjælpeark!AC164,\"\")","v":""},null,null,0,false,false,false,false,false,false,false,false]
[null,null,"Vi med fordel kan gøre",{"$f":"IFERROR(Hjælpeark!V165,\"\")","v":""},null,{"$f":"IFERROR(Hjælpeark!W165,\"\")","v":""},null,{"$f":"IFERROR(Hjælpeark!X165,\"\")","v":""},null,{"$f":"IFERROR(Hjælpeark!Y165,\"\")","v":""},null,{"$f":"IFERROR(Hjælpeark!Z165,\"\")","v":""},null,{"$f":"IFERROR(Hjælpeark!AA165,\"\")","v":""},null,{"$f":"IFERROR(Hjælpeark!AB165,\"\")","v":""},null,{"$f":"IFERROR(Hjælpeark!AC165,\"\")","v":""},null,null,0,false,false,false,false,false,false,false,false]
[null,"Tilsyn 53","Vi bør gøre ",{"$f":"IFERROR(Hjælpeark!V166,\"\")","v":""},null,{"$f":"IFERROR(Hjælpeark!W166,\"\")","v":""},null,{"$f":"IFERROR(Hjælpeark!X166,\"\")","v":""},null,{"$f":"IFERROR(Hjælpeark!Y166,\"\")","v":""},null,{"$f":"IFERROR(Hjælpeark!Z166,\"\")","v":""},null,{"$f":"IFERROR(Hjælpeark!AA166,\"\")","v":""},null,{"$f":"IFERROR(Hjælpeark!AB166,\"\")","v":""},null,{"$f":"IFERROR(Hjælpeark!AC166,\"\")","v":""},null,null,0,false,false,false,false,false,false,false,false]
[null,null,"Vi med fordel kan gøre",{"$f":"IFERROR(Hjælpeark!V167,\"\")","v":""},null,{"$f":"IFERROR(Hjælpeark!W167,\"\")","v":""},null,{"$f":"IFERROR(Hjælpeark!X167,\"\")","v":""},null,{"$f":"IFERROR(Hjælpeark!Y167,\"\")","v":""},null,{"$f":"IFERROR(Hjælpeark!Z167,\"\")","v":""},null,{"$f":"IFERROR(Hjælpeark!AA167,\"\")","v":""},null,{"$f":"IFERROR(Hjælpeark!AB167,\"\")","v":""},null,{"$f":"IFERROR(Hjælpeark!AC167,\"\")","v":""},null,null,0,false,false,false,false,false,false,false,false]
[null,"Tilsyn 54","Vi bør gøre ",{"$f":"IFERROR(Hjælpeark!V168,\"\")","v":""},null,{"$f":"IFERROR(Hjælpeark!W168,\"\")","v":""},null,{"$f":"IFERROR(Hjælpeark!X168,\"\")","v":""},null,{"$f":"IFERROR(Hjælpeark!Y168,\"\")","v":""},null,{"$f":"IFERROR(Hjælpeark!Z168,\"\")","v":""},null,{"$f":"IFERROR(Hjælpeark!AA168,\"\")","v":""},null,{"$f":"IFERROR(Hjælpeark!AB168,\"\")","v":""},null,{"$f":"IFERROR(Hjælpeark!AC168,\"\")","v":""},null,null,0,false,false,false,false,false,false,false,false]
[null,null,"Vi med fordel kan gøre",{"$f":"IFERROR(Hjælpeark!V169,\"\")","v":""},null,{"$f":"IFERROR(Hjælpeark!W169,\"\")","v":""},null,{"$f":"IFERROR(Hjælpeark!X169,\"\")","v":""},null,{"$f":"IFERROR(Hjælpeark!Y169,\"\")","v":""},null,{"$f":"IFERROR(Hjælpeark!Z169,\"\")","v":""},null,{"$f":"IFERROR(Hjælpeark!AA169,\"\")","v":""},null,{"$f":"IFERROR(Hjælpeark!AB169,\"\")","v":""},null,{"$f":"IFERROR(Hjælpeark!AC169,\"\")","v":""},null,null,0,false,false,false,false,false,false,false,false]
[null,"Tilsyn 55","Vi bør gøre ",{"$f":"IFERROR(Hjælpeark!V170,\"\")","v":""},null,{"$f":"IFERROR(Hjælpeark!W170,\"\")","v":""},null,{"$f":"IFERROR(Hjælpeark!X170,\"\")","v":""},null,{"$f":"IFERROR(Hjælpeark!Y170,\"\")","v":""},null,{"$f":"IFERROR(Hjælpeark!Z170,\"\")","v":""},null,{"$f":"IFERROR(Hjælpeark!AA170,\"\")","v":""},null,{"$f":"IFERROR(Hjælpeark!AB170,\"\")","v":""},null,{"$f":"IFERROR(Hjælpeark!AC170,\"\")","v":""},null,null,0,false,false,false,false,false,false,false,false]
[null,null,"Vi med fordel kan gøre",{"$f":"IFERROR(Hjælpeark!V171,\"\")","v":""},null,{"$f":"IFERROR(Hjælpeark!W171,\"\")","v":""},null,{"$f":"IFERROR(Hjælpeark!X171,\"\")","v":""},null,{"$f":"IFERROR(Hjælpeark!Y171,\"\")","v":""},null,{"$f":"IFERROR(Hjælpeark!Z171,\"\")","v":""},null,{"$f":"IFERROR(Hjælpeark!AA171,\"\")","v":""},null,{"$f":"IFERROR(Hjælpeark!AB171,\"\")","v":""},null,{"$f":"IFERROR(Hjælpeark!AC171,\"\")","v":""},null,null,0,false,false,false,false,false,false,false,false]
[null,"Tilsyn 56","Vi bør gøre ",{"$f":"IFERROR(Hjælpeark!V172,\"\")","v":""},null,{"$f":"IFERROR(Hjælpeark!W172,\"\")","v":""},null,{"$f":"IFERROR(Hjælpeark!X172,\"\")","v":""},null,{"$f":"IFERROR(Hjælpeark!Y172,\"\")","v":""},null,{"$f":"IFERROR(Hjælpeark!Z172,\"\")","v":""},null,{"$f":"IFERROR(Hjælpeark!AA172,\"\")","v":""},null,{"$f":"IFERROR(Hjælpeark!AB172,\"\")","v":""},null,{"$f":"IFERROR(Hjælpeark!AC172,\"\")","v":""},null,null,0,false,false,false,false,false,false,false,false]
[null,null,"Vi med fordel kan gøre",{"$f":"IFERROR(Hjælpeark!V173,\"\")","v":""},null,{"$f":"IFERROR(Hjælpeark!W173,\"\")","v":""},null,{"$f":"IFERROR(Hjælpeark!X173,\"\")","v":""},null,{"$f":"IFERROR(Hjælpeark!Y173,\"\")","v":""},null,{"$f":"IFERROR(Hjælpeark!Z173,\"\")","v":""},null,{"$f":"IFERROR(Hjælpeark!AA173,\"\")","v":""},null,{"$f":"IFERROR(Hjælpeark!AB173,\"\")","v":""},null,{"$f":"IFERROR(Hjælpeark!AC173,\"\")","v":""},null,null,0,false,false,false,false,false,false,false,false]
[null,"Tilsyn 57","Vi bør gøre ",{"$f":"IFERROR(Hjælpeark!V174,\"\")","v":""},null,{"$f":"IFERROR(Hjælpeark!W174,\"\")","v":""},null,{"$f":"IFERROR(Hjælpeark!X174,\"\")","v":""},null,{"$f":"IFERROR(Hjælpeark!Y174,\"\")","v":""},null,{"$f":"IFERROR(Hjælpeark!Z174,\"\")","v":""},null,{"$f":"IFERROR(Hjælpeark!AA174,\"\")","v":""},null,{"$f":"IFERROR(Hjælpeark!AB174,\"\")","v":""},null,{"$f":"IFERROR(Hjælpeark!AC174,\"\")","v":""},null,null,0,false,false,false,false,false,false,false,false]
[null,null,"Vi med fordel kan gøre",{"$f":"IFERROR(Hjælpeark!V175,\"\")","v":""},null,{"$f":"IFERROR(Hjælpeark!W175,\"\")","v":""},null,{"$f":"IFERROR(Hjælpeark!X175,\"\")","v":""},null,{"$f":"IFERROR(Hjælpeark!Y175,\"\")","v":""},null,{"$f":"IFERROR(Hjælpeark!Z175,\"\")","v":""},null,{"$f":"IFERROR(Hjælpeark!AA175,\"\")","v":""},null,{"$f":"IFERROR(Hjælpeark!AB175,\"\")","v":""},null,{"$f":"IFERROR(Hjælpeark!AC175,\"\")","v":""},null,null,0,false,false,false,false,false,false,false,false]
[null,"Tilsyn 58","Vi bør gøre ",{"$f":"IFERROR(Hjælpeark!V176,\"\")","v":""},null,{"$f":"IFERROR(Hjælpeark!W176,\"\")","v":""},null,{"$f":"IFERROR(Hjælpeark!X176,\"\")","v":""},null,{"$f":"IFERROR(Hjælpeark!Y176,\"\")","v":""},null,{"$f":"IFERROR(Hjælpeark!Z176,\"\")","v":""},null,{"$f":"IFERROR(Hjælpeark!AA176,\"\")","v":""},null,{"$f":"IFERROR(Hjælpeark!AB176,\"\")","v":""},null,{"$f":"IFERROR(Hjælpeark!AC176,\"\")","v":""},null,null,0,false,false,false,false,false,false,false,false]
[null,null,"Vi med fordel kan gøre",{"$f":"IFERROR(Hjælpeark!V177,\"\")","v":""},null,{"$f":"IFERROR(Hjælpeark!W177,\"\")","v":""},null,{"$f":"IFERROR(Hjælpeark!X177,\"\")","v":""},null,{"$f":"IFERROR(Hjælpeark!Y177,\"\")","v":""},null,{"$f":"IFERROR(Hjælpeark!Z177,\"\")","v":""},null,{"$f":"IFERROR(Hjælpeark!AA177,\"\")","v":""},null,{"$f":"IFERROR(Hjælpeark!AB177,\"\")","v":""},null,{"$f":"IFERROR(Hjælpeark!AC177,\"\")","v":""},null,null,0,false,false,false,false,false,false,false,false]
[null,"Tilsyn 59","Vi bør gøre ",{"$f":"IFERROR(Hjælpeark!V178,\"\")","v":""},null,{"$f":"IFERROR(Hjælpeark!W178,\"\")","v":""},null,{"$f":"IFERROR(Hjælpeark!X178,\"\")","v":""},null,{"$f":"IFERROR(Hjælpeark!Y178,\"\")","v":""},null,{"$f":"IFERROR(Hjælpeark!Z178,\"\")","v":""},null,{"$f":"IFERROR(Hjælpeark!AA178,\"\")","v":""},null,{"$f":"IFERROR(Hjælpeark!AB178,\"\")","v":""},null,{"$f":"IFERROR(Hjælpeark!AC178,\"\")","v":""},null,null,0,false,false,false,false,false,false,false,false]
[null,null,"Vi med fordel kan gøre",{"$f":"IFERROR(Hjælpeark!V179,\"\")","v":""},null,{"$f":"IFERROR(Hjælpeark!W179,\"\")","v":""},null,{"$f":"IFERROR(Hjælpeark!X179,\"\")","v":""},null,{"$f":"IFERROR(Hjælpeark!Y179,\"\")","v":""},null,{"$f":"IFERROR(Hjælpeark!Z179,\"\")","v":""},null,{"$f":"IFERROR(Hjælpeark!AA179,\"\")","v":""},null,{"$f":"IFERROR(Hjælpeark!AB179,\"\")","v":""},null,{"$f":"IFERROR(Hjælpeark!AC179,\"\")","v":""},null,null,0,false,false,false,false,false,false,false,false]
[null,"Tilsyn 60","Vi bør gøre ",{"$f":"IFERROR(Hjælpeark!V180,\"\")","v":""},null,{"$f":"IFERROR(Hjælpeark!W180,\"\")","v":""},null,{"$f":"IFERROR(Hjælpeark!X180,\"\")","v":""},null,{"$f":"IFERROR(Hjælpeark!Y180,\"\")","v":""},null,{"$f":"IFERROR(Hjælpeark!Z180,\"\")","v":""},null,{"$f":"IFERROR(Hjælpeark!AA180,\"\")","v":""},null,{"$f":"IFERROR(Hjælpeark!AB180,\"\")","v":""},null,{"$f":"IFERROR(Hjælpeark!AC180,\"\")","v":""},null,null,0,false,false,false,false,false,false,false,false]
[null,null,"Vi med fordel kan gøre",{"$f":"IFERROR(Hjælpeark!V181,\"\")","v":""},null,{"$f":"IFERROR(Hjælpeark!W181,\"\")","v":""},null,{"$f":"IFERROR(Hjælpeark!X181,\"\")","v":""},null,{"$f":"IFERROR(Hjælpeark!Y181,\"\")","v":""},null,{"$f":"IFERROR(Hjælpeark!Z181,\"\")","v":""},null,{"$f":"IFERROR(Hjælpeark!AA181,\"\")","v":""},null,{"$f":"IFERROR(Hjælpeark!AB181,\"\")","v":""},null,{"$f":"IFERROR(Hjælpeark!AC181,\"\")","v":""},null,null,0,false,false,false,false,false,false,false,false]
[null,"Tilsyn 61","Vi bør gøre ",{"$f":"IFERROR(Hjælpeark!V182,\"\")","v":""},null,{"$f":"IFERROR(Hjælpeark!W182,\"\")","v":""},null,{"$f":"IFERROR(Hjælpeark!X182,\"\")","v":""},null,{"$f":"IFERROR(Hjælpeark!Y182,\"\")","v":""},null,{"$f":"IFERROR(Hjælpeark!Z182,\"\")","v":""},null,{"$f":"IFERROR(Hjælpeark!AA182,\"\")","v":""},null,{"$f":"IFERROR(Hjælpeark!AB182,\"\")","v":""},null,{"$f":"IFERROR(Hjælpeark!AC182,\"\")","v":""},null,null,0,false,false,false,false,false,false,false,false]
[null,null,"Vi med fordel kan gøre",{"$f":"IFERROR(Hjælpeark!V183,\"\")","v":""},null,{"$f":"IFERROR(Hjælpeark!W183,\"\")","v":""},null,{"$f":"IFERROR(Hjælpeark!X183,\"\")","v":""},null,{"$f":"IFERROR(Hjælpeark!Y183,\"\")","v":""},null,{"$f":"IFERROR(Hjælpeark!Z183,\"\")","v":""},null,{"$f":"IFERROR(Hjælpeark!AA183,\"\")","v":""},null,{"$f":"IFERROR(Hjælpeark!AB183,\"\")","v":""},null,{"$f":"IFERROR(Hjælpeark!AC183,\"\")","v":""},null,null,0,false,false,false,false,false,false,false,false]
[null,"Tilsyn 62","Vi bør gøre ",{"$f":"IFERROR(Hjælpeark!V184,\"\")","v":""},null,{"$f":"IFERROR(Hjælpeark!W184,\"\")","v":""},null,{"$f":"IFERROR(Hjælpeark!X184,\"\")","v":""},null,{"$f":"IFERROR(Hjælpeark!Y184,\"\")","v":""},null,{"$f":"IFERROR(Hjælpeark!Z184,\"\")","v":""},null,{"$f":"IFERROR(Hjælpeark!AA184,\"\")","v":""},null,{"$f":"IFERROR(Hjælpeark!AB184,\"\")","v":""},null,{"$f":"IFERROR(Hjælpeark!AC184,\"\")","v":""},null,null,0,false,false,false,false,false,false,false,false]
[null,null,"Vi med fordel kan gøre",{"$f":"IFERROR(Hjælpeark!V185,\"\")","v":""},null,{"$f":"IFERROR(Hjælpeark!W185,\"\")","v":""},null,{"$f":"IFERROR(Hjælpeark!X185,\"\")","v":""},null,{"$f":"IFERROR(Hjælpeark!Y185,\"\")","v":""},null,{"$f":"IFERROR(Hjælpeark!Z185,\"\")","v":""},null,{"$f":"IFERROR(Hjælpeark!AA185,\"\")","v":""},null,{"$f":"IFERROR(Hjælpeark!AB185,\"\")","v":""},null,{"$f":"IFERROR(Hjælpeark!AC185,\"\")","v":""},null,null,0,false,false,false,false,false,false,false,false]
[null,"Tilsyn 63","Vi bør gøre ",{"$f":"IFERROR(Hjælpeark!V186,\"\")","v":""},null,{"$f":"IFERROR(Hjælpeark!W186,\"\")","v":""},null,{"$f":"IFERROR(Hjælpeark!X186,\"\")","v":""},null,{"$f":"IFERROR(Hjælpeark!Y186,\"\")","v":""},null,{"$f":"IFERROR(Hjælpeark!Z186,\"\")","v":""},null,{"$f":"IFERROR(Hjælpeark!AA186,\"\")","v":""},null,{"$f":"IFERROR(Hjælpeark!AB186,\"\")","v":""},null,{"$f":"IFERROR(Hjælpeark!AC186,\"\")","v":""},null,null,0,false,false,false,false,false,false,false,false]
[null,null,"Vi med fordel kan gøre",{"$f":"IFERROR(Hjælpeark!V187,\"\")","v":""},null,{"$f":"IFERROR(Hjælpeark!W187,\"\")","v":""},null,{"$f":"IFERROR(Hjælpeark!X187,\"\")","v":""},null,{"$f":"IFERROR(Hjælpeark!Y187,\"\")","v":""},null,{"$f":"IFERROR(Hjælpeark!Z187,\"\")","v":""},null,{"$f":"IFERROR(Hjælpeark!AA187,\"\")","v":""},null,{"$f":"IFERROR(Hjælpeark!AB187,\"\")","v":""},null,{"$f":"IFERROR(Hjælpeark!AC187,\"\")","v":""},null,null,0,false,false,false,false,false,false,false,false]
[null,"Tilsyn 64","Vi bør gøre ",{"$f":"IFERROR(Hjælpeark!V188,\"\")","v":""},null,{"$f":"IFERROR(Hjælpeark!W188,\"\")","v":""},null,{"$f":"IFERROR(Hjælpeark!X188,\"\")","v":""},null,{"$f":"IFERROR(Hjælpeark!Y188,\"\")","v":""},null,{"$f":"IFERROR(Hjælpeark!Z188,\"\")","v":""},null,{"$f":"IFERROR(Hjælpeark!AA188,\"\")","v":""},null,{"$f":"IFERROR(Hjælpeark!AB188,\"\")","v":""},null,{"$f":"IFERROR(Hjælpeark!AC188,\"\")","v":""},null,null,0,false,false,false,false,false,false,false,false]
[null,null,"Vi med fordel kan gøre",{"$f":"IFERROR(Hjælpeark!V189,\"\")","v":""},null,{"$f":"IFERROR(Hjælpeark!W189,\"\")","v":""},null,{"$f":"IFERROR(Hjælpeark!X189,\"\")","v":""},null,{"$f":"IFERROR(Hjælpeark!Y189,\"\")","v":""},null,{"$f":"IFERROR(Hjælpeark!Z189,\"\")","v":""},null,{"$f":"IFERROR(Hjælpeark!AA189,\"\")","v":""},null,{"$f":"IFERROR(Hjælpeark!AB189,\"\")","v":""},null,{"$f":"IFERROR(Hjælpeark!AC189,\"\")","v":""},null,null,0,false,false,false,false,false,false,false,false]
[null,"Tilsyn 65","Vi bør gøre ",{"$f":"IFERROR(Hjælpeark!V190,\"\")","v":""},null,{"$f":"IFERROR(Hjælpeark!W190,\"\")","v":""},null,{"$f":"IFERROR(Hjælpeark!X190,\"\")","v":""},null,{"$f":"IFERROR(Hjælpeark!Y190,\"\")","v":""},null,{"$f":"IFERROR(Hjælpeark!Z190,\"\")","v":""},null,{"$f":"IFERROR(Hjælpeark!AA190,\"\")","v":""},null,{"$f":"IFERROR(Hjælpeark!AB190,\"\")","v":""},null,{"$f":"IFERROR(Hjælpeark!AC190,\"\")","v":""},null,null,0,{"$f":"SUMPRODUCT(--ISNUMBER(SEARCH(Liste,D134)))>0","v":false},{"$f":"SUMPRODUCT(--ISNUMBER(SEARCH(Liste,F134)))>0","v":false},{"$f":"SUMPRODUCT(--ISNUMBER(SEARCH(Liste,H134)))>0","v":false},{"$f":"SUMPRODUCT(--ISNUMBER(SEARCH(Liste,J134)))>0","v":false},{"$f":"SUMPRODUCT(--ISNUMBER(SEARCH(Liste,L134)))>0","v":false},{"$f":"SUMPRODUCT(--ISNUMBER(SEARCH(Liste,N134)))>0","v":false},{"$f":"SUMPRODUCT(--ISNUMBER(SEARCH(Liste,P134)))>0","v":false},{"$f":"SUMPRODUCT(--ISNUMBER(SEARCH(Liste,R134)))>0","v":false}]
[null,null,"Vi med fordel kan gøre",{"$f":"IFERROR(Hjælpeark!V191,\"\")","v":""},null,{"$f":"IFERROR(Hjælpeark!W191,\"\")","v":""},null,{"$f":"IFERROR(Hjælpeark!X191,\"\")","v":""},null,{"$f":"IFERROR(Hjælpeark!Y191,\"\")","v":""},null,{"$f":"IFERROR(Hjælpeark!Z191,\"\")","v":""},null,{"$f":"IFERROR(Hjælpeark!AA191,\"\")","v":""},null,{"$f":"IFERROR(Hjælpeark!AB191,\"\")","v":""},null,{"$f":"IFERROR(Hjælpeark!AC191,\"\")","v":""},null,null,0,false,false,false,false,false,false,false,false]
[null,"Tilsyn 66",{"$f":"C134","v":"Vi bør gøre "},{"$f":"IFERROR(Hjælpeark!V192,\"\")","v":""},null,{"$f":"IFERROR(Hjælpeark!W192,\"\")","v":""},null,{"$f":"IFERROR(Hjælpeark!X192,\"\")","v":""},null,{"$f":"IFERROR(Hjælpeark!Y192,\"\")","v":""},null,{"$f":"IFERROR(Hjælpeark!Z192,\"\")","v":""},null,{"$f":"IFERROR(Hjælpeark!AA192,\"\")","v":""},null,{"$f":"IFERROR(Hjælpeark!AB192,\"\")","v":""},null,{"$f":"IFERROR(Hjælpeark!AC192,\"\")","v":""},null,null,0,false,false,false,false,false,false,false,false]
[null,null,"Vi med fordel kan gøre",{"$f":"IFERROR(Hjælpeark!V193,\"\")","v":""},null,{"$f":"IFERROR(Hjælpeark!W193,\"\")","v":""},null,{"$f":"IFERROR(Hjælpeark!X193,\"\")","v":""},null,{"$f":"IFERROR(Hjælpeark!Y193,\"\")","v":""},null,{"$f":"IFERROR(Hjælpeark!Z193,\"\")","v":""},null,{"$f":"IFERROR(Hjælpeark!AA193,\"\")","v":""},null,{"$f":"IFERROR(Hjælpeark!AB193,\"\")","v":""},null,{"$f":"IFERROR(Hjælpeark!AC193,\"\")","v":""},null,null,0,false,false,false,false,false,false,false,false]
[null,"Tilsyn 67","Vi bør gøre ",{"$f":"IFERROR(Hjælpeark!V194,\"\")","v":""},null,{"$f":"IFERROR(Hjælpeark!W194,\"\")","v":""},null,{"$f":"IFERROR(Hjælpeark!X194,\"\")","v":""},null,{"$f":"IFERROR(Hjælpeark!Y194,\"\")","v":""},null,{"$f":"IFERROR(Hjælpeark!Z194,\"\")","v":""},null,{"$f":"IFERROR(Hjælpeark!AA194,\"\")","v":""},null,{"$f":"IFERROR(Hjælpeark!AB194,\"\")","v":""},null,{"$f":"IFERROR(Hjælpeark!AC194,\"\")","v":""},null,null,0,false,false,false,false,false,false,false,false]
[null,null,"Vi med fordel kan gøre",{"$f":"IFERROR(Hjælpeark!V195,\"\")","v":""},null,{"$f":"IFERROR(Hjælpeark!W195,\"\")","v":""},null,{"$f":"IFERROR(Hjælpeark!X195,\"\")","v":""},null,{"$f":"IFERROR(Hjælpeark!Y195,\"\")","v":""},null,{"$f":"IFERROR(Hjælpeark!Z195,\"\")","v":""},null,{"$f":"IFERROR(Hjælpeark!AA195,\"\")","v":""},null,{"$f":"IFERROR(Hjælpeark!AB195,\"\")","v":""},null,{"$f":"IFERROR(Hjælpeark!AC195,\"\")","v":""},null,null,0,false,false,false,false,false,false,false,false]
[null,"Tilsyn 68","Vi bør gøre ",{"$f":"IFERROR(Hjælpeark!V196,\"\")","v":""},null,{"$f":"IFERROR(Hjælpeark!W196,\"\")","v":""},null,{"$f":"IFERROR(Hjælpeark!X196,\"\")","v":""},null,{"$f":"IFERROR(Hjælpeark!Y196,\"\")","v":""},null,{"$f":"IFERROR(Hjælpeark!Z196,\"\")","v":""},null,{"$f":"IFERROR(Hjælpeark!AA196,\"\")","v":""},null,{"$f":"IFERROR(Hjælpeark!AB196,\"\")","v":""},null,{"$f":"IFERROR(Hjælpeark!AC196,\"\")","v":""},null,null,0,false,false,false,false,false,false,false,false]
[null,null,"Vi med fordel kan gøre",{"$f":"IFERROR(Hjælpeark!V197,\"\")","v":""},null,{"$f":"IFERROR(Hjælpeark!W197,\"\")","v":""},null,{"$f":"IFERROR(Hjælpeark!X197,\"\")","v":""},null,{"$f":"IFERROR(Hjælpeark!Y197,\"\")","v":""},null,{"$f":"IFERROR(Hjælpeark!Z197,\"\")","v":""},null,{"$f":"IFERROR(Hjælpeark!AA197,\"\")","v":""},null,{"$f":"IFERROR(Hjælpeark!AB197,\"\")","v":""},null,{"$f":"IFERROR(Hjælpeark!AC197,\"\")","v":""},null,null,0,false,false,false,false,false,false,false,false]
[null,"Tilsyn 69","Vi bør gøre ",{"$f":"IFERROR(Hjælpeark!V198,\"\")","v":""},null,{"$f":"IFERROR(Hjælpeark!W198,\"\")","v":""},null,{"$f":"IFERROR(Hjælpeark!X198,\"\")","v":""},null,{"$f":"IFERROR(Hjælpeark!Y198,\"\")","v":""},null,{"$f":"IFERROR(Hjælpeark!Z198,\"\")","v":""},null,{"$f":"IFERROR(Hjælpeark!AA198,\"\")","v":""},null,{"$f":"IFERROR(Hjælpeark!AB198,\"\")","v":""},null,{"$f":"IFERROR(Hjælpeark!AC198,\"\")","v":""},null,null,0,false,false,false,false,false,false,false,false]
[null,null,"Vi med fordel kan gøre",{"$f":"IFERROR(Hjælpeark!V199,\"\")","v":""},null,{"$f":"IFERROR(Hjælpeark!W199,\"\")","v":""},null,{"$f":"IFERROR(Hjælpeark!X199,\"\")","v":""},null,{"$f":"IFERROR(Hjælpeark!Y199,\"\")","v":""},null,{"$f":"IFERROR(Hjælpeark!Z199,\"\")","v":""},null,{"$f":"IFERROR(Hjælpeark!AA199,\"\")","v":""},null,{"$f":"IFERROR(Hjælpeark!AB199,\"\")","v":""},null,{"$f":"IFERROR(Hjælpeark!AC199,\"\")","v":""},null,null,0,false,false,false,false,false,false,false,false]
[null,"Tilsyn 70","Vi bør gøre ",{"$f":"IFERROR(Hjælpeark!V200,\"\")","v":""},null,{"$f":"IFERROR(Hjælpeark!W200,\"\")","v":""},null,{"$f":"IFERROR(Hjælpeark!X200,\"\")","v":""},null,{"$f":"IFERROR(Hjælpeark!Y200,\"\")","v":""},null,{"$f":"IFERROR(Hjælpeark!Z200,\"\")","v":""},null,{"$f":"IFERROR(Hjælpeark!AA200,\"\")","v":""},null,{"$f":"IFERROR(Hjælpeark!AB200,\"\")","v":""},null,{"$f":"IFERROR(Hjælpeark!AC200,\"\")","v":""},null,null,{"$f":"COUNTIF(V144:AC144,\"SAND\")","v":0},false,false,false,false,false,false,false,false]
[null,null,"Vi med fordel kan gøre",{"$f":"IFERROR(Hjælpeark!V201,\"\")","v":""},null,{"$f":"IFERROR(Hjælpeark!W201,\"\")","v":""},null,{"$f":"IFERROR(Hjælpeark!X201,\"\")","v":""},null,{"$f":"IFERROR(Hjælpeark!Y201,\"\")","v":""},null,{"$f":"IFERROR(Hjælpeark!Z201,\"\")","v":""},null,{"$f":"IFERROR(Hjælpeark!AA201,\"\")","v":""},null,{"$f":"IFERROR(Hjælpeark!AB201,\"\")","v":""},null,{"$f":"IFERROR(Hjælpeark!AC201,\"\")","v":""},null,null,0,false,false,false,false,false,false,false,false]
[null,"Tilsyn 71","Vi bør gøre ",{"$f":"IFERROR(Hjælpeark!V202,\"\")","v":""},null,{"$f":"IFERROR(Hjælpeark!W202,\"\")","v":""},null,{"$f":"IFERROR(Hjælpeark!X202,\"\")","v":""},null,{"$f":"IFERROR(Hjælpeark!Y202,\"\")","v":""},null,{"$f":"IFERROR(Hjælpeark!Z202,\"\")","v":""},null,{"$f":"IFERROR(Hjælpeark!AA202,\"\")","v":""},null,{"$f":"IFERROR(Hjælpeark!AB202,\"\")","v":""},null,{"$f":"IFERROR(Hjælpeark!AC202,\"\")","v":""},null,null,0,false,false,false,false,false,false,false,false]
[null,null,"Vi med fordel kan gøre",{"$f":"IFERROR(Hjælpeark!V203,\"\")","v":""},null,{"$f":"IFERROR(Hjælpeark!W203,\"\")","v":""},null,{"$f":"IFERROR(Hjælpeark!X203,\"\")","v":""},null,{"$f":"IFERROR(Hjælpeark!Y203,\"\")","v":""},null,{"$f":"IFERROR(Hjælpeark!Z203,\"\")","v":""},null,{"$f":"IFERROR(Hjælpeark!AA203,\"\")","v":""},null,{"$f":"IFERROR(Hjælpeark!AB203,\"\")","v":""},null,{"$f":"IFERROR(Hjælpeark!AC203,\"\")","v":""},null,null,0,false,false,false,false,false,false,false,false]
[null,"Tilsyn 72","Vi bør gøre ",{"$f":"IFERROR(Hjælpeark!V204,\"\")","v":""},null,{"$f":"IFERROR(Hjælpeark!W204,\"\")","v":""},null,{"$f":"IFERROR(Hjælpeark!X204,\"\")","v":""},null,{"$f":"IFERROR(Hjælpeark!Y204,\"\")","v":""},null,{"$f":"IFERROR(Hjælpeark!Z204,\"\")","v":""},null,{"$f":"IFERROR(Hjælpeark!AA204,\"\")","v":""},null,{"$f":"IFERROR(Hjælpeark!AB204,\"\")","v":""},null,{"$f":"IFERROR(Hjælpeark!AC204,\"\")","v":""},null,null,0,false,false,false,false,false,false,false,false]
[null,null,"Vi med fordel kan gøre",{"$f":"IFERROR(Hjælpeark!V205,\"\")","v":""},null,{"$f":"IFERROR(Hjælpeark!W205,\"\")","v":""},null,{"$f":"IFERROR(Hjælpeark!X205,\"\")","v":""},null,{"$f":"IFERROR(Hjælpeark!Y205,\"\")","v":""},null,{"$f":"IFERROR(Hjælpeark!Z205,\"\")","v":""},null,{"$f":"IFERROR(Hjælpeark!AA205,\"\")","v":""},null,{"$f":"IFERROR(Hjælpeark!AB205,\"\")","v":""},null,{"$f":"IFERROR(Hjælpeark!AC205,\"\")","v":""},null,null,0,false,false,false,false,false,false,false,false]
[null,"Tilsyn 73","Vi bør gøre ",{"$f":"IFERROR(Hjælpeark!V206,\"\")","v":""},null,{"$f":"IFERROR(Hjælpeark!W206,\"\")","v":""},null,{"$f":"IFERROR(Hjælpeark!X206,\"\")","v":""},null,{"$f":"IFERROR(Hjælpeark!Y206,\"\")","v":""},null,{"$f":"IFERROR(Hjælpeark!Z206,\"\")","v":""},null,{"$f":"IFERROR(Hjælpeark!AA206,\"\")","v":""},null,{"$f":"IFERROR(Hjælpeark!AB206,\"\")","v":""},null,{"$f":"IFERROR(Hjælpeark!AC206,\"\")","v":""},null,null,0,false,false,false,false,false,false,false,false]
[null,null,"Vi med fordel kan gøre",{"$f":"IFERROR(Hjælpeark!V207,\"\")","v":""},null,{"$f":"IFERROR(Hjælpeark!W207,\"\")","v":""},null,{"$f":"IFERROR(Hjælpeark!X207,\"\")","v":""},null,{"$f":"IFERROR(Hjælpeark!Y207,\"\")","v":""},null,{"$f":"IFERROR(Hjælpeark!Z207,\"\")","v":""},null,{"$f":"IFERROR(Hjælpeark!AA207,\"\")","v":""},null,{"$f":"IFERROR(Hjælpeark!AB207,\"\")","v":""},null,{"$f":"IFERROR(Hjælpeark!AC207,\"\")","v":""},null,null,0,false,false,false,false,false,false,false,false]
[null,"Tilsyn 74","Vi bør gøre ",{"$f":"IFERROR(Hjælpeark!V208,\"\")","v":""},null,{"$f":"IFERROR(Hjælpeark!W208,\"\")","v":""},null,{"$f":"IFERROR(Hjælpeark!X208,\"\")","v":""},null,{"$f":"IFERROR(Hjælpeark!Y208,\"\")","v":""},null,{"$f":"IFERROR(Hjælpeark!Z208,\"\")","v":""},null,{"$f":"IFERROR(Hjælpeark!AA208,\"\")","v":""},null,{"$f":"IFERROR(Hjælpeark!AB208,\"\")","v":""},null,{"$f":"IFERROR(Hjælpeark!AC208,\"\")","v":""},null,null,0,false,false,false,false,false,false,false,false]
[null,null,"Vi med fordel kan gøre",{"$f":"IFERROR(Hjælpeark!V209,\"\")","v":""},null,{"$f":"IFERROR(Hjælpeark!W209,\"\")","v":""},null,{"$f":"IFERROR(Hjælpeark!X209,\"\")","v":""},null,{"$f":"IFERROR(Hjælpeark!Y209,\"\")","v":""},null,{"$f":"IFERROR(Hjælpeark!Z209,\"\")","v":""},null,{"$f":"IFERROR(Hjælpeark!AA209,\"\")","v":""},null,{"$f":"IFERROR(Hjælpeark!AB209,\"\")","v":""},null,{"$f":"IFERROR(Hjælpeark!AC209,\"\")","v":""},null,null,0,false,false,false,false,false,false,false,false]
[null,"Tilsyn 75","Vi bør gøre ",{"$f":"IFERROR(Hjælpeark!V210,\"\")","v":""},null,{"$f":"IFERROR(Hjælpeark!W210,\"\")","v":""},null,{"$f":"IFERROR(Hjælpeark!X210,\"\")","v":""},null,{"$f":"IFERROR(Hjælpeark!Y210,\"\")","v":""},null,{"$f":"IFERROR(Hjælpeark!Z210,\"\")","v":""},null,{"$f":"IFERROR(Hjælpeark!AA210,\"\")","v":""},null,{"$f":"IFERROR(Hjælpeark!AB210,\"\")","v":""},null,{"$f":"IFERROR(Hjælpeark!AC210,\"\")","v":""},null,null,0,false,false,false,false,false,false,false,false]
[null,null,"Vi med fordel kan gøre",{"$f":"IFERROR(Hjælpeark!V211,\"\")","v":""},null,{"$f":"IFERROR(Hjælpeark!W211,\"\")","v":""},null,{"$f":"IFERROR(Hjælpeark!X211,\"\")","v":""},null,{"$f":"IFERROR(Hjælpeark!Y211,\"\")","v":""},null,{"$f":"IFERROR(Hjælpeark!Z211,\"\")","v":""},null,{"$f":"IFERROR(Hjælpeark!AA211,\"\")","v":""},null,{"$f":"IFERROR(Hjælpeark!AB211,\"\")","v":""},null,{"$f":"IFERROR(Hjælpeark!AC211,\"\")","v":""},null,null,0,false,false,false,false,false,false,false,false]
[null,"Tilsyn 76","Vi bør gøre ",{"$f":"IFERROR(Hjælpeark!V212,\"\")","v":""},null,{"$f":"IFERROR(Hjælpeark!W212,\"\")","v":""},null,{"$f":"IFERROR(Hjælpeark!X212,\"\")","v":""},null,{"$f":"IFERROR(Hjælpeark!Y212,\"\")","v":""},null,{"$f":"IFERROR(Hjælpeark!Z212,\"\")","v":""},null,{"$f":"IFERROR(Hjælpeark!AA212,\"\")","v":""},null,{"$f":"IFERROR(Hjælpeark!AB212,\"\")","v":""},null,{"$f":"IFERROR(Hjælpeark!AC212,\"\")","v":""},null,null,0,false,false,false,false,false,false,false,false]
[null,null,"Vi med fordel kan gøre",{"$f":"IFERROR(Hjælpeark!V213,\"\")","v":""},null,{"$f":"IFERROR(Hjælpeark!W213,\"\")","v":""},null,{"$f":"IFERROR(Hjælpeark!X213,\"\")","v":""},null,{"$f":"IFERROR(Hjælpeark!Y213,\"\")","v":""},null,{"$f":"IFERROR(Hjælpeark!Z213,\"\")","v":""},null,{"$f":"IFERROR(Hjælpeark!AA213,\"\")","v":""},null,{"$f":"IFERROR(Hjælpeark!AB213,\"\")","v":""},null,{"$f":"IFERROR(Hjælpeark!AC213,\"\")","v":""},null,null,0,false,false,false,false,false,false,false,false]
[null,"Tilsyn 77","Vi bør gøre ",{"$f":"IFERROR(Hjælpeark!V214,\"\")","v":""},null,{"$f":"IFERROR(Hjælpeark!W214,\"\")","v":""},null,{"$f":"IFERROR(Hjælpeark!X214,\"\")","v":""},null,{"$f":"IFERROR(Hjælpeark!Y214,\"\")","v":""},null,{"$f":"IFERROR(Hjælpeark!Z214,\"\")","v":""},null,{"$f":"IFERROR(Hjælpeark!AA214,\"\")","v":""},null,{"$f":"IFERROR(Hjælpeark!AB214,\"\")","v":""},null,{"$f":"IFERROR(Hjælpeark!AC214,\"\")","v":""},null,null,0,false,false,false,false,false,false,false,false]
[null,null,"Vi med fordel kan gøre",{"$f":"IFERROR(Hjælpeark!V215,\"\")","v":""},null,{"$f":"IFERROR(Hjælpeark!W215,\"\")","v":""},null,{"$f":"IFERROR(Hjælpeark!X215,\"\")","v":""},null,{"$f":"IFERROR(Hjælpeark!Y215,\"\")","v":""},null,{"$f":"IFERROR(Hjælpeark!Z215,\"\")","v":""},null,{"$f":"IFERROR(Hjælpeark!AA215,\"\")","v":""},null,{"$f":"IFERROR(Hjælpeark!AB215,\"\")","v":""},null,{"$f":"IFERROR(Hjælpeark!AC215,\"\")","v":""},null,null,0,false,false,false,false,false,false,false,false]
[null,"Tilsyn 78","Vi bør gøre ",{"$f":"IFERROR(Hjælpeark!V216,\"\")","v":""},null,{"$f":"IFERROR(Hjælpeark!W216,\"\")","v":""},null,{"$f":"IFERROR(Hjælpeark!X216,\"\")","v":""},null,{"$f":"IFERROR(Hjælpeark!Y216,\"\")","v":""},null,{"$f":"IFERROR(Hjælpeark!Z216,\"\")","v":""},null,{"$f":"IFERROR(Hjælpeark!AA216,\"\")","v":""},null,{"$f":"IFERROR(Hjælpeark!AB216,\"\")","v":""},null,{"$f":"IFERROR(Hjælpeark!AC216,\"\")","v":""},null,null,0,false,false,false,false,false,false,false,false]
[null,null,"Vi med fordel kan gøre",{"$f":"IFERROR(Hjælpeark!V217,\"\")","v":""},null,{"$f":"IFERROR(Hjælpeark!W217,\"\")","v":""},null,{"$f":"IFERROR(Hjælpeark!X217,\"\")","v":""},null,{"$f":"IFERROR(Hjælpeark!Y217,\"\")","v":""},null,{"$f":"IFERROR(Hjælpeark!Z217,\"\")","v":""},null,{"$f":"IFERROR(Hjælpeark!AA217,\"\")","v":""},null,{"$f":"IFERROR(Hjælpeark!AB217,\"\")","v":""},null,{"$f":"IFERROR(Hjælpeark!AC217,\"\")","v":""},null,null,0,false,false,false,false,false,false,false,false]
[null,"Tilsyn 79","Vi bør gøre ",{"$f":"IFERROR(Hjælpeark!V218,\"\")","v":""},null,{"$f":"IFERROR(Hjælpeark!W218,\"\")","v":""},null,{"$f":"IFERROR(Hjælpeark!X218,\"\")","v":""},null,{"$f":"IFERROR(Hjælpeark!Y218,\"\")","v":""},null,{"$f":"IFERROR(Hjælpeark!Z218,\"\")","v":""},null,{"$f":"IFERROR(Hjælpeark!AA218,\"\")","v":""},null,{"$f":"IFERROR(Hjælpeark!AB218,\"\")","v":""},null,{"$f":"IFERROR(Hjælpeark!AC218,\"\")","v":""},null,null,0,false,false,false,false,false,false,false,false]
[null,null,"Vi med fordel kan gøre",{"$f":"IFERROR(Hjælpeark!V219,\"\")","v":""},null,{"$f":"IFERROR(Hjælpeark!W219,\"\")","v":""},null,{"$f":"IFERROR(Hjælpeark!X219,\"\")","v":""},null,{"$f":"IFERROR(Hjælpeark!Y219,\"\")","v":""},null,{"$f":"IFERROR(Hjælpeark!Z219,\"\")","v":""},null,{"$f":"IFERROR(Hjælpeark!AA219,\"\")","v":""},null,{"$f":"IFERROR(Hjælpeark!AB219,\"\")","v":""},null,{"$f":"IFERROR(Hjælpeark!AC219,\"\")","v":""},null,null,0,false,false,false,false,false,false,false,false]
[null,"Tilsyn 80","Vi bør gøre ",{"$f":"IFERROR(Hjælpeark!V220,\"\")","v":""},null,{"$f":"IFERROR(Hjælpeark!W220,\"\")","v":""},null,{"$f":"IFERROR(Hjælpeark!X220,\"\")","v":""},null,{"$f":"IFERROR(Hjælpeark!Y220,\"\")","v":""},null,{"$f":"IFERROR(Hjælpeark!Z220,\"\")","v":""},null,{"$f":"IFERROR(Hjælpeark!AA220,\"\")","v":""},null,{"$f":"IFERROR(Hjælpeark!AB220,\"\")","v":""},null,{"$f":"IFERROR(Hjælpeark!AC220,\"\")","v":""},null,null,0,false,false,false,false,false,false,false,false]
[null,null,"Vi med fordel kan gøre",{"$f":"IFERROR(Hjælpeark!V221,\"\")","v":""},null,{"$f":"IFERROR(Hjælpeark!W221,\"\")","v":""},null,{"$f":"IFERROR(Hjælpeark!X221,\"\")","v":""},null,{"$f":"IFERROR(Hjælpeark!Y221,\"\")","v":""},null,{"$f":"IFERROR(Hjælpeark!Z221,\"\")","v":""},null,{"$f":"IFERROR(Hjælpeark!AA221,\"\")","v":""},null,{"$f":"IFERROR(Hjælpeark!AB221,\"\")","v":""},null,{"$f":"IFERROR(Hjælpeark!AC221,\"\")","v":""},null,null,0,false,false,false,false,false,false,false,false]
[null,"Tilsyn 81","Vi bør gøre ",{"$f":"IFERROR(Hjælpeark!V222,\"\")","v":""},null,{"$f":"IFERROR(Hjælpeark!W222,\"\")","v":""},null,{"$f":"IFERROR(Hjælpeark!X222,\"\")","v":""},null,{"$f":"IFERROR(Hjælpeark!Y222,\"\")","v":""},null,{"$f":"IFERROR(Hjælpeark!Z222,\"\")","v":""},null,{"$f":"IFERROR(Hjælpeark!AA222,\"\")","v":""},null,{"$f":"IFERROR(Hjælpeark!AB222,\"\")","v":""},null,{"$f":"IFERROR(Hjælpeark!AC222,\"\")","v":""},null,null,0,{"$f":"SUMPRODUCT(--ISNUMBER(SEARCH(Liste,D166)))>0","v":false},{"$f":"SUMPRODUCT(--ISNUMBER(SEARCH(Liste,F166)))>0","v":false},{"$f":"SUMPRODUCT(--ISNUMBER(SEARCH(Liste,H166)))>0","v":false},{"$f":"SUMPRODUCT(--ISNUMBER(SEARCH(Liste,J166)))>0","v":false},{"$f":"SUMPRODUCT(--ISNUMBER(SEARCH(Liste,L166)))>0","v":false},{"$f":"SUMPRODUCT(--ISNUMBER(SEARCH(Liste,N166)))>0","v":false},{"$f":"SUMPRODUCT(--ISNUMBER(SEARCH(Liste,P166)))>0","v":false},{"$f":"SUMPRODUCT(--ISNUMBER(SEARCH(Liste,R166)))>0","v":false}]
[null,null,"Vi med fordel kan gøre",{"$f":"IFERROR(Hjælpeark!V223,\"\")","v":""},null,{"$f":"IFERROR(Hjælpeark!W223,\"\")","v":""},null,{"$f":"IFERROR(Hjælpeark!X223,\"\")","v":""},null,{"$f":"IFERROR(Hjælpeark!Y223,\"\")","v":""},null,{"$f":"IFERROR(Hjælpeark!Z223,\"\")","v":""},null,{"$f":"IFERROR(Hjælpeark!AA223,\"\")","v":""},null,{"$f":"IFERROR(Hjælpeark!AB223,\"\")","v":""},null,{"$f":"IFERROR(Hjælpeark!AC223,\"\")","v":""},null,null,0,false,false,false,false,false,false,false,false]
[null,"Tilsyn 82",{"$f":"C166","v":"Vi bør gøre "},{"$f":"IFERROR(Hjælpeark!V224,\"\")","v":""},null,{"$f":"IFERROR(Hjælpeark!W224,\"\")","v":""},null,{"$f":"IFERROR(Hjælpeark!X224,\"\")","v":""},null,{"$f":"IFERROR(Hjælpeark!Y224,\"\")","v":""},null,{"$f":"IFERROR(Hjælpeark!Z224,\"\")","v":""},null,{"$f":"IFERROR(Hjælpeark!AA224,\"\")","v":""},null,{"$f":"IFERROR(Hjælpeark!AB224,\"\")","v":""},null,{"$f":"IFERROR(Hjælpeark!AC224,\"\")","v":""},null,null,0,false,false,false,false,false,false,false,false]
[null,null,"Vi med fordel kan gøre",{"$f":"IFERROR(Hjælpeark!V225,\"\")","v":""},null,{"$f":"IFERROR(Hjælpeark!W225,\"\")","v":""},null,{"$f":"IFERROR(Hjælpeark!X225,\"\")","v":""},null,{"$f":"IFERROR(Hjælpeark!Y225,\"\")","v":""},null,{"$f":"IFERROR(Hjælpeark!Z225,\"\")","v":""},null,{"$f":"IFERROR(Hjælpeark!AA225,\"\")","v":""},null,{"$f":"IFERROR(Hjælpeark!AB225,\"\")","v":""},null,{"$f":"IFERROR(Hjælpeark!AC225,\"\")","v":""},null,null,0,false,false,false,false,false,false,false,false]
[null,"Tilsyn 83","Vi bør gøre ",{"$f":"IFERROR(Hjælpeark!V226,\"\")","v":""},null,{"$f":"IFERROR(Hjælpeark!W226,\"\")","v":""},null,{"$f":"IFERROR(Hjælpeark!X226,\"\")","v":""},null,{"$f":"IFERROR(Hjælpeark!Y226,\"\")","v":""},null,{"$f":"IFERROR(Hjælpeark!Z226,\"\")","v":""},null,{"$f":"IFERROR(Hjælpeark!AA226,\"\")","v":""},null,{"$f":"IFERROR(Hjælpeark!AB226,\"\")","v":""},null,{"$f":"IFERROR(Hjælpeark!AC226,\"\")","v":""},null,null,0,false,false,false,false,false,false,false,false]
[null,null,"Vi med fordel kan gøre",{"$f":"IFERROR(Hjælpeark!V227,\"\")","v":""},null,{"$f":"IFERROR(Hjælpeark!W227,\"\")","v":""},null,{"$f":"IFERROR(Hjælpeark!X227,\"\")","v":""},null,{"$f":"IFERROR(Hjælpeark!Y227,\"\")","v":""},null,{"$f":"IFERROR(Hjælpeark!Z227,\"\")","v":""},null,{"$f":"IFERROR(Hjælpeark!AA227,\"\")","v":""},null,{"$f":"IFERROR(Hjælpeark!AB227,\"\")","v":""},null,{"$f":"IFERROR(Hjælpeark!AC227,\"\")","v":""},null,null,0,false,false,false,false,false,false,false,false]
[null,"Tilsyn 84","Vi bør gøre ",{"$f":"IFERROR(Hjælpeark!V228,\"\")","v":""},null,{"$f":"IFERROR(Hjælpeark!W228,\"\")","v":""},null,{"$f":"IFERROR(Hjælpeark!X228,\"\")","v":""},null,{"$f":"IFERROR(Hjælpeark!Y228,\"\")","v":""},null,{"$f":"IFERROR(Hjælpeark!Z228,\"\")","v":""},null,{"$f":"IFERROR(Hjælpeark!AA228,\"\")","v":""},null,{"$f":"IFERROR(Hjælpeark!AB228,\"\")","v":""},null,{"$f":"IFERROR(Hjælpeark!AC228,\"\")","v":""},null,null,0,false,false,false,false,false,false,false,false]
[null,null,"Vi med fordel kan gøre",{"$f":"IFERROR(Hjælpeark!V229,\"\")","v":""},null,{"$f":"IFERROR(Hjælpeark!W229,\"\")","v":""},null,{"$f":"IFERROR(Hjælpeark!X229,\"\")","v":""},null,{"$f":"IFERROR(Hjælpeark!Y229,\"\")","v":""},null,{"$f":"IFERROR(Hjælpeark!Z229,\"\")","v":""},null,{"$f":"IFERROR(Hjælpeark!AA229,\"\")","v":""},null,{"$f":"IFERROR(Hjælpeark!AB229,\"\")","v":""},null,{"$f":"IFERROR(Hjælpeark!AC229,\"\")","v":""},null,null,0,false,false,false,false,false,false,false,false]
[null,"Tilsyn 85","Vi bør gøre ",{"$f":"IFERROR(Hjælpeark!V230,\"\")","v":""},null,{"$f":"IFERROR(Hjælpeark!W230,\"\")","v":""},null,{"$f":"IFERROR(Hjælpeark!X230,\"\")","v":""},null,{"$f":"IFERROR(Hjælpeark!Y230,\"\")","v":""},null,{"$f":"IFERROR(Hjælpeark!Z230,\"\")","v":""},null,{"$f":"IFERROR(Hjælpeark!AA230,\"\")","v":""},null,{"$f":"IFERROR(Hjælpeark!AB230,\"\")","v":""},null,{"$f":"IFERROR(Hjælpeark!AC230,\"\")","v":""},null,null,0,false,false,false,false,false,false,false,false]
[null,null,"Vi med fordel kan gøre",{"$f":"IFERROR(Hjælpeark!V231,\"\")","v":""},null,{"$f":"IFERROR(Hjælpeark!W231,\"\")","v":""},null,{"$f":"IFERROR(Hjælpeark!X231,\"\")","v":""},null,{"$f":"IFERROR(Hjælpeark!Y231,\"\")","v":""},null,{"$f":"IFERROR(Hjælpeark!Z231,\"\")","v":""},null,{"$f":"IFERROR(Hjælpeark!AA231,\"\")","v":""},null,{"$f":"IFERROR(Hjælpeark!AB231,\"\")","v":""},null,{"$f":"IFERROR(Hjælpeark!AC231,\"\")","v":""},null,null,0,false,false,false,false,false,false,false,false]
[null,"Tilsyn 86","Vi bør gøre ",{"$f":"IFERROR(Hjælpeark!V232,\"\")","v":""},null,{"$f":"IFERROR(Hjælpeark!W232,\"\")","v":""},null,{"$f":"IFERROR(Hjælpeark!X232,\"\")","v":""},null,{"$f":"IFERROR(Hjælpeark!Y232,\"\")","v":""},null,{"$f":"IFERROR(Hjælpeark!Z232,\"\")","v":""},null,{"$f":"IFERROR(Hjælpeark!AA232,\"\")","v":""},null,{"$f":"IFERROR(Hjælpeark!AB232,\"\")","v":""},null,{"$f":"IFERROR(Hjælpeark!AC232,\"\")","v":""},null,null,0,false,false,false,false,false,false,false,false]
[null,null,"Vi med fordel kan gøre",{"$f":"IFERROR(Hjælpeark!V233,\"\")","v":""},null,{"$f":"IFERROR(Hjælpeark!W233,\"\")","v":""},null,{"$f":"IFERROR(Hjælpeark!X233,\"\")","v":""},null,{"$f":"IFERROR(Hjælpeark!Y233,\"\")","v":""},null,{"$f":"IFERROR(Hjælpeark!Z233,\"\")","v":""},null,{"$f":"IFERROR(Hjælpeark!AA233,\"\")","v":""},null,{"$f":"IFERROR(Hjælpeark!AB233,\"\")","v":""},null,{"$f":"IFERROR(Hjælpeark!AC233,\"\")","v":""},null,null,0,false,false,false,false,false,false,false,false]
[null,"Tilsyn 87","Vi bør gøre ",{"$f":"IFERROR(Hjælpeark!V234,\"\")","v":""},null,{"$f":"IFERROR(Hjælpeark!W234,\"\")","v":""},null,{"$f":"IFERROR(Hjælpeark!X234,\"\")","v":""},null,{"$f":"IFERROR(Hjælpeark!Y234,\"\")","v":""},null,{"$f":"IFERROR(Hjælpeark!Z234,\"\")","v":""},null,{"$f":"IFERROR(Hjælpeark!AA234,\"\")","v":""},null,{"$f":"IFERROR(Hjælpeark!AB234,\"\")","v":""},null,{"$f":"IFERROR(Hjælpeark!AC234,\"\")","v":""},null,null,0,false,false,false,false,false,false,false,false]
[null,null,"Vi med fordel kan gøre",{"$f":"IFERROR(Hjælpeark!V235,\"\")","v":""},null,{"$f":"IFERROR(Hjælpeark!W235,\"\")","v":""},null,{"$f":"IFERROR(Hjælpeark!X235,\"\")","v":""},null,{"$f":"IFERROR(Hjælpeark!Y235,\"\")","v":""},null,{"$f":"IFERROR(Hjælpeark!Z235,\"\")","v":""},null,{"$f":"IFERROR(Hjælpeark!AA235,\"\")","v":""},null,{"$f":"IFERROR(Hjælpeark!AB235,\"\")","v":""},null,{"$f":"IFERROR(Hjælpeark!AC235,\"\")","v":""},null,null,0,false,false,false,false,false,false,false,false]
[null,"Tilsyn 88","Vi bør gøre ",{"$f":"IFERROR(Hjælpeark!V236,\"\")","v":""},null,{"$f":"IFERROR(Hjælpeark!W236,\"\")","v":""},null,{"$f":"IFERROR(Hjælpeark!X236,\"\")","v":""},null,{"$f":"IFERROR(Hjælpeark!Y236,\"\")","v":""},null,{"$f":"IFERROR(Hjælpeark!Z236,\"\")","v":""},null,{"$f":"IFERROR(Hjælpeark!AA236,\"\")","v":""},null,{"$f":"IFERROR(Hjælpeark!AB236,\"\")","v":""},null,{"$f":"IFERROR(Hjælpeark!AC236,\"\")","v":""},null,null,0,false,false,false,false,false,false,false,false]
[null,null,"Vi med fordel kan gøre",{"$f":"IFERROR(Hjælpeark!V237,\"\")","v":""},null,{"$f":"IFERROR(Hjælpeark!W237,\"\")","v":""},null,{"$f":"IFERROR(Hjælpeark!X237,\"\")","v":""},null,{"$f":"IFERROR(Hjælpeark!Y237,\"\")","v":""},null,{"$f":"IFERROR(Hjælpeark!Z237,\"\")","v":""},null,{"$f":"IFERROR(Hjælpeark!AA237,\"\")","v":""},null,{"$f":"IFERROR(Hjælpeark!AB237,\"\")","v":""},null,{"$f":"IFERROR(Hjælpeark!AC237,\"\")","v":""},null,null,0,false,false,false,false,false,false,false,false]
[null,"Tilsyn 89","Vi bør gøre ",{"$f":"IFERROR(Hjælpeark!V238,\"\")","v":""},null,{"$f":"IFERROR(Hjælpeark!W238,\"\")","v":""},null,{"$f":"IFERROR(Hjælpeark!X238,\"\")","v":""},null,{"$f":"IFERROR(Hjælpeark!Y238,\"\")","v":""},null,{"$f":"IFERROR(Hjælpeark!Z238,\"\")","v":""},null,{"$f":"IFERROR(Hjælpeark!AA238,\"\")","v":""},null,{"$f":"IFERROR(Hjælpeark!AB238,\"\")","v":""},null,{"$f":"IFERROR(Hjælpeark!AC238,\"\")","v":""},null,null,0,false,false,false,false,false,false,false,false]
[null,null,"Vi med fordel kan gøre",{"$f":"IFERROR(Hjælpeark!V239,\"\")","v":""},null,{"$f":"IFERROR(Hjælpeark!W239,\"\")","v":""},null,{"$f":"IFERROR(Hjælpeark!X239,\"\")","v":""},null,{"$f":"IFERROR(Hjælpeark!Y239,\"\")","v":""},null,{"$f":"IFERROR(Hjælpeark!Z239,\"\")","v":""},null,{"$f":"IFERROR(Hjælpeark!AA239,\"\")","v":""},null,{"$f":"IFERROR(Hjælpeark!AB239,\"\")","v":""},null,{"$f":"IFERROR(Hjælpeark!AC239,\"\")","v":""},null,null,0,false,false,false,false,false,false,false,false]
[null,"Tilsyn 90","Vi bør gøre ",{"$f":"IFERROR(Hjælpeark!V240,\"\")","v":""},null,{"$f":"IFERROR(Hjælpeark!W240,\"\")","v":""},null,{"$f":"IFERROR(Hjælpeark!X240,\"\")","v":""},null,{"$f":"IFERROR(Hjælpeark!Y240,\"\")","v":""},null,{"$f":"IFERROR(Hjælpeark!Z240,\"\")","v":""},null,{"$f":"IFERROR(Hjælpeark!AA240,\"\")","v":""},null,{"$f":"IFERROR(Hjælpeark!AB240,\"\")","v":""},null,{"$f":"IFERROR(Hjælpeark!AC240,\"\")","v":""},null,null,0,false,false,false,false,false,false,false,false]
[null,null,"Vi med fordel kan gøre",{"$f":"IFERROR(Hjælpeark!V241,\"\")","v":""},null,{"$f":"IFERROR(Hjælpeark!W241,\"\")","v":""},null,{"$f":"IFERROR(Hjælpeark!X241,\"\")","v":""},null,{"$f":"IFERROR(Hjælpeark!Y241,\"\")","v":""},null,{"$f":"IFERROR(Hjælpeark!Z241,\"\")","v":""},null,{"$f":"IFERROR(Hjælpeark!AA241,\"\")","v":""},null,{"$f":"IFERROR(Hjælpeark!AB241,\"\")","v":""},null,{"$f":"IFERROR(Hjælpeark!AC241,\"\")","v":""},null,null,0,false,false,false,false,false,false,false,false]
[null,"Tilsyn 91","Vi bør gøre ",{"$f":"IFERROR(Hjælpeark!V242,\"\")","v":""},null,{"$f":"IFERROR(Hjælpeark!W242,\"\")","v":""},null,{"$f":"IFERROR(Hjælpeark!X242,\"\")","v":""},null,{"$f":"IFERROR(Hjælpeark!Y242,\"\")","v":""},null,{"$f":"IFERROR(Hjælpeark!Z242,\"\")","v":""},null,{"$f":"IFERROR(Hjælpeark!AA242,\"\")","v":""},null,{"$f":"IFERROR(Hjælpeark!AB242,\"\")","v":""},null,{"$f":"IFERROR(Hjælpeark!AC242,\"\")","v":""},null,null,0,false,false,false,false,false,false,false,false]
[null,null,"Vi med fordel kan gøre",{"$f":"IFERROR(Hjælpeark!V243,\"\")","v":""},null,{"$f":"IFERROR(Hjælpeark!W243,\"\")","v":""},null,{"$f":"IFERROR(Hjælpeark!X243,\"\")","v":""},null,{"$f":"IFERROR(Hjælpeark!Y243,\"\")","v":""},null,{"$f":"IFERROR(Hjælpeark!Z243,\"\")","v":""},null,{"$f":"IFERROR(Hjælpeark!AA243,\"\")","v":""},null,{"$f":"IFERROR(Hjælpeark!AB243,\"\")","v":""},null,{"$f":"IFERROR(Hjælpeark!AC243,\"\")","v":""},null,null,0,false,false,false,false,false,false,false,false]
[null,"Tilsyn 92","Vi bør gøre ",{"$f":"IFERROR(Hjælpeark!V244,\"\")","v":""},null,{"$f":"IFERROR(Hjælpeark!W244,\"\")","v":""},null,{"$f":"IFERROR(Hjælpeark!X244,\"\")","v":""},null,{"$f":"IFERROR(Hjælpeark!Y244,\"\")","v":""},null,{"$f":"IFERROR(Hjælpeark!Z244,\"\")","v":""},null,{"$f":"IFERROR(Hjælpeark!AA244,\"\")","v":""},null,{"$f":"IFERROR(Hjælpeark!AB244,\"\")","v":""},null,{"$f":"IFERROR(Hjælpeark!AC244,\"\")","v":""},null,null,0,false,false,false,false,false,false,false,false]
[null,null,"Vi med fordel kan gøre",{"$f":"IFERROR(Hjælpeark!V245,\"\")","v":""},null,{"$f":"IFERROR(Hjælpeark!W245,\"\")","v":""},null,{"$f":"IFERROR(Hjælpeark!X245,\"\")","v":""},null,{"$f":"IFERROR(Hjælpeark!Y245,\"\")","v":""},null,{"$f":"IFERROR(Hjælpeark!Z245,\"\")","v":""},null,{"$f":"IFERROR(Hjælpeark!AA245,\"\")","v":""},null,{"$f":"IFERROR(Hjælpeark!AB245,\"\")","v":""},null,{"$f":"IFERROR(Hjælpeark!AC245,\"\")","v":""},null,null,0,false,false,false,false,false,false,false,false]
[null,"Tilsyn 93","Vi bør gøre ",{"$f":"IFERROR(Hjælpeark!V246,\"\")","v":""},null,{"$f":"IFERROR(Hjælpeark!W246,\"\")","v":""},null,{"$f":"IFERROR(Hjælpeark!X246,\"\")","v":""},null,{"$f":"IFERROR(Hjælpeark!Y246,\"\")","v":""},null,{"$f":"IFERROR(Hjælpeark!Z246,\"\")","v":""},null,{"$f":"IFERROR(Hjælpeark!AA246,\"\")","v":""},null,{"$f":"IFERROR(Hjælpeark!AB246,\"\")","v":""},null,{"$f":"IFERROR(Hjælpeark!AC246,\"\")","v":""},null,null,0,false,false,false,false,false,false,false,false]
[null,null,"Vi med fordel kan gøre",{"$f":"IFERROR(Hjælpeark!V247,\"\")","v":""},null,{"$f":"IFERROR(Hjælpeark!W247,\"\")","v":""},null,{"$f":"IFERROR(Hjælpeark!X247,\"\")","v":""},null,{"$f":"IFERROR(Hjælpeark!Y247,\"\")","v":""},null,{"$f":"IFERROR(Hjælpeark!Z247,\"\")","v":""},null,{"$f":"IFERROR(Hjælpeark!AA247,\"\")","v":""},null,{"$f":"IFERROR(Hjælpeark!AB247,\"\")","v":""},null,{"$f":"IFERROR(Hjælpeark!AC247,\"\")","v":""},null,null,0,false,false,false,false,false,false,false,false]
[null,"Tilsyn 94","Vi bør gøre ",{"$f":"IFERROR(Hjælpeark!V248,\"\")","v":""},null,{"$f":"IFERROR(Hjælpeark!W248,\"\")","v":""},null,{"$f":"IFERROR(Hjælpeark!X248,\"\")","v":""},null,{"$f":"IFERROR(Hjælpeark!Y248,\"\")","v":""},null,{"$f":"IFERROR(Hjælpeark!Z248,\"\")","v":""},null,{"$f":"IFERROR(Hjælpeark!AA248,\"\")","v":""},null,{"$f":"IFERROR(Hjælpeark!AB248,\"\")","v":""},null,{"$f":"IFERROR(Hjælpeark!AC248,\"\")","v":""},null,null,0,false,false,false,false,false,false,false,false]
[null,null,"Vi med fordel kan gøre",{"$f":"IFERROR(Hjælpeark!V249,\"\")","v":""},null,{"$f":"IFERROR(Hjælpeark!W249,\"\")","v":""},null,{"$f":"IFERROR(Hjælpeark!X249,\"\")","v":""},null,{"$f":"IFERROR(Hjælpeark!Y249,\"\")","v":""},null,{"$f":"IFERROR(Hjælpeark!Z249,\"\")","v":""},null,{"$f":"IFERROR(Hjælpeark!AA249,\"\")","v":""},null,{"$f":"IFERROR(Hjælpeark!AB249,\"\")","v":""},null,{"$f":"IFERROR(Hjælpeark!AC249,\"\")","v":""},null,null,0,false,false,false,false,false,false,false,false]
[null,"Tilsyn 95","Vi bør gøre ",{"$f":"IFERROR(Hjælpeark!V250,\"\")","v":""},null,{"$f":"IFERROR(Hjælpeark!W250,\"\")","v":""},null,{"$f":"IFERROR(Hjælpeark!X250,\"\")","v":""},null,{"$f":"IFERROR(Hjælpeark!Y250,\"\")","v":""},null,{"$f":"IFERROR(Hjælpeark!Z250,\"\")","v":""},null,{"$f":"IFERROR(Hjælpeark!AA250,\"\")","v":""},null,{"$f":"IFERROR(Hjælpeark!AB250,\"\")","v":""},null,{"$f":"IFERROR(Hjælpeark!AC250,\"\")","v":""},null,null,0,false,false,false,false,false,false,false,false]
[null,null,"Vi med fordel kan gøre",{"$f":"IFERROR(Hjælpeark!V251,\"\")","v":""},null,{"$f":"IFERROR(Hjælpeark!W251,\"\")","v":""},null,{"$f":"IFERROR(Hjælpeark!X251,\"\")","v":""},null,{"$f":"IFERROR(Hjælpeark!Y251,\"\")","v":""},null,{"$f":"IFERROR(Hjælpeark!Z251,\"\")","v":""},null,{"$f":"IFERROR(Hjælpeark!AA251,\"\")","v":""},null,{"$f":"IFERROR(Hjælpeark!AB251,\"\")","v":""},null,{"$f":"IFERROR(Hjælpeark!AC251,\"\")","v":""},null,null,0,false,false,false,false,false,false,false,false]
[null,"Tilsyn 96","Vi bør gøre ",{"$f":"IFERROR(Hjælpeark!V252,\"\")","v":""},null,{"$f":"IFERROR(Hjælpeark!W252,\"\")","v":""},null,{"$f":"IFERROR(Hjælpeark!X252,\"\")","v":""},null,{"$f":"IFERROR(Hjælpeark!Y252,\"\")","v":""},null,{"$f":"IFERROR(Hjælpeark!Z252,\"\")","v":""},null,{"$f":"IFERROR(Hjælpeark!AA252,\"\")","v":""},null,{"$f":"IFERROR(Hjælpeark!AB252,\"\")","v":""},null,{"$f":"IFERROR(Hjælpeark!AC252,\"\")","v":""},null,null,0,false,false,false,false,false,false,false,false]
[null,null,"Vi med fordel kan gøre",{"$f":"IFERROR(Hjælpeark!V253,\"\")","v":""},null,{"$f":"IFERROR(Hjælpeark!W253,\"\")","v":""},null,{"$f":"IFERROR(Hjælpeark!X253,\"\")","v":""},null,{"$f":"IFERROR(Hjælpeark!Y253,\"\")","v":""},null,{"$f":"IFERROR(Hjælpeark!Z253,\"\")","v":""},null,{"$f":"IFERROR(Hjælpeark!AA253,\"\")","v":""},null,{"$f":"IFERROR(Hjælpeark!AB253,\"\")","v":""},null,{"$f":"IFERROR(Hjælpeark!AC253,\"\")","v":""},null,null,0,false,false,false,false,false,false,false,false]
[null,"Tilsyn 97","Vi bør gøre ",{"$f":"IFERROR(Hjælpeark!V254,\"\")","v":""},null,{"$f":"IFERROR(Hjælpeark!W254,\"\")","v":""},null,{"$f":"IFERROR(Hjælpeark!X254,\"\")","v":""},null,{"$f":"IFERROR(Hjælpeark!Y254,\"\")","v":""},null,{"$f":"IFERROR(Hjælpeark!Z254,\"\")","v":""},null,{"$f":"IFERROR(Hjælpeark!AA254,\"\")","v":""},null,{"$f":"IFERROR(Hjælpeark!AB254,\"\")","v":""},null,{"$f":"IFERROR(Hjælpeark!AC254,\"\")","v":""},null,null,0,{"$f":"SUMPRODUCT(--ISNUMBER(SEARCH(Liste,D198)))>0","v":false},{"$f":"SUMPRODUCT(--ISNUMBER(SEARCH(Liste,F198)))>0","v":false},{"$f":"SUMPRODUCT(--ISNUMBER(SEARCH(Liste,H198)))>0","v":false},{"$f":"SUMPRODUCT(--ISNUMBER(SEARCH(Liste,J198)))>0","v":false},{"$f":"SUMPRODUCT(--ISNUMBER(SEARCH(Liste,L198)))>0","v":false},{"$f":"SUMPRODUCT(--ISNUMBER(SEARCH(Liste,N198)))>0","v":false},{"$f":"SUMPRODUCT(--ISNUMBER(SEARCH(Liste,P198)))>0","v":false},{"$f":"SUMPRODUCT(--ISNUMBER(SEARCH(Liste,R198)))>0","v":false}]
[null,null,"Vi med fordel kan gøre",{"$f":"IFERROR(Hjælpeark!V255,\"\")","v":""},null,{"$f":"IFERROR(Hjælpeark!W255,\"\")","v":""},null,{"$f":"IFERROR(Hjælpeark!X255,\"\")","v":""},null,{"$f":"IFERROR(Hjælpeark!Y255,\"\")","v":""},null,{"$f":"IFERROR(Hjælpeark!Z255,\"\")","v":""},null,{"$f":"IFERROR(Hjælpeark!AA255,\"\")","v":""},null,{"$f":"IFERROR(Hjælpeark!AB255,\"\")","v":""},null,{"$f":"IFERROR(Hjælpeark!AC255,\"\")","v":""},null,null,0,false,false,false,false,false,false,false,false]
[null,"Tilsyn 98",{"$f":"C198","v":"Vi bør gøre "},{"$f":"IFERROR(Hjælpeark!V256,\"\")","v":""},null,{"$f":"IFERROR(Hjælpeark!W256,\"\")","v":""},null,{"$f":"IFERROR(Hjælpeark!X256,\"\")","v":""},null,{"$f":"IFERROR(Hjælpeark!Y256,\"\")","v":""},null,{"$f":"IFERROR(Hjælpeark!Z256,\"\")","v":""},null,{"$f":"IFERROR(Hjælpeark!AA256,\"\")","v":""},null,{"$f":"IFERROR(Hjælpeark!AB256,\"\")","v":""},null,{"$f":"IFERROR(Hjælpeark!AC256,\"\")","v":""},null,null,0,false,false,false,false,false,false,false,false]
[null,null,"Vi med fordel kan gøre",{"$f":"IFERROR(Hjælpeark!V257,\"\")","v":""},null,{"$f":"IFERROR(Hjælpeark!W257,\"\")","v":""},null,{"$f":"IFERROR(Hjælpeark!X257,\"\")","v":""},null,{"$f":"IFERROR(Hjælpeark!Y257,\"\")","v":""},null,{"$f":"IFERROR(Hjælpeark!Z257,\"\")","v":""},null,{"$f":"IFERROR(Hjælpeark!AA257,\"\")","v":""},null,{"$f":"IFERROR(Hjælpeark!AB257,\"\")","v":""},null,{"$f":"IFERROR(Hjælpeark!AC257,\"\")","v":""},null,null,0,false,false,false,false,false,false,false,false]
[null,"Tilsyn 99","Vi bør gøre ",{"$f":"IFERROR(Hjælpeark!V258,\"\")","v":""},null,{"$f":"IFERROR(Hjælpeark!W258,\"\")","v":""},null,{"$f":"IFERROR(Hjælpeark!X258,\"\")","v":""},null,{"$f":"IFERROR(Hjælpeark!Y258,\"\")","v":""},null,{"$f":"IFERROR(Hjælpeark!Z258,\"\")","v":""},null,{"$f":"IFERROR(Hjælpeark!AA258,\"\")","v":""},null,{"$f":"IFERROR(Hjælpeark!AB258,\"\")","v":""},null,{"$f":"IFERROR(Hjælpeark!AC258,\"\")","v":""},null,null,0,false,false,false,false,false,false,false,false]
[null,null,"Vi med fordel kan gøre",{"$f":"IFERROR(Hjælpeark!V259,\"\")","v":""},null,{"$f":"IFERROR(Hjælpeark!W259,\"\")","v":""},null,{"$f":"IFERROR(Hjælpeark!X259,\"\")","v":""},null,{"$f":"IFERROR(Hjælpeark!Y259,\"\")","v":""},null,{"$f":"IFERROR(Hjælpeark!Z259,\"\")","v":""},null,{"$f":"IFERROR(Hjælpeark!AA259,\"\")","v":""},null,{"$f":"IFERROR(Hjælpeark!AB259,\"\")","v":""},null,{"$f":"IFERROR(Hjælpeark!AC259,\"\")","v":""},null,null,0,false,false,false,false,false,false,false,false]
[null,"Tilsyn 100","Vi bør gøre ",{"$f":"IFERROR(Hjælpeark!V260,\"\")","v":""},null,{"$f":"IFERROR(Hjælpeark!W260,\"\")","v":""},null,{"$f":"IFERROR(Hjælpeark!X260,\"\")","v":""},null,{"$f":"IFERROR(Hjælpeark!Y260,\"\")","v":""},null,{"$f":"IFERROR(Hjælpeark!Z260,\"\")","v":""},null,{"$f":"IFERROR(Hjælpeark!AA260,\"\")","v":""},null,{"$f":"IFERROR(Hjælpeark!AB260,\"\")","v":""},null,{"$f":"IFERROR(Hjælpeark!AC260,\"\")","v":""},null,null,0,false,false,false,false,false,false,false,false]
[null,null,"Vi med fordel kan gøre",{"$f":"IFERROR(Hjælpeark!V261,\"\")","v":""},null,{"$f":"IFERROR(Hjælpeark!W261,\"\")","v":""},null,{"$f":"IFERROR(Hjælpeark!X261,\"\")","v":""},null,{"$f":"IFERROR(Hjælpeark!Y261,\"\")","v":""},null,{"$f":"IFERROR(Hjælpeark!Z261,\"\")","v":""},null,{"$f":"IFERROR(Hjælpeark!AA261,\"\")","v":""},null,{"$f":"IFERROR(Hjælpeark!AB261,\"\")","v":""},null,{"$f":"IFERROR(Hjælpeark!AC261,\"\")","v":""},null,null,0,false,false,false,false,false,false,false,false]

{"sheet":"Analyse, B&U","index":4,"n_rows":41,"n_cols":4,"rows_kept":41,"cut":false,"hidden":false,"merged":[[40,0,53,7],[5,0,11,7],[2,0,2,7],[1,0,1,7]]}
[]
["Du kan se en introduktion til, hvordan du kan bruge ledelsesinformationen her."]
["Ledelsesinformation for tilsyn på børnehandicapområdet"]
[]
["Konklusion for det samlede ledelsestilsyn"]
["[Her kan du som afdelingsleder skrive din konklusion til rapportering til chefer og det strategiske og/eller det politiske niveau]"]
[]
[]
[]
[]
[]
[]
[]
["Figur 1"]
[]
[]
[]
[]
[]
[]
[]
[]
[]
[]
[]
[]
[]
[]
["Tabel 1"]
[null,"Ingen opmærksomhed","Let opmærksomhed","Særlig opmærksomhed"]
[{"$f":"'Skabelon, B&U'!B23","v":"Opstart af sagen"},{"$f":"COUNTIFS(Hjælpeark!B$62:B$361,Hjælpeark!$A$58,Hjælpeark!K$62:K$361,1)","v":0},{"$f":"COUNTIFS(Hjælpeark!B$62:B$361,Hjælpeark!$A$59,Hjælpeark!K$62:K$361,1)","v":0},{"$f":"COUNTIFS(Hjælpeark!B$62:B$361,Hjælpeark!$A$60,Hjælpeark!K$62:K$361,1)","v":0}]
[{"$f":"'Skabelon, B&U'!B34","v":"Oplysning af sagen samt faglig udredning og vurdering"},{"$f":"COUNTIFS(Hjælpeark!B$62:B$361,Hjælpeark!$A$58,Hjælpeark!L$62:L$361,1)","v":0},{"$f":"COUNTIFS(Hjælpeark!B$62:B$361,Hjælpeark!$A$59,Hjælpeark!L$62:L$361,1)","v":0},{"$f":"COUNTIFS(Hjælpeark!B$62:B$361,Hjælpeark!$A$60,Hjælpeark!L$62:L$361,1)","v":0}]
[{"$f":"'Skabelon, B&U'!B47","v":"Afgørelse"},{"$f":"COUNTIFS(Hjælpeark!B$62:B$361,Hjælpeark!$A$58,Hjælpeark!M$62:M$361,1)","v":0},{"$f":"COUNTIFS(Hjælpeark!B$62:B$361,Hjælpeark!$A$59,Hjælpeark!M$62:M$361,1)","v":0},{"$f":"COUNTIFS(Hjælpeark!B$62:B$361,Hjælpeark!$A$60,Hjælpeark!M$62:M$361,1)","v":0}]
[{"$f":"'Skabelon, B&U'!B56","v":"Barnets plan / Ungeplan"},{"$f":"COUNTIFS(Hjælpeark!B$62:B$361,Hjælpeark!$A$58,Hjælpeark!N$62:N$361,1)","v":0},{"$f":"COUNTIFS(Hjælpeark!B$62:B$361,Hjælpeark!$A$59,Hjælpeark!N$62:N$361,1)","v":0},{"$f":"COUNTIFS(Hjælpeark!B$62:B$361,Hjælpeark!$A$60,Hjælpeark!N$62:N$361,1)","v":0}]
[{"$f":"'Skabelon, B&U'!B64","v":"Overgang fra barn til voksen"},{"$f":"COUNTIFS(Hjælpeark!B$62:B$361,Hjælpeark!$A$58,Hjælpeark!O$62:O$361,1)","v":0},{"$f":"COUNTIFS(Hjælpeark!B$62:B$361,Hjælpeark!$A$59,Hjælpeark!O$62:O$361,1)","v":0},{"$f":"COUNTIFS(Hjælpeark!B$62:B$361,Hjælpeark!$A$60,Hjælpeark!O$62:O$361,1)","v":0}]
[{"$f":"'Skabelon, B&U'!B71","v":"Opfølgning"},{"$f":"COUNTIFS(Hjælpeark!B$62:B$361,Hjælpeark!$A$58,Hjælpeark!P$62:P$361,1)","v":0},{"$f":"COUNTIFS(Hjælpeark!B$62:B$361,Hjælpeark!$A$59,Hjælpeark!P$62:P$361,1)","v":0},{"$f":"COUNTIFS(Hjælpeark!B$62:B$361,Hjælpeark!$A$60,Hjælpeark!P$62:P$361,1)","v":0}]
[{"$f":"'Skabelon, B&U'!B82","v":"Notatpligt og journalisering"},{"$f":"COUNTIFS(Hjælpeark!B$62:B$361,Hjælpeark!$A$58,Hjælpeark!Q$62:Q$361,1)","v":0},{"$f":"COUNTIFS(Hjælpeark!B$62:B$361,Hjælpeark!$A$59,Hjælpeark!Q$62:Q$361,1)","v":0},{"$f":"COUNTIFS(Hjælpeark!B$62:B$361,Hjælpeark!$A$60,Hjælpeark!Q$62:Q$361,1)","v":0}]
[]
[]
["Særlige opmærksomheder på tværs af tilsynene"]
["[Her kan du begrunde konklusionen og tilføje særlige opmærksomheder til figur og tabel].\n[Husk at du skal holde Alt ned og trykke Enter, når du vil skrifte linje]."]

{"sheet":"Overblik, B&U","index":5,"n_rows":104,"n_cols":19,"rows_kept":104,"cut":false,"hidden":false,"merged":[[2,9,2,16]]}
[]
[null,"Overblik over det overordnede ledelsestilsyn på børnehandicapområdet"]
[null,"Her skal du ikke indtaste noget. Du kan bruge de grå bokse til at sortere i data på dato, sagstype og rådgiver.",null,null,null,null,null,null,null,"Du kan få inspiration til dit arbejde med overblikket her."]
[null,"Tilsyn","Sagsnummer","Dato","Sagstype","Rådgiver",{"$f":"'Analyse, B&U'!A31","v":"Opstart af sagen"},null,{"$f":"'Analyse, B&U'!A32","v":"Oplysning af sagen samt faglig udredning og vurdering"},null,{"$f":"'Analyse, B&U'!A33","v":"Afgørelse"},null,{"$f":"'Analyse, B&U'!A34","v":"Barnets plan / Ungeplan"},null,{"$f":"'Analyse, B&U'!A35","v":"Overgang fra barn til voksen"},null,{"$f":"'Analyse, B&U'!A36","v":"Opfølgning"},null,{"$f":"'Analyse, B&U'!A37","v":"Notatpligt og journalisering"}]
[null,{"$f":"IFERROR(IF(Hjælpeark!K64>=0,Hjælpeark!A62,\"\"),\"\")","v":""},{"$f":"IF(ISERROR(INDIRECT(\"'Børn \"&B5&\"'!$c$17\",TRUE)),\"\",INDIRECT(\"'Børn \"&B5&\"'!$c$17\",TRUE))","v":""},{"$f":"IF(ISERROR(INDIRECT(\"'Børn \"&B5&\"'!$c$13\",TRUE)),\"\",INDIRECT(\"'Børn \"&B5&\"'!$c$13\",TRUE))","v":""},{"$f":"IF(ISERROR(INDIRECT(\"'Børn \"&B5&\"'!$c$18\",TRUE)),\"\",INDIRECT(\"'Børn \"&B5&\"'!$c$18\",TRUE))","v":""},{"$f":"IF(ISERROR(INDIRECT(\"'Børn \"&B5&\"'!$c$16\",TRUE)),\"\",INDIRECT(\"'Børn \"&B5&\"'!$c$16\",TRUE))","v":""}]
[null,{"$f":"IFERROR(IF(Hjælpeark!K65>=0,Hjælpeark!A65,\"\"),\"\")","v":""},{"$f":"IF(ISERROR(INDIRECT(\"'Børn \"&B6&\"'!$c$17\",TRUE)),\"\",INDIRECT(\"'Børn \"&B6&\"'!$c$17\",TRUE))","v":""},{"$f":"IF(ISERROR(INDIRECT(\"'Børn \"&B6&\"'!$c$13\",TRUE)),\"\",INDIRECT(\"'Børn \"&B6&\"'!$c$13\",TRUE))","v":""},"",""]
[null,{"$f":"IFERROR(IF(Hjælpeark!K68>=0,Hjælpeark!A68,\"\"),\"\")","v":""},"","","",""]
[null,{"$f":"IFERROR(IF(Hjælpeark!K71>=0,Hjælpeark!A71,\"\"),\"\")","v":""},"","","",""]
[null,{"$f":"IFERROR(IF(Hjælpeark!K74>=0,Hjælpeark!A74,\"\"),\"\")","v":""},"","","",""]
[null,{"$f":"IFERROR(IF(Hjælpeark!K77>=0,Hjælpeark!A77,\"\"),\"\")","v":""},"","","",""]
[null,{"$f":"IFERROR(IF(Hjælpeark!K80>=0,Hjælpeark!A80,\"\"),\"\")","v":""},"","","",""]
[null,{"$f":"IFERROR(IF(Hjælpeark!K83>=0,Hjælpeark!A83,\"\"),\"\")","v":""},"","","",""]
[null,{"$f":"IFERROR(IF(Hjælpeark!K86>=0,Hjælpeark!A86,\"\"),\"\")","v":""},"","","",""]
[null,{"$f":"IFERROR(IF(Hjælpeark!K89>=0,Hjælpeark!A89,\"\"),\"\")","v":""},"","","",""]
[null,{"$f":"IFERROR(IF(Hjælpeark!K92>=0,Hjælpeark!A92,\"\"),\"\")","v":""},"","","",""]
[null,{"$f":"IFERROR(IF(Hjælpeark!K95>=0,Hjælpeark!A95,\"\"),\"\")","v":""},"","","",""]
[null,{"$f":"IFERROR(IF(Hjælpeark!K98>=0,Hjælpeark!A98,\"\"),\"\")","v":""},"","","",""]
[null,{"$f":"IFERROR(IF(Hjælpeark!K101>=0,Hjælpeark!A101,\"\"),\"\")","v":""},"","","",""]
[null,{"$f":"IFERROR(IF(Hjælpeark!K104>=0,Hjælpeark!A104,\"\"),\"\")","v":""},"","","",""]
[null,{"$f":"IFERROR(IF(Hjælpeark!K107>=0,Hjælpeark!A107,\"\"),\"\")","v":""},"","","",""]
[null,{"$f":"IFERROR(IF(Hjælpeark!K110>=0,Hjælpeark!A110,\"\"),\"\")","v":""},"","","",""]
[null,{"$f":"IFERROR(IF(Hjælpeark!K113>=0,Hjælpeark!A113,\"\"),\"\")","v":""},"","","",""]
[null,{"$f":"IFERROR(IF(Hjælpeark!K116>=0,Hjælpeark!A116,\"\"),\"\")","v":""},"","","",""]
[null,{"$f":"IFERROR(IF(Hjælpeark!K119>=0,Hjælpeark!A119,\"\"),\"\")","v":""},"","","",""]
[null,{"$f":"IFERROR(IF(Hjælpeark!K122>=0,Hjælpeark!A122,\"\"),\"\")","v":""},"","","",""]
[null,{"$f":"IFERROR(IF(Hjælpeark!K125>=0,Hjælpeark!A125,\"\"),\"\")","v":""},"","","",""]
[null,{"$f":"IFERROR(IF(Hjælpeark!K128>=0,Hjælpeark!A128,\"\"),\"\")","v":""},"","","",""]
[null,{"$f":"IFERROR(IF(Hjælpeark!K131>=0,Hjælpeark!A131,\"\"),\"\")","v":""},"","","",""]
[null,{"$f":"IFERROR(IF(Hjælpeark!K134>=0,Hjælpeark!A134,\"\"),\"\")","v":""},"","","",""]
[null,{"$f":"IFERROR(IF(Hjælpeark!K137>=0,Hjælpeark!A137,\"\"),\"\")","v":""},"","","",""]
[null,{"$f":"IFERROR(IF(Hjælpeark!K140>=0,Hjælpeark!A140,\"\"),\"\")","v":""},"","","",""]
[null,{"$f":"IFERROR(IF(Hjælpeark!K143>=0,Hjælpeark!A143,\"\"),\"\")","v":""},"","","",""]
[null,{"$f":"IFERROR(IF(Hjælpeark!K146>=0,Hjælpeark!A146,\"\"),\"\")","v":""},"","","",""]
[null,{"$f":"IFERROR(IF(Hjælpeark!K149>=0,Hjælpeark!A149,\"\"),\"\")","v":""},"","","",""]
[null,{"$f":"IFERROR(IF(Hjælpeark!K152>=0,Hjælpeark!A152,\"\"),\"\")","v":""},"","","",""]
[null,{"$f":"IFERROR(IF(Hjælpeark!K155>=0,Hjælpeark!A155,\"\"),\"\")","v":""},"","","",""]
[null,{"$f":"IFERROR(IF(Hjælpeark!K158>=0,Hjælpeark!A158,\"\"),\"\")","v":""},{"$f":"IF(ISERROR(INDIRECT(\"'Børn \"&B37&\"'!$c$17\",TRUE)),\"\",INDIRECT(\"'Børn \"&B37&\"'!$c$17\",TRUE))","v":""},"",{"$f":"IF(ISERROR(INDIRECT(\"'Børn \"&B37&\"'!$c$18\",TRUE)),\"\",INDIRECT(\"'Børn \"&B37&\"'!$c$18\",TRUE))","v":""},{"$f":"IF(ISERROR(INDIRECT(\"'Børn \"&B37&\"'!$c$16\",TRUE)),\"\",INDIRECT(\"'Børn \"&B37&\"'!$c$16\",TRUE))","v":""}]
[null,{"$f":"IFERROR(IF(Hjælpeark!K161>=0,Hjælpeark!A161,\"\"),\"\")","v":""},"","","",""]
[null,{"$f":"IFERROR(IF(Hjælpeark!K164>=0,Hjælpeark!A164,\"\"),\"\")","v":""},"","","",""]
[null,{"$f":"IFERROR(IF(Hjælpeark!K167>=0,Hjælpeark!A167,\"\"),\"\")","v":""},"","","",""]
[null,{"$f":"IFERROR(IF(Hjælpeark!K170>=0,Hjælpeark!A170,\"\"),\"\")","v":""},"","","",""]
[null,{"$f":"IFERROR(IF(Hjælpeark!K173>=0,Hjælpeark!A173,\"\"),\"\")","v":""},"","","",""]
[null,{"$f":"IFERROR(IF(Hjælpeark!K176>=0,Hjælpeark!A176,\"\"),\"\")","v":""},"","","",""]
[null,{"$f":"IFERROR(IF(Hjælpeark!K179>=0,Hjælpeark!A179,\"\"),\"\")","v":""},"","","",""]
[null,{"$f":"IFERROR(IF(Hjælpeark!K182>=0,Hjælpeark!A182,\"\"),\"\")","v":""},"","","",""]
[null,{"$f":"IFERROR(IF(Hjælpeark!K185>=0,Hjælpeark!A185,\"\"),\"\")","v":""},"","","",""]
[null,{"$f":"IFERROR(IF(Hjælpeark!K188>=0,Hjælpeark!A188,\"\"),\"\")","v":""},"","","",""]
[null,{"$f":"IFERROR(IF(Hjælpeark!K191>=0,Hjælpeark!A191,\"\"),\"\")","v":""},"","","",""]
[null,{"$f":"IFERROR(IF(Hjælpeark!K194>=0,Hjælpeark!A194,\"\"),\"\")","v":""},"","","",""]
[null,{"$f":"IFERROR(IF(Hjælpeark!K197>=0,Hjælpeark!A197,\"\"),\"\")","v":""},"","","",""]
[null,{"$f":"IFERROR(IF(Hjælpeark!K200>=0,Hjælpeark!A200,\"\"),\"\")","v":""},"","","",""]
[null,{"$f":"IFERROR(IF(Hjælpeark!K203>=0,Hjælpeark!A203,\"\"),\"\")","v":""},"","","",""]
[null,{"$f":"IFERROR(IF(Hjælpeark!K206>=0,Hjælpeark!A206,\"\"),\"\")","v":""},"","","",""]
[null,{"$f":"IFERROR(IF(Hjælpeark!K209>=0,Hjælpeark!A209,\"\"),\"\")","v":""},"","","",""]
[null,{"$f":"IFERROR(IF(Hjælpeark!K210>=0,Hjælpeark!A210,\"\"),\"\")","v":""},"","","",""]
[null,{"$f":"IFERROR(IF(Hjælpeark!K211>=0,Hjælpeark!A211,\"\"),\"\")","v":""},"","","",""]
[null,{"$f":"IFERROR(IF(Hjælpeark!K212>=0,Hjælpeark!A212,\"\"),\"\")","v":""},"","","",""]
[null,{"$f":"IFERROR(IF(Hjælpeark!K213>=0,Hjælpeark!A213,\"\"),\"\")","v":""},"","","",""]
[null,{"$f":"IFERROR(IF(Hjælpeark!K214>=0,Hjælpeark!A214,\"\"),\"\")","v":""},"","","",""]
[null,{"$f":"IFERROR(IF(Hjælpeark!K215>=0,Hjælpeark!A215,\"\"),\"\")","v":""},"","","",""]
[null,{"$f":"IFERROR(IF(Hjælpeark!K216>=0,Hjælpeark!A216,\"\"),\"\")","v":""},"","","",""]
[null,{"$f":"IFERROR(IF(Hjælpeark!K217>=0,Hjælpeark!A217,\"\"),\"\")","v":""},"","","",""]
[null,{"$f":"IFERROR(IF(Hjælpeark!K218>=0,Hjælpeark!A218,\"\"),\"\")","v":""},"","","",""]
[null,{"$f":"IFERROR(IF(Hjælpeark!K219>=0,Hjælpeark!A219,\"\"),\"\")","v":""},"","","",""]
[null,{"$f":"IFERROR(IF(Hjælpeark!K220>=0,Hjælpeark!A220,\"\"),\"\")","v":""},"","","",""]
[null,{"$f":"IFERROR(IF(Hjælpeark!K221>=0,Hjælpeark!A221,\"\"),\"\")","v":""},"","","",""]
[null,{"$f":"IFERROR(IF(Hjælpeark!K222>=0,Hjælpeark!A222,\"\"),\"\")","v":""},"","","",""]
[null,{"$f":"IFERROR(IF(Hjælpeark!K223>=0,Hjælpeark!A223,\"\"),\"\")","v":""},"","","",""]
[null,{"$f":"IFERROR(IF(Hjælpeark!K224>=0,Hjælpeark!A224,\"\"),\"\")","v":""},{"$f":"IF(ISERROR(INDIRECT(\"'Børn \"&B69&\"'!$c$17\",TRUE)),\"\",INDIRECT(\"'Børn \"&B69&\"'!$c$17\",TRUE))","v":""},"",{"$f":"IF(ISERROR(INDIRECT(\"'Børn \"&B69&\"'!$c$18\",TRUE)),\"\",INDIRECT(\"'Børn \"&B69&\"'!$c$18\",TRUE))","v":""},{"$f":"IF(ISERROR(INDIRECT(\"'Børn \"&B69&\"'!$c$16\",TRUE)),\"\",INDIRECT(\"'Børn \"&B69&\"'!$c$16\",TRUE))","v":""}]
[null,{"$f":"IFERROR(IF(Hjælpeark!K225>=0,Hjælpeark!A225,\"\"),\"\")","v":""},"",{"$f":"IF(ISERROR(INDIRECT(\"'Børn \"&B70&\"'!$c$13\",TRUE)),\"\",INDIRECT(\"'Børn \"&B70&\"'!$c$13\",TRUE))","v":""},"",""]
[null,{"$f":"IFERROR(IF(Hjælpeark!K226>=0,Hjælpeark!A226,\"\"),\"\")","v":""},"","","",""]
[null,{"$f":"IFERROR(IF(Hjælpeark!K227>=0,Hjælpeark!A227,\"\"),\"\")","v":""},"","","",""]
[null,{"$f":"IFERROR(IF(Hjælpeark!K228>=0,Hjælpeark!A228,\"\"),\"\")","v":""},"","","",""]
[null,{"$f":"IFERROR(IF(Hjælpeark!K229>=0,Hjælpeark!A229,\"\"),\"\")","v":""},"","","",""]
[null,{"$f":"IFERROR(IF(Hjælpeark!K230>=0,Hjælpeark!A230,\"\"),\"\")","v":""},"","","",""]
[null,{"$f":"IFERROR(IF(Hjælpeark!K231>=0,Hjælpeark!A231,\"\"),\"\")","v":""},"","","",""]
[null,{"$f":"IFERROR(IF(Hjælpeark!K232>=0,Hjælpeark!A232,\"\"),\"\")","v":""},"","","",""]
[null,{"$f":"IFERROR(IF(Hjælpeark!K233>=0,Hjælpeark!A233,\"\"),\"\")","v":""},"","","",""]
[null,{"$f":"IFERROR(IF(Hjælpeark!K234>=0,Hjælpeark!A234,\"\"),\"\")","v":""},"","","",""]
[null,{"$f":"IFERROR(IF(Hjælpeark!K235>=0,Hjælpeark!A235,\"\"),\"\")","v":""},"","","",""]
[null,{"$f":"IFERROR(IF(Hjælpeark!K236>=0,Hjælpeark!A236,\"\"),\"\")","v":""},"","","",""]
[null,{"$f":"IFERROR(IF(Hjælpeark!K237>=0,Hjælpeark!A237,\"\"),\"\")","v":""},"","","",""]
[null,{"$f":"IFERROR(IF(Hjælpeark!K238>=0,Hjælpeark!A238,\"\"),\"\")","v":""},"","","",""]
[null,{"$f":"IFERROR(IF(Hjælpeark!K239>=0,Hjælpeark!A239,\"\"),\"\")","v":""},"","","",""]
[null,{"$f":"IFERROR(IF(Hjælpeark!K240>=0,Hjælpeark!A240,\"\"),\"\")","v":""},"","","",""]
[null,{"$f":"IFERROR(IF(Hjælpeark!K241>=0,Hjælpeark!A241,\"\"),\"\")","v":""},"","","",""]
[null,{"$f":"IFERROR(IF(Hjælpeark!K242>=0,Hjælpeark!A242,\"\"),\"\")","v":""},"","","",""]
[null,{"$f":"IFERROR(IF(Hjælpeark!K243>=0,Hjælpeark!A243,\"\"),\"\")","v":""},"","","",""]
[null,{"$f":"IFERROR(IF(Hjælpeark!K244>=0,Hjælpeark!A244,\"\"),\"\")","v":""},"","","",""]
[null,{"$f":"IFERROR(IF(Hjælpeark!K245>=0,Hjælpeark!A245,\"\"),\"\")","v":""},"","","",""]
[null,{"$f":"IFERROR(IF(Hjælpeark!K246>=0,Hjælpeark!A246,\"\"),\"\")","v":""},"","","",""]
[null,{"$f":"IFERROR(IF(Hjælpeark!K247>=0,Hjælpeark!A247,\"\"),\"\")","v":""},"","","",""]
[null,{"$f":"IFERROR(IF(Hjælpeark!K248>=0,Hjælpeark!A248,\"\"),\"\")","v":""},"","","",""]
[null,{"$f":"IFERROR(IF(Hjælpeark!K249>=0,Hjælpeark!A249,\"\"),\"\")","v":""},"","","",""]
[null,{"$f":"IFERROR(IF(Hjælpeark!K250>=0,Hjælpeark!A250,\"\"),\"\")","v":""},"","","",""]
[null,{"$f":"IFERROR(IF(Hjælpeark!K251>=0,Hjælpeark!A251,\"\"),\"\")","v":""},"","","",""]
[null,{"$f":"IFERROR(IF(Hjælpeark!K252>=0,Hjælpeark!A252,\"\"),\"\")","v":""},"","","",""]
[null,{"$f":"IFERROR(IF(Hjælpeark!K253>=0,Hjælpeark!A253,\"\"),\"\")","v":""},"","","",""]
[null,{"$f":"IFERROR(IF(Hjælpeark!K254>=0,Hjælpeark!A254,\"\"),\"\")","v":""},"","","",""]
[null,{"$f":"IFERROR(IF(Hjælpeark!K255>=0,Hjælpeark!A255,\"\"),\"\")","v":""},"","","",""]
[null,{"$f":"IFERROR(IF(Hjælpeark!K256>=0,Hjælpeark!A256,\"\"),\"\")","v":""},{"$f":"IF(ISERROR(INDIRECT(\"'Børn \"&B101&\"'!$c$17\",TRUE)),\"\",INDIRECT(\"'Børn \"&B101&\"'!$c$17\",TRUE))","v":""},"","",""]
[null,{"$f":"IFERROR(IF(Hjælpeark!K257>=0,Hjælpeark!A257,\"\"),\"\")","v":""},"","","",""]
[null,{"$f":"IFERROR(IF(Hjælpeark!K258>=0,Hjælpeark!A258,\"\"),\"\")","v":""},"","","",""]
[null,{"$f":"IFERROR(IF(Hjælpeark!K259>=0,Hjælpeark!A259,\"\"),\"\")","v":""},"","","",""]

{"sheet":"Overblik, Uddyb, B&U","index":6,"n_rows":205,"n_cols":28,"rows_kept":205,"cut":false,"hidden":false,"merged":[[195,13,195,14],[192,3,192,4],[192,5,192,6],[192,7,192,8],[192,9,192,10],[192,11,192,12],[192,13,192,14],[192,15,192,16],[193,3,193,4],[193,5,193,6],[193,7,193,8],[193,9,193,10],[193,11,193,12],[193,13,193,14],[193,15,193,16],[194,3,194,4],[194,5,194,6],[194,7,194,8],[194,9,194,10],[194,11,194,12],[194,13,194,14],[194,15,194,16],[186,3,186,4],[186,5,186,6],[186,7,186,8],[186,9,186,10],[186,11,186,12],[186,13,186,14],[186,15,186,16],[188,3,188,4],[188,5,188,6],[188,7,188,8],[188,9,188,10],[188,11,188,12],[188,13,188,14],[188,15,188,16],[191,15,191,16],[191,3,191,4],[191,5,191,6],[191,7,191,8],[191,9,191,10],[191,11,191,12],[191,13,191,14],[187,15,187,16],[189,3,189,4],[182,13,182,14],[182,15,182,16],[184,3,184,4],[184,5,184,6],[184,7,184,8],[184,9,184,10],[184,11,184,12],[184,13,184,14],[184,15,184,16],[178,3,178,4],[178,5,178,6],[178,7,178,8],[178,9,178,10],[178,11,178,12],[178,13,178,14],[178,15,178,16],[180,3,180,4],[180,5,180,6],[180,7,180,8],[180,9,180,10],[180,11,180,12],[180,13,180,14],[180,15,180,16],[183,15,183,16],[174,13,174,14],[174,15,174,16],[176,3,176,4],[176,5,176,6],[176,7,176,8],[176,9,176,10],[176,11,176,12],[176,13,176,14],[176,15,176,16],[170,3,170,4],[170,5,170,6],[170,7,170,8],[170,9,170,10],[170,11,170,12],[170,13,170,14],[170,15,170,16],[172,3,172,4],[172,5,172,6],[172,7,172,8],[172,9,172,10],[172,11,172,12],[172,13,172,14],[172,15,172,16],[175,15,175,16],[166,13,166,14],[166,15,166,16],[168,3,168,4],[168,5,168,6],[168,7,168,8],[168,9,168,10],[168,11,168,12],[168,13,168,14],[168,15,168,16],[162,3,162,4],[162,5,162,6],[162,7,162,8],[162,9,162,10],[162,11,162,12],[162,13,162,14],[162,15,162,16],[164,3,164,4],[164,5,164,6],[164,7,164,8],[164,9,164,10],[164,11,164,12],[164,13,164,14],[164,15,164,16],[167,15,167,16],[158,13,158,14],[158,15,158,16],[160,3,160,4],[160,5,160,6],[160,7,160,8],[160,9,160,10],[160,11,160,12],[160,13,160,14],[160,15,160,16],[154,3,154,4],[154,5,154,6],[154,7,154,8],[154,9,154,10],[154,11,154,12],[154,13,154,14],[154,15,154,16],[156,3,156,4],[156,5,156,6],[156,7,156,8],[156,9,156,10],[156,11,156,12],[156,13,156,14],[156,15,156,16],[159,15,159,16],[150,13,150,14],[150,15,150,16],[152,3,152,4],[152,5,152,6],[152,7,152,8],[152,9,152,10],[152,11,152,12],[152,13,152,14],[152,15,152,16],[146,3,146,4],[146,5,146,6],[146,7,146,8],[146,9,146,10],[146,11,146,12],[146,13,146,14],[146,15,146,16],[148,3,148,4],[148,5,148,6],[148,7,148,8],[148,9,148,10],[148,11,148,12],[148,13,148,14],[148,15,148,16],[151,15,151,16],[142,13,142,14],[142,15,142,16],[144,3,144,4],[144,5,144,6],[144,7,144,8],[144,9,144,10],[144,11,144,12],[144,13,144,14],[144,15,144,16],[138,3,138,4],[138,5,138,6],[138,7,138,8],[138,9,138,10],[138,11,138,12],[138,13,138,14],[138,15,138,16],[140,3,140,4],[140,5,140,6],[140,7,140,8],[140,9,140,10],[140,11,140,12],[140,13,140,14],[140,15,140,16],[143,15,143,16],[134,13,134,14],[134,15,134,16],[136,3,136,4],[136,5,136,6],[136,7,136,8],[136,9,136,10],[136,11,136,12],[136,13,136,14],[136,15,136,16],[130,3,130,4],[130,5,130,6],[130,7,130,8],[130,9,130,10],[130,11,130,12],[130,13,130,14],[130,15,130,16],[132,3,132,4],[132,5,132,6],[132,7,132,8],[132,9,132,10],[132,11,132,12],[132,13,132,14],[132,15,132,16],[135,15,135,16],[126,13,126,14],[126,15,126,16],[128,3,128,4],[128,5,128,6],[128,7,128,8],[128,9,128,10],[128,11,128,12],[128,13,128,14],[128,15,128,16],[122,3,122,4],[122,5,122,6],[122,7,122,8],[122,9,122,10],[122,11,122,12],[122,13,122,14],[122,15,122,16],[124,3,124,4],[124,5,124,6],[124,7,124,8],[124,9,124,10],[124,11,124,12],[124,13,124,14],[124,15,124,16],[127,15,127,16],[118,13,118,14],[118,15,118,16],[120,3,120,4],[120,5,120,6],[120,7,120,8],[120,9,120,10],[120,11,120,12],[120,13,120,14],[120,15,120,16],[114,3,114,4],[114,5,114,6],[114,7,114,8],[114,9,114,10],[114,11,114,12],[114,13,114,14],[114,15,114,16],[116,3,116,4],[116,5,116,6],[116,7,116,8],[116,9,116,10],[116,11,116,12],[116,13,116,14],[116,15,116,16],[119,15,119,16],[110,13,110,14],[110,15,110,16],[112,3,112,4],[112,5,112,6],[112,7,112,8],[112,9,112,10],[112,11,112,12],[112,13,112,14],[112,15,112,16],[106,3,106,4],[106,5,106,6],[106,7,106,8],[106,9,106,10],[106,11,106,12],[106,13,106,14],[106,15,106,16],[108,3,108,4],[108,5,108,6],[108,7,108,8],[108,9,108,10],[108,11,108,12],[108,13,108,14],[108,15,108,16],[111,15,111,16],[102,13,102,14],[102,15,102,16],[104,3,104,4],[104,5,104,6],[104,7,104,8],[104,9,104,10],[104,11,104,12],[104,13,104,14],[104,15,104,16],[98,3,98,4],[98,5,98,6],[98,7,98,8],[98,9,98,10],[98,11,98,12],[98,13,98,14],[98,15,98,16],[100,3,100,4],[100,5,100,6],[100,7,100,8],[100,9,100,10],[100,11,100,12],[100,13,100,14],[100,15,100,16],[103,15,103,16],[94,13,94,14],[94,15,94,16],[96,3,96,4],[96,5,96,6],[96,7,96,8],[96,9,96,10],[96,11,96,12],[96,13,96,14],[96,15,96,16],[90,3,90,4],[90,5,90,6],[90,7,90,8],[90,9,90,10],[90,11,90,12],[90,13,90,14],[90,15,90,16],[92,3,92,4],[92,5,92,6],[92,7,92,8],[92,9,92,10],[92,11,92,12],[92,13,92,14],[92,15,92,16],[95,15,95,16],[86,13,86,14],[86,15,86,16],[88,3,88,4],[88,5,88,6],[88,7,88,8],[88,9,88,10],[88,11,88,12],[88,13,88,14],[88,15,88,16],[82,3,82,4],[82,5,82,6],[82,7,82,8],[82,9,82,10],[82,11,82,12],[82,13,82,14],[82,15,82,16],[84,3,84,4],[84,5,84,6],[84,7,84,8],[84,9,84,10],[84,11,84,12],[84,13,84,14],[84,15,84,16],[87,15,87,16],[78,13,78,14],[78,15,78,16],[80,3,80,4],[80,5,80,6],[80,7,80,8],[80,9,80,10],[80,11,80,12],[80,13,80,14],[80,15,80,16],[74,3,74,4],[74,5,74,6],[74,7,74,8],[74,9,74,10],[74,11,74,12],[74,13,74,14],[74,15,74,16],[76,3,76,4],[76,5,76,6],[76,7,76,8],[76,9,76,10],[76,11,76,12],[76,13,76,14],[76,15,76,16],[79,15,79,16],[70,13,70,14],[70,15,70,16],[72,3,72,4],[72,5,72,6],[72,7,72,8],[72,9,72,10],[72,11,72,12],[72,13,72,14],[72,15,72,16],[66,3,66,4],[66,5,66,6],[66,7,66,8],[66,9,66,10],[66,11,66,12],[66,13,66,14],[66,15,66,16],[68,3,68,4],[68,5,68,6],[68,7,68,8],[68,9,68,10],[68,11,68,12],[68,13,68,14],[68,15,68,16],[71,15,71,16],[62,13,62,14],[62,15,62,16],[64,3,64,4],[64,5,64,6],[64,7,64,8],[64,9,64,10],[64,11,64,12],[64,13,64,14],[64,15,64,16],[58,3,58,4],[58,5,58,6],[58,7,58,8],[58,9,58,10],[58,11,58,12],[58,13,58,14],[58,15,58,16],[60,3,60,4],[60,5,60,6],[60,7,60,8],[60,9,60,10],[60,11,60,12],[60,13,60,14],[60,15,60,16],[63,15,63,16],[54,13,54,14],[54,15,54,16],[56,3,56,4],[56,5,56,6],[56,7,56,8],[56,9,56,10],[56,11,56,12],[56,13,56,14],[56,15,56,16],[50,3,50,4],[50,5,50,6],[50,7,50,8],[50,9,50,10],[50,11,50,12],[50,13,50,14],[50,15,50,16],[52,3,52,4],[52,5,52,6],[52,7,52,8],[52,9,52,10],[52,11,52,12],[52,13,52,14],[52,15,52,16],[55,15,55,16],[46,13,46,14],[46,15,46,16],[48,3,48,4],[48,5,48,6],[48,7,48,8],[48,9,48,10],[48,11,48,12],[48,13,48,14],[48,15,48,16],[42,3,42,4],[42,5,42,6],[42,7,42,8],[42,9,42,10],[42,11,42,12],[42,13,42,14],[42,15,42,16],[44,3,44,4],[44,5,44,6],[44,7,44,8],[44,9,44,10],[44,11,44,12],[44,13,44,14],[44,15,44,16],[47,15,47,16],[38,13,38,14],[38,15,38,16],[40,3,40,4],[40,5,40,6],[40,7,40,8],[40,9,40,10],[40,11,40,12],[40,13,40,14],[40,15,40,16],[34,3,34,4],[34,5,34,6],[34,7,34,8],[34,9,34,10],[34,11,34,12],[34,13,34,14],[34,15,34,16],[36,3,36,4],[36,5,36,6],[36,7,36,8],[36,9,36,10],[36,11,36,12],[36,13,36,14],[36,15,36,16],[39,15,39,16],[30,13,30,14],[30,15,30,16],[32,3,32,4],[32,5,32,6],[32,7,32,8],[32,9,32,10],[32,11,32,12],[32,13,32,14],[32,15,32,16],[26,3,26,4],[26,5,26,6],[26,7,26,8],[26,9,26,10],[26,11,26,12],[26,13,26,14],[26,15,26,16],[28,3,28,4],[28,5,28,6],[28,7,28,8],[28,9,28,10],[28,11,28,12],[28,13,28,14],[28,15,28,16],[31,15,31,16],[22,13,22,14],[22,15,22,16],[24,3,24,4],[24,5,24,6],[24,7,24,8],[24,9,24,10],[24,11,24,12],[24,13,24,14],[24,15,24,16],[18,3,18,4],[18,5,18,6],[18,7,18,8],[18,9,18,10],[18,11,18,12],[18,13,18,14],[18,15,18,16],[20,3,20,4],[20,5,20,6],[20,7,20,8],[20,9,20,10],[20,11,20,12],[20,13,20,14],[20,15,20,16],[23,15,23,16],[14,3,14,4],[14,5,14,6],[14,7,14,8],[14,9,14,10],[14,11,14,12],[14,13,14,14],[14,15,14,16],[6,5,6,6],[6,7,6,8],[6,9,6,10],[6,11,6,12],[6,13,6,14],[6,15,6,16],[10,3,10,4],[10,5,10,6],[10,7,10,8],[10,9,10,10],[10,11,10,12],[10,13,10,14],[10,15,10,16],[12,3,12,4],[12,5,12,6],[12,7,12,8],[12,9,12,10],[12,11,12,12],[12,13,12,14],[12,15,12,16],[11,15,11,16],[13,3,13,4],[13,5,13,6],[13,7,13,8],[13,9,13,10],[203,15,203,16],[203,3,203,4],[203,5,203,6],[203,7,203,8],[203,9,203,10],[203,11,203,12],[203,13,203,14],[199,15,199,16],[201,3,201,4],[201,5,201,6],[201,7,201,8],[201,9,201,10],[201,11,201,12],[201,13,201,14],[201,15,201,16],[199,3,199,4],[199,5,199,6],[196,3,196,4],[189,5,189,6],[189,7,189,8],[189,9,189,10],[189,11,189,12],[189,13,189,14],[189,15,189,16],[187,3,187,4],[187,5,187,6],[187,7,187,8],[187,9,187,10],[187,11,187,12],[187,13,187,14],[190,3,190,4],[190,5,190,6],[190,7,190,8],[190,9,190,10],[190,11,190,12],[190,13,190,14],[190,15,190,16],[196,5,196,6],[196,7,196,8],[196,9,196,10],[196,11,196,12],[196,13,196,14],[196,15,196,16],[195,15,195,16],[195,3,195,4],[195,5,195,6],[195,7,195,8],[195,9,195,10],[195,11,195,12],[185,3,185,4],[185,5,185,6],[185,7,185,8],[185,9,185,10],[185,11,185,12],[185,13,185,14],[185,15,185,16],[183,3,183,4],[183,5,183,6],[183,7,183,8],[183,9,183,10],[183,11,183,12],[183,13,183,14],[179,15,179,16],[181,3,181,4],[181,5,181,6],[181,7,181,8],[181,9,181,10],[181,11,181,12],[181,13,181,14],[181,15,181,16],[179,3,179,4],[179,5,179,6],[179,7,179,8],[179,9,179,10],[179,11,179,12],[179,13,179,14],[182,3,182,4],[182,5,182,6],[182,7,182,8],[182,9,182,10],[182,11,182,12],[177,3,177,4],[177,5,177,6],[177,7,177,8],[177,9,177,10],[177,11,177,12],[177,13,177,14],[177,15,177,16],[175,3,175,4],[175,5,175,6],[175,7,175,8],[175,9,175,10],[175,11,175,12],[175,13,175,14],[171,15,171,16],[173,3,173,4],[173,5,173,6],[173,7,173,8],[173,9,173,10],[173,11,173,12],[173,13,173,14],[173,15,173,16],[171,3,171,4],[171,5,171,6],[171,7,171,8],[171,9,171,10],[171,11,171,12],[171,13,171,14],[174,3,174,4],[174,5,174,6],[174,7,174,8],[174,9,174,10],[174,11,174,12],[169,3,169,4],[169,5,169,6],[169,7,169,8],[169,9,169,10],[169,11,169,12],[169,13,169,14],[169,15,169,16],[167,3,167,4],[167,5,167,6],[167,7,167,8],[167,9,167,10],[167,11,167,12],[167,13,167,14],[163,15,163,16],[165,3,165,4],[165,5,165,6],[165,7,165,8],[165,9,165,10],[165,11,165,12],[165,13,165,14],[165,15,165,16],[163,3,163,4],[163,5,163,6],[163,7,163,8],[163,9,163,10],[163,11,163,12],[163,13,163,14],[166,3,166,4],[166,5,166,6],[166,7,166,8],[166,9,166,10],[166,11,166,12],[161,3,161,4],[161,5,161,6],[161,7,161,8],[161,9,161,10],[161,11,161,12],[161,13,161,14],[161,15,161,16],[159,3,159,4],[159,5,159,6],[159,7,159,8],[159,9,159,10],[159,11,159,12],[159,13,159,14],[155,15,155,16],[157,3,157,4],[157,5,157,6],[157,7,157,8],[157,9,157,10],[157,11,157,12],[157,13,157,14],[157,15,157,16],[155,3,155,4],[155,5,155,6],[155,7,155,8],[155,9,155,10],[155,11,155,12],[155,13,155,14],[158,3,158,4],[158,5,158,6],[158,7,158,8],[158,9,158,10],[158,11,158,12],[153,3,153,4],[153,5,153,6],[153,7,153,8],[153,9,153,10],[153,11,153,12],[153,13,153,14],[153,15,153,16],[151,3,151,4],[151,5,151,6],[151,7,151,8],[151,9,151,10],[151,11,151,12],[151,13,151,14],[147,15,147,16],[149,3,149,4],[149,5,149,6],[149,7,149,8],[149,9,149,10],[149,11,149,12],[149,13,149,14],[149,15,149,16],[147,3,147,4],[147,5,147,6],[147,7,147,8],[147,9,147,10],[147,11,147,12],[147,13,147,14],[150,3,150,4],[150,5,150,6],[150,7,150,8],[150,9,150,10],[150,11,150,12],[145,3,145,4],[145,5,145,6],[145,7,145,8],[145,9,145,10],[145,11,145,12],[145,13,145,14],[145,15,145,16],[143,3,143,4],[143,5,143,6],[143,7,143,8],[143,9,143,10],[143,11,143,12],[143,13,143,14],[139,15,139,16],[141,3,141,4],[141,5,141,6],[141,7,141,8],[141,9,141,10],[141,11,141,12],[141,13,141,14],[141,15,141,16],[139,3,139,4],[139,5,139,6],[139,7,139,8],[139,9,139,10],[139,11,139,12],[139,13,139,14],[142,3,142,4],[142,5,142,6],[142,7,142,8],[142,9,142,10],[142,11,142,12],[137,3,137,4],[137,5,137,6],[137,7,137,8],[137,9,137,10],[137,11,137,12],[137,13,137,14],[137,15,137,16],[135,3,135,4],[135,5,135,6],[135,7,135,8],[135,9,135,10],[135,11,135,12],[135,13,135,14],[131,15,131,16],[133,3,133,4],[133,5,133,6],[133,7,133,8],[133,9,133,10],[133,11,133,12],[133,13,133,14],[133,15,133,16],[131,3,131,4],[131,5,131,6],[131,7,131,8],[131,9,131,10],[131,11,131,12],[131,13,131,14],[134,3,134,4],[134,5,134,6],[134,7,134,8],[134,9,134,10],[134,11,134,12],[129,3,129,4],[129,5,129,6],[129,7,129,8],[129,9,129,10],[129,11,129,12],[129,13,129,14],[129,15,129,16],[127,3,127,4],[127,5,127,6],[127,7,127,8],[127,9,127,10],[127,11,127,12],[127,13,127,14],[123,15,123,16],[125,3,125,4],[125,5,125,6],[125,7,125,8],[125,9,125,10],[125,11,125,12],[125,13,125,14],[125,15,125,16],[123,3,123,4],[123,5,123,6],[123,7,123,8],[123,9,123,10],[123,11,123,12],[123,13,123,14],[126,3,126,4],[126,5,126,6],[126,7,126,8],[126,9,126,10],[126,11,126,12],[121,3,121,4],[121,5,121,6],[121,7,121,8],[121,9,121,10],[121,11,121,12],[121,13,121,14],[121,15,121,16],[119,3,119,4],[119,5,119,6],[119,7,119,8],[119,9,119,10],[119,11,119,12],[119,13,119,14],[115,15,115,16],[117,3,117,4],[117,5,117,6],[117,7,117,8],[117,9,117,10],[117,11,117,12],[117,13,117,14],[117,15,117,16],[115,3,115,4],[115,5,115,6],[115,7,115,8],[115,9,115,10],[115,11,115,12],[115,13,115,14],[118,3,118,4],[118,5,118,6],[118,7,118,8],[118,9,118,10],[118,11,118,12],[113,3,113,4],[113,5,113,6],[113,7,113,8],[113,9,113,10],[113,11,113,12],[113,13,113,14],[113,15,113,16],[111,3,111,4],[111,5,111,6],[111,7,111,8],[111,9,111,10],[111,11,111,12],[111,13,111,14],[107,15,107,16],[109,3,109,4],[109,5,109,6],[109,7,109,8],[109,9,109,10],[109,11,109,12],[109,13,109,14],[109,15,109,16],[107,3,107,4],[107,5,107,6],[107,7,107,8],[107,9,107,10],[107,11,107,12],[107,13,107,14],[110,3,110,4],[110,5,110,6],[110,7,110,8],[110,9,110,10],[110,11,110,12],[105,3,105,4],[105,5,105,6],[105,7,105,8],[105,9,105,10],[105,11,105,12],[105,13,105,14],[105,15,105,16],[103,3,103,4],[103,5,103,6],[103,7,103,8],[103,9,103,10],[103,11,103,12],[103,13,103,14],[99,15,99,16],[101,3,101,4],[101,5,101,6],[101,7,101,8],[101,9,101,10],[101,11,101,12],[101,13,101,14],[101,15,101,16],[99,3,99,4],[99,5,99,6],[99,7,99,8],[99,9,99,10],[99,11,99,12],[99,13,99,14],[102,3,102,4],[102,5,102,6],[102,7,102,8],[102,9,102,10],[102,11,102,12],[97,3,97,4],[97,5,97,6],[97,7,97,8],[97,9,97,10],[97,11,97,12],[97,13,97,14],[97,15,97,16],[95,3,95,4],[95,5,95,6],[95,7,95,8],[95,9,95,10],[95,11,95,12],[95,13,95,14],[91,15,91,16],[93,3,93,4],[93,5,93,6],[93,7,93,8],[93,9,93,10]],"merged_total":1509,"flags":["merged_cut"]}
[]
[null,null,null,"Overblik over de uddybende ledelsestilsyn på børnehandicapområdet"]
[null,null,null,"Her kan du se hvilke uddybende tilsyn der er udarbejdet. Alt du behøver er indtastet og du ser kun de tilsyn som du har udfyldt.\nPå de grå pile kan du sortere og udvælge det, som du gerne vil se under hvert tema."]
[null,null,null,"Du kan se en introduktion til, hvordan du kan arbejde med det uddybende tilsyn her."]
[null,null,null,{"$f":"'Skabelon, B&U'!B113","v":"Samarbejde med kommunen"},null,{"$f":"'Skabelon, B&U'!B130","v":"Oplysning af sagen samt faglig udredning og vurdering"},null,{"$f":"'Skabelon, B&U'!B146","v":"Inddragelse af barnet, forældrene og andre"},null,{"$f":"'Skabelon, B&U'!B170","v":"Partsrepræsentation"},null,{"$f":"'Skabelon, B&U'!B184","v":"Afgørelse"},null,{"$f":"'Skabelon, B&U'!B204","v":"Barnets plan / Ungeplan"},null,{"$f":"'Skabelon, B&U'!B225","v":"Opfølgning"}]
[null,"Tilsyn 1","Vi bør gøre",{"$f":"IFERROR(Hjælpeark!AE62,\"\")","v":""},null,{"$f":"IFERROR(Hjælpeark!AF62,\"\")","v":""},null,{"$f":"IFERROR(Hjælpeark!AG62,\"\")","v":""},null,{"$f":"IFERROR(Hjælpeark!AH62,\"\")","v":""},null,{"$f":"IFERROR(Hjælpeark!AI62,\"\")","v":""},null,{"$f":"IFERROR(Hjælpeark!AJ62,\"\")","v":""},null,{"$f":"IFERROR(Hjælpeark!AK62,\"\")","v":""},null,null,null,null,{"$f":"COUNTIF(V6:AC6,\"SAND\")","v":0},{"$f":"SUMPRODUCT(--ISNUMBER(SEARCH(Liste,D6)))>0","v":false},{"$f":"SUMPRODUCT(--ISNUMBER(SEARCH(Liste,F6)))>0","v":false},{"$f":"SUMPRODUCT(--ISNUMBER(SEARCH(Liste,H6)))>0","v":false},{"$f":"SUMPRODUCT(--ISNUMBER(SEARCH(Liste,J6)))>0","v":false},{"$f":"SUMPRODUCT(--ISNUMBER(SEARCH(Liste,L6)))>0","v":false},{"$f":"SUMPRODUCT(--ISNUMBER(SEARCH(Liste,N6)))>0","v":false},{"$f":"SUMPRODUCT(--ISNUMBER(SEARCH(Liste,P6)))>0","v":false}]
[null,null,"Vi med fordel kan gøre",{"$f":"IFERROR(Hjælpeark!AE63,\"\")","v":""},null,{"$f":"IFERROR(Hjælpeark!AF63,\"\")","v":""},null,{"$f":"IFERROR(Hjælpeark!AG63,\"\")","v":""},null,{"$f":"IFERROR(Hjælpeark!AH63,\"\")","v":""},null,{"$f":"IFERROR(Hjælpeark!AI63,\"\")","v":""},null,{"$f":"IFERROR(Hjælpeark!AJ63,\"\")","v":""},null,{"$f":"IFERROR(Hjælpeark!AK63,\"\")","v":""},null,null,null,null,{"$f":"COUNTIF(V7:AC7,\"SAND\")","v":0},false,false,false,false,false,false,false]
[null,"Tilsyn 2",{"$f":"C6","v":"Vi bør gøre"},{"$f":"IFERROR(Hjælpeark!AE64,\"\")","v":""},null,{"$f":"IFERROR(Hjælpeark!AF64,\"\")","v":""},null,{"$f":"IFERROR(Hjælpeark!AG64,\"\")","v":""},null,{"$f":"IFERROR(Hjælpeark!AH64,\"\")","v":""},null,{"$f":"IFERROR(Hjælpeark!AI64,\"\")","v":""},null,{"$f":"IFERROR(Hjælpeark!AJ64,\"\")","v":""},null,{"$f":"IFERROR(Hjælpeark!AK64,\"\")","v":""},null,null,null,null,0,false,false,false,false,false,false,false]
[null,null,"Vi med fordel kan gøre",{"$f":"IFERROR(Hjælpeark!AE65,\"\")","v":""},null,{"$f":"IFERROR(Hjælpeark!AF65,\"\")","v":""},null,{"$f":"IFERROR(Hjælpeark!AG65,\"\")","v":""},null,{"$f":"IFERROR(Hjælpeark!AH65,\"\")","v":""},null,{"$f":"IFERROR(Hjælpeark!AI65,\"\")","v":""},null,{"$f":"IFERROR(Hjælpeark!AJ65,\"\")","v":""},null,{"$f":"IFERROR(Hjælpeark!AK65,\"\")","v":""},null,null,null,null,0,false,false,false,false,false,false,false]
[null,"Tilsyn 3","Vi bør gøre",{"$f":"IFERROR(Hjælpeark!AE66,\"\")","v":""},null,{"$f":"IFERROR(Hjælpeark!AF66,\"\")","v":""},null,{"$f":"IFERROR(Hjælpeark!AG66,\"\")","v":""},null,{"$f":"IFERROR(Hjælpeark!AH66,\"\")","v":""},null,{"$f":"IFERROR(Hjælpeark!AI66,\"\")","v":""},null,{"$f":"IFERROR(Hjælpeark!AJ66,\"\")","v":""},null,{"$f":"IFERROR(Hjælpeark!AK66,\"\")","v":""},null,null,null,null,0,false,false,false,false,false,false,false]
[null,null,"Vi med fordel kan gøre",{"$f":"IFERROR(Hjælpeark!AE67,\"\")","v":""},null,{"$f":"IFERROR(Hjælpeark!AF67,\"\")","v":""},null,{"$f":"IFERROR(Hjælpeark!AG67,\"\")","v":""},null,{"$f":"IFERROR(Hjælpeark!AH67,\"\")","v":""},null,{"$f":"IFERROR(Hjælpeark!AI67,\"\")","v":""},null,{"$f":"IFERROR(Hjælpeark!AJ67,\"\")","v":""},null,{"$f":"IFERROR(Hjælpeark!AK67,\"\")","v":""},null,null,null,null,0,false,false,false,false,false,false,false]
[null,"Tilsyn 4","Vi bør gøre",{"$f":"IFERROR(Hjælpeark!AE68,\"\")","v":""},null,{"$f":"IFERROR(Hjælpeark!AF68,\"\")","v":""},null,{"$f":"IFERROR(Hjælpeark!AG68,\"\")","v":""},null,{"$f":"IFERROR(Hjælpeark!AH68,\"\")","v":""},null,{"$f":"IFERROR(Hjælpeark!AI68,\"\")","v":""},null,{"$f":"IFERROR(Hjælpeark!AJ68,\"\")","v":""},null,{"$f":"IFERROR(Hjælpeark!AK68,\"\")","v":""},null,null,null,null,0,false,false,false,false,false,false,false]
[null,null,"Vi med fordel kan gøre",{"$f":"IFERROR(Hjælpeark!AE69,\"\")","v":""},null,{"$f":"IFERROR(Hjælpeark!AF69,\"\")","v":""},null,{"$f":"IFERROR(Hjælpeark!AG69,\"\")","v":""},null,{"$f":"IFERROR(Hjælpeark!AH69,\"\")","v":""},null,{"$f":"IFERROR(Hjælpeark!AI69,\"\")","v":""},null,{"$f":"IFERROR(Hjælpeark!AJ69,\"\")","v":""},null,{"$f":"IFERROR(Hjælpeark!AK69,\"\")","v":""},null,null,null,null,0,false,false,false,false,false,false,false]
[null,"Tilsyn 5","Vi bør gøre",{"$f":"IFERROR(Hjælpeark!AE70,\"\")","v":""},null,{"$f":"IFERROR(Hjælpeark!AF70,\"\")","v":""},null,{"$f":"IFERROR(Hjælpeark!AG70,\"\")","v":""},null,{"$f":"IFERROR(Hjælpeark!AH70,\"\")","v":""},null,{"$f":"IFERROR(Hjælpeark!AI70,\"\")","v":""},null,{"$f":"IFERROR(Hjælpeark!AJ70,\"\")","v":""},null,{"$f":"IFERROR(Hjælpeark!AK70,\"\")","v":""},null,null,null,null,0,false,false,false,false,false,false,false]
[null,null,"Vi med fordel kan gøre",{"$f":"IFERROR(Hjælpeark!AE71,\"\")","v":""},null,{"$f":"IFERROR(Hjælpeark!AF71,\"\")","v":""},null,{"$f":"IFERROR(Hjælpeark!AG71,\"\")","v":""},null,{"$f":"IFERROR(Hjælpeark!AH71,\"\")","v":""},null,{"$f":"IFERROR(Hjælpeark!AI71,\"\")","v":""},null,{"$f":"IFERROR(Hjælpeark!AJ71,\"\")","v":""},null,{"$f":"IFERROR(Hjælpeark!AK71,\"\")","v":""},null,null,null,null,0,false,false,false,false,false,false,false]
[null,"Tilsyn 6","Vi bør gøre",{"$f":"IFERROR(Hjælpeark!AE72,\"\")","v":""},null,{"$f":"IFERROR(Hjælpeark!AF72,\"\")","v":""},null,{"$f":"IFERROR(Hjælpeark!AG72,\"\")","v":""},null,{"$f":"IFERROR(Hjælpeark!AH72,\"\")","v":""},null,{"$f":"IFERROR(Hjælpeark!AI72,\"\")","v":""},null,{"$f":"IFERROR(Hjælpeark!AJ72,\"\")","v":""},null,{"$f":"IFERROR(Hjælpeark!AK72,\"\")","v":""},null,null,null,null,0,false,false,false,false,false,false,false]
[null,null,"Vi med fordel kan gøre",{"$f":"IFERROR(Hjælpeark!AE73,\"\")","v":""},null,{"$f":"IFERROR(Hjælpeark!AF73,\"\")","v":""},null,{"$f":"IFERROR(Hjælpeark!AG73,\"\")","v":""},null,{"$f":"IFERROR(Hjælpeark!AH73,\"\")","v":""},null,{"$f":"IFERROR(Hjælpeark!AI73,\"\")","v":""},null,{"$f":"IFERROR(Hjælpeark!AJ73,\"\")","v":""},null,{"$f":"IFERROR(Hjælpeark!AK73,\"\")","v":""},null,null,null,null,0,false,false,false,false,false,false,false]
[null,"Tilsyn 7","Vi bør gøre",{"$f":"IFERROR(Hjælpeark!AE74,\"\")","v":""},null,{"$f":"IFERROR(Hjælpeark!AF74,\"\")","v":""},null,{"$f":"IFERROR(Hjælpeark!AG74,\"\")","v":""},null,{"$f":"IFERROR(Hjælpeark!AH74,\"\")","v":""},null,{"$f":"IFERROR(Hjælpeark!AI74,\"\")","v":""},null,{"$f":"IFERROR(Hjælpeark!AJ74,\"\")","v":""},null,{"$f":"IFERROR(Hjælpeark!AK74,\"\")","v":""},null,null,null,null,0,false,false,false,false,false,false,false]
[null,null,"Vi med fordel kan gøre",{"$f":"IFERROR(Hjælpeark!AE75,\"\")","v":""},null,{"$f":"IFERROR(Hjælpeark!AF75,\"\")","v":""},null,{"$f":"IFERROR(Hjælpeark!AG75,\"\")","v":""},null,{"$f":"IFERROR(Hjælpeark!AH75,\"\")","v":""},null,{"$f":"IFERROR(Hjælpeark!AI75,\"\")","v":""},null,{"$f":"IFERROR(Hjælpeark!AJ75,\"\")","v":""},null,{"$f":"IFERROR(Hjælpeark!AK75,\"\")","v":""},null,null,null,null,0,false,false,false,false,false,false,false]
[null,"Tilsyn 8","Vi bør gøre",{"$f":"IFERROR(Hjælpeark!AE76,\"\")","v":""},null,{"$f":"IFERROR(Hjælpeark!AF76,\"\")","v":""},null,{"$f":"IFERROR(Hjælpeark!AG76,\"\")","v":""},null,{"$f":"IFERROR(Hjælpeark!AH76,\"\")","v":""},null,{"$f":"IFERROR(Hjælpeark!AI76,\"\")","v":""},null,{"$f":"IFERROR(Hjælpeark!AJ76,\"\")","v":""},null,{"$f":"IFERROR(Hjælpeark!AK76,\"\")","v":""},null,null,null,null,0,false,false,false,false,false,false,false]
[null,null,"Vi med fordel kan gøre",{"$f":"IFERROR(Hjælpeark!AE77,\"\")","v":""},null,{"$f":"IFERROR(Hjælpeark!AF77,\"\")","v":""},null,{"$f":"IFERROR(Hjælpeark!AG77,\"\")","v":""},null,{"$f":"IFERROR(Hjælpeark!AH77,\"\")","v":""},null,{"$f":"IFERROR(Hjælpeark!AI77,\"\")","v":""},null,{"$f":"IFERROR(Hjælpeark!AJ77,\"\")","v":""},null,{"$f":"IFERROR(Hjælpeark!AK77,\"\")","v":""},null,null,null,null,0,false,false,false,false,false,false,false]
[null,"Tilsyn 9","Vi bør gøre",{"$f":"IFERROR(Hjælpeark!AE78,\"\")","v":""},null,{"$f":"IFERROR(Hjælpeark!AF78,\"\")","v":""},null,{"$f":"IFERROR(Hjælpeark!AG78,\"\")","v":""},null,{"$f":"IFERROR(Hjælpeark!AH78,\"\")","v":""},null,{"$f":"IFERROR(Hjælpeark!AI78,\"\")","v":""},null,{"$f":"IFERROR(Hjælpeark!AJ78,\"\")","v":""},null,{"$f":"IFERROR(Hjælpeark!AK78,\"\")","v":""},null,null,null,null,0,false,false,false,false,false,false,false]
[null,null,"Vi med fordel kan gøre",{"$f":"IFERROR(Hjælpeark!AE79,\"\")","v":""},null,{"$f":"IFERROR(Hjælpeark!AF79,\"\")","v":""},null,{"$f":"IFERROR(Hjælpeark!AG79,\"\")","v":""},null,{"$f":"IFERROR(Hjælpeark!AH79,\"\")","v":""},null,{"$f":"IFERROR(Hjælpeark!AI79,\"\")","v":""},null,{"$f":"IFERROR(Hjælpeark!AJ79,\"\")","v":""},null,{"$f":"IFERROR(Hjælpeark!AK79,\"\")","v":""},null,null,null,null,0,false,false,false,false,false,false,false]
[null,"Tilsyn 10","Vi bør gøre",{"$f":"IFERROR(Hjælpeark!AE80,\"\")","v":""},null,{"$f":"IFERROR(Hjælpeark!AF80,\"\")","v":""},null,{"$f":"IFERROR(Hjælpeark!AG80,\"\")","v":""},null,{"$f":"IFERROR(Hjælpeark!AH80,\"\")","v":""},null,{"$f":"IFERROR(Hjælpeark!AI80,\"\")","v":""},null,{"$f":"IFERROR(Hjælpeark!AJ80,\"\")","v":""},null,{"$f":"IFERROR(Hjælpeark!AK80,\"\")","v":""},null,null,null,null,0,false,false,false,false,false,false,false]
[null,null,"Vi med fordel kan gøre",{"$f":"IFERROR(Hjælpeark!AE81,\"\")","v":""},null,{"$f":"IFERROR(Hjælpeark!AF81,\"\")","v":""},null,{"$f":"IFERROR(Hjælpeark!AG81,\"\")","v":""},null,{"$f":"IFERROR(Hjælpeark!AH81,\"\")","v":""},null,{"$f":"IFERROR(Hjælpeark!AI81,\"\")","v":""},null,{"$f":"IFERROR(Hjælpeark!AJ81,\"\")","v":""},null,{"$f":"IFERROR(Hjælpeark!AK81,\"\")","v":""},null,null,null,null,0,false,false,false,false,false,false,false]
[null,"Tilsyn 11","Vi bør gøre",{"$f":"IFERROR(Hjælpeark!AE82,\"\")","v":""},null,{"$f":"IFERROR(Hjælpeark!AF82,\"\")","v":""},null,{"$f":"IFERROR(Hjælpeark!AG82,\"\")","v":""},null,{"$f":"IFERROR(Hjælpeark!AH82,\"\")","v":""},null,{"$f":"IFERROR(Hjælpeark!AI82,\"\")","v":""},null,{"$f":"IFERROR(Hjælpeark!AJ82,\"\")","v":""},null,{"$f":"IFERROR(Hjælpeark!AK82,\"\")","v":""},null,null,null,null,0,false,false,false,false,false,false,false]
[null,null,"Vi med fordel kan gøre",{"$f":"IFERROR(Hjælpeark!AE83,\"\")","v":""},null,{"$f":"IFERROR(Hjælpeark!AF83,\"\")","v":""},null,{"$f":"IFERROR(Hjælpeark!AG83,\"\")","v":""},null,{"$f":"IFERROR(Hjælpeark!AH83,\"\")","v":""},null,{"$f":"IFERROR(Hjælpeark!AI83,\"\")","v":""},null,{"$f":"IFERROR(Hjælpeark!AJ83,\"\")","v":""},null,{"$f":"IFERROR(Hjælpeark!AK83,\"\")","v":""},null,null,null,null,0,false,false,false,false,false,false,false]
[null,"Tilsyn 12","Vi bør gøre",{"$f":"IFERROR(Hjælpeark!AE84,\"\")","v":""},null,{"$f":"IFERROR(Hjælpeark!AF84,\"\")","v":""},null,{"$f":"IFERROR(Hjælpeark!AG84,\"\")","v":""},null,{"$f":"IFERROR(Hjælpeark!AH84,\"\")","v":""},null,{"$f":"IFERROR(Hjælpeark!AI84,\"\")","v":""},null,{"$f":"IFERROR(Hjælpeark!AJ84,\"\")","v":""},null,{"$f":"IFERROR(Hjælpeark!AK84,\"\")","v":""},null,null,null,null,0,false,false,false,false,false,false,false]
[null,null,"Vi med fordel kan gøre",{"$f":"IFERROR(Hjælpeark!AE85,\"\")","v":""},null,{"$f":"IFERROR(Hjælpeark!AF85,\"\")","v":""},null,{"$f":"IFERROR(Hjælpeark!AG85,\"\")","v":""},null,{"$f":"IFERROR(Hjælpeark!AH85,\"\")","v":""},null,{"$f":"IFERROR(Hjælpeark!AI85,\"\")","v":""},null,{"$f":"IFERROR(Hjælpeark!AJ85,\"\")","v":""},null,{"$f":"IFERROR(Hjælpeark!AK85,\"\")","v":""},null,null,null,null,0,false,false,false,false,false,false,false]
[null,"Tilsyn 13","Vi bør gøre",{"$f":"IFERROR(Hjælpeark!AE86,\"\")","v":""},null,{"$f":"IFERROR(Hjælpeark!AF86,\"\")","v":""},null,{"$f":"IFERROR(Hjælpeark!AG86,\"\")","v":""},null,{"$f":"IFERROR(Hjælpeark!AH86,\"\")","v":""},null,{"$f":"IFERROR(Hjælpeark!AI86,\"\")","v":""},null,{"$f":"IFERROR(Hjælpeark!AJ86,\"\")","v":""},null,{"$f":"IFERROR(Hjælpeark!AK86,\"\")","v":""},null,null,null,null,0,false,false,false,false,false,false,false]
[null,null,"Vi med fordel kan gøre",{"$f":"IFERROR(Hjælpeark!AE87,\"\")","v":""},null,{"$f":"IFERROR(Hjælpeark!AF87,\"\")","v":""},null,{"$f":"IFERROR(Hjælpeark!AG87,\"\")","v":""},null,{"$f":"IFERROR(Hjælpeark!AH87,\"\")","v":""},null,{"$f":"IFERROR(Hjælpeark!AI87,\"\")","v":""},null,{"$f":"IFERROR(Hjælpeark!AJ87,\"\")","v":""},null,{"$f":"IFERROR(Hjælpeark!AK87,\"\")","v":""},null,null,null,null,0,false,false,false,false,false,false,false]
[null,"Tilsyn 14","Vi bør gøre",{"$f":"IFERROR(Hjælpeark!AE88,\"\")","v":""},null,{"$f":"IFERROR(Hjælpeark!AF88,\"\")","v":""},null,{"$f":"IFERROR(Hjælpeark!AG88,\"\")","v":""},null,{"$f":"IFERROR(Hjælpeark!AH88,\"\")","v":""},null,{"$f":"IFERROR(Hjælpeark!AI88,\"\")","v":""},null,{"$f":"IFERROR(Hjælpeark!AJ88,\"\")","v":""},null,{"$f":"IFERROR(Hjælpeark!AK88,\"\")","v":""},null,null,null,null,0,false,false,false,false,false,false,false]
[null,null,"Vi med fordel kan gøre",{"$f":"IFERROR(Hjælpeark!AE89,\"\")","v":""},null,{"$f":"IFERROR(Hjælpeark!AF89,\"\")","v":""},null,{"$f":"IFERROR(Hjælpeark!AG89,\"\")","v":""},null,{"$f":"IFERROR(Hjælpeark!AH89,\"\")","v":""},null,{"$f":"IFERROR(Hjælpeark!AI89,\"\")","v":""},null,{"$f":"IFERROR(Hjælpeark!AJ89,\"\")","v":""},null,{"$f":"IFERROR(Hjælpeark!AK89,\"\")","v":""},null,null,null,null,0,false,false,false,false,false,false,false]
[null,"Tilsyn 15","Vi bør gøre",{"$f":"IFERROR(Hjælpeark!AE90,\"\")","v":""},null,{"$f":"IFERROR(Hjælpeark!AF90,\"\")","v":""},null,{"$f":"IFERROR(Hjælpeark!AG90,\"\")","v":""},null,{"$f":"IFERROR(Hjælpeark!AH90,\"\")","v":""},null,{"$f":"IFERROR(Hjælpeark!AI90,\"\")","v":""},null,{"$f":"IFERROR(Hjælpeark!AJ90,\"\")","v":""},null,{"$f":"IFERROR(Hjælpeark!AK90,\"\")","v":""},null,null,null,null,0,false,false,false,false,false,false,false]
[null,null,"Vi med fordel kan gøre",{"$f":"IFERROR(Hjælpeark!AE91,\"\")","v":""},null,{"$f":"IFERROR(Hjælpeark!AF91,\"\")","v":""},null,{"$f":"IFERROR(Hjælpeark!AG91,\"\")","v":""},null,{"$f":"IFERROR(Hjælpeark!AH91,\"\")","v":""},null,{"$f":"IFERROR(Hjælpeark!AI91,\"\")","v":""},null,{"$f":"IFERROR(Hjælpeark!AJ91,\"\")","v":""},null,{"$f":"IFERROR(Hjælpeark!AK91,\"\")","v":""},null,null,null,null,0,false,false,false,false,false,false,false]
[null,"Tilsyn 16","Vi bør gøre",{"$f":"IFERROR(Hjælpeark!AE92,\"\")","v":""},null,{"$f":"IFERROR(Hjælpeark!AF92,\"\")","v":""},null,{"$f":"IFERROR(Hjælpeark!AG92,\"\")","v":""},null,{"$f":"IFERROR(Hjælpeark!AH92,\"\")","v":""},null,{"$f":"IFERROR(Hjælpeark!AI92,\"\")","v":""},null,{"$f":"IFERROR(Hjælpeark!AJ92,\"\")","v":""},null,{"$f":"IFERROR(Hjælpeark!AK92,\"\")","v":""},null,null,null,null,0,false,false,false,false,false,false,false]
[null,null,"Vi med fordel kan gøre",{"$f":"IFERROR(Hjælpeark!AE93,\"\")","v":""},null,{"$f":"IFERROR(Hjælpeark!AF93,\"\")","v":""},null,{"$f":"IFERROR(Hjælpeark!AG93,\"\")","v":""},null,{"$f":"IFERROR(Hjælpeark!AH93,\"\")","v":""},null,{"$f":"IFERROR(Hjælpeark!AI93,\"\")","v":""},null,{"$f":"IFERROR(Hjælpeark!AJ93,\"\")","v":""},null,{"$f":"IFERROR(Hjælpeark!AK93,\"\")","v":""},null,null,null,null,0,false,false,false,false,false,false,false]
[null,"Tilsyn 17","Vi bør gøre",{"$f":"IFERROR(Hjælpeark!AE94,\"\")","v":""},null,{"$f":"IFERROR(Hjælpeark!AF94,\"\")","v":""},null,{"$f":"IFERROR(Hjælpeark!AG94,\"\")","v":""},null,{"$f":"IFERROR(Hjælpeark!AH94,\"\")","v":""},null,{"$f":"IFERROR(Hjælpeark!AI94,\"\")","v":""},null,{"$f":"IFERROR(Hjælpeark!AJ94,\"\")","v":""},null,{"$f":"IFERROR(Hjælpeark!AK94,\"\")","v":""},null,null,null,null,0,{"$f":"SUMPRODUCT(--ISNUMBER(SEARCH(Liste,D38)))>0","v":false},{"$f":"SUMPRODUCT(--ISNUMBER(SEARCH(Liste,F38)))>0","v":false},{"$f":"SUMPRODUCT(--ISNUMBER(SEARCH(Liste,H38)))>0","v":false},{"$f":"SUMPRODUCT(--ISNUMBER(SEARCH(Liste,J38)))>0","v":false},{"$f":"SUMPRODUCT(--ISNUMBER(SEARCH(Liste,L38)))>0","v":false},{"$f":"SUMPRODUCT(--ISNUMBER(SEARCH(Liste,N38)))>0","v":false},{"$f":"SUMPRODUCT(--ISNUMBER(SEARCH(Liste,P38)))>0","v":false}]
[null,null,"Vi med fordel kan gøre",{"$f":"IFERROR(Hjælpeark!AE95,\"\")","v":""},null,{"$f":"IFERROR(Hjælpeark!AF95,\"\")","v":""},null,{"$f":"IFERROR(Hjælpeark!AG95,\"\")","v":""},null,{"$f":"IFERROR(Hjælpeark!AH95,\"\")","v":""},null,{"$f":"IFERROR(Hjælpeark!AI95,\"\")","v":""},null,{"$f":"IFERROR(Hjælpeark!AJ95,\"\")","v":""},null,{"$f":"IFERROR(Hjælpeark!AK95,\"\")","v":""},null,null,null,null,0,false,false,false,false,false,false,false]
[null,"Tilsyn 18",{"$f":"C38","v":"Vi bør gøre"},{"$f":"IFERROR(Hjælpeark!AE96,\"\")","v":""},null,{"$f":"IFERROR(Hjælpeark!AF96,\"\")","v":""},null,{"$f":"IFERROR(Hjælpeark!AG96,\"\")","v":""},null,{"$f":"IFERROR(Hjælpeark!AH96,\"\")","v":""},null,{"$f":"IFERROR(Hjælpeark!AI96,\"\")","v":""},null,{"$f":"IFERROR(Hjælpeark!AJ96,\"\")","v":""},null,{"$f":"IFERROR(Hjælpeark!AK96,\"\")","v":""},null,null,null,null,0,false,false,false,false,false,false,false]
[null,null,"Vi med fordel kan gøre",{"$f":"IFERROR(Hjælpeark!AE97,\"\")","v":""},null,{"$f":"IFERROR(Hjælpeark!AF97,\"\")","v":""},null,{"$f":"IFERROR(Hjælpeark!AG97,\"\")","v":""},null,{"$f":"IFERROR(Hjælpeark!AH97,\"\")","v":""},null,{"$f":"IFERROR(Hjælpeark!AI97,\"\")","v":""},null,{"$f":"IFERROR(Hjælpeark!AJ97,\"\")","v":""},null,{"$f":"IFERROR(Hjælpeark!AK97,\"\")","v":""},null,null,null,null,0,false,false,false,false,false,false,false]
[null,"Tilsyn 19","Vi bør gøre",{"$f":"IFERROR(Hjælpeark!AE98,\"\")","v":""},null,{"$f":"IFERROR(Hjælpeark!AF98,\"\")","v":""},null,{"$f":"IFERROR(Hjælpeark!AG98,\"\")","v":""},null,{"$f":"IFERROR(Hjælpeark!AH98,\"\")","v":""},null,{"$f":"IFERROR(Hjælpeark!AI98,\"\")","v":""},null,{"$f":"IFERROR(Hjælpeark!AJ98,\"\")","v":""},null,{"$f":"IFERROR(Hjælpeark!AK98,\"\")","v":""},null,null,null,null,0,false,false,false,false,false,false,false]
[null,null,"Vi med fordel kan gøre",{"$f":"IFERROR(Hjælpeark!AE99,\"\")","v":""},null,{"$f":"IFERROR(Hjælpeark!AF99,\"\")","v":""},null,{"$f":"IFERROR(Hjælpeark!AG99,\"\")","v":""},null,{"$f":"IFERROR(Hjælpeark!AH99,\"\")","v":""},null,{"$f":"IFERROR(Hjælpeark!AI99,\"\")","v":""},null,{"$f":"IFERROR(Hjælpeark!AJ99,\"\")","v":""},null,{"$f":"IFERROR(Hjælpeark!AK99,\"\")","v":""},null,null,null,null,0,false,false,false,false,false,false,false]
[null,"Tilsyn 20","Vi bør gøre",{"$f":"IFERROR(Hjælpeark!AE100,\"\")","v":""},null,{"$f":"IFERROR(Hjælpeark!AF100,\"\")","v":""},null,{"$f":"IFERROR(Hjælpeark!AG100,\"\")","v":""},null,{"$f":"IFERROR(Hjælpeark!AH100,\"\")","v":""},null,{"$f":"IFERROR(Hjælpeark!AI100,\"\")","v":""},null,{"$f":"IFERROR(Hjælpeark!AJ100,\"\")","v":""},null,{"$f":"IFERROR(Hjælpeark!AK100,\"\")","v":""},null,null,null,null,0,false,false,false,false,false,false,false]
[null,null,"Vi med fordel kan gøre",{"$f":"IFERROR(Hjælpeark!AE101,\"\")","v":""},null,{"$f":"IFERROR(Hjælpeark!AF101,\"\")","v":""},null,{"$f":"IFERROR(Hjælpeark!AG101,\"\")","v":""},null,{"$f":"IFERROR(Hjælpeark!AH101,\"\")","v":""},null,{"$f":"IFERROR(Hjælpeark!AI101,\"\")","v":""},null,{"$f":"IFERROR(Hjælpeark!AJ101,\"\")","v":""},null,{"$f":"IFERROR(Hjælpeark!AK101,\"\")","v":""},null,null,null,null,0,false,false,false,false,false,false,false]
[null,"Tilsyn 21","Vi bør gøre",{"$f":"IFERROR(Hjælpeark!AE102,\"\")","v":""},null,{"$f":"IFERROR(Hjælpeark!AF102,\"\")","v":""},null,{"$f":"IFERROR(Hjælpeark!AG102,\"\")","v":""},null,{"$f":"IFERROR(Hjælpeark!AH102,\"\")","v":""},null,{"$f":"IFERROR(Hjælpeark!AI102,\"\")","v":""},null,{"$f":"IFERROR(Hjælpeark!AJ102,\"\")","v":""},null,{"$f":"IFERROR(Hjælpeark!AK102,\"\")","v":""},null,null,null,null,0,false,false,false,false,false,false,false]
[null,null,"Vi med fordel kan gøre",{"$f":"IFERROR(Hjælpeark!AE103,\"\")","v":""},null,{"$f":"IFERROR(Hjælpeark!AF103,\"\")","v":""},null,{"$f":"IFERROR(Hjælpeark!AG103,\"\")","v":""},null,{"$f":"IFERROR(Hjælpeark!AH103,\"\")","v":""},null,{"$f":"IFERROR(Hjælpeark!AI103,\"\")","v":""},null,{"$f":"IFERROR(Hjælpeark!AJ103,\"\")","v":""},null,{"$f":"IFERROR(Hjælpeark!AK103,\"\")","v":""},null,null,null,null,0,false,false,false,false,false,false,false]
[null,"Tilsyn 22","Vi bør gøre",{"$f":"IFERROR(Hjælpeark!AE104,\"\")","v":""},null,{"$f":"IFERROR(Hjælpeark!AF104,\"\")","v":""},null,{"$f":"IFERROR(Hjælpeark!AG104,\"\")","v":""},null,{"$f":"IFERROR(Hjælpeark!AH104,\"\")","v":""},null,{"$f":"IFERROR(Hjælpeark!AI104,\"\")","v":""},null,{"$f":"IFERROR(Hjælpeark!AJ104,\"\")","v":""},null,{"$f":"IFERROR(Hjælpeark!AK104,\"\")","v":""},null,null,null,null,0,false,false,false,false,false,false,false]
[null,null,"Vi med fordel kan gøre",{"$f":"IFERROR(Hjælpeark!AE105,\"\")","v":""},null,{"$f":"IFERROR(Hjælpeark!AF105,\"\")","v":""},null,{"$f":"IFERROR(Hjælpeark!AG105,\"\")","v":""},null,{"$f":"IFERROR(Hjælpeark!AH105,\"\")","v":""},null,{"$f":"IFERROR(Hjælpeark!AI105,\"\")","v":""},null,{"$f":"IFERROR(Hjælpeark!AJ105,\"\")","v":""},null,{"$f":"IFERROR(Hjælpeark!AK105,\"\")","v":""},null,null,null,null,0,false,false,false,false,false,false,false]
[null,"Tilsyn 23","Vi bør gøre",{"$f":"IFERROR(Hjælpeark!AE106,\"\")","v":""},null,{"$f":"IFERROR(Hjælpeark!AF106,\"\")","v":""},null,{"$f":"IFERROR(Hjælpeark!AG106,\"\")","v":""},null,{"$f":"IFERROR(Hjælpeark!AH106,\"\")","v":""},null,{"$f":"IFERROR(Hjælpeark!AI106,\"\")","v":""},null,{"$f":"IFERROR(Hjælpeark!AJ106,\"\")","v":""},null,{"$f":"IFERROR(Hjælpeark!AK106,\"\")","v":""},null,null,null,null,0,false,false,false,false,false,false,false]
[null,null,"Vi med fordel kan gøre",{"$f":"IFERROR(Hjælpeark!AE107,\"\")","v":""},null,{"$f":"IFERROR(Hjælpeark!AF107,\"\")","v":""},null,{"$f":"IFERROR(Hjælpeark!AG107,\"\")","v":""},null,{"$f":"IFERROR(Hjælpeark!AH107,\"\")","v":""},null,{"$f":"IFERROR(Hjælpeark!AI107,\"\")","v":""},null,{"$f":"IFERROR(Hjælpeark!AJ107,\"\")","v":""},null,{"$f":"IFERROR(Hjælpeark!AK107,\"\")","v":""},null,null,null,null,0,false,false,false,false,false,false,false]
[null,"Tilsyn 24","Vi bør gøre",{"$f":"IFERROR(Hjælpeark!AE108,\"\")","v":""},null,{"$f":"IFERROR(Hjælpeark!AF108,\"\")","v":""},null,{"$f":"IFERROR(Hjælpeark!AG108,\"\")","v":""},null,{"$f":"IFERROR(Hjælpeark!AH108,\"\")","v":""},null,{"$f":"IFERROR(Hjælpeark!AI108,\"\")","v":""},null,{"$f":"IFERROR(Hjælpeark!AJ108,\"\")","v":""},null,{"$f":"IFERROR(Hjælpeark!AK108,\"\")","v":""},null,null,null,null,0,false,false,false,false,false,false,false]
[null,null,"Vi med fordel kan gøre",{"$f":"IFERROR(Hjælpeark!AE109,\"\")","v":""},null,{"$f":"IFERROR(Hjælpeark!AF109,\"\")","v":""},null,{"$f":"IFERROR(Hjælpeark!AG109,\"\")","v":""},null,{"$f":"IFERROR(Hjælpeark!AH109,\"\")","v":""},null,{"$f":"IFERROR(Hjælpeark!AI109,\"\")","v":""},null,{"$f":"IFERROR(Hjælpeark!AJ109,\"\")","v":""},null,{"$f":"IFERROR(Hjælpeark!AK109,\"\")","v":""},null,null,null,null,0,false,false,false,false,false,false,false]
[null,"Tilsyn 25","Vi bør gøre",{"$f":"IFERROR(Hjælpeark!AE110,\"\")","v":""},null,{"$f":"IFERROR(Hjælpeark!AF110,\"\")","v":""},null,{"$f":"IFERROR(Hjælpeark!AG110,\"\")","v":""},null,{"$f":"IFERROR(Hjælpeark!AH110,\"\")","v":""},null,{"$f":"IFERROR(Hjælpeark!AI110,\"\")","v":""},null,{"$f":"IFERROR(Hjælpeark!AJ110,\"\")","v":""},null,{"$f":"IFERROR(Hjælpeark!AK110,\"\")","v":""},null,null,null,null,0,false,false,false,false,false,false,false]
[null,null,"Vi med fordel kan gøre",{"$f":"IFERROR(Hjælpeark!AE111,\"\")","v":""},null,{"$f":"IFERROR(Hjælpeark!AF111,\"\")","v":""},null,{"$f":"IFERROR(Hjælpeark!AG111,\"\")","v":""},null,{"$f":"IFERROR(Hjælpeark!AH111,\"\")","v":""},null,{"$f":"IFERROR(Hjælpeark!AI111,\"\")","v":""},null,{"$f":"IFERROR(Hjælpeark!AJ111,\"\")","v":""},null,{"$f":"IFERROR(Hjælpeark!AK111,\"\")","v":""},null,null,null,null,0,false,false,false,false,false,false,false]
[null,"Tilsyn 26","Vi bør gøre",{"$f":"IFERROR(Hjælpeark!AE112,\"\")","v":""},null,{"$f":"IFERROR(Hjælpeark!AF112,\"\")","v":""},null,{"$f":"IFERROR(Hjælpeark!AG112,\"\")","v":""},null,{"$f":"IFERROR(Hjælpeark!AH112,\"\")","v":""},null,{"$f":"IFERROR(Hjælpeark!AI112,\"\")","v":""},null,{"$f":"IFERROR(Hjælpeark!AJ112,\"\")","v":""},null,{"$f":"IFERROR(Hjælpeark!AK112,\"\")","v":""},null,null,null,null,0,false,false,false,false,false,false,false]
[null,null,"Vi med fordel kan gøre",{"$f":"IFERROR(Hjælpeark!AE113,\"\")","v":""},null,{"$f":"IFERROR(Hjælpeark!AF113,\"\")","v":""},null,{"$f":"IFERROR(Hjælpeark!AG113,\"\")","v":""},null,{"$f":"IFERROR(Hjælpeark!AH113,\"\")","v":""},null,{"$f":"IFERROR(Hjælpeark!AI113,\"\")","v":""},null,{"$f":"IFERROR(Hjælpeark!AJ113,\"\")","v":""},null,{"$f":"IFERROR(Hjælpeark!AK113,\"\")","v":""},null,null,null,null,0,false,false,false,false,false,false,false]
[null,"Tilsyn 27","Vi bør gøre",{"$f":"IFERROR(Hjælpeark!AE114,\"\")","v":""},null,{"$f":"IFERROR(Hjælpeark!AF114,\"\")","v":""},null,{"$f":"IFERROR(Hjælpeark!AG114,\"\")","v":""},null,{"$f":"IFERROR(Hjælpeark!AH114,\"\")","v":""},null,{"$f":"IFERROR(Hjælpeark!AI114,\"\")","v":""},null,{"$f":"IFERROR(Hjælpeark!AJ114,\"\")","v":""},null,{"$f":"IFERROR(Hjælpeark!AK114,\"\")","v":""},null,null,null,null,0,false,false,false,false,false,false,false]
[null,null,"Vi med fordel kan gøre",{"$f":"IFERROR(Hjælpeark!AE115,\"\")","v":""},null,{"$f":"IFERROR(Hjælpeark!AF115,\"\")","v":""},null,{"$f":"IFERROR(Hjælpeark!AG115,\"\")","v":""},null,{"$f":"IFERROR(Hjælpeark!AH115,\"\")","v":""},null,{"$f":"IFERROR(Hjælpeark!AI115,\"\")","v":""},null,{"$f":"IFERROR(Hjælpeark!AJ115,\"\")","v":""},null,{"$f":"IFERROR(Hjælpeark!AK115,\"\")","v":""},null,null,null,null,0,false,false,false,false,false,false,false]
[null,"Tilsyn 28","Vi bør gøre",{"$f":"IFERROR(Hjælpeark!AE116,\"\")","v":""},null,{"$f":"IFERROR(Hjælpeark!AF116,\"\")","v":""},null,{"$f":"IFERROR(Hjælpeark!AG116,\"\")","v":""},null,{"$f":"IFERROR(Hjælpeark!AH116,\"\")","v":""},null,{"$f":"IFERROR(Hjælpeark!AI116,\"\")","v":""},null,{"$f":"IFERROR(Hjælpeark!AJ116,\"\")","v":""},null,{"$f":"IFERROR(Hjælpeark!AK116,\"\")","v":""},null,null,null,null,0,false,false,false,false,false,false,false]
[null,null,"Vi med fordel kan gøre",{"$f":"IFERROR(Hjælpeark!AE117,\"\")","v":""},null,{"$f":"IFERROR(Hjælpeark!AF117,\"\")","v":""},null,{"$f":"IFERROR(Hjælpeark!AG117,\"\")","v":""},null,{"$f":"IFERROR(Hjælpeark!AH117,\"\")","v":""},null,{"$f":"IFERROR(Hjælpeark!AI117,\"\")","v":""},null,{"$f":"IFERROR(Hjælpeark!AJ117,\"\")","v":""},null,{"$f":"IFERROR(Hjælpeark!AK117,\"\")","v":""},null,null,null,null,0,false,false,false,false,false,false,false]
[null,"Tilsyn 29","Vi bør gøre",{"$f":"IFERROR(Hjælpeark!AE118,\"\")","v":""},null,{"$f":"IFERROR(Hjælpeark!AF118,\"\")","v":""},null,{"$f":"IFERROR(Hjælpeark!AG118,\"\")","v":""},null,{"$f":"IFERROR(Hjælpeark!AH118,\"\")","v":""},null,{"$f":"IFERROR(Hjælpeark!AI118,\"\")","v":""},null,{"$f":"IFERROR(Hjælpeark!AJ118,\"\")","v":""},null,{"$f":"IFERROR(Hjælpeark!AK118,\"\")","v":""},null,null,null,null,0,false,false,false,false,false,false,false]
[null,null,"Vi med fordel kan gøre",{"$f":"IFERROR(Hjælpeark!AE119,\"\")","v":""},null,{"$f":"IFERROR(Hjælpeark!AF119,\"\")","v":""},null,{"$f":"IFERROR(Hjælpeark!AG119,\"\")","v":""},null,{"$f":"IFERROR(Hjælpeark!AH119,\"\")","v":""},null,{"$f":"IFERROR(Hjælpeark!AI119,\"\")","v":""},null,{"$f":"IFERROR(Hjælpeark!AJ119,\"\")","v":""},null,{"$f":"IFERROR(Hjælpeark!AK119,\"\")","v":""},null,null,null,null,0,false,false,false,false,false,false,false]
[null,"Tilsyn 30","Vi bør gøre",{"$f":"IFERROR(Hjælpeark!AE120,\"\")","v":""},null,{"$f":"IFERROR(Hjælpeark!AF120,\"\")","v":""},null,{"$f":"IFERROR(Hjælpeark!AG120,\"\")","v":""},null,{"$f":"IFERROR(Hjælpeark!AH120,\"\")","v":""},null,{"$f":"IFERROR(Hjælpeark!AI120,\"\")","v":""},null,{"$f":"IFERROR(Hjælpeark!AJ120,\"\")","v":""},null,{"$f":"IFERROR(Hjælpeark!AK120,\"\")","v":""},null,null,null,null,0,false,false,false,false,false,false,false]
[null,null,"Vi med fordel kan gøre",{"$f":"IFERROR(Hjælpeark!AE121,\"\")","v":""},null,{"$f":"IFERROR(Hjælpeark!AF121,\"\")","v":""},null,{"$f":"IFERROR(Hjælpeark!AG121,\"\")","v":""},null,{"$f":"IFERROR(Hjælpeark!AH121,\"\")","v":""},null,{"$f":"IFERROR(Hjælpeark!AI121,\"\")","v":""},null,{"$f":"IFERROR(Hjælpeark!AJ121,\"\")","v":""},null,{"$f":"IFERROR(Hjælpeark!AK121,\"\")","v":""},null,null,null,null,0,false,false,false,false,false,false,false]
[null,"Tilsyn 31","Vi bør gøre",{"$f":"IFERROR(Hjælpeark!AE122,\"\")","v":""},null,{"$f":"IFERROR(Hjælpeark!AF122,\"\")","v":""},null,{"$f":"IFERROR(Hjælpeark!AG122,\"\")","v":""},null,{"$f":"IFERROR(Hjælpeark!AH122,\"\")","v":""},null,{"$f":"IFERROR(Hjælpeark!AI122,\"\")","v":""},null,{"$f":"IFERROR(Hjælpeark!AJ122,\"\")","v":""},null,{"$f":"IFERROR(Hjælpeark!AK122,\"\")","v":""},null,null,null,null,0,false,false,false,false,false,false,false]
[null,null,"Vi med fordel kan gøre",{"$f":"IFERROR(Hjælpeark!AE123,\"\")","v":""},null,{"$f":"IFERROR(Hjælpeark!AF123,\"\")","v":""},null,{"$f":"IFERROR(Hjælpeark!AG123,\"\")","v":""},null,{"$f":"IFERROR(Hjælpeark!AH123,\"\")","v":""},null,{"$f":"IFERROR(Hjælpeark!AI123,\"\")","v":""},null,{"$f":"IFERROR(Hjælpeark!AJ123,\"\")","v":""},null,{"$f":"IFERROR(Hjælpeark!AK123,\"\")","v":""},null,null,null,null,0,false,false,false,false,false,false,false]
[null,"Tilsyn 32","Vi bør gøre",{"$f":"IFERROR(Hjælpeark!AE124,\"\")","v":""},null,{"$f":"IFERROR(Hjælpeark!AF124,\"\")","v":""},null,{"$f":"IFERROR(Hjælpeark!AG124,\"\")","v":""},null,{"$f":"IFERROR(Hjælpeark!AH124,\"\")","v":""},null,{"$f":"IFERROR(Hjælpeark!AI124,\"\")","v":""},null,{"$f":"IFERROR(Hjælpeark!AJ124,\"\")","v":""},null,{"$f":"IFERROR(Hjælpeark!AK124,\"\")","v":""},null,null,null,null,0,false,false,false,false,false,false,false]
[null,null,"Vi med fordel kan gøre",{"$f":"IFERROR(Hjælpeark!AE125,\"\")","v":""},null,{"$f":"IFERROR(Hjælpeark!AF125,\"\")","v":""},null,{"$f":"IFERROR(Hjælpeark!AG125,\"\")","v":""},null,{"$f":"IFERROR(Hjælpeark!AH125,\"\")","v":""},null,{"$f":"IFERROR(Hjælpeark!AI125,\"\")","v":""},null,{"$f":"IFERROR(Hjælpeark!AJ125,\"\")","v":""},null,{"$f":"IFERROR(Hjælpeark!AK125,\"\")","v":""},null,null,null,null,0,false,false,false,false,false,false,false]
[null,"Tilsyn 33","Vi bør gøre",{"$f":"IFERROR(Hjælpeark!AE126,\"\")","v":""},null,{"$f":"IFERROR(Hjælpeark!AF126,\"\")","v":""},null,{"$f":"IFERROR(Hjælpeark!AG126,\"\")","v":""},null,{"$f":"IFERROR(Hjælpeark!AH126,\"\")","v":""},null,{"$f":"IFERROR(Hjælpeark!AI126,\"\")","v":""},null,{"$f":"IFERROR(Hjælpeark!AJ126,\"\")","v":""},null,{"$f":"IFERROR(Hjælpeark!AK126,\"\")","v":""},null,null,null,null,0,{"$f":"SUMPRODUCT(--ISNUMBER(SEARCH(Liste,D70)))>0","v":false},{"$f":"SUMPRODUCT(--ISNUMBER(SEARCH(Liste,F70)))>0","v":false},{"$f":"SUMPRODUCT(--ISNUMBER(SEARCH(Liste,H70)))>0","v":false},{"$f":"SUMPRODUCT(--ISNUMBER(SEARCH(Liste,J70)))>0","v":false},{"$f":"SUMPRODUCT(--ISNUMBER(SEARCH(Liste,L70)))>0","v":false},{"$f":"SUMPRODUCT(--ISNUMBER(SEARCH(Liste,N70)))>0","v":false},{"$f":"SUMPRODUCT(--ISNUMBER(SEARCH(Liste,P70)))>0","v":false}]
[null,null,"Vi med fordel kan gøre",{"$f":"IFERROR(Hjælpeark!AE127,\"\")","v":""},null,{"$f":"IFERROR(Hjælpeark!AF127,\"\")","v":""},null,{"$f":"IFERROR(Hjælpeark!AG127,\"\")","v":""},null,{"$f":"IFERROR(Hjælpeark!AH127,\"\")","v":""},null,{"$f":"IFERROR(Hjælpeark!AI127,\"\")","v":""},null,{"$f":"IFERROR(Hjælpeark!AJ127,\"\")","v":""},null,{"$f":"IFERROR(Hjælpeark!AK127,\"\")","v":""},null,null,null,null,{"$f":"COUNTIF(V71:AC71,\"SAND\")","v":0},false,false,false,false,false,false,false]
[null,"Tilsyn 34",{"$f":"C70","v":"Vi bør gøre"},{"$f":"IFERROR(Hjælpeark!AE128,\"\")","v":""},null,{"$f":"IFERROR(Hjælpeark!AF128,\"\")","v":""},null,{"$f":"IFERROR(Hjælpeark!AG128,\"\")","v":""},null,{"$f":"IFERROR(Hjælpeark!AH128,\"\")","v":""},null,{"$f":"IFERROR(Hjælpeark!AI128,\"\")","v":""},null,{"$f":"IFERROR(Hjælpeark!AJ128,\"\")","v":""},null,{"$f":"IFERROR(Hjælpeark!AK128,\"\")","v":""},null,null,null,null,0,false,false,false,false,false,false,false]
[null,null,"Vi med fordel kan gøre",{"$f":"IFERROR(Hjælpeark!AE129,\"\")","v":""},null,{"$f":"IFERROR(Hjælpeark!AF129,\"\")","v":""},null,{"$f":"IFERROR(Hjælpeark!AG129,\"\")","v":""},null,{"$f":"IFERROR(Hjælpeark!AH129,\"\")","v":""},null,{"$f":"IFERROR(Hjælpeark!AI129,\"\")","v":""},null,{"$f":"IFERROR(Hjælpeark!AJ129,\"\")","v":""},null,{"$f":"IFERROR(Hjælpeark!AK129,\"\")","v":""},null,null,null,null,0,false,false,false,false,false,false,false]
[null,"Tilsyn 35","Vi bør gøre",{"$f":"IFERROR(Hjælpeark!AE130,\"\")","v":""},null,{"$f":"IFERROR(Hjælpeark!AF130,\"\")","v":""},null,{"$f":"IFERROR(Hjælpeark!AG130,\"\")","v":""},null,{"$f":"IFERROR(Hjælpeark!AH130,\"\")","v":""},null,{"$f":"IFERROR(Hjælpeark!AI130,\"\")","v":""},null,{"$f":"IFERROR(Hjælpeark!AJ130,\"\")","v":""},null,{"$f":"IFERROR(Hjælpeark!AK130,\"\")","v":""},null,null,null,null,0,false,false,false,false,false,false,false]
[null,null,"Vi med fordel kan gøre",{"$f":"IFERROR(Hjælpeark!AE131,\"\")","v":""},null,{"$f":"IFERROR(Hjælpeark!AF131,\"\")","v":""},null,{"$f":"IFERROR(Hjælpeark!AG131,\"\")","v":""},null,{"$f":"IFERROR(Hjælpeark!AH131,\"\")","v":""},null,{"$f":"IFERROR(Hjælpeark!AI131,\"\")","v":""},null,{"$f":"IFERROR(Hjælpeark!AJ131,\"\")","v":""},null,{"$f":"IFERROR(Hjælpeark!AK131,\"\")","v":""},null,null,null,null,0,false,false,false,false,false,false,false]
[null,"Tilsyn 36","Vi bør gøre",{"$f":"IFERROR(Hjælpeark!AE132,\"\")","v":""},null,{"$f":"IFERROR(Hjælpeark!AF132,\"\")","v":""},null,{"$f":"IFERROR(Hjælpeark!AG132,\"\")","v":""},null,{"$f":"IFERROR(Hjælpeark!AH132,\"\")","v":""},null,{"$f":"IFERROR(Hjælpeark!AI132,\"\")","v":""},null,{"$f":"IFERROR(Hjælpeark!AJ132,\"\")","v":""},null,{"$f":"IFERROR(Hjælpeark!AK132,\"\")","v":""},null,null,null,null,0,false,false,false,false,false,false,false]
[null,null,"Vi med fordel kan gøre",{"$f":"IFERROR(Hjælpeark!AE133,\"\")","v":""},null,{"$f":"IFERROR(Hjælpeark!AF133,\"\")","v":""},null,{"$f":"IFERROR(Hjælpeark!AG133,\"\")","v":""},null,{"$f":"IFERROR(Hjælpeark!AH133,\"\")","v":""},null,{"$f":"IFERROR(Hjælpeark!AI133,\"\")","v":""},null,{"$f":"IFERROR(Hjælpeark!AJ133,\"\")","v":""},null,{"$f":"IFERROR(Hjælpeark!AK133,\"\")","v":""},null,null,null,null,0,false,false,false,false,false,false,false]
[null,"Tilsyn 37","Vi bør gøre",{"$f":"IFERROR(Hjælpeark!AE134,\"\")","v":""},null,{"$f":"IFERROR(Hjælpeark!AF134,\"\")","v":""},null,{"$f":"IFERROR(Hjælpeark!AG134,\"\")","v":""},null,{"$f":"IFERROR(Hjælpeark!AH134,\"\")","v":""},null,{"$f":"IFERROR(Hjælpeark!AI134,\"\")","v":""},null,{"$f":"IFERROR(Hjælpeark!AJ134,\"\")","v":""},null,{"$f":"IFERROR(Hjælpeark!AK134,\"\")","v":""},null,null,null,null,0,false,false,false,false,false,false,false]
[null,null,"Vi med fordel kan gøre",{"$f":"IFERROR(Hjælpeark!AE135,\"\")","v":""},null,{"$f":"IFERROR(Hjælpeark!AF135,\"\")","v":""},null,{"$f":"IFERROR(Hjælpeark!AG135,\"\")","v":""},null,{"$f":"IFERROR(Hjælpeark!AH135,\"\")","v":""},null,{"$f":"IFERROR(Hjælpeark!AI135,\"\")","v":""},null,{"$f":"IFERROR(Hjælpeark!AJ135,\"\")","v":""},null,{"$f":"IFERROR(Hjælpeark!AK135,\"\")","v":""},null,null,null,null,0,false,false,false,false,false,false,false]
[null,"Tilsyn 38","Vi bør gøre",{"$f":"IFERROR(Hjælpeark!AE136,\"\")","v":""},null,{"$f":"IFERROR(Hjælpeark!AF136,\"\")","v":""},null,{"$f":"IFERROR(Hjælpeark!AG136,\"\")","v":""},null,{"$f":"IFERROR(Hjælpeark!AH136,\"\")","v":""},null,{"$f":"IFERROR(Hjælpeark!AI136,\"\")","v":""},null,{"$f":"IFERROR(Hjælpeark!AJ136,\"\")","v":""},null,{"$f":"IFERROR(Hjælpeark!AK136,\"\")","v":""},null,null,null,null,0,false,false,false,false,false,false,false]
[null,null,"Vi med fordel kan gøre",{"$f":"IFERROR(Hjælpeark!AE137,\"\")","v":""},null,{"$f":"IFERROR(Hjælpeark!AF137,\"\")","v":""},null,{"$f":"IFERROR(Hjælpeark!AG137,\"\")","v":""},null,{"$f":"IFERROR(Hjælpeark!AH137,\"\")","v":""},null,{"$f":"IFERROR(Hjælpeark!AI137,\"\")","v":""},null,{"$f":"IFERROR(Hjælpeark!AJ137,\"\")","v":""},null,{"$f":"IFERROR(Hjælpeark!AK137,\"\")","v":""},null,null,null,null,0,false,false,false,false,false,false,false]
[null,"Tilsyn 39","Vi bør gøre",{"$f":"IFERROR(Hjælpeark!AE138,\"\")","v":""},null,{"$f":"IFERROR(Hjælpeark!AF138,\"\")","v":""},null,{"$f":"IFERROR(Hjælpeark!AG138,\"\")","v":""},null,{"$f":"IFERROR(Hjælpeark!AH138,\"\")","v":""},null,{"$f":"IFERROR(Hjælpeark!AI138,\"\")","v":""},null,{"$f":"IFERROR(Hjælpeark!AJ138,\"\")","v":""},null,{"$f":"IFERROR(Hjælpeark!AK138,\"\")","v":""},null,null,null,null,0,false,false,false,false,false,false,false]
[null,null,"Vi med fordel kan gøre",{"$f":"IFERROR(Hjælpeark!AE139,\"\")","v":""},null,{"$f":"IFERROR(Hjælpeark!AF139,\"\")","v":""},null,{"$f":"IFERROR(Hjælpeark!AG139,\"\")","v":""},null,{"$f":"IFERROR(Hjælpeark!AH139,\"\")","v":""},null,{"$f":"IFERROR(Hjælpeark!AI139,\"\")","v":""},null,{"$f":"IFERROR(Hjælpeark!AJ139,\"\")","v":""},null,{"$f":"IFERROR(Hjælpeark!AK139,\"\")","v":""},null,null,null,null,0,false,false,false,false,false,false,false]
[null,"Tilsyn 40","Vi bør gøre",{"$f":"IFERROR(Hjælpeark!AE140,\"\")","v":""},null,{"$f":"IFERROR(Hjælpeark!AF140,\"\")","v":""},null,{"$f":"IFERROR(Hjælpeark!AG140,\"\")","v":""},null,{"$f":"IFERROR(Hjælpeark!AH140,\"\")","v":""},null,{"$f":"IFERROR(Hjælpeark!AI140,\"\")","v":""},null,{"$f":"IFERROR(Hjælpeark!AJ140,\"\")","v":""},null,{"$f":"IFERROR(Hjælpeark!AK140,\"\")","v":""},null,null,null,null,0,false,false,false,false,false,false,false]
[null,null,"Vi med fordel kan gøre",{"$f":"IFERROR(Hjælpeark!AE141,\"\")","v":""},null,{"$f":"IFERROR(Hjælpeark!AF141,\"\")","v":""},null,{"$f":"IFERROR(Hjælpeark!AG141,\"\")","v":""},null,{"$f":"IFERROR(Hjælpeark!AH141,\"\")","v":""},null,{"$f":"IFERROR(Hjælpeark!AI141,\"\")","v":""},null,{"$f":"IFERROR(Hjælpeark!AJ141,\"\")","v":""},null,{"$f":"IFERROR(Hjælpeark!AK141,\"\")","v":""},null,null,null,null,0,false,false,false,false,false,false,false]
[null,"Tilsyn 41","Vi bør gøre",{"$f":"IFERROR(Hjælpeark!AE142,\"\")","v":""},null,{"$f":"IFERROR(Hjælpeark!AF142,\"\")","v":""},null,{"$f":"IFERROR(Hjælpeark!AG142,\"\")","v":""},null,{"$f":"IFERROR(Hjælpeark!AH142,\"\")","v":""},null,{"$f":"IFERROR(Hjælpeark!AI142,\"\")","v":""},null,{"$f":"IFERROR(Hjælpeark!AJ142,\"\")","v":""},null,{"$f":"IFERROR(Hjælpeark!AK142,\"\")","v":""},null,null,null,null,0,false,false,false,false,false,false,false]
[null,null,"Vi med fordel kan gøre",{"$f":"IFERROR(Hjælpeark!AE143,\"\")","v":""},null,{"$f":"IFERROR(Hjælpeark!AF143,\"\")","v":""},null,{"$f":"IFERROR(Hjælpeark!AG143,\"\")","v":""},null,{"$f":"IFERROR(Hjælpeark!AH143,\"\")","v":""},null,{"$f":"IFERROR(Hjælpeark!AI143,\"\")","v":""},null,{"$f":"IFERROR(Hjælpeark!AJ143,\"\")","v":""},null,{"$f":"IFERROR(Hjælpeark!AK143,\"\")","v":""},null,null,null,null,0,false,false,false,false,false,false,false]
[null,"Tilsyn 42","Vi bør gøre",{"$f":"IFERROR(Hjælpeark!AE144,\"\")","v":""},null,{"$f":"IFERROR(Hjælpeark!AF144,\"\")","v":""},null,{"$f":"IFERROR(Hjælpeark!AG144,\"\")","v":""},null,{"$f":"IFERROR(Hjælpeark!AH144,\"\")","v":""},null,{"$f":"IFERROR(Hjælpeark!AI144,\"\")","v":""},null,{"$f":"IFERROR(Hjælpeark!AJ144,\"\")","v":""},null,{"$f":"IFERROR(Hjælpeark!AK144,\"\")","v":""},null,null,null,null,0,false,false,false,false,false,false,false]
[null,null,"Vi med fordel kan gøre",{"$f":"IFERROR(Hjælpeark!AE145,\"\")","v":""},null,{"$f":"IFERROR(Hjælpeark!AF145,\"\")","v":""},null,{"$f":"IFERROR(Hjælpeark!AG145,\"\")","v":""},null,{"$f":"IFERROR(Hjælpeark!AH145,\"\")","v":""},null,{"$f":"IFERROR(Hjælpeark!AI145,\"\")","v":""},null,{"$f":"IFERROR(Hjælpeark!AJ145,\"\")","v":""},null,{"$f":"IFERROR(Hjælpeark!AK145,\"\")","v":""},null,null,null,null,0,false,false,false,false,false,false,false]
[null,"Tilsyn 43","Vi bør gøre",{"$f":"IFERROR(Hjælpeark!AE146,\"\")","v":""},null,{"$f":"IFERROR(Hjælpeark!AF146,\"\")","v":""},null,{"$f":"IFERROR(Hjælpeark!AG146,\"\")","v":""},null,{"$f":"IFERROR(Hjælpeark!AH146,\"\")","v":""},null,{"$f":"IFERROR(Hjælpeark!AI146,\"\")","v":""},null,{"$f":"IFERROR(Hjælpeark!AJ146,\"\")","v":""},null,{"$f":"IFERROR(Hjælpeark!AK146,\"\")","v":""},null,null,null,null,0,false,false,false,false,false,false,false]
[null,null,"Vi med fordel kan gøre",{"$f":"IFERROR(Hjælpeark!AE147,\"\")","v":""},null,{"$f":"IFERROR(Hjælpeark!AF147,\"\")","v":""},null,{"$f":"IFERROR(Hjælpeark!AG147,\"\")","v":""},null,{"$f":"IFERROR(Hjælpeark!AH147,\"\")","v":""},null,{"$f":"IFERROR(Hjælpeark!AI147,\"\")","v":""},null,{"$f":"IFERROR(Hjælpeark!AJ147,\"\")","v":""},null,{"$f":"IFERROR(Hjælpeark!AK147,\"\")","v":""},null,null,null,null,0,false,false,false,false,false,false,false]
[null,"Tilsyn 44","Vi bør gøre",{"$f":"IFERROR(Hjælpeark!AE148,\"\")","v":""},null,{"$f":"IFERROR(Hjælpeark!AF148,\"\")","v":""},null,{"$f":"IFERROR(Hjælpeark!AG148,\"\")","v":""},null,{"$f":"IFERROR(Hjælpeark!AH148,\"\")","v":""},null,{"$f":"IFERROR(Hjælpeark!AI148,\"\")","v":""},null,{"$f":"IFERROR(Hjælpeark!AJ148,\"\")","v":""},null,{"$f":"IFERROR(Hjælpeark!AK148,\"\")","v":""},null,null,null,null,0,false,false,false,false,false,false,false]
[null,null,"Vi med fordel kan gøre",{"$f":"IFERROR(Hjælpeark!AE149,\"\")","v":""},null,{"$f":"IFERROR(Hjælpeark!AF149,\"\")","v":""},null,{"$f":"IFERROR(Hjælpeark!AG149,\"\")","v":""},null,{"$f":"IFERROR(Hjælpeark!AH149,\"\")","v":""},null,{"$f":"IFERROR(Hjælpeark!AI149,\"\")","v":""},null,{"$f":"IFERROR(Hjælpeark!AJ149,\"\")","v":""},null,{"$f":"IFERROR(Hjælpeark!AK149,\"\")","v":""},null,null,null,null,0,false,false,false,false,false,false,false]
[null,"Tilsyn 45","Vi bør gøre",{"$f":"IFERROR(Hjælpeark!AE150,\"\")","v":""},null,{"$f":"IFERROR(Hjælpeark!AF150,\"\")","v":""},null,{"$f":"IFERROR(Hjælpeark!AG150,\"\")","v":""},null,{"$f":"IFERROR(Hjælpeark!AH150,\"\")","v":""},null,{"$f":"IFERROR(Hjælpeark!AI150,\"\")","v":""},null,{"$f":"IFERROR(Hjælpeark!AJ150,\"\")","v":""},null,{"$f":"IFERROR(Hjælpeark!AK150,\"\")","v":""},null,null,null,null,0,false,false,false,false,false,false,false]
[null,null,"Vi med fordel kan gøre",{"$f":"IFERROR(Hjælpeark!AE151,\"\")","v":""},null,{"$f":"IFERROR(Hjælpeark!AF151,\"\")","v":""},null,{"$f":"IFERROR(Hjælpeark!AG151,\"\")","v":""},null,{"$f":"IFERROR(Hjælpeark!AH151,\"\")","v":""},null,{"$f":"IFERROR(Hjælpeark!AI151,\"\")","v":""},null,{"$f":"IFERROR(Hjælpeark!AJ151,\"\")","v":""},null,{"$f":"IFERROR(Hjælpeark!AK151,\"\")","v":""},null,null,null,null,0,false,false,false,false,false,false,false]
[null,"Tilsyn 46","Vi bør gøre",{"$f":"IFERROR(Hjælpeark!AE152,\"\")","v":""},null,{"$f":"IFERROR(Hjælpeark!AF152,\"\")","v":""},null,{"$f":"IFERROR(Hjælpeark!AG152,\"\")","v":""},null,{"$f":"IFERROR(Hjælpeark!AH152,\"\")","v":""},null,{"$f":"IFERROR(Hjælpeark!AI152,\"\")","v":""},null,{"$f":"IFERROR(Hjælpeark!AJ152,\"\")","v":""},null,{"$f":"IFERROR(Hjælpeark!AK152,\"\")","v":""},null,null,null,null,0,false,false,false,false,false,false,false]
[null,null,"Vi med fordel kan gøre",{"$f":"IFERROR(Hjælpeark!AE153,\"\")","v":""},null,{"$f":"IFERROR(Hjælpeark!AF153,\"\")","v":""},null,{"$f":"IFERROR(Hjælpeark!AG153,\"\")","v":""},null,{"$f":"IFERROR(Hjælpeark!AH153,\"\")","v":""},null,{"$f":"IFERROR(Hjælpeark!AI153,\"\")","v":""},null,{"$f":"IFERROR(Hjælpeark!AJ153,\"\")","v":""},null,{"$f":"IFERROR(Hjælpeark!AK153,\"\")","v":""},null,null,null,null,0,false,false,false,false,false,false,false]
[null,"Tilsyn 47","Vi bør gøre",{"$f":"IFERROR(Hjælpeark!AE154,\"\")","v":""},null,{"$f":"IFERROR(Hjælpeark!AF154,\"\")","v":""},null,{"$f":"IFERROR(Hjælpeark!AG154,\"\")","v":""},null,{"$f":"IFERROR(Hjælpeark!AH154,\"\")","v":""},null,{"$f":"IFERROR(Hjælpeark!AI154,\"\")","v":""},null,{"$f":"IFERROR(Hjælpeark!AJ154,\"\")","v":""},null,{"$f":"IFERROR(Hjælpeark!AK154,\"\")","v":""},null,null,null,null,0,false,false,false,false,false,false,false]
[null,null,"Vi med fordel kan gøre",{"$f":"IFERROR(Hjælpeark!AE155,\"\")","v":""},null,{"$f":"IFERROR(Hjælpeark!AF155,\"\")","v":""},null,{"$f":"IFERROR(Hjælpeark!AG155,\"\")","v":""},null,{"$f":"IFERROR(Hjælpeark!AH155,\"\")","v":""},null,{"$f":"IFERROR(Hjælpeark!AI155,\"\")","v":""},null,{"$f":"IFERROR(Hjælpeark!AJ155,\"\")","v":""},null,{"$f":"IFERROR(Hjælpeark!AK155,\"\")","v":""},null,null,null,null,0,false,false,false,false,false,false,false]
[null,"Tilsyn 48","Vi bør gøre",{"$f":"IFERROR(Hjælpeark!AE156,\"\")","v":""},null,{"$f":"IFERROR(Hjælpeark!AF156,\"\")","v":""},null,{"$f":"IFERROR(Hjælpeark!AG156,\"\")","v":""},null,{"$f":"IFERROR(Hjælpeark!AH156,\"\")","v":""},null,{"$f":"IFERROR(Hjælpeark!AI156,\"\")","v":""},null,{"$f":"IFERROR(Hjælpeark!AJ156,\"\")","v":""},null,{"$f":"IFERROR(Hjælpeark!AK156,\"\")","v":""},null,null,null,null,0,false,false,false,false,false,false,false]
[null,null,"Vi med fordel kan gøre",{"$f":"IFERROR(Hjælpeark!AE157,\"\")","v":""},null,{"$f":"IFERROR(Hjælpeark!AF157,\"\")","v":""},null,{"$f":"IFERROR(Hjælpeark!AG157,\"\")","v":""},null,{"$f":"IFERROR(Hjælpeark!AH157,\"\")","v":""},null,{"$f":"IFERROR(Hjælpeark!AI157,\"\")","v":""},null,{"$f":"IFERROR(Hjælpeark!AJ157,\"\")","v":""},null,{"$f":"IFERROR(Hjælpeark!AK157,\"\")","v":""},null,null,null,null,0,false,false,false,false,false,false,false]
[null,"Tilsyn 49","Vi bør gøre",{"$f":"IFERROR(Hjælpeark!AE158,\"\")","v":""},null,{"$f":"IFERROR(Hjælpeark!AF158,\"\")","v":""},null,{"$f":"IFERROR(Hjælpeark!AG158,\"\")","v":""},null,{"$f":"IFERROR(Hjælpeark!AH158,\"\")","v":""},null,{"$f":"IFERROR(Hjælpeark!AI158,\"\")","v":""},null,{"$f":"IFERROR(Hjælpeark!AJ158,\"\")","v":""},null,{"$f":"IFERROR(Hjælpeark!AK158,\"\")","v":""},null,null,null,null,0,{"$f":"SUMPRODUCT(--ISNUMBER(SEARCH(Liste,D102)))>0","v":false},{"$f":"SUMPRODUCT(--ISNUMBER(SEARCH(Liste,F102)))>0","v":false},{"$f":"SUMPRODUCT(--ISNUMBER(SEARCH(Liste,H102)))>0","v":false},{"$f":"SUMPRODUCT(--ISNUMBER(SEARCH(Liste,J102)))>0","v":false},{"$f":"SUMPRODUCT(--ISNUMBER(SEARCH(Liste,L102)))>0","v":false},{"$f":"SUMPRODUCT(--ISNUMBER(SEARCH(Liste,N102)))>0","v":false},{"$f":"SUMPRODUCT(--ISNUMBER(SEARCH(Liste,P102)))>0","v":false}]
[null,null,"Vi med fordel kan gøre",{"$f":"IFERROR(Hjælpeark!AE159,\"\")","v":""},null,{"$f":"IFERROR(Hjælpeark!AF159,\"\")","v":""},null,{"$f":"IFERROR(Hjælpeark!AG159,\"\")","v":""},null,{"$f":"IFERROR(Hjælpeark!AH159,\"\")","v":""},null,{"$f":"IFERROR(Hjælpeark!AI159,\"\")","v":""},null,{"$f":"IFERROR(Hjælpeark!AJ159,\"\")","v":""},null,{"$f":"IFERROR(Hjælpeark!AK159,\"\")","v":""},null,null,null,null,0,false,false,false,false,false,false,false]
[null,"Tilsyn 50",{"$f":"C102","v":"Vi bør gøre"},{"$f":"IFERROR(Hjælpeark!AE160,\"\")","v":""},null,{"$f":"IFERROR(Hjælpeark!AF160,\"\")","v":""},null,{"$f":"IFERROR(Hjælpeark!AG160,\"\")","v":""},null,{"$f":"IFERROR(Hjælpeark!AH160,\"\")","v":""},null,{"$f":"IFERROR(Hjælpeark!AI160,\"\")","v":""},null,{"$f":"IFERROR(Hjælpeark!AJ160,\"\")","v":""},null,{"$f":"IFERROR(Hjælpeark!AK160,\"\")","v":""},null,null,null,null,0,false,false,false,false,false,false,false]
[null,null,"Vi med fordel kan gøre",{"$f":"IFERROR(Hjælpeark!AE161,\"\")","v":""},null,{"$f":"IFERROR(Hjælpeark!AF161,\"\")","v":""},null,{"$f":"IFERROR(Hjælpeark!AG161,\"\")","v":""},null,{"$f":"IFERROR(Hjælpeark!AH161,\"\")","v":""},null,{"$f":"IFERROR(Hjælpeark!AI161,\"\")","v":""},null,{"$f":"IFERROR(Hjælpeark!AJ161,\"\")","v":""},null,{"$f":"IFERROR(Hjælpeark!AK161,\"\")","v":""},null,null,null,null,0,false,false,false,false,false,false,false]
[null,"Tilsyn 51","Vi bør gøre",{"$f":"IFERROR(Hjælpeark!AE162,\"\")","v":""},null,{"$f":"IFERROR(Hjælpeark!AF162,\"\")","v":""},null,{"$f":"IFERROR(Hjælpeark!AG162,\"\")","v":""},null,{"$f":"IFERROR(Hjælpeark!AH162,\"\")","v":""},null,{"$f":"IFERROR(Hjælpeark!AI162,\"\")","v":""},null,{"$f":"IFERROR(Hjælpeark!AJ162,\"\")","v":""},null,{"$f":"IFERROR(Hjælpeark!AK162,\"\")","v":""},null,null,null,null,0,false,false,false,false,false,false,false]
[null,null,"Vi med fordel kan gøre",{"$f":"IFERROR(Hjælpeark!AE163,\"\")","v":""},null,{"$f":"IFERROR(Hjælpeark!AF163,\"\")","v":""},null,{"$f":"IFERROR(Hjælpeark!AG163,\"\")","v":""},null,{"$f":"IFERROR(Hjælpeark!AH163,\"\")","v":""},null,{"$f":"IFERROR(Hjælpeark!AI163,\"\")","v":""},null,{"$f":"IFERROR(Hjælpeark!AJ163,\"\")","v":""},null,{"$f":"IFERROR(Hjælpeark!AK163,\"\")","v":""},null,null,null,null,0,false,false,false,false,false,false,false]
[null,"Tilsyn 52","Vi bør gøre",{"$f":"IFERROR(Hjælpeark!AE164,\"\")","v":""},null,{"$f":"IFERROR(Hjælpeark!AF164,\"\")","v":""},null,{"$f":"IFERROR(Hjælpeark!AG164,\"\")","v":""},null,{"$f":"IFERROR(Hjælpeark!AH164,\"\")","v":""},null,{"$f":"IFERROR(Hjælpeark!AI164,\"\")","v":""},null,{"$f":"IFERROR(Hjælpeark!AJ164,\"\")","v":""},null,{"$f":"IFERROR(Hjælpeark!AK164,\"\")","v":""},null,null,null,null,0,false,false,false,false,false,false,false]
[null,null,"Vi med fordel kan gøre",{"$f":"IFERROR(Hjælpeark!AE165,\"\")","v":""},null,{"$f":"IFERROR(Hjælpeark!AF165,\"\")","v":""},null,{"$f":"IFERROR(Hjælpeark!AG165,\"\")","v":""},null,{"$f":"IFERROR(Hjælpeark!AH165,\"\")","v":""},null,{"$f":"IFERROR(Hjælpeark!AI165,\"\")","v":""},null,{"$f":"IFERROR(Hjælpeark!AJ165,\"\")","v":""},null,{"$f":"IFERROR(Hjælpeark!AK165,\"\")","v":""},null,null,null,null,0,false,false,false,false,false,false,false]
[null,"Tilsyn 53","Vi bør gøre",{"$f":"IFERROR(Hjælpeark!AE166,\"\")","v":""},null,{"$f":"IFERROR(Hjælpeark!AF166,\"\")","v":""},null,{"$f":"IFERROR(Hjælpeark!AG166,\"\")","v":""},null,{"$f":"IFERROR(Hjælpeark!AH166,\"\")","v":""},null,{"$f":"IFERROR(Hjælpeark!AI166,\"\")","v":""},null,{"$f":"IFERROR(Hjælpeark!AJ166,\"\")","v":""},null,{"$f":"IFERROR(Hjælpeark!AK166,\"\")","v":""},null,null,null,null,0,false,false,false,false,false,false,false]
[null,null,"Vi med fordel kan gøre",{"$f":"IFERROR(Hjælpeark!AE167,\"\")","v":""},null,{"$f":"IFERROR(Hjælpeark!AF167,\"\")","v":""},null,{"$f":"IFERROR(Hjælpeark!AG167,\"\")","v":""},null,{"$f":"IFERROR(Hjælpeark!AH167,\"\")","v":""},null,{"$f":"IFERROR(Hjælpeark!AI167,\"\")","v":""},null,{"$f":"IFERROR(Hjælpeark!AJ167,\"\")","v":""},null,{"$f":"IFERROR(Hjælpeark!AK167,\"\")","v":""},null,null,null,null,0,false,false,false,false,false,false,false]
[null,"Tilsyn 54","Vi bør gøre",{"$f":"IFERROR(Hjælpeark!AE168,\"\")","v":""},null,{"$f":"IFERROR(Hjælpeark!AF168,\"\")","v":""},null,{"$f":"IFERROR(Hjælpeark!AG168,\"\")","v":""},null,{"$f":"IFERROR(Hjælpeark!AH168,\"\")","v":""},null,{"$f":"IFERROR(Hjælpeark!AI168,\"\")","v":""},null,{"$f":"IFERROR(Hjælpeark!AJ168,\"\")","v":""},null,{"$f":"IFERROR(Hjælpeark!AK168,\"\")","v":""},null,null,null,null,0,false,false,false,false,false,false,false]
[null,null,"Vi med fordel kan gøre",{"$f":"IFERROR(Hjælpeark!AE169,\"\")","v":""},null,{"$f":"IFERROR(Hjælpeark!AF169,\"\")","v":""},null,{"$f":"IFERROR(Hjælpeark!AG169,\"\")","v":""},null,{"$f":"IFERROR(Hjælpeark!AH169,\"\")","v":""},null,{"$f":"IFERROR(Hjælpeark!AI169,\"\")","v":""},null,{"$f":"IFERROR(Hjælpeark!AJ169,\"\")","v":""},null,{"$f":"IFERROR(Hjælpeark!AK169,\"\")","v":""},null,null,null,null,0,false,false,false,false,false,false,false]
[null,"Tilsyn 55","Vi bør gøre",{"$f":"IFERROR(Hjælpeark!AE170,\"\")","v":""},null,{"$f":"IFERROR(Hjælpeark!AF170,\"\")","v":""},null,{"$f":"IFERROR(Hjælpeark!AG170,\"\")","v":""},null,{"$f":"IFERROR(Hjælpeark!AH170,\"\")","v":""},null,{"$f":"IFERROR(Hjælpeark!AI170,\"\")","v":""},null,{"$f":"IFERROR(Hjælpeark!AJ170,\"\")","v":""},null,{"$f":"IFERROR(Hjælpeark!AK170,\"\")","v":""},null,null,null,null,0,false,false,false,false,false,false,false]
[null,null,"Vi med fordel kan gøre",{"$f":"IFERROR(Hjælpeark!AE171,\"\")","v":""},null,{"$f":"IFERROR(Hjælpeark!AF171,\"\")","v":""},null,{"$f":"IFERROR(Hjælpeark!AG171,\"\")","v":""},null,{"$f":"IFERROR(Hjælpeark!AH171,\"\")","v":""},null,{"$f":"IFERROR(Hjælpeark!AI171,\"\")","v":""},null,{"$f":"IFERROR(Hjælpeark!AJ171,\"\")","v":""},null,{"$f":"IFERROR(Hjælpeark!AK171,\"\")","v":""},null,null,null,null,0,false,false,false,false,false,false,false]
[null,"Tilsyn 56","Vi bør gøre",{"$f":"IFERROR(Hjælpeark!AE172,\"\")","v":""},null,{"$f":"IFERROR(Hjælpeark!AF172,\"\")","v":""},null,{"$f":"IFERROR(Hjælpeark!AG172,\"\")","v":""},null,{"$f":"IFERROR(Hjælpeark!AH172,\"\")","v":""},null,{"$f":"IFERROR(Hjælpeark!AI172,\"\")","v":""},null,{"$f":"IFERROR(Hjælpeark!AJ172,\"\")","v":""},null,{"$f":"IFERROR(Hjælpeark!AK172,\"\")","v":""},null,null,null,null,0,false,false,false,false,false,false,false]
[null,null,"Vi med fordel kan gøre",{"$f":"IFERROR(Hjælpeark!AE173,\"\")","v":""},null,{"$f":"IFERROR(Hjælpeark!AF173,\"\")","v":""},null,{"$f":"IFERROR(Hjælpeark!AG173,\"\")","v":""},null,{"$f":"IFERROR(Hjælpeark!AH173,\"\")","v":""},null,{"$f":"IFERROR(Hjælpeark!AI173,\"\")","v":""},null,{"$f":"IFERROR(Hjælpeark!AJ173,\"\")","v":""},null,{"$f":"IFERROR(Hjælpeark!AK173,\"\")","v":""},null,null,null,null,0,false,false,false,false,false,false,false]
[null,"Tilsyn 57","Vi bør gøre",{"$f":"IFERROR(Hjælpeark!AE174,\"\")","v":""},null,{"$f":"IFERROR(Hjælpeark!AF174,\"\")","v":""},null,{"$f":"IFERROR(Hjælpeark!AG174,\"\")","v":""},null,{"$f":"IFERROR(Hjælpeark!AH174,\"\")","v":""},null,{"$f":"IFERROR(Hjælpeark!AI174,\"\")","v":""},null,{"$f":"IFERROR(Hjælpeark!AJ174,\"\")","v":""},null,{"$f":"IFERROR(Hjælpeark!AK174,\"\")","v":""},null,null,null,null,0,false,false,false,false,false,false,false]
[null,null,"Vi med fordel kan gøre",{"$f":"IFERROR(Hjælpeark!AE175,\"\")","v":""},null,{"$f":"IFERROR(Hjælpeark!AF175,\"\")","v":""},null,{"$f":"IFERROR(Hjælpeark!AG175,\"\")","v":""},null,{"$f":"IFERROR(Hjælpeark!AH175,\"\")","v":""},null,{"$f":"IFERROR(Hjælpeark!AI175,\"\")","v":""},null,{"$f":"IFERROR(Hjælpeark!AJ175,\"\")","v":""},null,{"$f":"IFERROR(Hjælpeark!AK175,\"\")","v":""},null,null,null,null,0,false,false,false,false,false,false,false]
[null,"Tilsyn 58","Vi bør gøre",{"$f":"IFERROR(Hjælpeark!AE176,\"\")","v":""},null,{"$f":"IFERROR(Hjælpeark!AF176,\"\")","v":""},null,{"$f":"IFERROR(Hjælpeark!AG176,\"\")","v":""},null,{"$f":"IFERROR(Hjælpeark!AH176,\"\")","v":""},null,{"$f":"IFERROR(Hjælpeark!AI176,\"\")","v":""},null,{"$f":"IFERROR(Hjælpeark!AJ176,\"\")","v":""},null,{"$f":"IFERROR(Hjælpeark!AK176,\"\")","v":""},null,null,null,null,0,false,false,false,false,false,false,false]
[null,null,"Vi med fordel kan gøre",{"$f":"IFERROR(Hjælpeark!AE177,\"\")","v":""},null,{"$f":"IFERROR(Hjælpeark!AF177,\"\")","v":""},null,{"$f":"IFERROR(Hjælpeark!AG177,\"\")","v":""},null,{"$f":"IFERROR(Hjælpeark!AH177,\"\")","v":""},null,{"$f":"IFERROR(Hjælpeark!AI177,\"\")","v":""},null,{"$f":"IFERROR(Hjælpeark!AJ177,\"\")","v":""},null,{"$f":"IFERROR(Hjælpeark!AK177,\"\")","v":""},null,null,null,null,0,false,false,false,false,false,false,false]
[null,"Tilsyn 59","Vi bør gøre",{"$f":"IFERROR(Hjælpeark!AE178,\"\")","v":""},null,{"$f":"IFERROR(Hjælpeark!AF178,\"\")","v":""},null,{"$f":"IFERROR(Hjælpeark!AG178,\"\")","v":""},null,{"$f":"IFERROR(Hjælpeark!AH178,\"\")","v":""},null,{"$f":"IFERROR(Hjælpeark!AI178,\"\")","v":""},null,{"$f":"IFERROR(Hjælpeark!AJ178,\"\")","v":""},null,{"$f":"IFERROR(Hjælpeark!AK178,\"\")","v":""},null,null,null,null,0,false,false,false,false,false,false,false]
[null,null,"Vi med fordel kan gøre",{"$f":"IFERROR(Hjælpeark!AE179,\"\")","v":""},null,{"$f":"IFERROR(Hjælpeark!AF179,\"\")","v":""},null,{"$f":"IFERROR(Hjælpeark!AG179,\"\")","v":""},null,{"$f":"IFERROR(Hjælpeark!AH179,\"\")","v":""},null,{"$f":"IFERROR(Hjælpeark!AI179,\"\")","v":""},null,{"$f":"IFERROR(Hjælpeark!AJ179,\"\")","v":""},null,{"$f":"IFERROR(Hjælpeark!AK179,\"\")","v":""},null,null,null,null,0,false,false,false,false,false,false,false]
[null,"Tilsyn 60","Vi bør gøre",{"$f":"IFERROR(Hjælpeark!AE180,\"\")","v":""},null,{"$f":"IFERROR(Hjælpeark!AF180,\"\")","v":""},null,{"$f":"IFERROR(Hjælpeark!AG180,\"\")","v":""},null,{"$f":"IFERROR(Hjælpeark!AH180,\"\")","v":""},null,{"$f":"IFERROR(Hjælpeark!AI180,\"\")","v":""},null,{"$f":"IFERROR(Hjælpeark!AJ180,\"\")","v":""},null,{"$f":"IFERROR(Hjælpeark!AK180,\"\")","v":""},null,null,null,null,0,false,false,false,false,false,false,false]
[null,null,"Vi med fordel kan gøre",{"$f":"IFERROR(Hjælpeark!AE181,\"\")","v":""},null,{"$f":"IFERROR(Hjælpeark!AF181,\"\")","v":""},null,{"$f":"IFERROR(Hjælpeark!AG181,\"\")","v":""},null,{"$f":"IFERROR(Hjælpeark!AH181,\"\")","v":""},null,{"$f":"IFERROR(Hjælpeark!AI181,\"\")","v":""},null,{"$f":"IFERROR(Hjælpeark!AJ181,\"\")","v":""},null,{"$f":"IFERROR(Hjælpeark!AK181,\"\")","v":""},null,null,null,null,0,false,false,false,false,false,false,false]
[null,"Tilsyn 61","Vi bør gøre",{"$f":"IFERROR(Hjælpeark!AE182,\"\")","v":""},null,{"$f":"IFERROR(Hjælpeark!AF182,\"\")","v":""},null,{"$f":"IFERROR(Hjælpeark!AG182,\"\")","v":""},null,{"$f":"IFERROR(Hjælpeark!AH182,\"\")","v":""},null,{"$f":"IFERROR(Hjælpeark!AI182,\"\")","v":""},null,{"$f":"IFERROR(Hjælpeark!AJ182,\"\")","v":""},null,{"$f":"IFERROR(Hjælpeark!AK182,\"\")","v":""},null,null,null,null,0,false,false,false,false,false,false,false]
[null,null,"Vi med fordel kan gøre",{"$f":"IFERROR(Hjælpeark!AE183,\"\")","v":""},null,{"$f":"IFERROR(Hjælpeark!AF183,\"\")","v":""},null,{"$f":"IFERROR(Hjælpeark!AG183,\"\")","v":""},null,{"$f":"IFERROR(Hjælpeark!AH183,\"\")","v":""},null,{"$f":"IFERROR(Hjælpeark!AI183,\"\")","v":""},null,{"$f":"IFERROR(Hjælpeark!AJ183,\"\")","v":""},null,{"$f":"IFERROR(Hjælpeark!AK183,\"\")","v":""},null,null,null,null,0,false,false,false,false,false,false,false]
[null,"Tilsyn 62","Vi bør gøre",{"$f":"IFERROR(Hjælpeark!AE184,\"\")","v":""},null,{"$f":"IFERROR(Hjælpeark!AF184,\"\")","v":""},null,{"$f":"IFERROR(Hjælpeark!AG184,\"\")","v":""},null,{"$f":"IFERROR(Hjælpeark!AH184,\"\")","v":""},null,{"$f":"IFERROR(Hjælpeark!AI184,\"\")","v":""},null,{"$f":"IFERROR(Hjælpeark!AJ184,\"\")","v":""},null,{"$f":"IFERROR(Hjælpeark!AK184,\"\")","v":""},null,null,null,null,0,false,false,false,false,false,false,false]
[null,null,"Vi med fordel kan gøre",{"$f":"IFERROR(Hjælpeark!AE185,\"\")","v":""},null,{"$f":"IFERROR(Hjælpeark!AF185,\"\")","v":""},null,{"$f":"IFERROR(Hjælpeark!AG185,\"\")","v":""},null,{"$f":"IFERROR(Hjælpeark!AH185,\"\")","v":""},null,{"$f":"IFERROR(Hjælpeark!AI185,\"\")","v":""},null,{"$f":"IFERROR(Hjælpeark!AJ185,\"\")","v":""},null,{"$f":"IFERROR(Hjælpeark!AK185,\"\")","v":""},null,null,null,null,0,false,false,false,false,false,false,false]
[null,"Tilsyn 63","Vi bør gøre",{"$f":"IFERROR(Hjælpeark!AE186,\"\")","v":""},null,{"$f":"IFERROR(Hjælpeark!AF186,\"\")","v":""},null,{"$f":"IFERROR(Hjælpeark!AG186,\"\")","v":""},null,{"$f":"IFERROR(Hjælpeark!AH186,\"\")","v":""},null,{"$f":"IFERROR(Hjælpeark!AI186,\"\")","v":""},null,{"$f":"IFERROR(Hjælpeark!AJ186,\"\")","v":""},null,{"$f":"IFERROR(Hjælpeark!AK186,\"\")","v":""},null,null,null,null,0,false,false,false,false,false,false,false]
[null,null,"Vi med fordel kan gøre",{"$f":"IFERROR(Hjælpeark!AE187,\"\")","v":""},null,{"$f":"IFERROR(Hjælpeark!AF187,\"\")","v":""},null,{"$f":"IFERROR(Hjælpeark!AG187,\"\")","v":""},null,{"$f":"IFERROR(Hjælpeark!AH187,\"\")","v":""},null,{"$f":"IFERROR(Hjælpeark!AI187,\"\")","v":""},null,{"$f":"IFERROR(Hjælpeark!AJ187,\"\")","v":""},null,{"$f":"IFERROR(Hjælpeark!AK187,\"\")","v":""},null,null,null,null,0,false,false,false,false,false,false,false]
[null,"Tilsyn 64","Vi bør gøre",{"$f":"IFERROR(Hjælpeark!AE188,\"\")","v":""},null,{"$f":"IFERROR(Hjælpeark!AF188,\"\")","v":""},null,{"$f":"IFERROR(Hjælpeark!AG188,\"\")","v":""},null,{"$f":"IFERROR(Hjælpeark!AH188,\"\")","v":""},null,{"$f":"IFERROR(Hjælpeark!AI188,\"\")","v":""},null,{"$f":"IFERROR(Hjælpeark!AJ188,\"\")","v":""},null,{"$f":"IFERROR(Hjælpeark!AK188,\"\")","v":""},null,null,null,null,0,false,false,false,false,false,false,false]
[null,null,"Vi med fordel kan gøre",{"$f":"IFERROR(Hjælpeark!AE189,\"\")","v":""},null,{"$f":"IFERROR(Hjælpeark!AF189,\"\")","v":""},null,{"$f":"IFERROR(Hjælpeark!AG189,\"\")","v":""},null,{"$f":"IFERROR(Hjælpeark!AH189,\"\")","v":""},null,{"$f":"IFERROR(Hjælpeark!AI189,\"\")","v":""},null,{"$f":"IFERROR(Hjælpeark!AJ189,\"\")","v":""},null,{"$f":"IFERROR(Hjælpeark!AK189,\"\")","v":""},null,null,null,null,0,false,false,false,false,false,false,false]
[null,"Tilsyn 65","Vi bør gøre",{"$f":"IFERROR(Hjælpeark!AE190,\"\")","v":""},null,{"$f":"IFERROR(Hjælpeark!AF190,\"\")","v":""},null,{"$f":"IFERROR(Hjælpeark!AG190,\"\")","v":""},null,{"$f":"IFERROR(Hjælpeark!AH190,\"\")","v":""},null,{"$f":"IFERROR(Hjælpeark!AI190,\"\")","v":""},null,{"$f":"IFERROR(Hjælpeark!AJ190,\"\")","v":""},null,{"$f":"IFERROR(Hjælpeark!AK190,\"\")","v":""},null,null,null,null,0,{"$f":"SUMPRODUCT(--ISNUMBER(SEARCH(Liste,D134)))>0","v":false},{"$f":"SUMPRODUCT(--ISNUMBER(SEARCH(Liste,F134)))>0","v":false},{"$f":"SUMPRODUCT(--ISNUMBER(SEARCH(Liste,H134)))>0","v":false},{"$f":"SUMPRODUCT(--ISNUMBER(SEARCH(Liste,J134)))>0","v":false},{"$f":"SUMPRODUCT(--ISNUMBER(SEARCH(Liste,L134)))>0","v":false},{"$f":"SUMPRODUCT(--ISNUMBER(SEARCH(Liste,N134)))>0","v":false},{"$f":"SUMPRODUCT(--ISNUMBER(SEARCH(Liste,P134)))>0","v":false}]
[null,null,"Vi med fordel kan gøre",{"$f":"IFERROR(Hjælpeark!AE191,\"\")","v":""},null,{"$f":"IFERROR(Hjælpeark!AF191,\"\")","v":""},null,{"$f":"IFERROR(Hjælpeark!AG191,\"\")","v":""},null,{"$f":"IFERROR(Hjælpeark!AH191,\"\")","v":""},null,{"$f":"IFERROR(Hjælpeark!AI191,\"\")","v":""},null,{"$f":"IFERROR(Hjælpeark!AJ191,\"\")","v":""},null,{"$f":"IFERROR(Hjælpeark!AK191,\"\")","v":""},null,null,null,null,{"$f":"COUNTIF(V135:AC135,\"SAND\")","v":0},false,false,false,false,false,false,false]
[null,"Tilsyn 66",{"$f":"C134","v":"Vi bør gøre"},{"$f":"IFERROR(Hjælpeark!AE192,\"\")","v":""},null,{"$f":"IFERROR(Hjælpeark!AF192,\"\")","v":""},null,{"$f":"IFERROR(Hjælpeark!AG192,\"\")","v":""},null,{"$f":"IFERROR(Hjælpeark!AH192,\"\")","v":""},null,{"$f":"IFERROR(Hjælpeark!AI192,\"\")","v":""},null,{"$f":"IFERROR(Hjælpeark!AJ192,\"\")","v":""},null,{"$f":"IFERROR(Hjælpeark!AK192,\"\")","v":""},null,null,null,null,0,false,false,false,false,false,false,false]
[null,null,"Vi med fordel kan gøre",{"$f":"IFERROR(Hjælpeark!AE193,\"\")","v":""},null,{"$f":"IFERROR(Hjælpeark!AF193,\"\")","v":""},null,{"$f":"IFERROR(Hjælpeark!AG193,\"\")","v":""},null,{"$f":"IFERROR(Hjælpeark!AH193,\"\")","v":""},null,{"$f":"IFERROR(Hjælpeark!AI193,\"\")","v":""},null,{"$f":"IFERROR(Hjælpeark!AJ193,\"\")","v":""},null,{"$f":"IFERROR(Hjælpeark!AK193,\"\")","v":""},null,null,null,null,0,false,false,false,false,false,false,false]
[null,"Tilsyn 67","Vi bør gøre",{"$f":"IFERROR(Hjælpeark!AE194,\"\")","v":""},null,{"$f":"IFERROR(Hjælpeark!AF194,\"\")","v":""},null,{"$f":"IFERROR(Hjælpeark!AG194,\"\")","v":""},null,{"$f":"IFERROR(Hjælpeark!AH194,\"\")","v":""},null,{"$f":"IFERROR(Hjælpeark!AI194,\"\")","v":""},null,{"$f":"IFERROR(Hjælpeark!AJ194,\"\")","v":""},null,{"$f":"IFERROR(Hjælpeark!AK194,\"\")","v":""},null,null,null,null,0,false,false,false,false,false,false,false]
[null,null,"Vi med fordel kan gøre",{"$f":"IFERROR(Hjælpeark!AE195,\"\")","v":""},null,{"$f":"IFERROR(Hjælpeark!AF195,\"\")","v":""},null,{"$f":"IFERROR(Hjælpeark!AG195,\"\")","v":""},null,{"$f":"IFERROR(Hjælpeark!AH195,\"\")","v":""},null,{"$f":"IFERROR(Hjælpeark!AI195,\"\")","v":""},null,{"$f":"IFERROR(Hjælpeark!AJ195,\"\")","v":""},null,{"$f":"IFERROR(Hjælpeark!AK195,\"\")","v":""},null,null,null,null,0,false,false,false,false,false,false,false]
[null,"Tilsyn 68","Vi bør gøre",{"$f":"IFERROR(Hjælpeark!AE196,\"\")","v":""},null,{"$f":"IFERROR(Hjælpeark!AF196,\"\")","v":""},null,{"$f":"IFERROR(Hjælpeark!AG196,\"\")","v":""},null,{"$f":"IFERROR(Hjælpeark!AH196,\"\")","v":""},null,{"$f":"IFERROR(Hjælpeark!AI196,\"\")","v":""},null,{"$f":"IFERROR(Hjælpeark!AJ196,\"\")","v":""},null,{"$f":"IFERROR(Hjælpeark!AK196,\"\")","v":""},null,null,null,null,0,false,false,false,false,false,false,false]
[null,null,"Vi med fordel kan gøre",{"$f":"IFERROR(Hjælpeark!AE197,\"\")","v":""},null,{"$f":"IFERROR(Hjælpeark!AF197,\"\")","v":""},null,{"$f":"IFERROR(Hjælpeark!AG197,\"\")","v":""},null,{"$f":"IFERROR(Hjælpeark!AH197,\"\")","v":""},null,{"$f":"IFERROR(Hjælpeark!AI197,\"\")","v":""},null,{"$f":"IFERROR(Hjælpeark!AJ197,\"\")","v":""},null,{"$f":"IFERROR(Hjælpeark!AK197,\"\")","v":""},null,null,null,null,0,false,false,false,false,false,false,false]
[null,"Tilsyn 69","Vi bør gøre",{"$f":"IFERROR(Hjælpeark!AE198,\"\")","v":""},null,{"$f":"IFERROR(Hjælpeark!AF198,\"\")","v":""},null,{"$f":"IFERROR(Hjælpeark!AG198,\"\")","v":""},null,{"$f":"IFERROR(Hjælpeark!AH198,\"\")","v":""},null,{"$f":"IFERROR(Hjælpeark!AI198,\"\")","v":""},null,{"$f":"IFERROR(Hjælpeark!AJ198,\"\")","v":""},null,{"$f":"IFERROR(Hjælpeark!AK198,\"\")","v":""},null,null,null,null,0,false,false,false,false,false,false,false]
[null,null,"Vi med fordel kan gøre",{"$f":"IFERROR(Hjælpeark!AE199,\"\")","v":""},null,{"$f":"IFERROR(Hjælpeark!AF199,\"\")","v":""},null,{"$f":"IFERROR(Hjælpeark!AG199,\"\")","v":""},null,{"$f":"IFERROR(Hjælpeark!AH199,\"\")","v":""},null,{"$f":"IFERROR(Hjælpeark!AI199,\"\")","v":""},null,{"$f":"IFERROR(Hjælpeark!AJ199,\"\")","v":""},null,{"$f":"IFERROR(Hjælpeark!AK199,\"\")","v":""},null,null,null,null,0,false,false,false,false,false,false,false]
[null,"Tilsyn 70","Vi bør gøre",{"$f":"IFERROR(Hjælpeark!AE200,\"\")","v":""},null,{"$f":"IFERROR(Hjælpeark!AF200,\"\")","v":""},null,{"$f":"IFERROR(Hjælpeark!AG200,\"\")","v":""},null,{"$f":"IFERROR(Hjælpeark!AH200,\"\")","v":""},null,{"$f":"IFERROR(Hjælpeark!AI200,\"\")","v":""},null,{"$f":"IFERROR(Hjælpeark!AJ200,\"\")","v":""},null,{"$f":"IFERROR(Hjælpeark!AK200,\"\")","v":""},null,null,null,null,0,false,false,false,false,false,false,false]
[null,null,"Vi med fordel kan gøre",{"$f":"IFERROR(Hjælpeark!AE201,\"\")","v":""},null,{"$f":"IFERROR(Hjælpeark!AF201,\"\")","v":""},null,{"$f":"IFERROR(Hjælpeark!AG201,\"\")","v":""},null,{"$f":"IFERROR(Hjælpeark!AH201,\"\")","v":""},null,{"$f":"IFERROR(Hjælpeark!AI201,\"\")","v":""},null,{"$f":"IFERROR(Hjælpeark!AJ201,\"\")","v":""},null,{"$f":"IFERROR(Hjælpeark!AK201,\"\")","v":""},null,null,null,null,0,false,false,false,false,false,false,false]
[null,"Tilsyn 71","Vi bør gøre",{"$f":"IFERROR(Hjælpeark!AE202,\"\")","v":""},null,{"$f":"IFERROR(Hjælpeark!AF202,\"\")","v":""},null,{"$f":"IFERROR(Hjælpeark!AG202,\"\")","v":""},null,{"$f":"IFERROR(Hjælpeark!AH202,\"\")","v":""},null,{"$f":"IFERROR(Hjælpeark!AI202,\"\")","v":""},null,{"$f":"IFERROR(Hjælpeark!AJ202,\"\")","v":""},null,{"$f":"IFERROR(Hjælpeark!AK202,\"\")","v":""},null,null,null,null,0,false,false,false,false,false,false,false]
[null,null,"Vi med fordel kan gøre",{"$f":"IFERROR(Hjælpeark!AE203,\"\")","v":""},null,{"$f":"IFERROR(Hjælpeark!AF203,\"\")","v":""},null,{"$f":"IFERROR(Hjælpeark!AG203,\"\")","v":""},null,{"$f":"IFERROR(Hjælpeark!AH203,\"\")","v":""},null,{"$f":"IFERROR(Hjælpeark!AI203,\"\")","v":""},null,{"$f":"IFERROR(Hjælpeark!AJ203,\"\")","v":""},null,{"$f":"IFERROR(Hjælpeark!AK203,\"\")","v":""},null,null,null,null,0,false,false,false,false,false,false,false]
[null,"Tilsyn 72","Vi bør gøre",{"$f":"IFERROR(Hjælpeark!AE204,\"\")","v":""},null,{"$f":"IFERROR(Hjælpeark!AF204,\"\")","v":""},null,{"$f":"IFERROR(Hjælpeark!AG204,\"\")","v":""},null,{"$f":"IFERROR(Hjælpeark!AH204,\"\")","v":""},null,{"$f":"IFERROR(Hjælpeark!AI204,\"\")","v":""},null,{"$f":"IFERROR(Hjælpeark!AJ204,\"\")","v":""},null,{"$f":"IFERROR(Hjælpeark!AK204,\"\")","v":""},null,null,null,null,0,false,false,false,false,false,false,false]
[null,null,"Vi med fordel kan gøre",{"$f":"IFERROR(Hjælpeark!AE205,\"\")","v":""},null,{"$f":"IFERROR(Hjælpeark!AF205,\"\")","v":""},null,{"$f":"IFERROR(Hjælpeark!AG205,\"\")","v":""},null,{"$f":"IFERROR(Hjælpeark!AH205,\"\")","v":""},null,{"$f":"IFERROR(Hjælpeark!AI205,\"\")","v":""},null,{"$f":"IFERROR(Hjælpeark!AJ205,\"\")","v":""},null,{"$f":"IFERROR(Hjælpeark!AK205,\"\")","v":""},null,null,null,null,0,false,false,false,false,false,false,false]
[null,"Tilsyn 73","Vi bør gøre",{"$f":"IFERROR(Hjælpeark!AE206,\"\")","v":""},null,{"$f":"IFERROR(Hjælpeark!AF206,\"\")","v":""},null,{"$f":"IFERROR(Hjælpeark!AG206,\"\")","v":""},null,{"$f":"IFERROR(Hjælpeark!AH206,\"\")","v":""},null,{"$f":"IFERROR(Hjælpeark!AI206,\"\")","v":""},null,{"$f":"IFERROR(Hjælpeark!AJ206,\"\")","v":""},null,{"$f":"IFERROR(Hjælpeark!AK206,\"\")","v":""},null,null,null,null,0,false,false,false,false,false,false,false]
[null,null,"Vi med fordel kan gøre",{"$f":"IFERROR(Hjælpeark!AE207,\"\")","v":""},null,{"$f":"IFERROR(Hjælpeark!AF207,\"\")","v":""},null,{"$f":"IFERROR(Hjælpeark!AG207,\"\")","v":""},null,{"$f":"IFERROR(Hjælpeark!AH207,\"\")","v":""},null,{"$f":"IFERROR(Hjælpeark!AI207,\"\")","v":""},null,{"$f":"IFERROR(Hjælpeark!AJ207,\"\")","v":""},null,{"$f":"IFERROR(Hjælpeark!AK207,\"\")","v":""},null,null,null,null,0,false,false,false,false,false,false,false]
[null,"Tilsyn 74","Vi bør gøre",{"$f":"IFERROR(Hjælpeark!AE208,\"\")","v":""},null,{"$f":"IFERROR(Hjælpeark!AF208,\"\")","v":""},null,{"$f":"IFERROR(Hjælpeark!AG208,\"\")","v":""},null,{"$f":"IFERROR(Hjælpeark!AH208,\"\")","v":""},null,{"$f":"IFERROR(Hjælpeark!AI208,\"\")","v":""},null,{"$f":"IFERROR(Hjælpeark!AJ208,\"\")","v":""},null,{"$f":"IFERROR(Hjælpeark!AK208,\"\")","v":""},null,null,null,null,0,false,false,false,false,false,false,false]
[null,null,"Vi med fordel kan gøre",{"$f":"IFERROR(Hjælpeark!AE209,\"\")","v":""},null,{"$f":"IFERROR(Hjælpeark!AF209,\"\")","v":""},null,{"$f":"IFERROR(Hjælpeark!AG209,\"\")","v":""},null,{"$f":"IFERROR(Hjælpeark!AH209,\"\")","v":""},null,{"$f":"IFERROR(Hjælpeark!AI209,\"\")","v":""},null,{"$f":"IFERROR(Hjælpeark!AJ209,\"\")","v":""},null,{"$f":"IFERROR(Hjælpeark!AK209,\"\")","v":""},null,null,null,null,0,false,false,false,false,false,false,false]
[null,"Tilsyn 75","Vi bør gøre",{"$f":"IFERROR(Hjælpeark!AE210,\"\")","v":""},null,{"$f":"IFERROR(Hjælpeark!AF210,\"\")","v":""},null,{"$f":"IFERROR(Hjælpeark!AG210,\"\")","v":""},null,{"$f":"IFERROR(Hjælpeark!AH210,\"\")","v":""},null,{"$f":"IFERROR(Hjælpeark!AI210,\"\")","v":""},null,{"$f":"IFERROR(Hjælpeark!AJ210,\"\")","v":""},null,{"$f":"IFERROR(Hjælpeark!AK210,\"\")","v":""},null,null,null,null,0,false,false,false,false,false,false,false]
[null,null,"Vi med fordel kan gøre",{"$f":"IFERROR(Hjælpeark!AE211,\"\")","v":""},null,{"$f":"IFERROR(Hjælpeark!AF211,\"\")","v":""},null,{"$f":"IFERROR(Hjælpeark!AG211,\"\")","v":""},null,{"$f":"IFERROR(Hjælpeark!AH211,\"\")","v":""},null,{"$f":"IFERROR(Hjælpeark!AI211,\"\")","v":""},null,{"$f":"IFERROR(Hjælpeark!AJ211,\"\")","v":""},null,{"$f":"IFERROR(Hjælpeark!AK211,\"\")","v":""},null,null,null,null,0,false,false,false,false,false,false,false]
[null,"Tilsyn 76","Vi bør gøre",{"$f":"IFERROR(Hjælpeark!AE212,\"\")","v":""},null,{"$f":"IFERROR(Hjælpeark!AF212,\"\")","v":""},null,{"$f":"IFERROR(Hjælpeark!AG212,\"\")","v":""},null,{"$f":"IFERROR(Hjælpeark!AH212,\"\")","v":""},null,{"$f":"IFERROR(Hjælpeark!AI212,\"\")","v":""},null,{"$f":"IFERROR(Hjælpeark!AJ212,\"\")","v":""},null,{"$f":"IFERROR(Hjælpeark!AK212,\"\")","v":""},null,null,null,null,0,false,false,false,false,false,false,false]
[null,null,"Vi med fordel kan gøre",{"$f":"IFERROR(Hjælpeark!AE213,\"\")","v":""},null,{"$f":"IFERROR(Hjælpeark!AF213,\"\")","v":""},null,{"$f":"IFERROR(Hjælpeark!AG213,\"\")","v":""},null,{"$f":"IFERROR(Hjælpeark!AH213,\"\")","v":""},null,{"$f":"IFERROR(Hjælpeark!AI213,\"\")","v":""},null,{"$f":"IFERROR(Hjælpeark!AJ213,\"\")","v":""},null,{"$f":"IFERROR(Hjælpeark!AK213,\"\")","v":""},null,null,null,null,0,false,false,false,false,false,false,false]
[null,"Tilsyn 77","Vi bør gøre",{"$f":"IFERROR(Hjælpeark!AE214,\"\")","v":""},null,{"$f":"IFERROR(Hjælpeark!AF214,\"\")","v":""},null,{"$f":"IFERROR(Hjælpeark!AG214,\"\")","v":""},null,{"$f":"IFERROR(Hjælpeark!AH214,\"\")","v":""},null,{"$f":"IFERROR(Hjælpeark!AI214,\"\")","v":""},null,{"$f":"IFERROR(Hjælpeark!AJ214,\"\")","v":""},null,{"$f":"IFERROR(Hjælpeark!AK214,\"\")","v":""},null,null,null,null,0,false,false,false,false,false,false,false]
[null,null,"Vi med fordel kan gøre",{"$f":"IFERROR(Hjælpeark!AE215,\"\")","v":""},null,{"$f":"IFERROR(Hjælpeark!AF215,\"\")","v":""},null,{"$f":"IFERROR(Hjælpeark!AG215,\"\")","v":""},null,{"$f":"IFERROR(Hjælpeark!AH215,\"\")","v":""},null,{"$f":"IFERROR(Hjælpeark!AI215,\"\")","v":""},null,{"$f":"IFERROR(Hjælpeark!AJ215,\"\")","v":""},null,{"$f":"IFERROR(Hjælpeark!AK215,\"\")","v":""},null,null,null,null,0,false,false,false,false,false,false,false]
[null,"Tilsyn 78","Vi bør gøre",{"$f":"IFERROR(Hjælpeark!AE216,\"\")","v":""},null,{"$f":"IFERROR(Hjælpeark!AF216,\"\")","v":""},null,{"$f":"IFERROR(Hjælpeark!AG216,\"\")","v":""},null,{"$f":"IFERROR(Hjælpeark!AH216,\"\")","v":""},null,{"$f":"IFERROR(Hjælpeark!AI216,\"\")","v":""},null,{"$f":"IFERROR(Hjælpeark!AJ216,\"\")","v":""},null,{"$f":"IFERROR(Hjælpeark!AK216,\"\")","v":""},null,null,null,null,0,false,false,false,false,false,false,false]
[null,null,"Vi med fordel kan gøre",{"$f":"IFERROR(Hjælpeark!AE217,\"\")","v":""},null,{"$f":"IFERROR(Hjælpeark!AF217,\"\")","v":""},null,{"$f":"IFERROR(Hjælpeark!AG217,\"\")","v":""},null,{"$f":"IFERROR(Hjælpeark!AH217,\"\")","v":""},null,{"$f":"IFERROR(Hjælpeark!AI217,\"\")","v":""},null,{"$f":"IFERROR(Hjælpeark!AJ217,\"\")","v":""},null,{"$f":"IFERROR(Hjælpeark!AK217,\"\")","v":""},null,null,null,null,0,false,false,false,false,false,false,false]
[null,"Tilsyn 79","Vi bør gøre",{"$f":"IFERROR(Hjælpeark!AE218,\"\")","v":""},null,{"$f":"IFERROR(Hjælpeark!AF218,\"\")","v":""},null,{"$f":"IFERROR(Hjælpeark!AG218,\"\")","v":""},null,{"$f":"IFERROR(Hjælpeark!AH218,\"\")","v":""},null,{"$f":"IFERROR(Hjælpeark!AI218,\"\")","v":""},null,{"$f":"IFERROR(Hjælpeark!AJ218,\"\")","v":""},null,{"$f":"IFERROR(Hjælpeark!AK218,\"\")","v":""},null,null,null,null,0,false,false,false,false,false,false,false]
[null,null,"Vi med fordel kan gøre",{"$f":"IFERROR(Hjælpeark!AE219,\"\")","v":""},null,{"$f":"IFERROR(Hjælpeark!AF219,\"\")","v":""},null,{"$f":"IFERROR(Hjælpeark!AG219,\"\")","v":""},null,{"$f":"IFERROR(Hjælpeark!AH219,\"\")","v":""},null,{"$f":"IFERROR(Hjælpeark!AI219,\"\")","v":""},null,{"$f":"IFERROR(Hjælpeark!AJ219,\"\")","v":""},null,{"$f":"IFERROR(Hjælpeark!AK219,\"\")","v":""},null,null,null,null,0,false,false,false,false,false,false,false]
[null,"Tilsyn 80","Vi bør gøre",{"$f":"IFERROR(Hjælpeark!AE220,\"\")","v":""},null,{"$f":"IFERROR(Hjælpeark!AF220,\"\")","v":""},null,{"$f":"IFERROR(Hjælpeark!AG220,\"\")","v":""},null,{"$f":"IFERROR(Hjælpeark!AH220,\"\")","v":""},null,{"$f":"IFERROR(Hjælpeark!AI220,\"\")","v":""},null,{"$f":"IFERROR(Hjælpeark!AJ220,\"\")","v":""},null,{"$f":"IFERROR(Hjælpeark!AK220,\"\")","v":""},null,null,null,null,0,false,false,false,false,false,false,false]
[null,null,"Vi med fordel kan gøre",{"$f":"IFERROR(Hjælpeark!AE221,\"\")","v":""},null,{"$f":"IFERROR(Hjælpeark!AF221,\"\")","v":""},null,{"$f":"IFERROR(Hjælpeark!AG221,\"\")","v":""},null,{"$f":"IFERROR(Hjælpeark!AH221,\"\")","v":""},null,{"$f":"IFERROR(Hjælpeark!AI221,\"\")","v":""},null,{"$f":"IFERROR(Hjælpeark!AJ221,\"\")","v":""},null,{"$f":"IFERROR(Hjælpeark!AK221,\"\")","v":""},null,null,null,null,0,false,false,false,false,false,false,false]
[null,"Tilsyn 81","Vi bør gøre",{"$f":"IFERROR(Hjælpeark!AE222,\"\")","v":""},null,{"$f":"IFERROR(Hjælpeark!AF222,\"\")","v":""},null,{"$f":"IFERROR(Hjælpeark!AG222,\"\")","v":""},null,{"$f":"IFERROR(Hjælpeark!AH222,\"\")","v":""},null,{"$f":"IFERROR(Hjælpeark!AI222,\"\")","v":""},null,{"$f":"IFERROR(Hjælpeark!AJ222,\"\")","v":""},null,{"$f":"IFERROR(Hjælpeark!AK222,\"\")","v":""},null,null,null,null,0,{"$f":"SUMPRODUCT(--ISNUMBER(SEARCH(Liste,D166)))>0","v":false},{"$f":"SUMPRODUCT(--ISNUMBER(SEARCH(Liste,F166)))>0","v":false},{"$f":"SUMPRODUCT(--ISNUMBER(SEARCH(Liste,H166)))>0","v":false},{"$f":"SUMPRODUCT(--ISNUMBER(SEARCH(Liste,J166)))>0","v":false},{"$f":"SUMPRODUCT(--ISNUMBER(SEARCH(Liste,L166)))>0","v":false},{"$f":"SUMPRODUCT(--ISNUMBER(SEARCH(Liste,N166)))>0","v":false},{"$f":"SUMPRODUCT(--ISNUMBER(SEARCH(Liste,P166)))>0","v":false}]
[null,null,"Vi med fordel kan gøre",{"$f":"IFERROR(Hjælpeark!AE223,\"\")","v":""},null,{"$f":"IFERROR(Hjælpeark!AF223,\"\")","v":""},null,{"$f":"IFERROR(Hjælpeark!AG223,\"\")","v":""},null,{"$f":"IFERROR(Hjælpeark!AH223,\"\")","v":""},null,{"$f":"IFERROR(Hjælpeark!AI223,\"\")","v":""},null,{"$f":"IFERROR(Hjælpeark!AJ223,\"\")","v":""},null,{"$f":"IFERROR(Hjælpeark!AK223,\"\")","v":""},null,null,null,null,0,false,false,false,false,false,false,false]
[null,"Tilsyn 82",{"$f":"C166","v":"Vi bør gøre"},{"$f":"IFERROR(Hjælpeark!AE224,\"\")","v":""},null,{"$f":"IFERROR(Hjælpeark!AF224,\"\")","v":""},null,{"$f":"IFERROR(Hjælpeark!AG224,\"\")","v":""},null,{"$f":"IFERROR(Hjælpeark!AH224,\"\")","v":""},null,{"$f":"IFERROR(Hjælpeark!AI224,\"\")","v":""},null,{"$f":"IFERROR(Hjælpeark!AJ224,\"\")","v":""},null,{"$f":"IFERROR(Hjælpeark!AK224,\"\")","v":""},null,null,null,null,0,false,false,false,false,false,false,false]
[null,null,"Vi med fordel kan gøre",{"$f":"IFERROR(Hjælpeark!AE225,\"\")","v":""},null,{"$f":"IFERROR(Hjælpeark!AF225,\"\")","v":""},null,{"$f":"IFERROR(Hjælpeark!AG225,\"\")","v":""},null,{"$f":"IFERROR(Hjælpeark!AH225,\"\")","v":""},null,{"$f":"IFERROR(Hjælpeark!AI225,\"\")","v":""},null,{"$f":"IFERROR(Hjælpeark!AJ225,\"\")","v":""},null,{"$f":"IFERROR(Hjælpeark!AK225,\"\")","v":""},null,null,null,null,0,false,false,false,false,false,false,false]
[null,"Tilsyn 83","Vi bør gøre",{"$f":"IFERROR(Hjælpeark!AE226,\"\")","v":""},null,{"$f":"IFERROR(Hjælpeark!AF226,\"\")","v":""},null,{"$f":"IFERROR(Hjælpeark!AG226,\"\")","v":""},null,{"$f":"IFERROR(Hjælpeark!AH226,\"\")","v":""},null,{"$f":"IFERROR(Hjælpeark!AI226,\"\")","v":""},null,{"$f":"IFERROR(Hjælpeark!AJ226,\"\")","v":""},null,{"$f":"IFERROR(Hjælpeark!AK226,\"\")","v":""},null,null,null,null,0,false,false,false,false,false,false,false]
[null,null,"Vi med fordel kan gøre",{"$f":"IFERROR(Hjælpeark!AE227,\"\")","v":""},null,{"$f":"IFERROR(Hjælpeark!AF227,\"\")","v":""},null,{"$f":"IFERROR(Hjælpeark!AG227,\"\")","v":""},null,{"$f":"IFERROR(Hjælpeark!AH227,\"\")","v":""},null,{"$f":"IFERROR(Hjælpeark!AI227,\"\")","v":""},null,{"$f":"IFERROR(Hjælpeark!AJ227,\"\")","v":""},null,{"$f":"IFERROR(Hjælpeark!AK227,\"\")","v":""},null,null,null,null,0,false,false,false,false,false,false,false]
[null,"Tilsyn 84","Vi bør gøre",{"$f":"IFERROR(Hjælpeark!AE228,\"\")","v":""},null,{"$f":"IFERROR(Hjælpeark!AF228,\"\")","v":""},null,{"$f":"IFERROR(Hjælpeark!AG228,\"\")","v":""},null,{"$f":"IFERROR(Hjælpeark!AH228,\"\")","v":""},null,{"$f":"IFERROR(Hjælpeark!AI228,\"\")","v":""},null,{"$f":"IFERROR(Hjælpeark!AJ228,\"\")","v":""},null,{"$f":"IFERROR(Hjælpeark!AK228,\"\")","v":""},null,null,null,null,0,false,false,false,false,false,false,false]
[null,null,"Vi med fordel kan gøre",{"$f":"IFERROR(Hjælpeark!AE229,\"\")","v":""},null,{"$f":"IFERROR(Hjælpeark!AF229,\"\")","v":""},null,{"$f":"IFERROR(Hjælpeark!AG229,\"\")","v":""},null,{"$f":"IFERROR(Hjælpeark!AH229,\"\")","v":""},null,{"$f":"IFERROR(Hjælpeark!AI229,\"\")","v":""},null,{"$f":"IFERROR(Hjælpeark!AJ229,\"\")","v":""},null,{"$f":"IFERROR(Hjælpeark!AK229,\"\")","v":""},null,null,null,null,0,false,false,false,false,false,false,false]
[null,"Tilsyn 85","Vi bør gøre",{"$f":"IFERROR(Hjælpeark!AE230,\"\")","v":""},null,{"$f":"IFERROR(Hjælpeark!AF230,\"\")","v":""},null,{"$f":"IFERROR(Hjælpeark!AG230,\"\")","v":""},null,{"$f":"IFERROR(Hjælpeark!AH230,\"\")","v":""},null,{"$f":"IFERROR(Hjælpeark!AI230,\"\")","v":""},null,{"$f":"IFERROR(Hjælpeark!AJ230,\"\")","v":""},null,{"$f":"IFERROR(Hjælpeark!AK230,\"\")","v":""},null,null,null,null,0,false,false,false,false,false,false,false]
[null,null,"Vi med fordel kan gøre",{"$f":"IFERROR(Hjælpeark!AE231,\"\")","v":""},null,{"$f":"IFERROR(Hjælpeark!AF231,\"\")","v":""},null,{"$f":"IFERROR(Hjælpeark!AG231,\"\")","v":""},null,{"$f":"IFERROR(Hjælpeark!AH231,\"\")","v":""},null,{"$f":"IFERROR(Hjælpeark!AI231,\"\")","v":""},null,{"$f":"IFERROR(Hjælpeark!AJ231,\"\")","v":""},null,{"$f":"IFERROR(Hjælpeark!AK231,\"\")","v":""},null,null,null,null,0,false,false,false,false,false,false,false]
[null,"Tilsyn 86","Vi bør gøre",{"$f":"IFERROR(Hjælpeark!AE232,\"\")","v":""},null,{"$f":"IFERROR(Hjælpeark!AF232,\"\")","v":""},null,{"$f":"IFERROR(Hjælpeark!AG232,\"\")","v":""},null,{"$f":"IFERROR(Hjælpeark!AH232,\"\")","v":""},null,{"$f":"IFERROR(Hjælpeark!AI232,\"\")","v":""},null,{"$f":"IFERROR(Hjælpeark!AJ232,\"\")","v":""},null,{"$f":"IFERROR(Hjælpeark!AK232,\"\")","v":""},null,null,null,null,0,false,false,false,false,false,false,false]
[null,null,"Vi med fordel kan gøre",{"$f":"IFERROR(Hjælpeark!AE233,\"\")","v":""},null,{"$f":"IFERROR(Hjælpeark!AF233,\"\")","v":""},null,{"$f":"IFERROR(Hjælpeark!AG233,\"\")","v":""},null,{"$f":"IFERROR(Hjælpeark!AH233,\"\")","v":""},null,{"$f":"IFERROR(Hjælpeark!AI233,\"\")","v":""},null,{"$f":"IFERROR(Hjælpeark!AJ233,\"\")","v":""},null,{"$f":"IFERROR(Hjælpeark!AK233,\"\")","v":""},null,null,null,null,0,false,false,false,false,false,false,false]
[null,"Tilsyn 87","Vi bør gøre",{"$f":"IFERROR(Hjælpeark!AE234,\"\")","v":""},null,{"$f":"IFERROR(Hjælpeark!AF234,\"\")","v":""},null,{"$f":"IFERROR(Hjælpeark!AG234,\"\")","v":""},null,{"$f":"IFERROR(Hjælpeark!AH234,\"\")","v":""},null,{"$f":"IFERROR(Hjælpeark!AI234,\"\")","v":""},null,{"$f":"IFERROR(Hjælpeark!AJ234,\"\")","v":""},null,{"$f":"IFERROR(Hjælpeark!AK234,\"\")","v":""},null,null,null,null,0,false,false,false,false,false,false,false]
[null,null,"Vi med fordel kan gøre",{"$f":"IFERROR(Hjælpeark!AE235,\"\")","v":""},null,{"$f":"IFERROR(Hjælpeark!AF235,\"\")","v":""},null,{"$f":"IFERROR(Hjælpeark!AG235,\"\")","v":""},null,{"$f":"IFERROR(Hjælpeark!AH235,\"\")","v":""},null,{"$f":"IFERROR(Hjælpeark!AI235,\"\")","v":""},null,{"$f":"IFERROR(Hjælpeark!AJ235,\"\")","v":""},null,{"$f":"IFERROR(Hjælpeark!AK235,\"\")","v":""},null,null,null,null,0,false,false,false,false,false,false,false]
[null,"Tilsyn 88","Vi bør gøre",{"$f":"IFERROR(Hjælpeark!AE236,\"\")","v":""},null,{"$f":"IFERROR(Hjælpeark!AF236,\"\")","v":""},null,{"$f":"IFERROR(Hjælpeark!AG236,\"\")","v":""},null,{"$f":"IFERROR(Hjælpeark!AH236,\"\")","v":""},null,{"$f":"IFERROR(Hjælpeark!AI236,\"\")","v":""},null,{"$f":"IFERROR(Hjælpeark!AJ236,\"\")","v":""},null,{"$f":"IFERROR(Hjælpeark!AK236,\"\")","v":""},null,null,null,null,0,false,false,false,false,false,false,false]
[null,null,"Vi med fordel kan gøre",{"$f":"IFERROR(Hjælpeark!AE237,\"\")","v":""},null,{"$f":"IFERROR(Hjælpeark!AF237,\"\")","v":""},null,{"$f":"IFERROR(Hjælpeark!AG237,\"\")","v":""},null,{"$f":"IFERROR(Hjælpeark!AH237,\"\")","v":""},null,{"$f":"IFERROR(Hjælpeark!AI237,\"\")","v":""},null,{"$f":"IFERROR(Hjælpeark!AJ237,\"\")","v":""},null,{"$f":"IFERROR(Hjælpeark!AK237,\"\")","v":""},null,null,null,null,0,false,false,false,false,false,false,false]
[null,"Tilsyn 89","Vi bør gøre",{"$f":"IFERROR(Hjælpeark!AE238,\"\")","v":""},null,{"$f":"IFERROR(Hjælpeark!AF238,\"\")","v":""},null,{"$f":"IFERROR(Hjælpeark!AG238,\"\")","v":""},null,{"$f":"IFERROR(Hjælpeark!AH238,\"\")","v":""},null,{"$f":"IFERROR(Hjælpeark!AI238,\"\")","v":""},null,{"$f":"IFERROR(Hjælpeark!AJ238,\"\")","v":""},null,{"$f":"IFERROR(Hjælpeark!AK238,\"\")","v":""},null,null,null,null,0,false,false,false,false,false,false,false]
[null,null,"Vi med fordel kan gøre",{"$f":"IFERROR(Hjælpeark!AE239,\"\")","v":""},null,{"$f":"IFERROR(Hjælpeark!AF239,\"\")","v":""},null,{"$f":"IFERROR(Hjælpeark!AG239,\"\")","v":""},null,{"$f":"IFERROR(Hjælpeark!AH239,\"\")","v":""},null,{"$f":"IFERROR(Hjælpeark!AI239,\"\")","v":""},null,{"$f":"IFERROR(Hjælpeark!AJ239,\"\")","v":""},null,{"$f":"IFERROR(Hjælpeark!AK239,\"\")","v":""},null,null,null,null,0,false,false,false,false,false,false,false]
[null,"Tilsyn 90","Vi bør gøre",{"$f":"IFERROR(Hjælpeark!AE240,\"\")","v":""},null,{"$f":"IFERROR(Hjælpeark!AF240,\"\")","v":""},null,{"$f":"IFERROR(Hjælpeark!AG240,\"\")","v":""},null,{"$f":"IFERROR(Hjælpeark!AH240,\"\")","v":""},null,{"$f":"IFERROR(Hjælpeark!AI240,\"\")","v":""},null,{"$f":"IFERROR(Hjælpeark!AJ240,\"\")","v":""},null,{"$f":"IFERROR(Hjælpeark!AK240,\"\")","v":""},null,null,null,null,0,false,false,false,false,false,false,false]
[null,null,"Vi med fordel kan gøre",{"$f":"IFERROR(Hjælpeark!AE241,\"\")","v":""},null,{"$f":"IFERROR(Hjælpeark!AF241,\"\")","v":""},null,{"$f":"IFERROR(Hjælpeark!AG241,\"\")","v":""},null,{"$f":"IFERROR(Hjælpeark!AH241,\"\")","v":""},null,{"$f":"IFERROR(Hjælpeark!AI241,\"\")","v":""},null,{"$f":"IFERROR(Hjælpeark!AJ241,\"\")","v":""},null,{"$f":"IFERROR(Hjælpeark!AK241,\"\")","v":""},null,null,null,null,0,false,false,false,false,false,false,false]
[null,"Tilsyn 91","Vi bør gøre",{"$f":"IFERROR(Hjælpeark!AE242,\"\")","v":""},null,{"$f":"IFERROR(Hjælpeark!AF242,\"\")","v":""},null,{"$f":"IFERROR(Hjælpeark!AG242,\"\")","v":""},null,{"$f":"IFERROR(Hjælpeark!AH242,\"\")","v":""},null,{"$f":"IFERROR(Hjælpeark!AI242,\"\")","v":""},null,{"$f":"IFERROR(Hjælpeark!AJ242,\"\")","v":""},null,{"$f":"IFERROR(Hjælpeark!AK242,\"\")","v":""},null,null,null,null,0,false,false,false,false,false,false,false]
[null,null,"Vi med fordel kan gøre",{"$f":"IFERROR(Hjælpeark!AE243,\"\")","v":""},null,{"$f":"IFERROR(Hjælpeark!AF243,\"\")","v":""},null,{"$f":"IFERROR(Hjælpeark!AG243,\"\")","v":""},null,{"$f":"IFERROR(Hjælpeark!AH243,\"\")","v":""},null,{"$f":"IFERROR(Hjælpeark!AI243,\"\")","v":""},null,{"$f":"IFERROR(Hjælpeark!AJ243,\"\")","v":""},null,{"$f":"IFERROR(Hjælpeark!AK243,\"\")","v":""},null,null,null,null,0,false,false,false,false,false,false,false]
[null,"Tilsyn 92","Vi bør gøre",{"$f":"IFERROR(Hjælpeark!AE244,\"\")","v":""},null,{"$f":"IFERROR(Hjælpeark!AF244,\"\")","v":""},null,{"$f":"IFERROR(Hjælpeark!AG244,\"\")","v":""},null,{"$f":"IFERROR(Hjælpeark!AH244,\"\")","v":""},null,{"$f":"IFERROR(Hjælpeark!AI244,\"\")","v":""},null,{"$f":"IFERROR(Hjælpeark!AJ244,\"\")","v":""},null,{"$f":"IFERROR(Hjælpeark!AK244,\"\")","v":""},null,null,null,null,0,false,false,false,false,false,false,false]
[null,null,"Vi med fordel kan gøre",{"$f":"IFERROR(Hjælpeark!AE245,\"\")","v":""},null,{"$f":"IFERROR(Hjælpeark!AF245,\"\")","v":""},null,{"$f":"IFERROR(Hjælpeark!AG245,\"\")","v":""},null,{"$f":"IFERROR(Hjælpeark!AH245,\"\")","v":""},null,{"$f":"IFERROR(Hjælpeark!AI245,\"\")","v":""},null,{"$f":"IFERROR(Hjælpeark!AJ245,\"\")","v":""},null,{"$f":"IFERROR(Hjælpeark!AK245,\"\")","v":""},null,null,null,null,0,false,false,false,false,false,false,false]
[null,"Tilsyn 93","Vi bør gøre",{"$f":"IFERROR(Hjælpeark!AE246,\"\")","v":""},null,{"$f":"IFERROR(Hjælpeark!AF246,\"\")","v":""},null,{"$f":"IFERROR(Hjælpeark!AG246,\"\")","v":""},null,{"$f":"IFERROR(Hjælpeark!AH246,\"\")","v":""},null,{"$f":"IFERROR(Hjælpeark!AI246,\"\")","v":""},null,{"$f":"IFERROR(Hjælpeark!AJ246,\"\")","v":""},null,{"$f":"IFERROR(Hjælpeark!AK246,\"\")","v":""},null,null,null,null,0,false,false,false,false,false,false,false]
[null,null,"Vi med fordel kan gøre",{"$f":"IFERROR(Hjælpeark!AE247,\"\")","v":""},null,{"$f":"IFERROR(Hjælpeark!AF247,\"\")","v":""},null,{"$f":"IFERROR(Hjælpeark!AG247,\"\")","v":""},null,{"$f":"IFERROR(Hjælpeark!AH247,\"\")","v":""},null,{"$f":"IFERROR(Hjælpeark!AI247,\"\")","v":""},null,{"$f":"IFERROR(Hjælpeark!AJ247,\"\")","v":""},null,{"$f":"IFERROR(Hjælpeark!AK247,\"\")","v":""},null,null,null,null,0,false,false,false,false,false,false,false]
[null,"Tilsyn 94","Vi bør gøre",{"$f":"IFERROR(Hjælpeark!AE248,\"\")","v":""},null,{"$f":"IFERROR(Hjælpeark!AF248,\"\")","v":""},null,{"$f":"IFERROR(Hjælpeark!AG248,\"\")","v":""},null,{"$f":"IFERROR(Hjælpeark!AH248,\"\")","v":""},null,{"$f":"IFERROR(Hjælpeark!AI248,\"\")","v":""},null,{"$f":"IFERROR(Hjælpeark!AJ248,\"\")","v":""},null,{"$f":"IFERROR(Hjælpeark!AK248,\"\")","v":""},null,null,null,null,0,false,false,false,false,false,false,false]
[null,null,"Vi med fordel kan gøre",{"$f":"IFERROR(Hjælpeark!AE249,\"\")","v":""},null,{"$f":"IFERROR(Hjælpeark!AF249,\"\")","v":""},null,{"$f":"IFERROR(Hjælpeark!AG249,\"\")","v":""},null,{"$f":"IFERROR(Hjælpeark!AH249,\"\")","v":""},null,{"$f":"IFERROR(Hjælpeark!AI249,\"\")","v":""},null,{"$f":"IFERROR(Hjælpeark!AJ249,\"\")","v":""},null,{"$f":"IFERROR(Hjælpeark!AK249,\"\")","v":""},null,null,null,null,0,false,false,false,false,false,false,false]
[null,"Tilsyn 95","Vi bør gøre",{"$f":"IFERROR(Hjælpeark!AE250,\"\")","v":""},null,{"$f":"IFERROR(Hjælpeark!AF250,\"\")","v":""},null,{"$f":"IFERROR(Hjælpeark!AG250,\"\")","v":""},null,{"$f":"IFERROR(Hjælpeark!AH250,\"\")","v":""},null,{"$f":"IFERROR(Hjælpeark!AI250,\"\")","v":""},null,{"$f":"IFERROR(Hjælpeark!AJ250,\"\")","v":""},null,{"$f":"IFERROR(Hjælpeark!AK250,\"\")","v":""},null,null,null,null,0,false,false,false,false,false,false,false]
[null,null,"Vi med fordel kan gøre",{"$f":"IFERROR(Hjælpeark!AE251,\"\")","v":""},null,{"$f":"IFERROR(Hjælpeark!AF251,\"\")","v":""},null,{"$f":"IFERROR(Hjælpeark!AG251,\"\")","v":""},null,{"$f":"IFERROR(Hjælpeark!AH251,\"\")","v":""},null,{"$f":"IFERROR(Hjælpeark!AI251,\"\")","v":""},null,{"$f":"IFERROR(Hjælpeark!AJ251,\"\")","v":""},null,{"$f":"IFERROR(Hjælpeark!AK251,\"\")","v":""},null,null,null,null,0,false,false,false,false,false,false,false]
[null,"Tilsyn 96","Vi bør gøre",{"$f":"IFERROR(Hjælpeark!AE252,\"\")","v":""},null,{"$f":"IFERROR(Hjælpeark!AF252,\"\")","v":""},null,{"$f":"IFERROR(Hjælpeark!AG252,\"\")","v":""},null,{"$f":"IFERROR(Hjælpeark!AH252,\"\")","v":""},null,{"$f":"IFERROR(Hjælpeark!AI252,\"\")","v":""},null,{"$f":"IFERROR(Hjælpeark!AJ252,\"\")","v":""},null,{"$f":"IFERROR(Hjælpeark!AK252,\"\")","v":""},null,null,null,null,0,false,false,false,false,false,false,false]
[null,null,"Vi med fordel kan gøre",{"$f":"IFERROR(Hjælpeark!AE253,\"\")","v":""},null,{"$f":"IFERROR(Hjælpeark!AF253,\"\")","v":""},null,{"$f":"IFERROR(Hjælpeark!AG253,\"\")","v":""},null,{"$f":"IFERROR(Hjælpeark!AH253,\"\")","v":""},null,{"$f":"IFERROR(Hjælpeark!AI253,\"\")","v":""},null,{"$f":"IFERROR(Hjælpeark!AJ253,\"\")","v":""},null,{"$f":"IFERROR(Hjælpeark!AK253,\"\")","v":""},null,null,null,null,0,false,false,false,false,false,false,false]
[null,"Tilsyn 97","Vi bør gøre",{"$f":"IFERROR(Hjælpeark!AE254,\"\")","v":""},null,{"$f":"IFERROR(Hjælpeark!AF254,\"\")","v":""},null,{"$f":"IFERROR(Hjælpeark!AG254,\"\")","v":""},null,{"$f":"IFERROR(Hjælpeark!AH254,\"\")","v":""},null,{"$f":"IFERROR(Hjælpeark!AI254,\"\")","v":""},null,{"$f":"IFERROR(Hjælpeark!AJ254,\"\")","v":""},null,{"$f":"IFERROR(Hjælpeark!AK254,\"\")","v":""},null,null,null,null,0,{"$f":"SUMPRODUCT(--ISNUMBER(SEARCH(Liste,D198)))>0","v":false},{"$f":"SUMPRODUCT(--ISNUMBER(SEARCH(Liste,F198)))>0","v":false},{"$f":"SUMPRODUCT(--ISNUMBER(SEARCH(Liste,H198)))>0","v":false},{"$f":"SUMPRODUCT(--ISNUMBER(SEARCH(Liste,J198)))>0","v":false},{"$f":"SUMPRODUCT(--ISNUMBER(SEARCH(Liste,L198)))>0","v":false},{"$f":"SUMPRODUCT(--ISNUMBER(SEARCH(Liste,N198)))>0","v":false},{"$f":"SUMPRODUCT(--ISNUMBER(SEARCH(Liste,P198)))>0","v":false}]
[null,null,"Vi med fordel kan gøre",{"$f":"IFERROR(Hjælpeark!AE255,\"\")","v":""},null,{"$f":"IFERROR(Hjælpeark!AF255,\"\")","v":""},null,{"$f":"IFERROR(Hjælpeark!AG255,\"\")","v":""},null,{"$f":"IFERROR(Hjælpeark!AH255,\"\")","v":""},null,{"$f":"IFERROR(Hjælpeark!AI255,\"\")","v":""},null,{"$f":"IFERROR(Hjælpeark!AJ255,\"\")","v":""},null,{"$f":"IFERROR(Hjælpeark!AK255,\"\")","v":""},null,null,null,null,{"$f":"COUNTIF(V199:AC199,\"SAND\")","v":0},false,false,false,false,false,false,false]
[null,"Tilsyn 98",{"$f":"C198","v":"Vi bør gøre"},{"$f":"IFERROR(Hjælpeark!AE256,\"\")","v":""},null,{"$f":"IFERROR(Hjælpeark!AF256,\"\")","v":""},null,{"$f":"IFERROR(Hjælpeark!AG256,\"\")","v":""},null,{"$f":"IFERROR(Hjælpeark!AH256,\"\")","v":""},null,{"$f":"IFERROR(Hjælpeark!AI256,\"\")","v":""},null,{"$f":"IFERROR(Hjælpeark!AJ256,\"\")","v":""},null,{"$f":"IFERROR(Hjælpeark!AK256,\"\")","v":""},null,null,null,null,0,false,false,false,false,false,false,false]
[null,null,"Vi med fordel kan gøre",{"$f":"IFERROR(Hjælpeark!AE257,\"\")","v":""},null,{"$f":"IFERROR(Hjælpeark!AF257,\"\")","v":""},null,{"$f":"IFERROR(Hjælpeark!AG257,\"\")","v":""},null,{"$f":"IFERROR(Hjælpeark!AH257,\"\")","v":""},null,{"$f":"IFERROR(Hjælpeark!AI257,\"\")","v":""},null,{"$f":"IFERROR(Hjælpeark!AJ257,\"\")","v":""},null,{"$f":"IFERROR(Hjælpeark!AK257,\"\")","v":""},null,null,null,null,0,false,false,false,false,false,false,false]
[null,"Tilsyn 99","Vi bør gøre",{"$f":"IFERROR(Hjælpeark!AE258,\"\")","v":""},null,{"$f":"IFERROR(Hjælpeark!AF258,\"\")","v":""},null,{"$f":"IFERROR(Hjælpeark!AG258,\"\")","v":""},null,{"$f":"IFERROR(Hjælpeark!AH258,\"\")","v":""},null,{"$f":"IFERROR(Hjælpeark!AI258,\"\")","v":""},null,{"$f":"IFERROR(Hjælpeark!AJ258,\"\")","v":""},null,{"$f":"IFERROR(Hjælpeark!AK258,\"\")","v":""},null,null,null,null,0,false,false,false,false,false,false,false]
[null,null,"Vi med fordel kan gøre",{"$f":"IFERROR(Hjælpeark!AE259,\"\")","v":""},null,{"$f":"IFERROR(Hjælpeark!AF259,\"\")","v":""},null,{"$f":"IFERROR(Hjælpeark!AG259,\"\")","v":""},null,{"$f":"IFERROR(Hjælpeark!AH259,\"\")","v":""},null,{"$f":"IFERROR(Hjælpeark!AI259,\"\")","v":""},null,{"$f":"IFERROR(Hjælpeark!AJ259,\"\")","v":""},null,{"$f":"IFERROR(Hjælpeark!AK259,\"\")","v":""},null,null,null,null,0,false,false,false,false,false,false,false]
[null,"Tilsyn 100","Vi bør gøre",{"$f":"IFERROR(Hjælpeark!AE260,\"\")","v":""},null,{"$f":"IFERROR(Hjælpeark!AF260,\"\")","v":""},null,{"$f":"IFERROR(Hjælpeark!AG260,\"\")","v":""},null,{"$f":"IFERROR(Hjælpeark!AH260,\"\")","v":""},null,{"$f":"IFERROR(Hjælpeark!AI260,\"\")","v":""},null,{"$f":"IFERROR(Hjælpeark!AJ260,\"\")","v":""},null,{"$f":"IFERROR(Hjælpeark!AK260,\"\")","v":""},null,null,null,null,0,false,false,false,false,false,false,false]
[null,null,"Vi med fordel kan gøre",{"$f":"IFERROR(Hjælpeark!AE261,\"\")","v":""},null,{"$f":"IFERROR(Hjælpeark!AF261,\"\")","v":""},null,{"$f":"IFERROR(Hjælpeark!AG261,\"\")","v":""},null,{"$f":"IFERROR(Hjælpeark!AH261,\"\")","v":""},null,{"$f":"IFERROR(Hjælpeark!AI261,\"\")","v":""},null,{"$f":"IFERROR(Hjælpeark!AJ261,\"\")","v":""},null,{"$f":"IFERROR(Hjælpeark!AK261,\"\")","v":""},null,null,null,null,0,false,false,false,false,false,false,false]

{"sheet":"Skabelon, voksne","index":7,"n_rows":274,"n_cols":8,"rows_kept":274,"cut":false,"hidden":false,"merged":[[20,5,20,6],[99,5,99,6],[77,2,77,3],[31,2,31,3],[41,2,41,3],[50,2,50,3],[58,2,58,3],[69,2,69,3],[100,6,117,6],[22,1,22,3],[57,2,57,3],[68,2,68,3],[76,2,76,3],[114,2,114,3],[112,2,112,3],[49,2,49,3],[79,1,79,3],[111,2,111,3],[86,1,86,3],[85,1,85,3],[115,2,115,3],[43,1,43,3],[52,1,52,3],[60,1,60,3],[267,2,267,3],[268,2,268,3],[269,2,269,3],[157,2,157,3],[136,2,136,3],[264,1,264,3],[255,2,255,3],[231,2,231,3],[232,2,232,3],[257,2,257,3],[258,2,258,3],[169,2,169,3],[206,2,206,3],[168,2,168,3],[185,2,185,3],[71,1,71,3],[40,2,40,3],[133,2,133,3],[135,2,135,3],[101,1,101,3],[89,4,89,6],[90,4,90,6],[91,4,91,6],[89,1,89,2],[91,1,91,2],[90,1,90,2],[96,1,96,2],[95,1,95,2],[118,1,118,3],[14,2,14,3],[4,1,4,3],[5,1,5,3],[6,1,6,3],[7,1,7,3],[8,1,8,3],[12,2,12,3],[13,2,13,3],[94,4,94,6],[92,4,92,6],[94,1,94,2],[92,1,92,2],[93,4,93,6],[15,2,15,3],[16,2,16,3],[18,2,18,3],[30,2,30,3],[93,1,93,2],[80,2,80,3],[81,2,81,3],[82,2,82,3],[83,2,83,3],[17,2,17,3],[33,1,33,3],[273,1,275,3],[228,2,228,3],[254,2,254,3],[132,2,132,3],[153,2,153,3],[171,2,171,3],[172,2,172,3],[186,2,186,3],[188,2,188,3],[189,2,189,3],[207,2,207,3],[229,2,229,3],[209,2,209,3],[210,2,210,3],[154,2,154,3],[156,2,156,3],[270,2,270,3],[140,1,140,3],[161,1,161,3],[176,1,176,3],[193,1,193,3],[214,1,214,3],[236,1,236,3],[266,2,266,3]]}
[]
[]
[null,"Ledelsestilsyn voksenhandicapområdet"]
[]
[null,"Redskabet udfyldes først med de generelle sagsoplysninger, hvorefter det overordnede ledelsestilsyn udfyldes."]
[null,"På de sorte pile         foldes spørgsmålene ud. "]
[null,"Ved nogle af spørgsmålene kan du trykke på det røde i-ikon          \nsom byder på en uddybende forklaring."]
[null,"For at besvare et spørgsmål trykkes der på besvarelsesfeltet, hvor en pil              \nkommer frem og præsenterer svarmulighederne."]
[null,"Bemærkningsfeltet bruges til at skrive korte opmærksomhedspunkter, refleksioner eller andre overvejelser, som er relevante at huske til opsamlingen på ledelsestilsynet. \n\nEfter hvert tema i både det overordnede og uddybende tilsyn er der et vurderingsfelt, hvor der skal foretages en vurdering af, hvad gennemgangen af det enkelte tema giver anledning til."]
[]
[null,"Generelle oplysninger"]
[]
[null,"Dato for tilsynet \n(DD-MM-ÅÅÅÅ)"]
[null,"Hvem gennemfører ledelsestilsynet (navn og initialer)?"]
[null,"Navn på enhed/team"]
[null,"Navn på rådgiver"]
[null,"Sagsnummer i kommunen"]
[null,"Sagstype","[Vælg \"Ny sag\" eller \"Opfølgningssag\" fra listen]"]
[null,"Evt. bemærkninger"]
[]
[null,"Det overordnede ledelsestilsyn på voksenhandicapområdet",null,null,null,"Introduktion til det overordnede tilsyn"]
[]
[null,"Opstart af sagen"]
[null,"Spørgsmål","Besvarelse","Evt. bemærkninger",null,null,null,{"$f":"MAX(H25:H29)","v":0}]
[null,"Fremgår det hvad henvendelsen/ansøgningen drejer sig om?  ",null,null,null,null,null,{"$f":"IF(C25=\"ja\",1,(IF(C25=\"nej\",3,IF(C25=\"Fremgår ikke tydeligt af sagen\",2,\"\"))))","v":""}]
[null,"Er den offentliggjorte sagsbehandlingsfrist overholdt?",null,null,null,null,null,{"$f":"IF(C26=\"ja\",1,(IF(C26=\"nej\",3,IF(C26=\"Fremgår ikke tydeligt af sagen\",2,\"\"))))","v":""}]
[null,"Hvis den offentliggjorte sagsbehandlingsfrist ikke er overholdt, har borgeren så inden fristens udløb, fået skriftlig besked om, hvornår borgeren i stedet for ville kunne forvente at modtage afgørelsen? ",null,null,null,null,null,""]
[null,"Har der været ophold i sagsbehandlingen, som ikke er pga. f.eks. sagsoplysning?",null,null,null,null,null,{"$f":"IF(C28=\"ja\",3,(IF(C28=\"nej\",1,IF(C28=\"Fremgår ikke tydeligt af sagen\",2,\"\"))))","v":""}]
[null,"Er der oplysninger om partsrepræsentation eller værgemål?",null,null,null,null,null,""]
[]
[null,{"$f":"\"Samlet vurdering af \"&B23","v":"Samlet vurdering af Opstart af sagen"},null,null,null,null,null,{"$f":"IF(C31=\"Ingen opmærksomhed\",1,(IF(C31=\"særlig opmærksomhed\",3,IF(C31=\"let opmærksomhed\",2,\"\"))))","v":""}]
[null,"Bemærkninger til vurderingen"]
[]
[null,"Oplysning af sagen samt faglig udredning og vurdering"]
[null,"Spørgsmål","Besvarelse","Evt. bemærkninger",null,null,null,{"$f":"MAX(H36:H39)","v":0}]
[null,"Er der indhentet tilstrækkelige oplysninger til, at der kan træffes afgørelse i sagen? ",null,null,null,null,null,{"$f":"IF(C36=\"ja\",1,(IF(C36=\"nej\",3,IF(C36=\"Fremgår ikke tydeligt af sagen\",2,\"\"))))","v":""}]
[null,"Er borgeren inddraget i sagsbehandlingen?"]
[null,"Er borgeren partshørt om oplysninger i sagen, som er til ugunst for borgeren?",null,null,null,null,null,""]
[null,"Er der foretaget en faglig vurdering?",null,null,null,null,null,""]
[]
[null,{"$f":"\"Samlet vurdering af \"&B34","v":"Samlet vurdering af Oplysning af sagen samt faglig udredning og vurdering"},null,null,null,null,null,{"$f":"IF(C41=\"Ingen opmærksomhed\",1,(IF(C41=\"særlig opmærksomhed\",3,IF(C41=\"let opmærksomhed\",2,\"\"))))","v":""}]
[null,"Bemærkninger til vurderingen"]
[]
[null,"Afgørelse"]
[null,"Spørgsmål","Besvarelse","Evt. bemærkninger",null,null,null,{"$f":"MAX(H46:H48)","v":0}]
[null,"Er afgørelsen meddelt skriftligt til borgeren?",null,null,null,null,null,{"$f":"IF(C46=\"ja\",1,(IF(C46=\"nej\",1,IF(C46=\"Fremgår ikke tydeligt af sagen\",2,\"\"))))","v":""}]
[null,"Er afgørelsen tilstrækkeligt begrundet? ",null,null,null,null,null,{"$f":"IF(C47=\"ja\",1,(IF(C47=\"nej\",3,IF(C47=\"Fremgår ikke tydeligt af sagen\",2,\"\"))))","v":""}]
[null,"Er der givet klagevejledning, hvis borgeren har fået fuldt eller delvist afslag?",null,null,null,null,null,""]
[]
[null,{"$f":"\"Samlet vurdering af \"&B44","v":"Samlet vurdering af Afgørelse"},null,null,null,null,null,{"$f":"IF(C50=\"Ingen opmærksomhed\",1,(IF(C50=\"særlig opmærksomhed\",3,IF(C50=\"let opmærksomhed\",2,\"\"))))","v":""}]
[null,"Bemærkninger til vurderingen"]
[]
[null,"Handleplan"]
[null,"Spørgsmål","Besvarelse","Evt. bemærkninger",null,null,null,{"$f":"MAX(H55:H56)","v":0}]
[null,"Er borgeren tilbudt en handleplan?",null,null,null,null,null,{"$f":"IF(C55=\"ja\",1,(IF(C55=\"nej\",3,IF(C55=\"Fremgår ikke tydeligt af sagen\",2,\"\"))))","v":""}]
[null,"Er der udarbejdet en handleplan, såfremt borgeren ønsker det?",null,null,null,null,null,""]
[]
[null,{"$f":"\"Samlet vurdering af \"&B53","v":"Samlet vurdering af Handleplan"},null,null,null,null,null,{"$f":"IF(C58=\"Ingen opmærksomhed\",1,(IF(C58=\"særlig opmærksomhed\",3,IF(C58=\"let opmærksomhed\",2,\"\"))))","v":""}]
[null,"Bemærkninger til vurderingen"]
[]
[null,"Opfølgning"]
[null,"Spørgsmål","Besvarelse","Evt. bemærkninger",null,null,null,{"$f":"MAX(H63:H67)","v":0}]
[null,"Er der løbende fulgt op på de ydelser og indsatser, der er bevilliget?",null,null,null,null,null,{"$f":"IF(C63=\"ja\",1,(IF(C63=\"nej\",3,IF(C63=\"Fremgår ikke tydeligt af sagen\",2,\"\"))))","v":""}]
[null,"Har borgeren været inddraget i opfølgningen?"]
[null,"Er der vurderet på, om der er behov for andre former for hjælp eller støtte?",null,null,null,null,null,""]
[null,"Er der foretaget ændringer i støtten på baggrund af opfølgningen?",null,null,null,null,null,""]
[null,"Hvis der er foretaget ændringer i støtten, er der så truffet en ny afgørelse?",null,null,null,null,null,""]
[]
[null,{"$f":"\"Samlet vurdering af \"&B61","v":"Samlet vurdering af Opfølgning"},null,null,null,null,null,{"$f":"IF(C69=\"Ingen opmærksomhed\",1,(IF(C69=\"særlig opmærksomhed\",3,IF(C69=\"let opmærksomhed\",2,\"\"))))","v":""}]
[null,"Bemærkninger til vurderingen"]
[]
[null,"Notatpligt og journalisering"]
[null,"Spørgsmål","Besvarelse","Evt. bemærkninger",null,null,null,{"$f":"MAX(H74:H75)","v":0}]
[null,"Er notatpligten overholdt?",null,null,null,null,null,{"$f":"IF(C74=\"ja\",1,(IF(C74=\"nej\",3,IF(C74=\"Fremgår ikke tydeligt af sagen\",2,\"\"))))","v":""}]
[null,"Er der en god systematik i sagsbehandlingen?",null,null,null,null,null,""]
[]
[null,{"$f":"\"Samlet vurdering af \"&B72","v":"Samlet vurdering af Notatpligt og journalisering"},null,null,null,null,null,{"$f":"IF(C77=\"Ingen opmærksomhed\",1,(IF(C77=\"særlig opmærksomhed\",3,IF(C77=\"let opmærksomhed\",2,\"\"))))","v":""}]
[null,"Bemærkninger til vurderingen"]
[]
[null,"Opsamling på tilsynet"]
[null,"Er der noter i bemærkningsfelterne, som giver anledning til en særlig opmærksomhed? Hvis ja, hvilke?"]
[null,"Konkrete bemærkninger til rådgiveren."]
[null,"Konkrete bemærkninger til den fælles opsamling på ledelsestilsynet i teamet eller kontoret."]
[null,"Generelle overvejelser eller bemærkninger."]
[]
[null,"På baggrund af det udfyldte overordnede ledelsestilsyn finder du en opsamling inden for de forskellige temaer."]
[]
[null,"Opsamling på det overordnede ledelsestilsyn"]
[]
[null,"Temaer fra det overordnet tilsyn",null,"Vurdering"]
[null,{"$f":"B23","v":"Opstart af sagen"}]
[null,{"$f":"B34","v":"Oplysning af sagen samt faglig udredning og vurdering"}]
[null,{"$f":"B44","v":"Afgørelse"}]
[null,{"$f":"B53","v":"Handleplan"}]
[null,{"$f":"B61","v":"Opfølgning"}]
[null,{"$f":"B72","v":"Notatpligt og journalisering"}]
[null,{"$f":"B80","v":"Opsamling på tilsynet"},null,"[Udfyld evt. en konklusion]"]
[]
[]
[null,"Det uddybende ledelsestilsyn på voksenhandicapområdet",null,null,null,"Introduktion til det uddybende tilsyn"]
[]
[null,"Samarbejde med kommunen"]
[null,"Spørgsmål","Besvarelse","Evt. bemærkninger"]
[null,"Er der kvitteret for modtagelsen af borgerens henvendelse?"]
[null,"Er der oplyst om, hvem der er rådgiver?"]
[null,"Er der oplyst om den forventede sagsbehandlingstid?"]
[null,"Er borgeren blevet orienteret om at sagsbehandlingsfristen ikke kan overholdes samt om årsagen til dette, hvis fristen ikke er overholdt?"]
[null,"Fremgår den videre plan for behandling af ansøgning og evt. udredning?"]
[null,"Er det beskrevet, hvis der er særlige forhold, der skal tages hensyn til ift. samarbejdet?"]
[null,"Er der andre relevante observationer i sagen relateret til borgerens møde med kommunen?"]
[]
[null,{"$f":"\"Type af handling vi bør igangsætte\"","v":"Type af handling vi bør igangsætte"},null,null,null,null,null,{"$f":"IF(C112=\"Ingen opmærksomhed\",1,(IF(C112=\"individuel læring\",2,IF(C112=\"læring på grupppeniveau\",3,IF(C112=\"kompetenceudvikling\",4,IF(C112=\"ændrings af arbejdsgange\",5,IF(C112=\"se på politiske beslutninger\",6,\"\")))))))","v":""}]
[null,"Bemærkninger til vurderingen"]
[]
[null,{"$f":"\"Type af handling vi med fordel også kan igangsætte\"","v":"Type af handling vi med fordel også kan igangsætte"},null,null,null,null,null,{"$f":"IF(C115=\"Ingen opmærksomhed\",1,(IF(C115=\"individuel læring\",2,IF(C115=\"læring på grupppeniveau\",3,IF(C115=\"kompetenceudvikling\",4,IF(C115=\"ændrings af arbejdsgange\",5,IF(C115=\"se på politiske beslutninger\",6,\"\")))))))","v":""}]
[null,"Bemærkninger til vurderingen"]
[]
[]
[null,"Oplysning af sagen samt faglig udredning og vurdering"]
[null,"Spørgsmål","Besvarelse","Evt. bemærkninger"]
[null,"Foreligger der konkret samtykke til indhentelse af oplysninger?"]
[null,"Er de indhentede oplysninger relevante i forhold til formålet, og hvad der skal oplyses for at kunne træffe en afgørelse?"]
[null,"Er der gjort brug af relevant udredningsmetode?"]
[null,"Er borgeren inddraget i sagsoplysningen?"]
[null,"Er der inddraget oplysninger fra alle relevante parter i sagsoplysningen?"]
[null,"Er evt. relevant netværk inddraget i sagsbehandlingen?"]
[null,"Er de indhentede oplysninger behandlet / analyseret?"]
[null,"Er der foretaget en faglig vurdering, der vægter de analyserede oplysninger og kommer med en klar konklusion?"]
[null,"Er der vurderet på borgerens samlede behov for støtte?"]
[null,"Er det vurderet, hvilken indsats, der er behov for?"]
[null,"Er der andre relevante observationer i sagen relateret til inddragelse af oplysninger?"]
[]
[null,{"$f":"B112","v":"Type af handling vi bør igangsætte"},null,null,null,null,null,{"$f":"IF(C133=\"Ingen opmærksomhed\",1,(IF(C133=\"individuel læring\",2,IF(C133=\"læring på grupppeniveau\",3,IF(C133=\"kompetenceudvikling\",4,IF(C133=\"ændrings af arbejdsgange\",5,IF(C133=\"se på politiske beslutninger\",6,\"\")))))))","v":""}]
[null,"Bemærkninger til vurderingen"]
[]
[null,{"$f":"B115","v":"Type af handling vi med fordel også kan igangsætte"},null,null,null,null,null,{"$f":"IF(C136=\"Ingen opmærksomhed\",1,(IF(C136=\"individuel læring\",2,IF(C136=\"læring på grupppeniveau\",3,IF(C136=\"kompetenceudvikling\",4,IF(C136=\"ændrings af arbejdsgange\",5,IF(C136=\"se på politiske beslutninger\",6,\"\")))))))","v":""}]
[null,"Bemærkninger til vurderingen"]
[]
[]
[]
[null,"Inddragelse af borgeren og andre"]
[null,"Spørgsmål","Besvarelse","Evt. bemærkninger"]
[null,"Er borgeren anmodet om at medvirke til at indhente oplysninger, som er nødvendige for at afgøre, hvilken hjælp borger er berettiget til?"]
[null,"Er borgeren i den forbindelse vejledt skriftligt om, hvad kommunen ønsker at borgeren medvirker til samt konsekvenserne ved manglende medvirken?"]
[null,"Har borgeren haft mulighed for løbende at medvirke ved sagsbehandlingen?"]
[null,"Er der i forbindelse med sagsbehandlingen afholdt samtale(r) med borgeren?"]
[null,"Har rådgiver mødt borgeren, hvis ikke det har været muligt at gennemføre en samtale? "]
[null,"Hvis det hverken har været muligt at gennemføre en samtale eller et møde, er borgerens synspunkter og perspektiver så tilvejebragt gennem andre?"]
[null,"Er det tydeligt beskrevet hvilket perspektiv borgeren har på den samlede faglige vurdering og forslag til mulige indsatser? "]
[null,"Er der indhentet oplysninger til brug for vurdering af sagen, som borgeren ikke kan antages at være bekendt med?"]
[null,"Hvis der er indhentet oplysninger, som borgeren ikke kan antages at være bekendt med, er der så taget stilling til, om oplysningerne er til ugunst for borgeren?"]
[null,"Er der andre relevante observationer i sagen relateret til inddragelse af borgeren og andre?"]
[]
[null,{"$f":"B112","v":"Type af handling vi bør igangsætte"},null,null,null,null,null,{"$f":"IF(C154=\"Ingen opmærksomhed\",1,(IF(C154=\"individuel læring\",2,IF(C154=\"læring på grupppeniveau\",3,IF(C154=\"kompetenceudvikling\",4,IF(C154=\"ændrings af arbejdsgange\",5,IF(C154=\"se på politiske beslutninger\",6,\"\")))))))","v":""}]
[null,"Bemærkninger til vurderingen"]
[]
[null,{"$f":"B115","v":"Type af handling vi med fordel også kan igangsætte"},null,null,null,null,null,{"$f":"IF(C157=\"Ingen opmærksomhed\",1,(IF(C157=\"individuel læring\",2,IF(C157=\"læring på grupppeniveau\",3,IF(C157=\"kompetenceudvikling\",4,IF(C157=\"ændrings af arbejdsgange\",5,IF(C157=\"se på politiske beslutninger\",6,\"\")))))))","v":""}]
[null,"Bemærkninger til vurderingen"]
[]
[]
[]
[null,"Partsrepræsentation"]
[null,"Spørgsmål","Besvarelse","Evt. bemærkninger"]
[null,"Har borgeren en partsrepræsentant?"]
[null,"Ligger der en gyldig fuldmagt i sagen?"]
[null,"Er det registreret, hvad der er givet fuldmagt til? - og inddrages partsrepræsentanten i fornødent omfang?"]
[null,"Er der andre relevante observationer i sagen relateret til partsrepræsentation?"]
[]
[null,{"$f":"B112","v":"Type af handling vi bør igangsætte"},null,null,null,null,null,{"$f":"IF(C169=\"Ingen opmærksomhed\",1,(IF(C169=\"individuel læring\",2,IF(C169=\"læring på grupppeniveau\",3,IF(C169=\"kompetenceudvikling\",4,IF(C169=\"ændrings af arbejdsgange\",5,IF(C169=\"se på politiske beslutninger\",6,\"\")))))))","v":""}]
[null,"Bemærkninger til vurderingen"]
[]
[null,{"$f":"B115","v":"Type af handling vi med fordel også kan igangsætte"},null,null,null,null,null,{"$f":"IF(C172=\"Ingen opmærksomhed\",1,(IF(C172=\"individuel læring\",2,IF(C172=\"læring på grupppeniveau\",3,IF(C172=\"kompetenceudvikling\",4,IF(C172=\"ændrings af arbejdsgange\",5,IF(C172=\"se på politiske beslutninger\",6,\"\")))))))","v":""}]
[null,"Bemærkninger til vurderingen"]
[]
[]
[]
[null,"Værgemål"]
[null,"Spørgsmål","Besvarelse","Evt. bemærkninger"]
[null,"Ligger der en afgørelse om værgemål i sagen?"]
[null,"Hvis der er en afgørelse om værgemål i sagen, er det undersøgt hvilken form for værge borgeren har?"]
[null,"Er der andre relevante observationer i sagen relateret til værgemål?"]
[null,"Hvis der ikke er en afgørelse om værgemål i sagen, er der foretaget en vurdering af, om der er et behov for værgemål?"]
[null,"Er der fulgt op på en positiv vurdering med en ansøgning om værgebeskikkelse ved Familieretshuset? "]
[null,"Er alle henvendelser rettet til værgen?"]
[]
[null,{"$f":"B112","v":"Type af handling vi bør igangsætte"},null,null,null,null,null,{"$f":"IF(C186=\"Ingen opmærksomhed\",1,(IF(C186=\"individuel læring\",2,IF(C186=\"læring på grupppeniveau\",3,IF(C186=\"kompetenceudvikling\",4,IF(C186=\"ændrings af arbejdsgange\",5,IF(C186=\"se på politiske beslutninger\",6,\"\")))))))","v":""}]
[null,"Bemærkninger til vurderingen"]
[]
[null,{"$f":"B115","v":"Type af handling vi med fordel også kan igangsætte"},null,null,null,null,null,{"$f":"IF(C189=\"Ingen opmærksomhed\",1,(IF(C189=\"individuel læring\",2,IF(C189=\"læring på grupppeniveau\",3,IF(C189=\"kompetenceudvikling\",4,IF(C189=\"ændrings af arbejdsgange\",5,IF(C189=\"se på politiske beslutninger\",6,\"\")))))))","v":""}]
[null,"Bemærkninger til vurderingen"]
[]
[]
[]
[null,"Afgørelse"]
[null,"Spørgsmål","Besvarelse","Evt. bemærkninger"]
[null,"Fremgår det tydeligt af afgørelsen, hvad borgeren har ret til eller ikke har ret til?"]
[null,"Er der i begrundelsen beskrevet hovedhensyn og faktiske oplysninger i sagen?"]
[null,"Er begrundelsen konkret og individuel?"]
[null,"Har kommunen i afgørelsen begrundet hvorfor modsatrettede argumenter/oplysninger ikke giver et andet resultat af vurderingen?"]
[null,"Er relevante principmeddelelser fra Ankestyrelsen inddraget?"]
[null,"Er der henvist til det rigtige lovgrundlag?"]
[null,"Hvis der er tale om en afgørelse om ophør af tidligere bevilliget hjælp, er den ændrede vurdering i så fald begrundet?"]
[null,"Indeholder klagevejledningen angivelse af klageinstans og oplysning om fremgangsmåden ved indgivelse af klager herunder klagefrist?"]
[null,"Er afgørelsen formidlet i et klart og borgerrettet sprog?"]
[null,"Er der andre relevante observationer i sagen relateret til afgørelsens begrundelse?"]
[]
[null,{"$f":"B112","v":"Type af handling vi bør igangsætte"},null,null,null,null,null,{"$f":"IF(C207=\"Ingen opmærksomhed\",1,(IF(C207=\"individuel læring\",2,IF(C207=\"læring på grupppeniveau\",3,IF(C207=\"kompetenceudvikling\",4,IF(C207=\"ændrings af arbejdsgange\",5,IF(C207=\"se på politiske beslutninger\",6,\"\")))))))","v":""}]
[null,"Bemærkninger til vurderingen"]
[]
[null,{"$f":"B115","v":"Type af handling vi med fordel også kan igangsætte"},null,null,null,null,null,{"$f":"IF(C210=\"Ingen opmærksomhed\",1,(IF(C210=\"individuel læring\",2,IF(C210=\"læring på grupppeniveau\",3,IF(C210=\"kompetenceudvikling\",4,IF(C210=\"ændrings af arbejdsgange\",5,IF(C210=\"se på politiske beslutninger\",6,\"\")))))))","v":""}]
[null,"Bemærkninger til vurderingen"]
[]
[]
[]
[null,"Handleplan"]
[null,"Spørgsmål","Besvarelse","Evt. bemærkninger"]
[null,"Er der udarbejdet en samlet handleplan, som omfatter alle de ydelser/indsatser, der er iværksat, inkl. støtte og indsatser fra det private og civilsamfundet?"]
[null,"Angiver handleplanen følgende: "]
[null,"Formålet med indsatsen?"]
[null,"Hvilken indsats der er nødvendig for at opnå formålet?"]
[null,"Den forventede varighed af indsatsen?"]
[null,"Andre særlige forhold?"]
[null,"Er målene i handleplanen konkrete og mulige at følge op på?"]
[null,"Understøtter målene i handleplanen progression eller at undgå regression i forhold til borgerens trivsel og udvikling?"]
[null,"Er handleplanen udarbejdet i samarbejde med borgeren?"]
[null,"Fremgår det, hvem der har ansvar for de konkrete tiltag og indsatser?"]
[null,"Er der andre relevante observationer i sagen relateret til handleplan efter serviceloven § 141?"]
[]
[null,{"$f":"B112","v":"Type af handling vi bør igangsætte"},null,null,null,null,null,{"$f":"IF(C229=\"Ingen opmærksomhed\",1,(IF(C229=\"individuel læring\",2,IF(C229=\"læring på grupppeniveau\",3,IF(C229=\"kompetenceudvikling\",4,IF(C229=\"ændrings af arbejdsgange\",5,IF(C229=\"se på politiske beslutninger\",6,\"\")))))))","v":""}]
[null,"Bemærkninger til vurderingen"]
[]
[null,{"$f":"B115","v":"Type af handling vi med fordel også kan igangsætte"},null,null,null,null,null,{"$f":"IF(C232=\"Ingen opmærksomhed\",1,(IF(C232=\"individuel læring\",2,IF(C232=\"læring på grupppeniveau\",3,IF(C232=\"kompetenceudvikling\",4,IF(C232=\"ændrings af arbejdsgange\",5,IF(C232=\"se på politiske beslutninger\",6,\"\")))))))","v":""}]
[null,"Bemærkninger til vurderingen"]
[]
[]
[]
[null,"Opfølgning"]
[null,"Spørgsmål","Besvarelse","Evt. bemærkninger"]
[null,"Er der løbende fulgt op på de ydelser og indsatser, der er bevilget?"]
[null,"Er borgeren blevet inddraget i forbindelse med opfølgningen?"]
[null,"Er der i forbindelse med opfølgningen afholdt samtale(r) med borgeren?"]
[null,"Har kommunen mødt borgeren, hvis ikke det har været muligt at gennemføre en samtale? "]
[null,"Hvis det hverken har været muligt at gennemføre en samtale eller et møde, er borgerens synspunkter og perspektiver i så fald tilvejebragt gennem andre?"]
[null,"Er der i forbindelse med opfølgningen indhentet nye oplysninger?"]
[null,"Er de indhentede oplysninger behandlet / analyseret?"]
[null,"Er der foretaget en faglig vurdering, som vægter de analyserede oplysninger, og som danner grundlag for en konklusion?"]
[null,"Har der ved opfølgningen været opmærksomhed på, om der er behov for at yde andre former for hjælp?"]
[null,"Er der foretaget ændringer i støtte på baggrund af opfølgningen?"]
[null,"Er der truffet en ny afgørelse?"]
[null,"Hvis der endnu ikke er fulgt op på afgørelsen, er der oplysninger om planlagt  opfølgning i sagen?"]
[null,"Har der været afholdt personrettet tilsyn?"]
[null,"Hvis der er afholdt personrettet tilsyn, er det vurderet, om borgeren trives?"]
[null,"Er der andre relevante observationer i sagen relateret til opfølgning?"]
[]
[null,{"$f":"B112","v":"Type af handling vi bør igangsætte"},null,null,null,null,null,{"$f":"IF(C255=\"Ingen opmærksomhed\",1,(IF(C255=\"individuel læring\",2,IF(C255=\"læring på grupppeniveau\",3,IF(C255=\"kompetenceudvikling\",4,IF(C255=\"ændrings af arbejdsgange\",5,IF(C255=\"se på politiske beslutninger\",6,\"\")))))))","v":""}]
[null,"Bemærkninger til vurderingen"]
[]
[null,{"$f":"B115","v":"Type af handling vi med fordel også kan igangsætte"},null,null,null,null,null,{"$f":"IF(C258=\"Ingen opmærksomhed\",1,(IF(C258=\"individuel læring\",2,IF(C258=\"læring på grupppeniveau\",3,IF(C258=\"kompetenceudvikling\",4,IF(C258=\"ændrings af arbejdsgange\",5,IF(C258=\"se på politiske beslutninger\",6,\"\")))))))","v":""}]
[null,"Bemærkninger til vurderingen"]
[]
[]
[]
[]
[null,"Opsamling på tilsynet"]
[]
[]
[null,"Gav gennemgangen anledning til at overveje, om sagen skal genoptages?"]
[null,"Er der noter i bemærkningsfelterne, som giver anledning til særlig opmærksomhed? Hvis ja, hvilke?"]
[null,"Konkrete bemærkninger til sagsbehandleren."]
[null,"Konkrete bemærkninger til den fælles opsamling på ledelsestilsynet i teamet eller kontoret."]
[null,"Overvejelser om udviklingstiltag."]
[]
[]
[null,"Du har nu gennemført ledelsestilsynet. Via øverste bjælke kan du nu opstarte et nyt tilsyn, gå til overblik over udfyldte tilsyn eller til ledelsesinformation."]

{"sheet":"Skabelon, B&U","index":8,"n_rows":256,"n_cols":8,"rows_kept":256,"cut":false,"hidden":false,"merged":[[20,5,20,6],[110,5,110,6],[183,1,183,3],[46,1,46,3],[200,2,200,3],[99,1,99,2],[122,2,122,3],[138,2,138,3],[162,2,162,3],[176,2,176,3],[123,2,123,3],[125,2,125,3],[126,2,126,3],[139,2,139,3],[141,2,141,3],[142,2,142,3],[252,2,252,3],[203,1,203,3],[224,1,224,3],[249,2,249,3],[248,1,248,3],[217,2,217,3],[240,2,240,3],[220,2,220,3],[221,2,221,3],[241,2,241,3],[243,2,243,3],[244,2,244,3],[250,2,250,3],[251,2,251,3],[218,2,218,3],[100,1,100,2],[101,1,101,2],[102,1,102,2],[103,1,103,2],[93,2,93,3],[169,1,169,3],[177,2,177,3],[179,2,179,3],[180,2,180,3],[105,1,105,2],[106,1,106,2],[107,1,107,2],[112,1,112,3],[129,1,129,3],[145,1,145,3],[165,2,165,3],[166,2,166,3],[163,2,163,3],[43,2,43,3],[52,2,52,3],[60,2,60,3],[78,2,78,3],[95,1,95,3],[55,1,55,3],[70,1,70,3],[89,1,89,3],[90,2,90,3],[86,2,86,3],[81,1,81,3],[91,2,91,3],[44,2,44,3],[53,2,53,3],[61,2,61,3],[79,2,79,3],[22,1,22,3],[33,1,33,3],[12,2,12,3],[13,2,13,3],[14,2,14,3],[16,2,16,3],[18,2,18,3],[17,2,17,3],[15,2,15,3],[30,2,30,3],[31,2,31,3],[4,1,4,3],[5,1,5,3],[6,1,6,3],[7,1,7,3],[8,1,8,3],[255,1,257,3],[63,1,63,3],[67,2,67,3],[68,2,68,3],[99,4,99,6],[102,4,102,6],[105,4,105,6],[103,4,103,6],[101,4,101,6],[100,4,100,6],[92,2,92,3],[87,2,87,3],[197,2,197,3],[199,2,199,3],[96,1,96,3],[196,2,196,3]]}
[]
[]
[null,"Ledelsestilsyn børnehandicapområdet"]
[]
[null,"Redskabet udfyldes først med de generelle sagsoplysninger, hvorefter det overordnede ledelsestilsyn udfyldes."]
[null,"På de sorte pile         foldes spørgsmålene ud. "]
[null,"Ved nogle af spørgsmålene kan du trykke på det røde i-ikon          \nsom byder på en uddybende forklaring."]
[null,"For at besvare et spørgsmål trykkes der på besvarelsesfeltet, hvor en pil              \nkommer frem og præsenterer svarmulighederne."]
[null,"Bemærkningsfeltet bruges til at skrive korte opmærksomhedspunkter, refleksioner eller andre overvejelser, som er relevante at huske til opsamlingen på ledelsestilsynet. \n\nEfter hvert tema i både det overordnede og uddybende tilsyn er der et vurderingsfelt, hvor der skal foretages en vurdering af, hvad gennemgangen af det enkelte tema giver anledning til."]
[]
[null,"Generelle oplysninger"]
[]
[null,"Dato for tilsynet \n(DD-MM-ÅÅÅÅ)"]
[null,"Hvem gennemfører ledelsestilsynet (navn og initialer)?"]
[null,"Navn på enhed/team"]
[null,"Navn på rådgiver"]
[null,"Sagsnummer i kommunen"]
[null,"Sagstype","[Vælg \"Ny sag\" eller \"Opfølgningssag\" fra listen]"]
[null,"Evt. bemærkninger"]
[]
[null,"Det overordnede ledelsestilsyn på børnehandicapområdet",null,null,null,"Introduktion til det overordnede tilsyn"]
[]
[null,"Opstart af sagen"]
[null,"Spørgsmål","Besvarelse","Evt. bemærkninger",null,null,null,{"$f":"MAX(H25:H29)","v":0}]
[null,"Fremgår det hvad henvendelsen/ansøgningen drejer sig om?  ",null,null,null,null,null,{"$f":"IF(C25=\"ja\",1,(IF(C25=\"nej\",3,IF(C25=\"Fremgår ikke tydeligt af sagen\",2,\"\"))))","v":""}]
[null,"Er den offentliggjorte sagsbehandlingsfrist overholdt?",null,null,null,null,null,{"$f":"IF(C26=\"ja\",1,(IF(C26=\"nej\",3,IF(C26=\"Fremgår ikke tydeligt af sagen\",2,\"\"))))","v":""}]
[null,"Hvis den offentliggjorte sagsbehandlingsfrist ikke er overholdt, har barnet så inden fristens udløb, fået skriftlig besked om, hvornår barnet i stedet for ville kunne forvente at modtage afgørelsen? ",null,null,null,null,null,{"$f":"IF(C27=\"ja\",1,(IF(C27=\"nej\",3,IF(C27=\"Fremgår ikke tydeligt af sagen\",2,\"\"))))","v":""}]
[null,"Har der været ophold i sagsbehandlingen, som ikke er pga. f.eks. sagsoplysning?",null,null,null,null,null,{"$f":"IF(C28=\"ja\",3,(IF(C28=\"nej\",1,IF(C28=\"Fremgår ikke tydeligt af sagen\",2,\"\"))))","v":""}]
[null,"Er der oplysninger om partsrepræsentation eller værgemål?",null,null,null,null,null,{"$f":"IF(C29=\"ja\",1,(IF(C29=\"nej\",3,IF(C29=\"Fremgår ikke tydeligt af sagen\",2,\"\"))))","v":""}]
[]
[null,{"$f":"\"Samlet vurdering af \"&B23","v":"Samlet vurdering af Opstart af sagen"},null,null,null,null,null,{"$f":"IF(C31=\"Ingen opmærksomhed\",1,(IF(C31=\"særlig opmærksomhed\",3,IF(C31=\"let opmærksomhed\",2,\"\"))))","v":""}]
[null,"Bemærkninger til vurderingen"]
[]
[null,"Oplysning af sagen samt faglig udredning og vurdering"]
[null,"Spørgsmål","Besvarelse","Evt. bemærkninger",null,null,null,{"$f":"MAX(H36:H42)","v":0}]
[null,"Er der foretaget en screening af sagen?",null,null,null,null,null,{"$f":"IF(C36=\"ja\",1,(IF(C36=\"nej\",3,IF(C36=\"Fremgår ikke tydeligt af sagen\",2,\"\"))))","v":""}]
[null,"Er der foretaget en vurdering af om screeningen giver anledning til:\n- En afdækning?\n- En børnefaglig undersøgelse (BFU)?\n- En udredning (ved brug af udredningsværktøjet)?",null,null,null,null,null,""]
[null,"Er der indhentet tilstrækkelige oplysninger til, at der kan træffes afgørelse i sagen? ",null,null,null,null,null,""]
[null,"Er forældrene partshørt om oplysninger i sagen, som er til ugunst for forældrene?",null,null,null,null,null,""]
[null,"Har barnet medvirket ved sagsbehandlingen?",null,null,null,null,null,""]
[null,"Vurderes barnet inddraget i tilstrækkelig grad?"]
[null,"Er der foretaget en faglig vurdering?",null,null,null,null,null,""]
[]
[null,{"$f":"\"Samlet vurdering af \"&B34","v":"Samlet vurdering af Oplysning af sagen samt faglig udredning og vurdering"},null,null,null,null,null,{"$f":"IF(C44=\"Ingen opmærksomhed\",1,(IF(C44=\"særlig opmærksomhed\",3,IF(C44=\"let opmærksomhed\",2,\"\"))))","v":""}]
[null,"Bemærkninger til vurderingen"]
[]
[null,"Afgørelse"]
[null,"Spørgsmål","Besvarelse","Evt. bemærkninger",null,null,null,{"$f":"MAX(H49:H51)","v":0}]
[null,"Er afgørelsen meddelt skriftligt til forældrene?",null,null,null,null,null,{"$f":"IF(C49=\"ja\",\"\",(IF(C49=\"nej\",\"\",IF(C49=\"Fremgår ikke tydeligt af sagen\",2,\"\"))))","v":""}]
[null,"Er afgørelsen tilstrækkeligt begrundet? ",null,null,null,null,null,{"$f":"IF(C50=\"ja\",1,(IF(C50=\"nej\",3,IF(C50=\"Fremgår ikke tydeligt af sagen\",2,\"\"))))","v":""}]
[null,"Er der givet klagevejledning, hvis forældrene har fået fuldt eller delvist afslag?",null,null,null,null,null,""]
[]
[null,{"$f":"\"Samlet vurdering af \"&B47","v":"Samlet vurdering af Afgørelse"},null,null,null,null,null,{"$f":"IF(C53=\"Ingen opmærksomhed\",1,(IF(C53=\"særlig opmærksomhed\",3,IF(C53=\"let opmærksomhed\",2,\"\"))))","v":""}]
[null,"Bemærkninger til vurderingen"]
[]
[null,"Barnets plan / Ungeplan"]
[null,"Spørgsmål","Besvarelse","Evt. bemærkninger",null,null,null,{"$f":"MAX(H58:H59)","v":0}]
[null,"Er forældrene og barnet blevet tilbudt en barnets plan eller ungeplan?",null,null,null,null,null,{"$f":"IF(C58=\"ja\",1,(IF(C58=\"nej\",2,IF(C58=\"Fremgår ikke tydeligt af sagen\",2,\"\"))))","v":""}]
[null,"Er der udarbejdet en plan, såfremt forældrene og barnet ønsker det?",null,null,null,null,null,{"$f":"IF(C59=\"ja\",1,(IF(C59=\"nej\",3,IF(C59=\"Fremgår ikke tydeligt af sagen\",2,\"\"))))","v":""}]
[]
[null,{"$f":"\"Samlet vurdering af \"&B56","v":"Samlet vurdering af Barnets plan / Ungeplan"},null,null,null,null,null,{"$f":"IF(C61=\"Ingen opmærksomhed\",1,(IF(C61=\"særlig opmærksomhed\",3,IF(C61=\"let opmærksomhed\",2,\"\"))))","v":""}]
[null,"Bemærkninger til vurderingen"]
[]
[null,"Overgang fra barn til voksen"]
[null,"Spørgsmål","Besvarelse","Evt. bemærkninger",null,null,null,{"$f":"MAX(H66:H67)","v":0}]
[null,"Hvis barnet er 16 år eller derover: \nEr der foretaget en tværgående og helhedsorienteret forberedelse af overgangen fra barn til voksen?"]
[]
[null,{"$f":"\"Samlet vurdering af \"&B64","v":"Samlet vurdering af Overgang fra barn til voksen"},null,null,null,null,null,{"$f":"IF(C68=\"Ingen opmærksomhed\",1,(IF(C68=\"særlig opmærksomhed\",3,IF(C68=\"let opmærksomhed\",2,\"\"))))","v":""}]
[null,"Bemærkninger til vurderingen"]
[]
[null,"Opfølgning"]
[null,"Spørgsmål","Besvarelse","Evt. bemærkninger",null,null,null,{"$f":"MAX(H73:H76)","v":0}]
[null,"Er der løbende fulgt op på hjælp, støtte og indsatser, der er bevilliget?",null,null,null,null,null,{"$f":"IF(C73=\"ja\",1,(IF(C73=\"nej\",3,IF(C73=\"Fremgår ikke tydeligt af sagen\",2,\"\"))))","v":""}]
[null,"Er det vurderet, om der er behov for andre former for hjælp eller støtte?",null,null,null,null,null,""]
[null,"Er der foretaget ændringer i støtten på baggrund af opfølgningen?",null,null,null,null,null,""]
[null,"Hvis der er foretaget ændringer i støtten, er der så truffet en ny afgørelse?",null,null,null,null,null,""]
[null,"Har barnet og forældrene været inddraget i opfølgningen?"]
[]
[null,{"$f":"\"Samlet vurdering af \"&B71","v":"Samlet vurdering af Opfølgning"},null,null,null,null,null,{"$f":"IF(C79=\"Ingen opmærksomhed\",1,(IF(C79=\"særlig opmærksomhed\",3,IF(C79=\"let opmærksomhed\",2,\"\"))))","v":""}]
[null,"Bemærkninger til vurderingen"]
[]
[null,"Notatpligt og journalisering"]
[null,"Spørgsmål","Besvarelse","Evt. bemærkninger",null,null,null,{"$f":"MAX(H84:H85)","v":0}]
[null,"Er notatpligten overholdt?",null,null,null,null,null,{"$f":"IF(C84=\"ja\",1,(IF(C84=\"nej\",3,IF(C84=\"Fremgår ikke tydeligt af sagen\",2,\"\"))))","v":""}]
[null,"Er der en god systematik i sagsbehandlingen?",null,null,null,null,null,""]
[]
[null,{"$f":"\"Samlet vurdering af \"&B82","v":"Samlet vurdering af Notatpligt og journalisering"},null,null,null,null,null,{"$f":"IF(C87=\"Ingen opmærksomhed\",1,(IF(C87=\"særlig opmærksomhed\",3,IF(C87=\"let opmærksomhed\",2,\"\"))))","v":""}]
[null,"Bemærkninger til vurderingen"]
[]
[null,"Opsamling på tilsynet"]
[null,"Er der noter i bemærkningsfelterne, som giver anledning til en særlig opmærksomhed? Hvis ja, hvilke?"]
[null,"Konkrete bemærkninger til rådgiveren."]
[null,"Konkrete bemærkninger til den fælles opsamling på ledelsestilsynet i teamet eller kontoret."]
[null,"Generelle overvejelser eller bemærkninger."]
[]
[null,"På baggrund af det udfyldte overordnede ledelsestilsyn finder du en opsamling inden for de forskellige temaer."]
[]
[null,"Opsamling på det overordnede ledelsestilsyn"]
[]
[null,"Temaer fra det overordnet tilsyn",null,"Vurdering"]
[null,{"$f":"B23","v":"Opstart af sagen"}]
[null,{"$f":"B34","v":"Oplysning af sagen samt faglig udredning og vurdering"}]
[null,{"$f":"B47","v":"Afgørelse"}]
[null,{"$f":"B56","v":"Barnets plan / Ungeplan"}]
[null,{"$f":"B64","v":"Overgang fra barn til voksen"}]
[null,{"$f":"B71","v":"Opfølgning"}]
[null,{"$f":"B82","v":"Notatpligt og journalisering"}]
[null,{"$f":"B90","v":"Opsamling på tilsynet"},null,"[Udfyld evt. en konklusion]"]
[]
[]
[null,"Det uddybende ledelsestilsyn på børnehandicapområdet",null,null,null,"Introduktion til det uddybende tilsyn"]
[]
[null,"Samarbejde med kommunen"]
[null,"Spørgsmål","Besvarelse","Evt. bemærkninger"]
[null,"Er der kvitteret for modtagelsen af forældrenes henvendelse?"]
[null,"Er der oplyst om, hvem der er rådgiver?"]
[null,"Er der oplyst om den forventede sagsbehandlingstid?"]
[null,"Er forældrene blevet orienteret om at sagsbehandlingsfristen ikke kan overholdes samt om årsagen til dette, hvis fristen ikke er overholdt?"]
[null,"Fremgår den videre plan for behandling af ansøgning og evt. udredning?"]
[null,"Er det beskrevet, hvis der er særlige forhold, der skal tages hensyn til ift. samarbejdet?"]
[null,"Er der andre relevante observationer i sagen relateret til barnet og forældrenes møde med kommunen?"]
[]
[null,{"$f":"\"Type af handling vi bør igangsætte\"","v":"Type af handling vi bør igangsætte"},null,null,null,null,null,{"$f":"IF(C123=\"Ingen opmærksomhed\",1,(IF(C123=\"individuel læring\",2,IF(C123=\"læring på grupppeniveau\",3,IF(C123=\"kompetenceudvikling\",4,IF(C123=\"ændrings af arbejdsgange\",5,IF(C123=\"se på politiske beslutninger\",6,\"\")))))))","v":""}]
[null,"Bemærkninger til vurderingen"]
[]
[null,{"$f":"\"Type af handling vi med fordel også kan igangsætte\"","v":"Type af handling vi med fordel også kan igangsætte"},null,null,null,null,null,{"$f":"IF(C126=\"Ingen opmærksomhed\",1,(IF(C126=\"individuel læring\",2,IF(C126=\"læring på grupppeniveau\",3,IF(C126=\"kompetenceudvikling\",4,IF(C126=\"ændrings af arbejdsgange\",5,IF(C126=\"se på politiske beslutninger\",6,\"\")))))))","v":""}]
[null,"Bemærkninger til vurderingen"]
[]
[]
[null,"Oplysning af sagen samt faglig udredning og vurdering"]
[null,"Spørgsmål","Besvarelse","Evt. bemærkninger"]
[null,"Foreligger der konkret samtykke til indhentelse af oplysninger?"]
[null,"Er de indhentede oplysninger relevante i forhold til formålet, og hvad der skal oplyses for at kunne træffe en afgørelse?"]
[null,"Er der inddraget oplysninger fra alle relevante aktører i sagsoplysningen?"]
[null,"Er barnets private og/eller professionelle netværk inddraget?"]
[null,"Er der foretaget en begrundet stillingtagen til, om barnet har behov for kompensation og/eller indsatser, og hvilken art der er behov for?"]
[null,"Er der andre relevante observationer i sagen relateret til inddragelse af oplysninger?"]
[]
[null,{"$f":"B123","v":"Type af handling vi bør igangsætte"},null,null,null,null,null,{"$f":"IF(C139=\"Ingen opmærksomhed\",1,(IF(C139=\"individuel læring\",2,IF(C139=\"læring på grupppeniveau\",3,IF(C139=\"kompetenceudvikling\",4,IF(C139=\"ændrings af arbejdsgange\",5,IF(C139=\"se på politiske beslutninger\",6,\"\")))))))","v":""}]
[null,"Bemærkninger til vurderingen"]
[]
[null,{"$f":"B126","v":"Type af handling vi med fordel også kan igangsætte"},null,null,null,null,null,{"$f":"IF(C142=\"Ingen opmærksomhed\",1,(IF(C142=\"individuel læring\",2,IF(C142=\"læring på grupppeniveau\",3,IF(C142=\"kompetenceudvikling\",4,IF(C142=\"ændrings af arbejdsgange\",5,IF(C142=\"se på politiske beslutninger\",6,\"\")))))))","v":""}]
[null,"Bemærkninger til vurderingen"]
[]
[]
[null,"Inddragelse af barnet, forældrene og andre"]
[null,"Spørgsmål","Besvarelse","Evt. bemærkninger"]
[null,"Er forældrene anmodet om at medvirke til at indhente oplysninger, som er nødvendige for at afgøre, hvilken hjælp barnet/forældrene er berettiget til?"]
[null,"Er forældrene i den forbindelse vejledt skriftligt om, hvad kommunen ønsker at de medvirker til samt konsekvenserne ved manglende medvirken?"]
[null,"Har forældrene haft mulighed for løbende at medvirke ved sagsbehandlingen?"]
[null,"Har barnet haft mulighed for løbende at medvirke ved sagsbehandlingen?"]
[null,"Fremgår de faglige overvejelser og vurderinger omkring inddragelsen af barnet, forældrene og andre af sagen?"]
[null,"Er det tydeligt beskrevet, hvilket perspektiv barnet har på behovet for kompensation og mulige indsatser?"]
[null,"Er det tydeligt beskrevet, hvilket perspektiv forældrene har på behovet for kompensation og mulige indsatser?"]
[null,"Er barnet oplyst om retten til bisidder?"]
[null,"Er barnet tilbudt en bisidder?"]
[null,"Har rådgiver mødt barnet og foretaget en observation, hvis ikke det har været muligt at gennemføre en børnesamtale? "]
[null,"Hvis det hverken har været muligt at gennemføre en samtale eller observation, er barnets synspunkter og perspektiver så tilvejebragt gennem andre?"]
[null,"Er der indhentet oplysninger til brug for vurderingen af sagen, som forældrene ikke kan antages at være bekendt med?"]
[null,"Hvis der er indhentet oplysninger, som forældrene ikke kan antages at være bekendt med, er der så taget stilling til, om oplysningerne er til ugunst for forældrene?"]
[null,"Er der andre relevante observationer i sagen relateret til inddragelse af barnet, forældrene og andre?"]
[]
[null,{"$f":"B123","v":"Type af handling vi bør igangsætte"},null,null,null,null,null,{"$f":"IF(C163=\"Ingen opmærksomhed\",1,(IF(C163=\"individuel læring\",2,IF(C163=\"læring på grupppeniveau\",3,IF(C163=\"kompetenceudvikling\",4,IF(C163=\"ændrings af arbejdsgange\",5,IF(C163=\"se på politiske beslutninger\",6,\"\")))))))","v":""}]
[null,"Bemærkninger til vurderingen"]
[]
[null,{"$f":"B126","v":"Type af handling vi med fordel også kan igangsætte"},null,null,null,null,null,{"$f":"IF(C166=\"Ingen opmærksomhed\",1,(IF(C166=\"individuel læring\",2,IF(C166=\"læring på grupppeniveau\",3,IF(C166=\"kompetenceudvikling\",4,IF(C166=\"ændrings af arbejdsgange\",5,IF(C166=\"se på politiske beslutninger\",6,\"\")))))))","v":""}]
[null,"Bemærkninger til vurderingen"]
[]
[]
[null,"Partsrepræsentation"]
[null,"Spørgsmål","Besvarelse","Evt. bemærkninger"]
[null,"Har forældrene en partsrepræsentant?"]
[null,"Ligger der en gyldig fuldmagt i sagen?"]
[null,"Er det registreret, hvad der er givet fuldmagt til - og inddrages partsrepræsentanten i fornødent omfang?"]
[null,"Er der andre relevante observationer i sagen relateret til partsrepræsentation?"]
[]
[null,{"$f":"B123","v":"Type af handling vi bør igangsætte"},null,null,null,null,null,{"$f":"IF(C177=\"Ingen opmærksomhed\",1,(IF(C177=\"individuel læring\",2,IF(C177=\"læring på grupppeniveau\",3,IF(C177=\"kompetenceudvikling\",4,IF(C177=\"ændrings af arbejdsgange\",5,IF(C177=\"se på politiske beslutninger\",6,\"\")))))))","v":""}]
[null,"Bemærkninger til vurderingen"]
[]
[null,{"$f":"B126","v":"Type af handling vi med fordel også kan igangsætte"},null,null,null,null,null,{"$f":"IF(C180=\"Ingen opmærksomhed\",1,(IF(C180=\"individuel læring\",2,IF(C180=\"læring på grupppeniveau\",3,IF(C180=\"kompetenceudvikling\",4,IF(C180=\"ændrings af arbejdsgange\",5,IF(C180=\"se på politiske beslutninger\",6,\"\")))))))","v":""}]
[null,"Bemærkninger til vurderingen"]
[]
[]
[null,"Afgørelse"]
[null,"Spørgsmål","Besvarelse","Evt. bemærkninger"]
[null,"Fremgår det tydeligt af afgørelsen, hvad barnet og/eller forældrene har ret til eller ikke har ret til?"]
[null,"Er der i begrundelsen beskrevet hovedhensyn og faktiske oplysninger i sagen?"]
[null,"Er begrundelsen konkret og individuel?"]
[null,"Har kommunen i afgørelsen begrundet hvorfor modsatrettede argumenter/oplysninger ikke giver et andet resultat af vurderingen?"]
[null,"Er relevante principmeddelelser fra Ankestyrelsen inddraget?"]
[null,"Er der henvist til det rigtige lovgrundlag?"]
[null,"Hvis der er tale om en afgørelse om ophør af tidligere bevilliget hjælp, er den ændrede vurdering i så fald begrundet?"]
[null,"Indeholder klagevejledningen angivelse af klageinstans og oplysning om fremgangsmåden ved indgivelse af klager herunder klagefrist?"]
[null,"Er afgørelsen formidlet i et klart og borgerrettet sprog? "]
[null,"Er der andre relevante observationer i sagen relateret til afgørelsens begrundelse?"]
[]
[null,{"$f":"B123","v":"Type af handling vi bør igangsætte"},null,null,null,null,null,{"$f":"IF(C197=\"Ingen opmærksomhed\",1,(IF(C197=\"individuel læring\",2,IF(C197=\"læring på grupppeniveau\",3,IF(C197=\"kompetenceudvikling\",4,IF(C197=\"ændrings af arbejdsgange\",5,IF(C197=\"se på politiske beslutninger\",6,\"\")))))))","v":""}]
[null,"Bemærkninger til vurderingen"]
[]
[null,{"$f":"B126","v":"Type af handling vi med fordel også kan igangsætte"},null,null,null,null,null,{"$f":"IF(C200=\"Ingen opmærksomhed\",1,(IF(C200=\"individuel læring\",2,IF(C200=\"læring på grupppeniveau\",3,IF(C200=\"kompetenceudvikling\",4,IF(C200=\"ændrings af arbejdsgange\",5,IF(C200=\"se på politiske beslutninger\",6,\"\")))))))","v":""}]
[null,"Bemærkninger til vurderingen"]
[]
[]
[null,"Barnets plan / Ungeplan"]
[null,"Spørgsmål","Besvarelse","Evt. bemærkninger"]
[null,"Er der udarbejdet en barnets plan eller ungeplan?"]
[null,"Angiver barnets plan eller ungeplanen følgende:"]
[null,"Formålet med indsatsen?"]
[null,"Hvilken indsats der er nødvendig for at opnå formålet?"]
[null,"Den forventede varighed af indsatsen?"]
[null,"Er målene i barnets plan eller ungeplanen konkrete og mulige at følge op på?"]
[null,"Understøtter målene i barnets plan eller ungeplanen progression eller at undgå regression i forhold til barnets trivsel og udvikling?"]
[null,"Er barnets plan eller ungeplanen udarbejdet i samarbejde med barnet og forældrene?"]
[null,"Fremgår det, hvem der har ansvar for de konkrete tiltag og indsatser?"]
[null,"Er der indhentet samtykke til, at relevante oplysninger i handleplanen må videregives til leverandøren af indsatsen?"]
[null,"Er der andre relevante observationer i sagen relateret til barnets plan eller ungeplanen?"]
[]
[null,{"$f":"B123","v":"Type af handling vi bør igangsætte"},null,null,null,null,null,{"$f":"IF(C218=\"Ingen opmærksomhed\",1,(IF(C218=\"individuel læring\",2,IF(C218=\"læring på grupppeniveau\",3,IF(C218=\"kompetenceudvikling\",4,IF(C218=\"ændrings af arbejdsgange\",5,IF(C218=\"se på politiske beslutninger\",6,\"\")))))))","v":""}]
[null,"Bemærkninger til vurderingen"]
[]
[null,{"$f":"B126","v":"Type af handling vi med fordel også kan igangsætte"},null,null,null,null,null,{"$f":"IF(C221=\"Ingen opmærksomhed\",1,(IF(C221=\"individuel læring\",2,IF(C221=\"læring på grupppeniveau\",3,IF(C221=\"kompetenceudvikling\",4,IF(C221=\"ændrings af arbejdsgange\",5,IF(C221=\"se på politiske beslutninger\",6,\"\")))))))","v":""}]
[null,"Bemærkninger til vurderingen"]
[]
[]
[null,"Opfølgning"]
[null,"Spørgsmål","Besvarelse","Evt. bemærkninger"]
[null,"Er der løbende fulgt op på hjælp, støtte og indsatser, der er bevilget?"]
[null,"Er barnet blevet inddraget i forbindelse med opfølgningen?"]
[null,"Er forældrene blevet inddraget i forbindelse med opfølgningen?"]
[null,"Er der i forbindelse med opfølgningen indhentet nye oplysninger?"]
[null,"Er der i forbindelse med opfølgningen afholdt en samtale med forældrene?"]
[null,"Er der i forbindelse med opfølgningen afholdt en samtale med barnet?"]
[null,"Er der foretaget en observation af barnet, hvis ikke det har været muligt at gennemføre en samtale med barnet?"]
[null,"Hvis det hverken har været muligt at gennemføre en samtale eller observation, er barnets synspunkter og perspektiver i så fald tilvejebragt gennem andre?"]
[null,"Har der ved opfølgningen været opmærksomhed på, om der er behov for at yde andre former for hjælp?"]
[null,"Er der foretaget ændringer i støtte på baggrund af opfølgningen?"]
[null,"Hvis der er foretaget ændringer i støtten, er der så truffet en ny afgørelse?"]
[null,"Hvis der endnu ikke er fulgt op på afgørelsen, er der i så fald oplysninger om planlagt  opfølgning i sagen?"]
[null,"Er der andre relevante observationer i sagen relateret til opfølgning?"]
[]
[null,{"$f":"B123","v":"Type af handling vi bør igangsætte"},null,null,null,null,null,{"$f":"IF(C241=\"Ingen opmærksomhed\",1,(IF(C241=\"individuel læring\",2,IF(C241=\"læring på grupppeniveau\",3,IF(C241=\"kompetenceudvikling\",4,IF(C241=\"ændrings af arbejdsgange\",5,IF(C241=\"se på politiske beslutninger\",6,\"\")))))))","v":""}]
[null,"Bemærkninger til vurderingen"]
[]
[null,{"$f":"B126","v":"Type af handling vi med fordel også kan igangsætte"},null,null,null,null,null,{"$f":"IF(C244=\"Ingen opmærksomhed\",1,(IF(C244=\"individuel læring\",2,IF(C244=\"læring på grupppeniveau\",3,IF(C244=\"kompetenceudvikling\",4,IF(C244=\"ændrings af arbejdsgange\",5,IF(C244=\"se på politiske beslutninger\",6,\"\")))))))","v":""}]
[null,"Bemærkninger til vurderingen"]
[]
[]
[null,"Opsamling på tilsynet"]
[]
[null,"Er der noter i bemærkningsfelterne, som giver anledning til særlig opmærksomhed? Hvis ja, hvilke?"]
[null,"Konkrete bemærkninger til rådgiveren."]
[null,"Konkrete bemærkninger til den fælles opsamling på ledelsestilsynet i teamet eller kontoret."]
[null,"Overvejelser om udviklingstiltag."]
[]
[]
[null,"Du har nu gennemført ledelsestilsynet. Via øverste bjælke kan du nu opstarte et nyt tilsyn, gå til overblik over udfyldte tilsyn eller til ledelsesinformation."]

{"sheet":"Hjælpeark","index":9,"n_rows":365,"n_cols":37,"rows_kept":365,"cut":false,"hidden":false,"merged":[[59,2,59,8],[59,10,59,17],[59,30,59,36],[59,21,59,28]]}
[]
[]
[]
[]
[]
[]
[]
[]
[]
[]
[]
[]
[]
[]
[]
[]
[]
[]
[]
[]
[]
[]
[]
[]
[]
[]
[]
[]
[]
[]
[]
[]
[]
[{"$f":"'Skabelon, voksne'!B21","v":"Det overordnede ledelsestilsyn på voksenhandicapområdet"}]
[null,"Er udfyldt"]
[{"$f":"'Skabelon, voksne'!B23","v":"Opstart af sagen"},{"$f":"IF('Skabelon, voksne'!C25=\"\",0,1)","v":0}]
[{"$f":"'Skabelon, voksne'!B34","v":"Oplysning af sagen samt faglig udredning og vurdering"},{"$f":"IF('Skabelon, voksne'!C36=\"\",0,1)","v":0}]
[{"$f":"'Skabelon, voksne'!B44","v":"Afgørelse"},{"$f":"IF('Skabelon, voksne'!C46=\"\",0,1)","v":0}]
[{"$f":"'Skabelon, voksne'!B53","v":"Handleplan"},{"$f":"IF('Skabelon, voksne'!C56=\"\",0,1)","v":0}]
[{"$f":"'Skabelon, voksne'!B61","v":"Opfølgning"},{"$f":"IF('Skabelon, voksne'!C63=\"\",0,1)","v":0}]
[{"$f":"'Skabelon, voksne'!B72","v":"Notatpligt og journalisering"},{"$f":"IF('Skabelon, voksne'!C74=\"\",0,1)","v":0}]
[{"$f":"'Skabelon, voksne'!B80","v":"Opsamling på tilsynet"}]
[]
[{"$f":"'Skabelon, voksne'!B100","v":"Det uddybende ledelsestilsyn på voksenhandicapområdet"}]
[null,"Er udfyldt"]
[{"$f":"'Skabelon, voksne'!B102","v":"Samarbejde med kommunen"},{"$f":"IF('Skabelon, voksne'!C104=\"\",0,1)","v":0}]
[{"$f":"'Skabelon, voksne'!B119","v":"Oplysning af sagen samt faglig udredning og vurdering"},{"$f":"IF('Skabelon, voksne'!C121=\"\",0,1)","v":0}]
[{"$f":"'Skabelon, voksne'!B141","v":"Inddragelse af borgeren og andre"},{"$f":"IF('Skabelon, voksne'!C143=\"\",0,1)","v":0}]
[{"$f":"'Skabelon, voksne'!B162","v":"Partsrepræsentation"},{"$f":"IF('Skabelon, voksne'!C164=\"\",0,1)","v":0}]
[{"$f":"'Skabelon, voksne'!B177","v":"Værgemål"},{"$f":"IF('Skabelon, voksne'!C179=\"\",0,1)","v":0}]
[{"$f":"'Skabelon, voksne'!B194","v":"Afgørelse"},{"$f":"IF('Skabelon, voksne'!C197=\"\",0,1)","v":0}]
[{"$f":"'Skabelon, voksne'!B215","v":"Handleplan"},{"$f":"IF('Skabelon, voksne'!#REF!=\"\",0,1)","v":{"$error":"#REF!"}}]
[{"$f":"'Skabelon, voksne'!B237","v":"Opfølgning"},{"$f":"IF('Skabelon, voksne'!C239=\"\",0,1)","v":0}]
[]
[{"$f":"'Skabelon, voksne'!B264","v":"Opsamling på tilsynet"},"Er udfyldt"]
["Første note om opsamlingen",{"$f":"IF('Skabelon, voksne'!C267=\"\",0,1)","v":0}]
[]
["Status:  grøn"]
["Status:  gul"]
["Status:  rød",null,"Voksen",null,null,null,null,null,null,null,"Børn og Unge (B&U)",null,null,null,null,null,null,null,null,null,null,"Voksen",null,null,null,null,null,null,null,null,"Børn og Unge (B&U)"]
[null,null,{"$f":"'Skabelon, voksne'!B23","v":"Opstart af sagen"},{"$f":"'Skabelon, voksne'!B34","v":"Oplysning af sagen samt faglig udredning og vurdering"},{"$f":"'Skabelon, voksne'!B44","v":"Afgørelse"},{"$f":"'Skabelon, voksne'!B53","v":"Handleplan"},{"$f":"'Skabelon, voksne'!B61","v":"Opfølgning"},{"$f":"'Skabelon, voksne'!B72","v":"Notatpligt og journalisering"},{"$f":"'Skabelon, voksne'!B80","v":"Opsamling på tilsynet"},null,{"$f":"'Skabelon, B&U'!B23","v":"Opstart af sagen"},{"$f":"'Skabelon, B&U'!B34","v":"Oplysning af sagen samt faglig udredning og vurdering"},{"$f":"'Skabelon, B&U'!B47","v":"Afgørelse"},{"$f":"'Skabelon, B&U'!B56","v":"Barnets plan / Ungeplan"},{"$f":"'Skabelon, B&U'!B64","v":"Overgang fra barn til voksen"},{"$f":"'Skabelon, B&U'!B71","v":"Opfølgning"},{"$f":"'Skabelon, B&U'!B82","v":"Notatpligt og journalisering"},{"$f":"'Skabelon, B&U'!B90","v":"Opsamling på tilsynet"},null,null,null,{"$f":"'Skabelon, voksne'!B102","v":"Samarbejde med kommunen"},{"$f":"'Skabelon, voksne'!B119","v":"Oplysning af sagen samt faglig udredning og vurdering"},{"$f":"'Skabelon, voksne'!B141","v":"Inddragelse af borgeren og andre"},{"$f":"'Skabelon, voksne'!B162","v":"Partsrepræsentation"},{"$f":"'Skabelon, voksne'!B177","v":"Værgemål"},{"$f":"'Skabelon, voksne'!B194","v":"Afgørelse"},{"$f":"'Skabelon, voksne'!B215","v":"Handleplan"},{"$f":"'Skabelon, voksne'!B237","v":"Opfølgning"},null,{"$f":"'Skabelon, B&U'!B113","v":"Samarbejde med kommunen"},{"$f":"'Skabelon, B&U'!B130","v":"Oplysning af sagen samt faglig udredning og vurdering"},{"$f":"'Skabelon, B&U'!B146","v":"Inddragelse af barnet, forældrene og andre"},{"$f":"'Skabelon, B&U'!B170","v":"Partsrepræsentation"},{"$f":"'Skabelon, B&U'!B184","v":"Afgørelse"},{"$f":"'Skabelon, B&U'!B204","v":"Barnets plan / Ungeplan"},{"$f":"'Skabelon, B&U'!B225","v":"Opfølgning"}]
["Tilsyn 1","Status:  grøn",{"$f":"COUNTIF(IF(ISERROR(INDIRECT(\"'Voksen \"&A62&\"'!$H$31\",TRUE)),\"\",INDIRECT(\"'Voksen \"&A62&\"'!$H$31\",TRUE)),1)","v":{"$error":"#VALUE!"}},{"$f":"COUNTIF(IF(ISERROR(INDIRECT(\"'Voksen \"&A62&\"'!$H$41\",TRUE)),\"\",INDIRECT(\"'Voksen \"&A62&\"'!$H$41\",TRUE)),1)","v":{"$error":"#VALUE!"}},{"$f":"COUNTIF(IF(ISERROR(INDIRECT(\"'Voksen \"&A62&\"'!$H$50\",TRUE)),\"\",INDIRECT(\"'Voksen \"&A62&\"'!$H$50\",TRUE)),1)","v":{"$error":"#VALUE!"}},{"$f":"COUNTIF(IF(ISERROR(INDIRECT(\"'Voksen \"&A62&\"'!$H$58\",TRUE)),\"\",INDIRECT(\"'Voksen \"&A62&\"'!$H$58\",TRUE)),1)","v":{"$error":"#VALUE!"}},{"$f":"COUNTIF(IF(ISERROR(INDIRECT(\"'Voksen \"&A62&\"'!$H$69\",TRUE)),\"\",INDIRECT(\"'Voksen \"&A62&\"'!$H$69\",TRUE)),1)","v":{"$error":"#VALUE!"}},{"$f":"COUNTIF(IF(ISERROR(INDIRECT(\"'Voksen \"&A62&\"'!$H$77\",TRUE)),\"\",INDIRECT(\"'Voksen \"&A62&\"'!$H$77\",TRUE)),1)","v":{"$error":"#VALUE!"}},null,null,{"$f":"COUNTIF(IF(ISERROR(INDIRECT(\"'Børn \"&A62&\"'!$H$31\",TRUE)),\"\",INDIRECT(\"'Børn \"&A62&\"'!$H$31\",TRUE)),1)","v":{"$error":"#VALUE!"}},{"$f":"COUNTIF(IF(ISERROR(INDIRECT(\"'Børn \"&A62&\"'!$H$44\",TRUE)),\"\",INDIRECT(\"'Børn \"&A62&\"'!$H$44\",TRUE)),1)","v":{"$error":"#VALUE!"}},{"$f":"COUNTIF(IF(ISERROR(INDIRECT(\"'Børn \"&A62&\"'!$H$53\",TRUE)),\"\",INDIRECT(\"'Børn \"&A62&\"'!$H$53\",TRUE)),1)","v":{"$error":"#VALUE!"}},{"$f":"COUNTIF(IF(ISERROR(INDIRECT(\"'Børn \"&A62&\"'!$H$61\",TRUE)),\"\",INDIRECT(\"'Børn \"&A62&\"'!$H$61\",TRUE)),1)","v":{"$error":"#VALUE!"}},{"$f":"COUNTIF(IF(ISERROR(INDIRECT(\"'Børn \"&A62&\"'!$H$68\",TRUE)),\"\",INDIRECT(\"'Børn \"&A62&\"'!$H$68\",TRUE)),1)","v":{"$error":"#VALUE!"}},{"$f":"COUNTIF(IF(ISERROR(INDIRECT(\"'Børn \"&A62&\"'!$H$79\",TRUE)),\"\",INDIRECT(\"'Børn \"&A62&\"'!$H$79\",TRUE)),1)","v":{"$error":"#VALUE!"}},{"$f":"COUNTIF(IF(ISERROR(INDIRECT(\"'Børn \"&A62&\"'!$H$87\",TRUE)),\"\",INDIRECT(\"'Børn \"&A62&\"'!$H$87\",TRUE)),1)","v":{"$error":"#VALUE!"}},null,null,null,"Tilsyn 1",{"$f":"IF(INDIRECT(\"'Voksen \"&U62&\"'!$c$112\")=\"\",\"\",IFERROR(INDIRECT(\"'Voksen \"&U62&\"'!$c$112\",TRUE),\"\"))","v":{"$error":"#REF!"}},{"$f":"IF(INDIRECT(\"'Voksen \"&U62&\"'!$c$133\")=\"\",\"\",IFERROR(INDIRECT(\"'Voksen \"&U62&\"'!$c$133\",TRUE),\"\"))","v":{"$error":"#REF!"}},{"$f":"IF(INDIRECT(\"'Voksen \"&U62&\"'!$c$154\")=\"\",\"\",IFERROR(INDIRECT(\"'Voksen \"&U62&\"'!$c$154\",TRUE),\"\"))","v":{"$error":"#REF!"}},{"$f":"IF(INDIRECT(\"'Voksen \"&U62&\"'!$c$169\")=\"\",\"\",IFERROR(INDIRECT(\"'Voksen \"&U62&\"'!$c$169\",TRUE),\"\"))","v":{"$error":"#REF!"}},{"$f":"IF(INDIRECT(\"'Voksen \"&U62&\"'!$c$186\")=\"\",\"\",IFERROR(INDIRECT(\"'Voksen \"&U62&\"'!$c$186\",TRUE),\"\"))","v":{"$error":"#REF!"}},{"$f":"IF(INDIRECT(\"'Voksen \"&U62&\"'!$c$207\")=\"\",\"\",IFERROR(INDIRECT(\"'Voksen \"&U62&\"'!$c$207\",TRUE),\"\"))","v":{"$error":"#REF!"}},{"$f":"IF(INDIRECT(\"'Voksen \"&U62&\"'!$c$229\")=\"\",\"\",IFERROR(INDIRECT(\"'Voksen \"&U62&\"'!$c$229\",TRUE),\"\"))","v":{"$error":"#REF!"}},{"$f":"IF(INDIRECT(\"'Voksen \"&U62&\"'!$c$255\")=\"\",\"\",IFERROR(INDIRECT(\"'Voksen \"&U62&\"'!$c$255\",TRUE),\"\"))","v":{"$error":"#REF!"}},null,{"$f":"IF(INDIRECT(\"'Børn \"&U62&\"'!$c$123\")=\"\",\"\",IFERROR(INDIRECT(\"'Børn \"&U62&\"'!$c$123\",TRUE),\"\"))","v":{"$error":"#REF!"}},{"$f":"IF(INDIRECT(\"'Børn \"&U62&\"'!$c$139\")=\"\",\"\",IFERROR(INDIRECT(\"'Børn \"&U62&\"'!$c$139\",TRUE),\"\"))","v":{"$error":"#REF!"}},{"$f":"IF(INDIRECT(\"'Børn \"&U62&\"'!$c$163\")=\"\",\"\",IFERROR(INDIRECT(\"'Børn \"&U62&\"'!$c$163\",TRUE),\"\"))","v":{"$error":"#REF!"}},{"$f":"IF(INDIRECT(\"'Børn \"&U62&\"'!$c$177\")=\"\",\"\",IFERROR(INDIRECT(\"'Børn \"&U62&\"'!$c$177\",TRUE),\"\"))","v":{"$error":"#REF!"}},{"$f":"IF(INDIRECT(\"'Børn \"&U62&\"'!$c$197\")=\"\",\"\",IFERROR(INDIRECT(\"'Børn \"&U62&\"'!$c$197\",TRUE),\"\"))","v":{"$error":"#REF!"}},{"$f":"IF(INDIRECT(\"'Børn \"&U62&\"'!$c$218\")=\"\",\"\",IFERROR(INDIRECT(\"'Børn \"&U62&\"'!$c$218\",TRUE),\"\"))","v":{"$error":"#REF!"}},{"$f":"IF(INDIRECT(\"'Børn \"&U62&\"'!$c$241\")=\"\",\"\",IFERROR(INDIRECT(\"'Børn \"&U62&\"'!$c$241\",TRUE),\"\"))","v":{"$error":"#REF!"}}]
["Tilsyn 1","Status:  gul",{"$f":"COUNTIF(IF(ISERROR(INDIRECT(\"'Voksen \"&A63&\"'!$H$31\",TRUE)),\"\",INDIRECT(\"'Voksen \"&A63&\"'!$H$31\",TRUE)),2)","v":{"$error":"#VALUE!"}},{"$f":"COUNTIF(IF(ISERROR(INDIRECT(\"'Voksen \"&A63&\"'!$H$41\",TRUE)),\"\",INDIRECT(\"'Voksen \"&A63&\"'!$H$41\",TRUE)),2)","v":{"$error":"#VALUE!"}},{"$f":"COUNTIF(IF(ISERROR(INDIRECT(\"'Voksen \"&A63&\"'!$H$50\",TRUE)),\"\",INDIRECT(\"'Voksen \"&A63&\"'!$H$50\",TRUE)),2)","v":{"$error":"#VALUE!"}},{"$f":"COUNTIF(IF(ISERROR(INDIRECT(\"'Voksen \"&A63&\"'!$H$58\",TRUE)),\"\",INDIRECT(\"'Voksen \"&A63&\"'!$H$58\",TRUE)),2)","v":{"$error":"#VALUE!"}},{"$f":"COUNTIF(IF(ISERROR(INDIRECT(\"'Voksen \"&A63&\"'!$H$69\",TRUE)),\"\",INDIRECT(\"'Voksen \"&A63&\"'!$H$69\",TRUE)),2)","v":{"$error":"#VALUE!"}},{"$f":"COUNTIF(IF(ISERROR(INDIRECT(\"'Voksen \"&A63&\"'!$H$77\",TRUE)),\"\",INDIRECT(\"'Voksen \"&A63&\"'!$H$77\",TRUE)),2)","v":{"$error":"#VALUE!"}},null,null,{"$f":"COUNTIF(IF(ISERROR(INDIRECT(\"'Børn \"&A63&\"'!$H$31\",TRUE)),\"\",INDIRECT(\"'Børn \"&A63&\"'!$H$31\",TRUE)),2)","v":{"$error":"#VALUE!"}},{"$f":"COUNTIF(IF(ISERROR(INDIRECT(\"'Børn \"&A63&\"'!$H$44\",TRUE)),\"\",INDIRECT(\"'Børn \"&A63&\"'!$H$44\",TRUE)),2)","v":{"$error":"#VALUE!"}},{"$f":"COUNTIF(IF(ISERROR(INDIRECT(\"'Børn \"&A63&\"'!$H$53\",TRUE)),\"\",INDIRECT(\"'Børn \"&A63&\"'!$H$53\",TRUE)),2)","v":{"$error":"#VALUE!"}},{"$f":"COUNTIF(IF(ISERROR(INDIRECT(\"'Børn \"&A63&\"'!$H$61\",TRUE)),\"\",INDIRECT(\"'Børn \"&A63&\"'!$H$61\",TRUE)),2)","v":{"$error":"#VALUE!"}},{"$f":"COUNTIF(IF(ISERROR(INDIRECT(\"'Børn \"&A63&\"'!$H$68\",TRUE)),\"\",INDIRECT(\"'Børn \"&A63&\"'!$H$68\",TRUE)),2)","v":{"$error":"#VALUE!"}},{"$f":"COUNTIF(IF(ISERROR(INDIRECT(\"'Børn \"&A63&\"'!$H$79\",TRUE)),\"\",INDIRECT(\"'Børn \"&A63&\"'!$H$79\",TRUE)),2)","v":{"$error":"#VALUE!"}},{"$f":"COUNTIF(IF(ISERROR(INDIRECT(\"'Børn \"&A63&\"'!$H$87\",TRUE)),\"\",INDIRECT(\"'Børn \"&A63&\"'!$H$87\",TRUE)),2)","v":{"$error":"#VALUE!"}},null,null,null,{"$f":"U62","v":"Tilsyn 1"},{"$f":"IF(INDIRECT(\"'Voksen \"&U63&\"'!$c$115\")=\"\",\"\",IFERROR(INDIRECT(\"'Voksen \"&U63&\"'!$c$115\",TRUE),\"\"))","v":{"$error":"#REF!"}},{"$f":"IF(INDIRECT(\"'Voksen \"&U63&\"'!$c$136\")=\"\",\"\",IFERROR(INDIRECT(\"'Voksen \"&U63&\"'!$c$136\",TRUE),\"\"))","v":{"$error":"#REF!"}},{"$f":"IF(INDIRECT(\"'Voksen \"&U63&\"'!$c$157\")=\"\",\"\",IFERROR(INDIRECT(\"'Voksen \"&U63&\"'!$c$157\",TRUE),\"\"))","v":{"$error":"#REF!"}},{"$f":"IF(INDIRECT(\"'Voksen \"&U63&\"'!$c$172\")=\"\",\"\",IFERROR(INDIRECT(\"'Voksen \"&U63&\"'!$c$172\",TRUE),\"\"))","v":{"$error":"#REF!"}},{"$f":"IF(INDIRECT(\"'Voksen \"&U63&\"'!$c$189\")=\"\",\"\",IFERROR(INDIRECT(\"'Voksen \"&U63&\"'!$c$189\",TRUE),\"\"))","v":{"$error":"#REF!"}},{"$f":"IF(INDIRECT(\"'Voksen \"&U63&\"'!$c$210\")=\"\",\"\",IFERROR(INDIRECT(\"'Voksen \"&U63&\"'!$c$210\",TRUE),\"\"))","v":{"$error":"#REF!"}},{"$f":"IF(INDIRECT(\"'Voksen \"&U63&\"'!$c$232\")=\"\",\"\",IFERROR(INDIRECT(\"'Voksen \"&U63&\"'!$c$232\",TRUE),\"\"))","v":{"$error":"#REF!"}},{"$f":"IF(INDIRECT(\"'Voksen \"&U63&\"'!$c$258\")=\"\",\"\",IFERROR(INDIRECT(\"'Voksen \"&U63&\"'!$c$258\",TRUE),\"\"))","v":{"$error":"#REF!"}},null,{"$f":"IF(INDIRECT(\"'Børn \"&U63&\"'!$c$126\")=\"\",\"\",IFERROR(INDIRECT(\"'Børn \"&U63&\"'!$c$126\",TRUE),\"\"))","v":{"$error":"#REF!"}},{"$f":"IF(INDIRECT(\"'Børn \"&U63&\"'!$c$142\")=\"\",\"\",IFERROR(INDIRECT(\"'Børn \"&U63&\"'!$c$142\",TRUE),\"\"))","v":{"$error":"#REF!"}},{"$f":"IF(INDIRECT(\"'Børn \"&U63&\"'!$c$166\")=\"\",\"\",IFERROR(INDIRECT(\"'Børn \"&U63&\"'!$c$166\",TRUE),\"\"))","v":{"$error":"#REF!"}},{"$f":"IF(INDIRECT(\"'Børn \"&U63&\"'!$c$180\")=\"\",\"\",IFERROR(INDIRECT(\"'Børn \"&U63&\"'!$c$180\",TRUE),\"\"))","v":{"$error":"#REF!"}},{"$f":"IF(INDIRECT(\"'Børn \"&U63&\"'!$c$200\")=\"\",\"\",IFERROR(INDIRECT(\"'Børn \"&U63&\"'!$c$200\",TRUE),\"\"))","v":{"$error":"#REF!"}},{"$f":"IF(INDIRECT(\"'Børn \"&U63&\"'!$c$221\")=\"\",\"\",IFERROR(INDIRECT(\"'Børn \"&U63&\"'!$c$221\",TRUE),\"\"))","v":{"$error":"#REF!"}},{"$f":"IF(INDIRECT(\"'Børn \"&U63&\"'!$c$244\")=\"\",\"\",IFERROR(INDIRECT(\"'Børn \"&U63&\"'!$c$244\",TRUE),\"\"))","v":{"$error":"#REF!"}}]
["Tilsyn 1","Status:  rød",{"$f":"COUNTIF(IF(ISERROR(INDIRECT(\"'Voksen \"&A64&\"'!$H$31\",TRUE)),\"\",INDIRECT(\"'Voksen \"&A64&\"'!$H$31\",TRUE)),3)","v":{"$error":"#VALUE!"}},{"$f":"COUNTIF(IF(ISERROR(INDIRECT(\"'Voksen \"&A64&\"'!$H$41\",TRUE)),\"\",INDIRECT(\"'Voksen \"&A64&\"'!$H$41\",TRUE)),3)","v":{"$error":"#VALUE!"}},{"$f":"COUNTIF(IF(ISERROR(INDIRECT(\"'Voksen \"&A64&\"'!$H$50\",TRUE)),\"\",INDIRECT(\"'Voksen \"&A64&\"'!$H$50\",TRUE)),3)","v":{"$error":"#VALUE!"}},{"$f":"COUNTIF(IF(ISERROR(INDIRECT(\"'Voksen \"&A64&\"'!$H$58\",TRUE)),\"\",INDIRECT(\"'Voksen \"&A64&\"'!$H$58\",TRUE)),3)","v":{"$error":"#VALUE!"}},{"$f":"COUNTIF(IF(ISERROR(INDIRECT(\"'Voksen \"&A64&\"'!$H$69\",TRUE)),\"\",INDIRECT(\"'Voksen \"&A64&\"'!$H$69\",TRUE)),3)","v":{"$error":"#VALUE!"}},{"$f":"COUNTIF(IF(ISERROR(INDIRECT(\"'Voksen \"&A64&\"'!$H$77\",TRUE)),\"\",INDIRECT(\"'Voksen \"&A64&\"'!$H$77\",TRUE)),3)","v":{"$error":"#VALUE!"}},null,null,{"$f":"COUNTIF(IF(ISERROR(INDIRECT(\"'Børn \"&A64&\"'!$H$31\",TRUE)),\"\",INDIRECT(\"'Børn \"&A64&\"'!$H$31\",TRUE)),3)","v":{"$error":"#VALUE!"}},{"$f":"COUNTIF(IF(ISERROR(INDIRECT(\"'Børn \"&A64&\"'!$H$44\",TRUE)),\"\",INDIRECT(\"'Børn \"&A64&\"'!$H$44\",TRUE)),3)","v":{"$error":"#VALUE!"}},{"$f":"COUNTIF(IF(ISERROR(INDIRECT(\"'Børn \"&A64&\"'!$H$53\",TRUE)),\"\",INDIRECT(\"'Børn \"&A64&\"'!$H$53\",TRUE)),3)","v":{"$error":"#VALUE!"}},{"$f":"COUNTIF(IF(ISERROR(INDIRECT(\"'Børn \"&A64&\"'!$H$61\",TRUE)),\"\",INDIRECT(\"'Børn \"&A64&\"'!$H$61\",TRUE)),3)","v":{"$error":"#VALUE!"}},{"$f":"COUNTIF(IF(ISERROR(INDIRECT(\"'Børn \"&A64&\"'!$H$68\",TRUE)),\"\",INDIRECT(\"'Børn \"&A64&\"'!$H$68\",TRUE)),3)","v":{"$error":"#VALUE!"}},{"$f":"COUNTIF(IF(ISERROR(INDIRECT(\"'Børn \"&A64&\"'!$H$79\",TRUE)),\"\",INDIRECT(\"'Børn \"&A64&\"'!$H$79\",TRUE)),3)","v":{"$error":"#VALUE!"}},{"$f":"COUNTIF(IF(ISERROR(INDIRECT(\"'Børn \"&A64&\"'!$H$87\",TRUE)),\"\",INDIRECT(\"'Børn \"&A64&\"'!$H$87\",TRUE)),3)","v":{"$error":"#VALUE!"}},null,null,null,"Tilsyn 2",{"$f":"IF(INDIRECT(\"'Voksen \"&U64&\"'!$c$112\")=\"\",\"\",IFERROR(INDIRECT(\"'Voksen \"&U64&\"'!$c$112\",TRUE),\"\"))","v":{"$error":"#REF!"}},{"$f":"IF(INDIRECT(\"'Voksen \"&U64&\"'!$c$133\")=\"\",\"\",IFERROR(INDIRECT(\"'Voksen \"&U64&\"'!$c$133\",TRUE),\"\"))","v":{"$error":"#REF!"}},{"$f":"IF(INDIRECT(\"'Voksen \"&U64&\"'!$c$154\")=\"\",\"\",IFERROR(INDIRECT(\"'Voksen \"&U64&\"'!$c$154\",TRUE),\"\"))","v":{"$error":"#REF!"}},{"$f":"IF(INDIRECT(\"'Voksen \"&U64&\"'!$c$169\")=\"\",\"\",IFERROR(INDIRECT(\"'Voksen \"&U64&\"'!$c$169\",TRUE),\"\"))","v":{"$error":"#REF!"}},{"$f":"IF(INDIRECT(\"'Voksen \"&U64&\"'!$c$186\")=\"\",\"\",IFERROR(INDIRECT(\"'Voksen \"&U64&\"'!$c$186\",TRUE),\"\"))","v":{"$error":"#REF!"}},{"$f":"IF(INDIRECT(\"'Voksen \"&U64&\"'!$c$207\")=\"\",\"\",IFERROR(INDIRECT(\"'Voksen \"&U64&\"'!$c$207\",TRUE),\"\"))","v":{"$error":"#REF!"}},{"$f":"IF(INDIRECT(\"'Voksen \"&U64&\"'!$c$229\")=\"\",\"\",IFERROR(INDIRECT(\"'Voksen \"&U64&\"'!$c$229\",TRUE),\"\"))","v":{"$error":"#REF!"}},{"$f":"IF(INDIRECT(\"'Voksen \"&U64&\"'!$c$255\")=\"\",\"\",IFERROR(INDIRECT(\"'Voksen \"&U64&\"'!$c$255\",TRUE),\"\"))","v":{"$error":"#REF!"}},null,{"$f":"IF(INDIRECT(\"'Børn \"&U64&\"'!$c$123\")=\"\",\"\",IFERROR(INDIRECT(\"'Børn \"&U64&\"'!$c$123\",TRUE),\"\"))","v":{"$error":"#REF!"}},{"$f":"IF(INDIRECT(\"'Børn \"&U64&\"'!$c$139\")=\"\",\"\",IFERROR(INDIRECT(\"'Børn \"&U64&\"'!$c$139\",TRUE),\"\"))","v":{"$error":"#REF!"}},{"$f":"IF(INDIRECT(\"'Børn \"&U64&\"'!$c$163\")=\"\",\"\",IFERROR(INDIRECT(\"'Børn \"&U64&\"'!$c$163\",TRUE),\"\"))","v":{"$error":"#REF!"}},{"$f":"IF(INDIRECT(\"'Børn \"&U64&\"'!$c$177\")=\"\",\"\",IFERROR(INDIRECT(\"'Børn \"&U64&\"'!$c$177\",TRUE),\"\"))","v":{"$error":"#REF!"}},{"$f":"IF(INDIRECT(\"'Børn \"&U64&\"'!$c$197\")=\"\",\"\",IFERROR(INDIRECT(\"'Børn \"&U64&\"'!$c$197\",TRUE),\"\"))","v":{"$error":"#REF!"}},{"$f":"IF(INDIRECT(\"'Børn \"&U64&\"'!$c$218\")=\"\",\"\",IFERROR(INDIRECT(\"'Børn \"&U64&\"'!$c$218\",TRUE),\"\"))","v":{"$error":"#REF!"}},{"$f":"IF(INDIRECT(\"'Børn \"&U64&\"'!$c$241\")=\"\",\"\",IFERROR(INDIRECT(\"'Børn \"&U64&\"'!$c$241\",TRUE),\"\"))","v":{"$error":"#REF!"}}]
["Tilsyn 2","Status:  grøn",{"$f":"COUNTIF(IF(ISERROR(INDIRECT(\"'Voksen \"&A65&\"'!$H$31\",TRUE)),\"\",INDIRECT(\"'Voksen \"&A65&\"'!$H$31\",TRUE)),1)","v":{"$error":"#VALUE!"}},{"$f":"COUNTIF(IF(ISERROR(INDIRECT(\"'Voksen \"&A65&\"'!$H$41\",TRUE)),\"\",INDIRECT(\"'Voksen \"&A65&\"'!$H$41\",TRUE)),1)","v":{"$error":"#VALUE!"}},{"$f":"COUNTIF(IF(ISERROR(INDIRECT(\"'Voksen \"&A65&\"'!$H$50\",TRUE)),\"\",INDIRECT(\"'Voksen \"&A65&\"'!$H$50\",TRUE)),1)","v":{"$error":"#VALUE!"}},{"$f":"COUNTIF(IF(ISERROR(INDIRECT(\"'Voksen \"&A65&\"'!$H$58\",TRUE)),\"\",INDIRECT(\"'Voksen \"&A65&\"'!$H$58\",TRUE)),1)","v":{"$error":"#VALUE!"}},{"$f":"COUNTIF(IF(ISERROR(INDIRECT(\"'Voksen \"&A65&\"'!$H$69\",TRUE)),\"\",INDIRECT(\"'Voksen \"&A65&\"'!$H$69\",TRUE)),1)","v":{"$error":"#VALUE!"}},{"$f":"COUNTIF(IF(ISERROR(INDIRECT(\"'Voksen \"&A65&\"'!$H$77\",TRUE)),\"\",INDIRECT(\"'Voksen \"&A65&\"'!$H$77\",TRUE)),1)","v":{"$error":"#VALUE!"}},null,null,{"$f":"COUNTIF(IF(ISERROR(INDIRECT(\"'Børn \"&A65&\"'!$H$31\",TRUE)),\"\",INDIRECT(\"'Børn \"&A65&\"'!$H$31\",TRUE)),1)","v":{"$error":"#VALUE!"}},{"$f":"COUNTIF(IF(ISERROR(INDIRECT(\"'Børn \"&A65&\"'!$H$44\",TRUE)),\"\",INDIRECT(\"'Børn \"&A65&\"'!$H$44\",TRUE)),1)","v":{"$error":"#VALUE!"}},{"$f":"COUNTIF(IF(ISERROR(INDIRECT(\"'Børn \"&A65&\"'!$H$53\",TRUE)),\"\",INDIRECT(\"'Børn \"&A65&\"'!$H$53\",TRUE)),1)","v":{"$error":"#VALUE!"}},{"$f":"COUNTIF(IF(ISERROR(INDIRECT(\"'Børn \"&A65&\"'!$H$61\",TRUE)),\"\",INDIRECT(\"'Børn \"&A65&\"'!$H$61\",TRUE)),1)","v":{"$error":"#VALUE!"}},{"$f":"COUNTIF(IF(ISERROR(INDIRECT(\"'Børn \"&A65&\"'!$H$68\",TRUE)),\"\",INDIRECT(\"'Børn \"&A65&\"'!$H$68\",TRUE)),1)","v":{"$error":"#VALUE!"}},{"$f":"COUNTIF(IF(ISERROR(INDIRECT(\"'Børn \"&A65&\"'!$H$79\",TRUE)),\"\",INDIRECT(\"'Børn \"&A65&\"'!$H$79\",TRUE)),1)","v":{"$error":"#VALUE!"}},{"$f":"COUNTIF(IF(ISERROR(INDIRECT(\"'Børn \"&A65&\"'!$H$87\",TRUE)),\"\",INDIRECT(\"'Børn \"&A65&\"'!$H$87\",TRUE)),1)","v":{"$error":"#VALUE!"}},null,null,null,{"$f":"U64","v":"Tilsyn 2"},{"$f":"IF(INDIRECT(\"'Voksen \"&U65&\"'!$c$115\")=\"\",\"\",IFERROR(INDIRECT(\"'Voksen \"&U65&\"'!$c$115\",TRUE),\"\"))","v":{"$error":"#REF!"}},{"$f":"IF(INDIRECT(\"'Voksen \"&U65&\"'!$c$136\")=\"\",\"\",IFERROR(INDIRECT(\"'Voksen \"&U65&\"'!$c$136\",TRUE),\"\"))","v":{"$error":"#REF!"}},{"$f":"IF(INDIRECT(\"'Voksen \"&U65&\"'!$c$157\")=\"\",\"\",IFERROR(INDIRECT(\"'Voksen \"&U65&\"'!$c$157\",TRUE),\"\"))","v":{"$error":"#REF!"}},{"$f":"IF(INDIRECT(\"'Voksen \"&U65&\"'!$c$172\")=\"\",\"\",IFERROR(INDIRECT(\"'Voksen \"&U65&\"'!$c$172\",TRUE),\"\"))","v":{"$error":"#REF!"}},{"$f":"IF(INDIRECT(\"'Voksen \"&U65&\"'!$c$189\")=\"\",\"\",IFERROR(INDIRECT(\"'Voksen \"&U65&\"'!$c$189\",TRUE),\"\"))","v":{"$error":"#REF!"}},{"$f":"IF(INDIRECT(\"'Voksen \"&U65&\"'!$c$210\")=\"\",\"\",IFERROR(INDIRECT(\"'Voksen \"&U65&\"'!$c$210\",TRUE),\"\"))","v":{"$error":"#REF!"}},{"$f":"IF(INDIRECT(\"'Voksen \"&U65&\"'!$c$232\")=\"\",\"\",IFERROR(INDIRECT(\"'Voksen \"&U65&\"'!$c$232\",TRUE),\"\"))","v":{"$error":"#REF!"}},{"$f":"IF(INDIRECT(\"'Voksen \"&U65&\"'!$c$258\")=\"\",\"\",IFERROR(INDIRECT(\"'Voksen \"&U65&\"'!$c$258\",TRUE),\"\"))","v":{"$error":"#REF!"}},null,{"$f":"IF(INDIRECT(\"'Børn \"&U65&\"'!$c$126\")=\"\",\"\",IFERROR(INDIRECT(\"'Børn \"&U65&\"'!$c$126\",TRUE),\"\"))","v":{"$error":"#REF!"}},{"$f":"IF(INDIRECT(\"'Børn \"&U65&\"'!$c$142\")=\"\",\"\",IFERROR(INDIRECT(\"'Børn \"&U65&\"'!$c$142\",TRUE),\"\"))","v":{"$error":"#REF!"}},{"$f":"IF(INDIRECT(\"'Børn \"&U65&\"'!$c$166\")=\"\",\"\",IFERROR(INDIRECT(\"'Børn \"&U65&\"'!$c$166\",TRUE),\"\"))","v":{"$error":"#REF!"}},{"$f":"IF(INDIRECT(\"'Børn \"&U65&\"'!$c$180\")=\"\",\"\",IFERROR(INDIRECT(\"'Børn \"&U65&\"'!$c$180\",TRUE),\"\"))","v":{"$error":"#REF!"}},{"$f":"IF(INDIRECT(\"'Børn \"&U65&\"'!$c$200\")=\"\",\"\",IFERROR(INDIRECT(\"'Børn \"&U65&\"'!$c$200\",TRUE),\"\"))","v":{"$error":"#REF!"}},{"$f":"IF(INDIRECT(\"'Børn \"&U65&\"'!$c$221\")=\"\",\"\",IFERROR(INDIRECT(\"'Børn \"&U65&\"'!$c$221\",TRUE),\"\"))","v":{"$error":"#REF!"}},{"$f":"IF(INDIRECT(\"'Børn \"&U65&\"'!$c$244\")=\"\",\"\",IFERROR(INDIRECT(\"'Børn \"&U65&\"'!$c$244\",TRUE),\"\"))","v":{"$error":"#REF!"}}]
["Tilsyn 2","Status:  gul",{"$f":"COUNTIF(IF(ISERROR(INDIRECT(\"'Voksen \"&A66&\"'!$H$31\",TRUE)),\"\",INDIRECT(\"'Voksen \"&A66&\"'!$H$31\",TRUE)),2)","v":{"$error":"#VALUE!"}},{"$f":"COUNTIF(IF(ISERROR(INDIRECT(\"'Voksen \"&A66&\"'!$H$41\",TRUE)),\"\",INDIRECT(\"'Voksen \"&A66&\"'!$H$41\",TRUE)),2)","v":{"$error":"#VALUE!"}},{"$f":"COUNTIF(IF(ISERROR(INDIRECT(\"'Voksen \"&A66&\"'!$H$50\",TRUE)),\"\",INDIRECT(\"'Voksen \"&A66&\"'!$H$50\",TRUE)),2)","v":{"$error":"#VALUE!"}},{"$f":"COUNTIF(IF(ISERROR(INDIRECT(\"'Voksen \"&A66&\"'!$H$58\",TRUE)),\"\",INDIRECT(\"'Voksen \"&A66&\"'!$H$58\",TRUE)),2)","v":{"$error":"#VALUE!"}},{"$f":"COUNTIF(IF(ISERROR(INDIRECT(\"'Voksen \"&A66&\"'!$H$69\",TRUE)),\"\",INDIRECT(\"'Voksen \"&A66&\"'!$H$69\",TRUE)),2)","v":{"$error":"#VALUE!"}},{"$f":"COUNTIF(IF(ISERROR(INDIRECT(\"'Voksen \"&A66&\"'!$H$77\",TRUE)),\"\",INDIRECT(\"'Voksen \"&A66&\"'!$H$77\",TRUE)),2)","v":{"$error":"#VALUE!"}},null,null,{"$f":"COUNTIF(IF(ISERROR(INDIRECT(\"'Børn \"&A66&\"'!$H$31\",TRUE)),\"\",INDIRECT(\"'Børn \"&A66&\"'!$H$31\",TRUE)),2)","v":{"$error":"#VALUE!"}},{"$f":"COUNTIF(IF(ISERROR(INDIRECT(\"'Børn \"&A66&\"'!$H$44\",TRUE)),\"\",INDIRECT(\"'Børn \"&A66&\"'!$H$44\",TRUE)),2)","v":{"$error":"#VALUE!"}},{"$f":"COUNTIF(IF(ISERROR(INDIRECT(\"'Børn \"&A66&\"'!$H$53\",TRUE)),\"\",INDIRECT(\"'Børn \"&A66&\"'!$H$53\",TRUE)),2)","v":{"$error":"#VALUE!"}},{"$f":"COUNTIF(IF(ISERROR(INDIRECT(\"'Børn \"&A66&\"'!$H$61\",TRUE)),\"\",INDIRECT(\"'Børn \"&A66&\"'!$H$61\",TRUE)),2)","v":{"$error":"#VALUE!"}},{"$f":"COUNTIF(IF(ISERROR(INDIRECT(\"'Børn \"&A66&\"'!$H$68\",TRUE)),\"\",INDIRECT(\"'Børn \"&A66&\"'!$H$68\",TRUE)),2)","v":{"$error":"#VALUE!"}},{"$f":"COUNTIF(IF(ISERROR(INDIRECT(\"'Børn \"&A66&\"'!$H$79\",TRUE)),\"\",INDIRECT(\"'Børn \"&A66&\"'!$H$79\",TRUE)),2)","v":{"$error":"#VALUE!"}},{"$f":"COUNTIF(IF(ISERROR(INDIRECT(\"'Børn \"&A66&\"'!$H$87\",TRUE)),\"\",INDIRECT(\"'Børn \"&A66&\"'!$H$87\",TRUE)),2)","v":{"$error":"#VALUE!"}},null,null,null,"Tilsyn 3",{"$f":"IF(INDIRECT(\"'Voksen \"&U66&\"'!$c$112\")=\"\",\"\",IFERROR(INDIRECT(\"'Voksen \"&U66&\"'!$c$112\",TRUE),\"\"))","v":{"$error":"#REF!"}},{"$f":"IF(INDIRECT(\"'Voksen \"&U66&\"'!$c$133\")=\"\",\"\",IFERROR(INDIRECT(\"'Voksen \"&U66&\"'!$c$133\",TRUE),\"\"))","v":{"$error":"#REF!"}},{"$f":"IF(INDIRECT(\"'Voksen \"&U66&\"'!$c$154\")=\"\",\"\",IFERROR(INDIRECT(\"'Voksen \"&U66&\"'!$c$154\",TRUE),\"\"))","v":{"$error":"#REF!"}},{"$f":"IF(INDIRECT(\"'Voksen \"&U66&\"'!$c$169\")=\"\",\"\",IFERROR(INDIRECT(\"'Voksen \"&U66&\"'!$c$169\",TRUE),\"\"))","v":{"$error":"#REF!"}},{"$f":"IF(INDIRECT(\"'Voksen \"&U66&\"'!$c$186\")=\"\",\"\",IFERROR(INDIRECT(\"'Voksen \"&U66&\"'!$c$186\",TRUE),\"\"))","v":{"$error":"#REF!"}},{"$f":"IF(INDIRECT(\"'Voksen \"&U66&\"'!$c$207\")=\"\",\"\",IFERROR(INDIRECT(\"'Voksen \"&U66&\"'!$c$207\",TRUE),\"\"))","v":{"$error":"#REF!"}},{"$f":"IF(INDIRECT(\"'Voksen \"&U66&\"'!$c$229\")=\"\",\"\",IFERROR(INDIRECT(\"'Voksen \"&U66&\"'!$c$229\",TRUE),\"\"))","v":{"$error":"#REF!"}},{"$f":"IF(INDIRECT(\"'Voksen \"&U66&\"'!$c$255\")=\"\",\"\",IFERROR(INDIRECT(\"'Voksen \"&U66&\"'!$c$255\",TRUE),\"\"))","v":{"$error":"#REF!"}},null,{"$f":"IF(INDIRECT(\"'Børn \"&U66&\"'!$c$123\")=\"\",\"\",IFERROR(INDIRECT(\"'Børn \"&U66&\"'!$c$123\",TRUE),\"\"))","v":{"$error":"#REF!"}},{"$f":"IF(INDIRECT(\"'Børn \"&U66&\"'!$c$139\")=\"\",\"\",IFERROR(INDIRECT(\"'Børn \"&U66&\"'!$c$139\",TRUE),\"\"))","v":{"$error":"#REF!"}},{"$f":"IF(INDIRECT(\"'Børn \"&U66&\"'!$c$163\")=\"\",\"\",IFERROR(INDIRECT(\"'Børn \"&U66&\"'!$c$163\",TRUE),\"\"))","v":{"$error":"#REF!"}},{"$f":"IF(INDIRECT(\"'Børn \"&U66&\"'!$c$177\")=\"\",\"\",IFERROR(INDIRECT(\"'Børn \"&U66&\"'!$c$177\",TRUE),\"\"))","v":{"$error":"#REF!"}},{"$f":"IF(INDIRECT(\"'Børn \"&U66&\"'!$c$197\")=\"\",\"\",IFERROR(INDIRECT(\"'Børn \"&U66&\"'!$c$197\",TRUE),\"\"))","v":{"$error":"#REF!"}},{"$f":"IF(INDIRECT(\"'Børn \"&U66&\"'!$c$218\")=\"\",\"\",IFERROR(INDIRECT(\"'Børn \"&U66&\"'!$c$218\",TRUE),\"\"))","v":{"$error":"#REF!"}},{"$f":"IF(INDIRECT(\"'Børn \"&U66&\"'!$c$241\")=\"\",\"\",IFERROR(INDIRECT(\"'Børn \"&U66&\"'!$c$241\",TRUE),\"\"))","v":{"$error":"#REF!"}}]
["Tilsyn 2","Status:  rød",{"$f":"COUNTIF(IF(ISERROR(INDIRECT(\"'Voksen \"&A67&\"'!$H$31\",TRUE)),\"\",INDIRECT(\"'Voksen \"&A67&\"'!$H$31\",TRUE)),3)","v":{"$error":"#VALUE!"}},{"$f":"COUNTIF(IF(ISERROR(INDIRECT(\"'Voksen \"&A67&\"'!$H$41\",TRUE)),\"\",INDIRECT(\"'Voksen \"&A67&\"'!$H$41\",TRUE)),3)","v":{"$error":"#VALUE!"}},{"$f":"COUNTIF(IF(ISERROR(INDIRECT(\"'Voksen \"&A67&\"'!$H$50\",TRUE)),\"\",INDIRECT(\"'Voksen \"&A67&\"'!$H$50\",TRUE)),3)","v":{"$error":"#VALUE!"}},{"$f":"COUNTIF(IF(ISERROR(INDIRECT(\"'Voksen \"&A67&\"'!$H$58\",TRUE)),\"\",INDIRECT(\"'Voksen \"&A67&\"'!$H$58\",TRUE)),3)","v":{"$error":"#VALUE!"}},{"$f":"COUNTIF(IF(ISERROR(INDIRECT(\"'Voksen \"&A67&\"'!$H$69\",TRUE)),\"\",INDIRECT(\"'Voksen \"&A67&\"'!$H$69\",TRUE)),3)","v":{"$error":"#VALUE!"}},{"$f":"COUNTIF(IF(ISERROR(INDIRECT(\"'Voksen \"&A67&\"'!$H$77\",TRUE)),\"\",INDIRECT(\"'Voksen \"&A67&\"'!$H$77\",TRUE)),3)","v":{"$error":"#VALUE!"}},null,null,{"$f":"COUNTIF(IF(ISERROR(INDIRECT(\"'Børn \"&A67&\"'!$H$31\",TRUE)),\"\",INDIRECT(\"'Børn \"&A67&\"'!$H$31\",TRUE)),3)","v":{"$error":"#VALUE!"}},{"$f":"COUNTIF(IF(ISERROR(INDIRECT(\"'Børn \"&A67&\"'!$H$44\",TRUE)),\"\",INDIRECT(\"'Børn \"&A67&\"'!$H$44\",TRUE)),3)","v":{"$error":"#VALUE!"}},{"$f":"COUNTIF(IF(ISERROR(INDIRECT(\"'Børn \"&A67&\"'!$H$53\",TRUE)),\"\",INDIRECT(\"'Børn \"&A67&\"'!$H$53\",TRUE)),3)","v":{"$error":"#VALUE!"}},{"$f":"COUNTIF(IF(ISERROR(INDIRECT(\"'Børn \"&A67&\"'!$H$61\",TRUE)),\"\",INDIRECT(\"'Børn \"&A67&\"'!$H$61\",TRUE)),3)","v":{"$error":"#VALUE!"}},{"$f":"COUNTIF(IF(ISERROR(INDIRECT(\"'Børn \"&A67&\"'!$H$68\",TRUE)),\"\",INDIRECT(\"'Børn \"&A67&\"'!$H$68\",TRUE)),3)","v":{"$error":"#VALUE!"}},{"$f":"COUNTIF(IF(ISERROR(INDIRECT(\"'Børn \"&A67&\"'!$H$79\",TRUE)),\"\",INDIRECT(\"'Børn \"&A67&\"'!$H$79\",TRUE)),3)","v":{"$error":"#VALUE!"}},{"$f":"COUNTIF(IF(ISERROR(INDIRECT(\"'Børn \"&A67&\"'!$H$87\",TRUE)),\"\",INDIRECT(\"'Børn \"&A67&\"'!$H$87\",TRUE)),3)","v":{"$error":"#VALUE!"}},null,null,null,{"$f":"U66","v":"Tilsyn 3"},{"$f":"IF(INDIRECT(\"'Voksen \"&U67&\"'!$c$115\")=\"\",\"\",IFERROR(INDIRECT(\"'Voksen \"&U67&\"'!$c$115\",TRUE),\"\"))","v":{"$error":"#REF!"}},{"$f":"IF(INDIRECT(\"'Voksen \"&U67&\"'!$c$136\")=\"\",\"\",IFERROR(INDIRECT(\"'Voksen \"&U67&\"'!$c$136\",TRUE),\"\"))","v":{"$error":"#REF!"}},{"$f":"IF(INDIRECT(\"'Voksen \"&U67&\"'!$c$157\")=\"\",\"\",IFERROR(INDIRECT(\"'Voksen \"&U67&\"'!$c$157\",TRUE),\"\"))","v":{"$error":"#REF!"}},{"$f":"IF(INDIRECT(\"'Voksen \"&U67&\"'!$c$172\")=\"\",\"\",IFERROR(INDIRECT(\"'Voksen \"&U67&\"'!$c$172\",TRUE),\"\"))","v":{"$error":"#REF!"}},{"$f":"IF(INDIRECT(\"'Voksen \"&U67&\"'!$c$189\")=\"\",\"\",IFERROR(INDIRECT(\"'Voksen \"&U67&\"'!$c$189\",TRUE),\"\"))","v":{"$error":"#REF!"}},{"$f":"IF(INDIRECT(\"'Voksen \"&U67&\"'!$c$210\")=\"\",\"\",IFERROR(INDIRECT(\"'Voksen \"&U67&\"'!$c$210\",TRUE),\"\"))","v":{"$error":"#REF!"}},{"$f":"IF(INDIRECT(\"'Voksen \"&U67&\"'!$c$232\")=\"\",\"\",IFERROR(INDIRECT(\"'Voksen \"&U67&\"'!$c$232\",TRUE),\"\"))","v":{"$error":"#REF!"}},{"$f":"IF(INDIRECT(\"'Voksen \"&U67&\"'!$c$258\")=\"\",\"\",IFERROR(INDIRECT(\"'Voksen \"&U67&\"'!$c$258\",TRUE),\"\"))","v":{"$error":"#REF!"}},null,{"$f":"IF(INDIRECT(\"'Børn \"&U67&\"'!$c$126\")=\"\",\"\",IFERROR(INDIRECT(\"'Børn \"&U67&\"'!$c$126\",TRUE),\"\"))","v":{"$error":"#REF!"}},{"$f":"IF(INDIRECT(\"'Børn \"&U67&\"'!$c$142\")=\"\",\"\",IFERROR(INDIRECT(\"'Børn \"&U67&\"'!$c$142\",TRUE),\"\"))","v":{"$error":"#REF!"}},{"$f":"IF(INDIRECT(\"'Børn \"&U67&\"'!$c$166\")=\"\",\"\",IFERROR(INDIRECT(\"'Børn \"&U67&\"'!$c$166\",TRUE),\"\"))","v":{"$error":"#REF!"}},{"$f":"IF(INDIRECT(\"'Børn \"&U67&\"'!$c$180\")=\"\",\"\",IFERROR(INDIRECT(\"'Børn \"&U67&\"'!$c$180\",TRUE),\"\"))","v":{"$error":"#REF!"}},{"$f":"IF(INDIRECT(\"'Børn \"&U67&\"'!$c$200\")=\"\",\"\",IFERROR(INDIRECT(\"'Børn \"&U67&\"'!$c$200\",TRUE),\"\"))","v":{"$error":"#REF!"}},{"$f":"IF(INDIRECT(\"'Børn \"&U67&\"'!$c$221\")=\"\",\"\",IFERROR(INDIRECT(\"'Børn \"&U67&\"'!$c$221\",TRUE),\"\"))","v":{"$error":"#REF!"}},{"$f":"IF(INDIRECT(\"'Børn \"&U67&\"'!$c$244\")=\"\",\"\",IFERROR(INDIRECT(\"'Børn \"&U67&\"'!$c$244\",TRUE),\"\"))","v":{"$error":"#REF!"}}]
["Tilsyn 3","Status:  grøn",{"$f":"COUNTIF(IF(ISERROR(INDIRECT(\"'Voksen \"&A68&\"'!$H$31\",TRUE)),\"\",INDIRECT(\"'Voksen \"&A68&\"'!$H$31\",TRUE)),1)","v":{"$error":"#VALUE!"}},{"$f":"COUNTIF(IF(ISERROR(INDIRECT(\"'Voksen \"&A68&\"'!$H$41\",TRUE)),\"\",INDIRECT(\"'Voksen \"&A68&\"'!$H$41\",TRUE)),1)","v":{"$error":"#VALUE!"}},{"$f":"COUNTIF(IF(ISERROR(INDIRECT(\"'Voksen \"&A68&\"'!$H$50\",TRUE)),\"\",INDIRECT(\"'Voksen \"&A68&\"'!$H$50\",TRUE)),1)","v":{"$error":"#VALUE!"}},{"$f":"COUNTIF(IF(ISERROR(INDIRECT(\"'Voksen \"&A68&\"'!$H$58\",TRUE)),\"\",INDIRECT(\"'Voksen \"&A68&\"'!$H$58\",TRUE)),1)","v":{"$error":"#VALUE!"}},{"$f":"COUNTIF(IF(ISERROR(INDIRECT(\"'Voksen \"&A68&\"'!$H$69\",TRUE)),\"\",INDIRECT(\"'Voksen \"&A68&\"'!$H$69\",TRUE)),1)","v":{"$error":"#VALUE!"}},{"$f":"COUNTIF(IF(ISERROR(INDIRECT(\"'Voksen \"&A68&\"'!$H$77\",TRUE)),\"\",INDIRECT(\"'Voksen \"&A68&\"'!$H$77\",TRUE)),1)","v":{"$error":"#VALUE!"}},null,null,{"$f":"COUNTIF(IF(ISERROR(INDIRECT(\"'Børn \"&A68&\"'!$H$31\",TRUE)),\"\",INDIRECT(\"'Børn \"&A68&\"'!$H$31\",TRUE)),1)","v":{"$error":"#VALUE!"}},{"$f":"COUNTIF(IF(ISERROR(INDIRECT(\"'Børn \"&A68&\"'!$H$44\",TRUE)),\"\",INDIRECT(\"'Børn \"&A68&\"'!$H$44\",TRUE)),1)","v":{"$error":"#VALUE!"}},{"$f":"COUNTIF(IF(ISERROR(INDIRECT(\"'Børn \"&A68&\"'!$H$53\",TRUE)),\"\",INDIRECT(\"'Børn \"&A68&\"'!$H$53\",TRUE)),1)","v":{"$error":"#VALUE!"}},{"$f":"COUNTIF(IF(ISERROR(INDIRECT(\"'Børn \"&A68&\"'!$H$61\",TRUE)),\"\",INDIRECT(\"'Børn \"&A68&\"'!$H$61\",TRUE)),1)","v":{"$error":"#VALUE!"}},{"$f":"COUNTIF(IF(ISERROR(INDIRECT(\"'Børn \"&A68&\"'!$H$68\",TRUE)),\"\",INDIRECT(\"'Børn \"&A68&\"'!$H$68\",TRUE)),1)","v":{"$error":"#VALUE!"}},{"$f":"COUNTIF(IF(ISERROR(INDIRECT(\"'Børn \"&A68&\"'!$H$79\",TRUE)),\"\",INDIRECT(\"'Børn \"&A68&\"'!$H$79\",TRUE)),1)","v":{"$error":"#VALUE!"}},{"$f":"COUNTIF(IF(ISERROR(INDIRECT(\"'Børn \"&A68&\"'!$H$87\",TRUE)),\"\",INDIRECT(\"'Børn \"&A68&\"'!$H$87\",TRUE)),1)","v":{"$error":"#VALUE!"}},null,null,null,"Tilsyn 4",{"$f":"IF(INDIRECT(\"'Voksen \"&U68&\"'!$c$112\")=\"\",\"\",IFERROR(INDIRECT(\"'Voksen \"&U68&\"'!$c$112\",TRUE),\"\"))","v":{"$error":"#REF!"}},{"$f":"IF(INDIRECT(\"'Voksen \"&U68&\"'!$c$133\")=\"\",\"\",IFERROR(INDIRECT(\"'Voksen \"&U68&\"'!$c$133\",TRUE),\"\"))","v":{"$error":"#REF!"}},{"$f":"IF(INDIRECT(\"'Voksen \"&U68&\"'!$c$154\")=\"\",\"\",IFERROR(INDIRECT(\"'Voksen \"&U68&\"'!$c$154\",TRUE),\"\"))","v":{"$error":"#REF!"}},{"$f":"IF(INDIRECT(\"'Voksen \"&U68&\"'!$c$169\")=\"\",\"\",IFERROR(INDIRECT(\"'Voksen \"&U68&\"'!$c$169\",TRUE),\"\"))","v":{"$error":"#REF!"}},{"$f":"IF(INDIRECT(\"'Voksen \"&U68&\"'!$c$186\")=\"\",\"\",IFERROR(INDIRECT(\"'Voksen \"&U68&\"'!$c$186\",TRUE),\"\"))","v":{"$error":"#REF!"}},{"$f":"IF(INDIRECT(\"'Voksen \"&U68&\"'!$c$207\")=\"\",\"\",IFERROR(INDIRECT(\"'Voksen \"&U68&\"'!$c$207\",TRUE),\"\"))","v":{"$error":"#REF!"}},{"$f":"IF(INDIRECT(\"'Voksen \"&U68&\"'!$c$229\")=\"\",\"\",IFERROR(INDIRECT(\"'Voksen \"&U68&\"'!$c$229\",TRUE),\"\"))","v":{"$error":"#REF!"}},{"$f":"IF(INDIRECT(\"'Voksen \"&U68&\"'!$c$255\")=\"\",\"\",IFERROR(INDIRECT(\"'Voksen \"&U68&\"'!$c$255\",TRUE),\"\"))","v":{"$error":"#REF!"}},null,{"$f":"IF(INDIRECT(\"'Børn \"&U68&\"'!$c$123\")=\"\",\"\",IFERROR(INDIRECT(\"'Børn \"&U68&\"'!$c$123\",TRUE),\"\"))","v":{"$error":"#REF!"}},{"$f":"IF(INDIRECT(\"'Børn \"&U68&\"'!$c$139\")=\"\",\"\",IFERROR(INDIRECT(\"'Børn \"&U68&\"'!$c$139\",TRUE),\"\"))","v":{"$error":"#REF!"}},{"$f":"IF(INDIRECT(\"'Børn \"&U68&\"'!$c$163\")=\"\",\"\",IFERROR(INDIRECT(\"'Børn \"&U68&\"'!$c$163\",TRUE),\"\"))","v":{"$error":"#REF!"}},{"$f":"IF(INDIRECT(\"'Børn \"&U68&\"'!$c$177\")=\"\",\"\",IFERROR(INDIRECT(\"'Børn \"&U68&\"'!$c$177\",TRUE),\"\"))","v":{"$error":"#REF!"}},{"$f":"IF(INDIRECT(\"'Børn \"&U68&\"'!$c$197\")=\"\",\"\",IFERROR(INDIRECT(\"'Børn \"&U68&\"'!$c$197\",TRUE),\"\"))","v":{"$error":"#REF!"}},{"$f":"IF(INDIRECT(\"'Børn \"&U68&\"'!$c$218\")=\"\",\"\",IFERROR(INDIRECT(\"'Børn \"&U68&\"'!$c$218\",TRUE),\"\"))","v":{"$error":"#REF!"}},{"$f":"IF(INDIRECT(\"'Børn \"&U68&\"'!$c$241\")=\"\",\"\",IFERROR(INDIRECT(\"'Børn \"&U68&\"'!$c$241\",TRUE),\"\"))","v":{"$error":"#REF!"}}]
["Tilsyn 3","Status:  gul",{"$f":"COUNTIF(IF(ISERROR(INDIRECT(\"'Voksen \"&A69&\"'!$H$31\",TRUE)),\"\",INDIRECT(\"'Voksen \"&A69&\"'!$H$31\",TRUE)),2)","v":{"$error":"#VALUE!"}},{"$f":"COUNTIF(IF(ISERROR(INDIRECT(\"'Voksen \"&A69&\"'!$H$41\",TRUE)),\"\",INDIRECT(\"'Voksen \"&A69&\"'!$H$41\",TRUE)),2)","v":{"$error":"#VALUE!"}},{"$f":"COUNTIF(IF(ISERROR(INDIRECT(\"'Voksen \"&A69&\"'!$H$50\",TRUE)),\"\",INDIRECT(\"'Voksen \"&A69&\"'!$H$50\",TRUE)),2)","v":{"$error":"#VALUE!"}},{"$f":"COUNTIF(IF(ISERROR(INDIRECT(\"'Voksen \"&A69&\"'!$H$58\",TRUE)),\"\",INDIRECT(\"'Voksen \"&A69&\"'!$H$58\",TRUE)),2)","v":{"$error":"#VALUE!"}},{"$f":"COUNTIF(IF(ISERROR(INDIRECT(\"'Voksen \"&A69&\"'!$H$69\",TRUE)),\"\",INDIRECT(\"'Voksen \"&A69&\"'!$H$69\",TRUE)),2)","v":{"$error":"#VALUE!"}},{"$f":"COUNTIF(IF(ISERROR(INDIRECT(\"'Voksen \"&A69&\"'!$H$77\",TRUE)),\"\",INDIRECT(\"'Voksen \"&A69&\"'!$H$77\",TRUE)),2)","v":{"$error":"#VALUE!"}},null,null,{"$f":"COUNTIF(IF(ISERROR(INDIRECT(\"'Børn \"&A69&\"'!$H$31\",TRUE)),\"\",INDIRECT(\"'Børn \"&A69&\"'!$H$31\",TRUE)),2)","v":{"$error":"#VALUE!"}},{"$f":"COUNTIF(IF(ISERROR(INDIRECT(\"'Børn \"&A69&\"'!$H$44\",TRUE)),\"\",INDIRECT(\"'Børn \"&A69&\"'!$H$44\",TRUE)),2)","v":{"$error":"#VALUE!"}},{"$f":"COUNTIF(IF(ISERROR(INDIRECT(\"'Børn \"&A69&\"'!$H$53\",TRUE)),\"\",INDIRECT(\"'Børn \"&A69&\"'!$H$53\",TRUE)),2)","v":{"$error":"#VALUE!"}},{"$f":"COUNTIF(IF(ISERROR(INDIRECT(\"'Børn \"&A69&\"'!$H$61\",TRUE)),\"\",INDIRECT(\"'Børn \"&A69&\"'!$H$61\",TRUE)),2)","v":{"$error":"#VALUE!"}},{"$f":"COUNTIF(IF(ISERROR(INDIRECT(\"'Børn \"&A69&\"'!$H$68\",TRUE)),\"\",INDIRECT(\"'Børn \"&A69&\"'!$H$68\",TRUE)),2)","v":{"$error":"#VALUE!"}},{"$f":"COUNTIF(IF(ISERROR(INDIRECT(\"'Børn \"&A69&\"'!$H$79\",TRUE)),\"\",INDIRECT(\"'Børn \"&A69&\"'!$H$79\",TRUE)),2)","v":{"$error":"#VALUE!"}},{"$f":"COUNTIF(IF(ISERROR(INDIRECT(\"'Børn \"&A69&\"'!$H$87\",TRUE)),\"\",INDIRECT(\"'Børn \"&A69&\"'!$H$87\",TRUE)),2)","v":{"$error":"#VALUE!"}},null,null,null,{"$f":"U68","v":"Tilsyn 4"},{"$f":"IF(INDIRECT(\"'Voksen \"&U69&\"'!$c$115\")=\"\",\"\",IFERROR(INDIRECT(\"'Voksen \"&U69&\"'!$c$115\",TRUE),\"\"))","v":{"$error":"#REF!"}},{"$f":"IF(INDIRECT(\"'Voksen \"&U69&\"'!$c$136\")=\"\",\"\",IFERROR(INDIRECT(\"'Voksen \"&U69&\"'!$c$136\",TRUE),\"\"))","v":{"$error":"#REF!"}},{"$f":"IF(INDIRECT(\"'Voksen \"&U69&\"'!$c$157\")=\"\",\"\",IFERROR(INDIRECT(\"'Voksen \"&U69&\"'!$c$157\",TRUE),\"\"))","v":{"$error":"#REF!"}},{"$f":"IF(INDIRECT(\"'Voksen \"&U69&\"'!$c$172\")=\"\",\"\",IFERROR(INDIRECT(\"'Voksen \"&U69&\"'!$c$172\",TRUE),\"\"))","v":{"$error":"#REF!"}},{"$f":"IF(INDIRECT(\"'Voksen \"&U69&\"'!$c$189\")=\"\",\"\",IFERROR(INDIRECT(\"'Voksen \"&U69&\"'!$c$189\",TRUE),\"\"))","v":{"$error":"#REF!"}},{"$f":"IF(INDIRECT(\"'Voksen \"&U69&\"'!$c$210\")=\"\",\"\",IFERROR(INDIRECT(\"'Voksen \"&U69&\"'!$c$210\",TRUE),\"\"))","v":{"$error":"#REF!"}},{"$f":"IF(INDIRECT(\"'Voksen \"&U69&\"'!$c$232\")=\"\",\"\",IFERROR(INDIRECT(\"'Voksen \"&U69&\"'!$c$232\",TRUE),\"\"))","v":{"$error":"#REF!"}},{"$f":"IF(INDIRECT(\"'Voksen \"&U69&\"'!$c$258\")=\"\",\"\",IFERROR(INDIRECT(\"'Voksen \"&U69&\"'!$c$258\",TRUE),\"\"))","v":{"$error":"#REF!"}},null,{"$f":"IF(INDIRECT(\"'Børn \"&U69&\"'!$c$126\")=\"\",\"\",IFERROR(INDIRECT(\"'Børn \"&U69&\"'!$c$126\",TRUE),\"\"))","v":{"$error":"#REF!"}},{"$f":"IF(INDIRECT(\"'Børn \"&U69&\"'!$c$142\")=\"\",\"\",IFERROR(INDIRECT(\"'Børn \"&U69&\"'!$c$142\",TRUE),\"\"))","v":{"$error":"#REF!"}},{"$f":"IF(INDIRECT(\"'Børn \"&U69&\"'!$c$166\")=\"\",\"\",IFERROR(INDIRECT(\"'Børn \"&U69&\"'!$c$166\",TRUE),\"\"))","v":{"$error":"#REF!"}},{"$f":"IF(INDIRECT(\"'Børn \"&U69&\"'!$c$180\")=\"\",\"\",IFERROR(INDIRECT(\"'Børn \"&U69&\"'!$c$180\",TRUE),\"\"))","v":{"$error":"#REF!"}},{"$f":"IF(INDIRECT(\"'Børn \"&U69&\"'!$c$200\")=\"\",\"\",IFERROR(INDIRECT(\"'Børn \"&U69&\"'!$c$200\",TRUE),\"\"))","v":{"$error":"#REF!"}},{"$f":"IF(INDIRECT(\"'Børn \"&U69&\"'!$c$221\")=\"\",\"\",IFERROR(INDIRECT(\"'Børn \"&U69&\"'!$c$221\",TRUE),\"\"))","v":{"$error":"#REF!"}},{"$f":"IF(INDIRECT(\"'Børn \"&U69&\"'!$c$244\")=\"\",\"\",IFERROR(INDIRECT(\"'Børn \"&U69&\"'!$c$244\",TRUE),\"\"))","v":{"$error":"#REF!"}}]
["Tilsyn 3","Status:  rød",{"$f":"COUNTIF(IF(ISERROR(INDIRECT(\"'Voksen \"&A70&\"'!$H$31\",TRUE)),\"\",INDIRECT(\"'Voksen \"&A70&\"'!$H$31\",TRUE)),3)","v":{"$error":"#VALUE!"}},{"$f":"COUNTIF(IF(ISERROR(INDIRECT(\"'Voksen \"&A70&\"'!$H$41\",TRUE)),\"\",INDIRECT(\"'Voksen \"&A70&\"'!$H$41\",TRUE)),3)","v":{"$error":"#VALUE!"}},{"$f":"COUNTIF(IF(ISERROR(INDIRECT(\"'Voksen \"&A70&\"'!$H$50\",TRUE)),\"\",INDIRECT(\"'Voksen \"&A70&\"'!$H$50\",TRUE)),3)","v":{"$error":"#VALUE!"}},{"$f":"COUNTIF(IF(ISERROR(INDIRECT(\"'Voksen \"&A70&\"'!$H$58\",TRUE)),\"\",INDIRECT(\"'Voksen \"&A70&\"'!$H$58\",TRUE)),3)","v":{"$error":"#VALUE!"}},{"$f":"COUNTIF(IF(ISERROR(INDIRECT(\"'Voksen \"&A70&\"'!$H$69\",TRUE)),\"\",INDIRECT(\"'Voksen \"&A70&\"'!$H$69\",TRUE)),3)","v":{"$error":"#VALUE!"}},{"$f":"COUNTIF(IF(ISERROR(INDIRECT(\"'Voksen \"&A70&\"'!$H$77\",TRUE)),\"\",INDIRECT(\"'Voksen \"&A70&\"'!$H$77\",TRUE)),3)","v":{"$error":"#VALUE!"}},null,null,{"$f":"COUNTIF(IF(ISERROR(INDIRECT(\"'Børn \"&A70&\"'!$H$31\",TRUE)),\"\",INDIRECT(\"'Børn \"&A70&\"'!$H$31\",TRUE)),3)","v":{"$error":"#VALUE!"}},{"$f":"COUNTIF(IF(ISERROR(INDIRECT(\"'Børn \"&A70&\"'!$H$44\",TRUE)),\"\",INDIRECT(\"'Børn \"&A70&\"'!$H$44\",TRUE)),3)","v":{"$error":"#VALUE!"}},{"$f":"COUNTIF(IF(ISERROR(INDIRECT(\"'Børn \"&A70&\"'!$H$53\",TRUE)),\"\",INDIRECT(\"'Børn \"&A70&\"'!$H$53\",TRUE)),3)","v":{"$error":"#VALUE!"}},{"$f":"COUNTIF(IF(ISERROR(INDIRECT(\"'Børn \"&A70&\"'!$H$61\",TRUE)),\"\",INDIRECT(\"'Børn \"&A70&\"'!$H$61\",TRUE)),3)","v":{"$error":"#VALUE!"}},{"$f":"COUNTIF(IF(ISERROR(INDIRECT(\"'Børn \"&A70&\"'!$H$68\",TRUE)),\"\",INDIRECT(\"'Børn \"&A70&\"'!$H$68\",TRUE)),3)","v":{"$error":"#VALUE!"}},{"$f":"COUNTIF(IF(ISERROR(INDIRECT(\"'Børn \"&A70&\"'!$H$79\",TRUE)),\"\",INDIRECT(\"'Børn \"&A70&\"'!$H$79\",TRUE)),3)","v":{"$error":"#VALUE!"}},{"$f":"COUNTIF(IF(ISERROR(INDIRECT(\"'Børn \"&A70&\"'!$H$87\",TRUE)),\"\",INDIRECT(\"'Børn \"&A70&\"'!$H$87\",TRUE)),3)","v":{"$error":"#VALUE!"}},null,null,null,"Tilsyn 5",{"$f":"IF(INDIRECT(\"'Voksen \"&U70&\"'!$c$112\")=\"\",\"\",IFERROR(INDIRECT(\"'Voksen \"&U70&\"'!$c$112\",TRUE),\"\"))","v":{"$error":"#REF!"}},{"$f":"IF(INDIRECT(\"'Voksen \"&U70&\"'!$c$133\")=\"\",\"\",IFERROR(INDIRECT(\"'Voksen \"&U70&\"'!$c$133\",TRUE),\"\"))","v":{"$error":"#REF!"}},{"$f":"IF(INDIRECT(\"'Voksen \"&U70&\"'!$c$154\")=\"\",\"\",IFERROR(INDIRECT(\"'Voksen \"&U70&\"'!$c$154\",TRUE),\"\"))","v":{"$error":"#REF!"}},{"$f":"IF(INDIRECT(\"'Voksen \"&U70&\"'!$c$169\")=\"\",\"\",IFERROR(INDIRECT(\"'Voksen \"&U70&\"'!$c$169\",TRUE),\"\"))","v":{"$error":"#REF!"}},{"$f":"IF(INDIRECT(\"'Voksen \"&U70&\"'!$c$186\")=\"\",\"\",IFERROR(INDIRECT(\"'Voksen \"&U70&\"'!$c$186\",TRUE),\"\"))","v":{"$error":"#REF!"}},{"$f":"IF(INDIRECT(\"'Voksen \"&U70&\"'!$c$207\")=\"\",\"\",IFERROR(INDIRECT(\"'Voksen \"&U70&\"'!$c$207\",TRUE),\"\"))","v":{"$error":"#REF!"}},{"$f":"IF(INDIRECT(\"'Voksen \"&U70&\"'!$c$229\")=\"\",\"\",IFERROR(INDIRECT(\"'Voksen \"&U70&\"'!$c$229\",TRUE),\"\"))","v":{"$error":"#REF!"}},{"$f":"IF(INDIRECT(\"'Voksen \"&U70&\"'!$c$255\")=\"\",\"\",IFERROR(INDIRECT(\"'Voksen \"&U70&\"'!$c$255\",TRUE),\"\"))","v":{"$error":"#REF!"}},null,{"$f":"IF(INDIRECT(\"'Børn \"&U70&\"'!$c$123\")=\"\",\"\",IFERROR(INDIRECT(\"'Børn \"&U70&\"'!$c$123\",TRUE),\"\"))","v":{"$error":"#REF!"}},{"$f":"IF(INDIRECT(\"'Børn \"&U70&\"'!$c$139\")=\"\",\"\",IFERROR(INDIRECT(\"'Børn \"&U70&\"'!$c$139\",TRUE),\"\"))","v":{"$error":"#REF!"}},{"$f":"IF(INDIRECT(\"'Børn \"&U70&\"'!$c$163\")=\"\",\"\",IFERROR(INDIRECT(\"'Børn \"&U70&\"'!$c$163\",TRUE),\"\"))","v":{"$error":"#REF!"}},{"$f":"IF(INDIRECT(\"'Børn \"&U70&\"'!$c$177\")=\"\",\"\",IFERROR(INDIRECT(\"'Børn \"&U70&\"'!$c$177\",TRUE),\"\"))","v":{"$error":"#REF!"}},{"$f":"IF(INDIRECT(\"'Børn \"&U70&\"'!$c$197\")=\"\",\"\",IFERROR(INDIRECT(\"'Børn \"&U70&\"'!$c$197\",TRUE),\"\"))","v":{"$error":"#REF!"}},{"$f":"IF(INDIRECT(\"'Børn \"&U70&\"'!$c$218\")=\"\",\"\",IFERROR(INDIRECT(\"'Børn \"&U70&\"'!$c$218\",TRUE),\"\"))","v":{"$error":"#REF!"}},{"$f":"IF(INDIRECT(\"'Børn \"&U70&\"'!$c$241\")=\"\",\"\",IFERROR(INDIRECT(\"'Børn \"&U70&\"'!$c$241\",TRUE),\"\"))","v":{"$error":"#REF!"}}]
["Tilsyn 4","Status:  grøn",{"$f":"COUNTIF(IF(ISERROR(INDIRECT(\"'Voksen \"&A71&\"'!$H$31\",TRUE)),\"\",INDIRECT(\"'Voksen \"&A71&\"'!$H$31\",TRUE)),1)","v":{"$error":"#VALUE!"}},{"$f":"COUNTIF(IF(ISERROR(INDIRECT(\"'Voksen \"&A71&\"'!$H$41\",TRUE)),\"\",INDIRECT(\"'Voksen \"&A71&\"'!$H$41\",TRUE)),1)","v":{"$error":"#VALUE!"}},{"$f":"COUNTIF(IF(ISERROR(INDIRECT(\"'Voksen \"&A71&\"'!$H$50\",TRUE)),\"\",INDIRECT(\"'Voksen \"&A71&\"'!$H$50\",TRUE)),1)","v":{"$error":"#VALUE!"}},{"$f":"COUNTIF(IF(ISERROR(INDIRECT(\"'Voksen \"&A71&\"'!$H$58\",TRUE)),\"\",INDIRECT(\"'Voksen \"&A71&\"'!$H$58\",TRUE)),1)","v":{"$error":"#VALUE!"}},{"$f":"COUNTIF(IF(ISERROR(INDIRECT(\"'Voksen \"&A71&\"'!$H$69\",TRUE)),\"\",INDIRECT(\"'Voksen \"&A71&\"'!$H$69\",TRUE)),1)","v":{"$error":"#VALUE!"}},{"$f":"COUNTIF(IF(ISERROR(INDIRECT(\"'Voksen \"&A71&\"'!$H$77\",TRUE)),\"\",INDIRECT(\"'Voksen \"&A71&\"'!$H$77\",TRUE)),1)","v":{"$error":"#VALUE!"}},null,null,{"$f":"COUNTIF(IF(ISERROR(INDIRECT(\"'Børn \"&A71&\"'!$H$31\",TRUE)),\"\",INDIRECT(\"'Børn \"&A71&\"'!$H$31\",TRUE)),1)","v":{"$error":"#VALUE!"}},{"$f":"COUNTIF(IF(ISERROR(INDIRECT(\"'Børn \"&A71&\"'!$H$44\",TRUE)),\"\",INDIRECT(\"'Børn \"&A71&\"'!$H$44\",TRUE)),1)","v":{"$error":"#VALUE!"}},{"$f":"COUNTIF(IF(ISERROR(INDIRECT(\"'Børn \"&A71&\"'!$H$53\",TRUE)),\"\",INDIRECT(\"'Børn \"&A71&\"'!$H$53\",TRUE)),1)","v":{"$error":"#VALUE!"}},{"$f":"COUNTIF(IF(ISERROR(INDIRECT(\"'Børn \"&A71&\"'!$H$61\",TRUE)),\"\",INDIRECT(\"'Børn \"&A71&\"'!$H$61\",TRUE)),1)","v":{"$error":"#VALUE!"}},{"$f":"COUNTIF(IF(ISERROR(INDIRECT(\"'Børn \"&A71&\"'!$H$68\",TRUE)),\"\",INDIRECT(\"'Børn \"&A71&\"'!$H$68\",TRUE)),1)","v":{"$error":"#VALUE!"}},{"$f":"COUNTIF(IF(ISERROR(INDIRECT(\"'Børn \"&A71&\"'!$H$79\",TRUE)),\"\",INDIRECT(\"'Børn \"&A71&\"'!$H$79\",TRUE)),1)","v":{"$error":"#VALUE!"}},{"$f":"COUNTIF(IF(ISERROR(INDIRECT(\"'Børn \"&A71&\"'!$H$87\",TRUE)),\"\",INDIRECT(\"'Børn \"&A71&\"'!$H$87\",TRUE)),1)","v":{"$error":"#VALUE!"}},null,null,null,{"$f":"U70","v":"Tilsyn 5"},{"$f":"IF(INDIRECT(\"'Voksen \"&U71&\"'!$c$115\")=\"\",\"\",IFERROR(INDIRECT(\"'Voksen \"&U71&\"'!$c$115\",TRUE),\"\"))","v":{"$error":"#REF!"}},{"$f":"IF(INDIRECT(\"'Voksen \"&U71&\"'!$c$136\")=\"\",\"\",IFERROR(INDIRECT(\"'Voksen \"&U71&\"'!$c$136\",TRUE),\"\"))","v":{"$error":"#REF!"}},{"$f":"IF(INDIRECT(\"'Voksen \"&U71&\"'!$c$157\")=\"\",\"\",IFERROR(INDIRECT(\"'Voksen \"&U71&\"'!$c$157\",TRUE),\"\"))","v":{"$error":"#REF!"}},{"$f":"IF(INDIRECT(\"'Voksen \"&U71&\"'!$c$172\")=\"\",\"\",IFERROR(INDIRECT(\"'Voksen \"&U71&\"'!$c$172\",TRUE),\"\"))","v":{"$error":"#REF!"}},{"$f":"IF(INDIRECT(\"'Voksen \"&U71&\"'!$c$189\")=\"\",\"\",IFERROR(INDIRECT(\"'Voksen \"&U71&\"'!$c$189\",TRUE),\"\"))","v":{"$error":"#REF!"}},{"$f":"IF(INDIRECT(\"'Voksen \"&U71&\"'!$c$210\")=\"\",\"\",IFERROR(INDIRECT(\"'Voksen \"&U71&\"'!$c$210\",TRUE),\"\"))","v":{"$error":"#REF!"}},{"$f":"IF(INDIRECT(\"'Voksen \"&U71&\"'!$c$232\")=\"\",\"\",IFERROR(INDIRECT(\"'Voksen \"&U71&\"'!$c$232\",TRUE),\"\"))","v":{"$error":"#REF!"}},{"$f":"IF(INDIRECT(\"'Voksen \"&U71&\"'!$c$258\")=\"\",\"\",IFERROR(INDIRECT(\"'Voksen \"&U71&\"'!$c$258\",TRUE),\"\"))","v":{"$error":"#REF!"}},null,{"$f":"IF(INDIRECT(\"'Børn \"&U71&\"'!$c$126\")=\"\",\"\",IFERROR(INDIRECT(\"'Børn \"&U71&\"'!$c$126\",TRUE),\"\"))","v":{"$error":"#REF!"}},{"$f":"IF(INDIRECT(\"'Børn \"&U71&\"'!$c$142\")=\"\",\"\",IFERROR(INDIRECT(\"'Børn \"&U71&\"'!$c$142\",TRUE),\"\"))","v":{"$error":"#REF!"}},{"$f":"IF(INDIRECT(\"'Børn \"&U71&\"'!$c$166\")=\"\",\"\",IFERROR(INDIRECT(\"'Børn \"&U71&\"'!$c$166\",TRUE),\"\"))","v":{"$error":"#REF!"}},{"$f":"IF(INDIRECT(\"'Børn \"&U71&\"'!$c$180\")=\"\",\"\",IFERROR(INDIRECT(\"'Børn \"&U71&\"'!$c$180\",TRUE),\"\"))","v":{"$error":"#REF!"}},{"$f":"IF(INDIRECT(\"'Børn \"&U71&\"'!$c$200\")=\"\",\"\",IFERROR(INDIRECT(\"'Børn \"&U71&\"'!$c$200\",TRUE),\"\"))","v":{"$error":"#REF!"}},{"$f":"IF(INDIRECT(\"'Børn \"&U71&\"'!$c$221\")=\"\",\"\",IFERROR(INDIRECT(\"'Børn \"&U71&\"'!$c$221\",TRUE),\"\"))","v":{"$error":"#REF!"}},{"$f":"IF(INDIRECT(\"'Børn \"&U71&\"'!$c$244\")=\"\",\"\",IFERROR(INDIRECT(\"'Børn \"&U71&\"'!$c$244\",TRUE),\"\"))","v":{"$error":"#REF!"}}]
["Tilsyn 4","Status:  gul",{"$f":"COUNTIF(IF(ISERROR(INDIRECT(\"'Voksen \"&A72&\"'!$H$31\",TRUE)),\"\",INDIRECT(\"'Voksen \"&A72&\"'!$H$31\",TRUE)),2)","v":{"$error":"#VALUE!"}},{"$f":"COUNTIF(IF(ISERROR(INDIRECT(\"'Voksen \"&A72&\"'!$H$41\",TRUE)),\"\",INDIRECT(\"'Voksen \"&A72&\"'!$H$41\",TRUE)),2)","v":{"$error":"#VALUE!"}},{"$f":"COUNTIF(IF(ISERROR(INDIRECT(\"'Voksen \"&A72&\"'!$H$50\",TRUE)),\"\",INDIRECT(\"'Voksen \"&A72&\"'!$H$50\",TRUE)),2)","v":{"$error":"#VALUE!"}},{"$f":"COUNTIF(IF(ISERROR(INDIRECT(\"'Voksen \"&A72&\"'!$H$58\",TRUE)),\"\",INDIRECT(\"'Voksen \"&A72&\"'!$H$58\",TRUE)),2)","v":{"$error":"#VALUE!"}},{"$f":"COUNTIF(IF(ISERROR(INDIRECT(\"'Voksen \"&A72&\"'!$H$69\",TRUE)),\"\",INDIRECT(\"'Voksen \"&A72&\"'!$H$69\",TRUE)),2)","v":{"$error":"#VALUE!"}},{"$f":"COUNTIF(IF(ISERROR(INDIRECT(\"'Voksen \"&A72&\"'!$H$77\",TRUE)),\"\",INDIRECT(\"'Voksen \"&A72&\"'!$H$77\",TRUE)),2)","v":{"$error":"#VALUE!"}},null,null,{"$f":"COUNTIF(IF(ISERROR(INDIRECT(\"'Børn \"&A72&\"'!$H$31\",TRUE)),\"\",INDIRECT(\"'Børn \"&A72&\"'!$H$31\",TRUE)),2)","v":{"$error":"#VALUE!"}},{"$f":"COUNTIF(IF(ISERROR(INDIRECT(\"'Børn \"&A72&\"'!$H$44\",TRUE)),\"\",INDIRECT(\"'Børn \"&A72&\"'!$H$44\",TRUE)),2)","v":{"$error":"#VALUE!"}},{"$f":"COUNTIF(IF(ISERROR(INDIRECT(\"'Børn \"&A72&\"'!$H$53\",TRUE)),\"\",INDIRECT(\"'Børn \"&A72&\"'!$H$53\",TRUE)),2)","v":{"$error":"#VALUE!"}},{"$f":"COUNTIF(IF(ISERROR(INDIRECT(\"'Børn \"&A72&\"'!$H$61\",TRUE)),\"\",INDIRECT(\"'Børn \"&A72&\"'!$H$61\",TRUE)),2)","v":{"$error":"#VALUE!"}},{"$f":"COUNTIF(IF(ISERROR(INDIRECT(\"'Børn \"&A72&\"'!$H$68\",TRUE)),\"\",INDIRECT(\"'Børn \"&A72&\"'!$H$68\",TRUE)),2)","v":{"$error":"#VALUE!"}},{"$f":"COUNTIF(IF(ISERROR(INDIRECT(\"'Børn \"&A72&\"'!$H$79\",TRUE)),\"\",INDIRECT(\"'Børn \"&A72&\"'!$H$79\",TRUE)),2)","v":{"$error":"#VALUE!"}},{"$f":"COUNTIF(IF(ISERROR(INDIRECT(\"'Børn \"&A72&\"'!$H$87\",TRUE)),\"\",INDIRECT(\"'Børn \"&A72&\"'!$H$87\",TRUE)),2)","v":{"$error":"#VALUE!"}},null,null,null,"Tilsyn 6",{"$f":"IF(INDIRECT(\"'Voksen \"&U72&\"'!$c$112\")=\"\",\"\",IFERROR(INDIRECT(\"'Voksen \"&U72&\"'!$c$112\",TRUE),\"\"))","v":{"$error":"#REF!"}},{"$f":"IF(INDIRECT(\"'Voksen \"&U72&\"'!$c$133\")=\"\",\"\",IFERROR(INDIRECT(\"'Voksen \"&U72&\"'!$c$133\",TRUE),\"\"))","v":{"$error":"#REF!"}},{"$f":"IF(INDIRECT(\"'Voksen \"&U72&\"'!$c$154\")=\"\",\"\",IFERROR(INDIRECT(\"'Voksen \"&U72&\"'!$c$154\",TRUE),\"\"))","v":{"$error":"#REF!"}},{"$f":"IF(INDIRECT(\"'Voksen \"&U72&\"'!$c$169\")=\"\",\"\",IFERROR(INDIRECT(\"'Voksen \"&U72&\"'!$c$169\",TRUE),\"\"))","v":{"$error":"#REF!"}},{"$f":"IF(INDIRECT(\"'Voksen \"&U72&\"'!$c$186\")=\"\",\"\",IFERROR(INDIRECT(\"'Voksen \"&U72&\"'!$c$186\",TRUE),\"\"))","v":{"$error":"#REF!"}},{"$f":"IF(INDIRECT(\"'Voksen \"&U72&\"'!$c$207\")=\"\",\"\",IFERROR(INDIRECT(\"'Voksen \"&U72&\"'!$c$207\",TRUE),\"\"))","v":{"$error":"#REF!"}},{"$f":"IF(INDIRECT(\"'Voksen \"&U72&\"'!$c$229\")=\"\",\"\",IFERROR(INDIRECT(\"'Voksen \"&U72&\"'!$c$229\",TRUE),\"\"))","v":{"$error":"#REF!"}},{"$f":"IF(INDIRECT(\"'Voksen \"&U72&\"'!$c$255\")=\"\",\"\",IFERROR(INDIRECT(\"'Voksen \"&U72&\"'!$c$255\",TRUE),\"\"))","v":{"$error":"#REF!"}},null,{"$f":"IF(INDIRECT(\"'Børn \"&U72&\"'!$c$123\")=\"\",\"\",IFERROR(INDIRECT(\"'Børn \"&U72&\"'!$c$123\",TRUE),\"\"))","v":{"$error":"#REF!"}},{"$f":"IF(INDIRECT(\"'Børn \"&U72&\"'!$c$139\")=\"\",\"\",IFERROR(INDIRECT(\"'Børn \"&U72&\"'!$c$139\",TRUE),\"\"))","v":{"$error":"#REF!"}},{"$f":"IF(INDIRECT(\"'Børn \"&U72&\"'!$c$163\")=\"\",\"\",IFERROR(INDIRECT(\"'Børn \"&U72&\"'!$c$163\",TRUE),\"\"))","v":{"$error":"#REF!"}},{"$f":"IF(INDIRECT(\"'Børn \"&U72&\"'!$c$177\")=\"\",\"\",IFERROR(INDIRECT(\"'Børn \"&U72&\"'!$c$177\",TRUE),\"\"))","v":{"$error":"#REF!"}},{"$f":"IF(INDIRECT(\"'Børn \"&U72&\"'!$c$197\")=\"\",\"\",IFERROR(INDIRECT(\"'Børn \"&U72&\"'!$c$197\",TRUE),\"\"))","v":{"$error":"#REF!"}},{"$f":"IF(INDIRECT(\"'Børn \"&U72&\"'!$c$218\")=\"\",\"\",IFERROR(INDIRECT(\"'Børn \"&U72&\"'!$c$218\",TRUE),\"\"))","v":{"$error":"#REF!"}},{"$f":"IF(INDIRECT(\"'Børn \"&U72&\"'!$c$241\")=\"\",\"\",IFERROR(INDIRECT(\"'Børn \"&U72&\"'!$c$241\",TRUE),\"\"))","v":{"$error":"#REF!"}}]
["Tilsyn 4","Status:  rød",{"$f":"COUNTIF(IF(ISERROR(INDIRECT(\"'Voksen \"&A73&\"'!$H$31\",TRUE)),\"\",INDIRECT(\"'Voksen \"&A73&\"'!$H$31\",TRUE)),3)","v":{"$error":"#VALUE!"}},{"$f":"COUNTIF(IF(ISERROR(INDIRECT(\"'Voksen \"&A73&\"'!$H$41\",TRUE)),\"\",INDIRECT(\"'Voksen \"&A73&\"'!$H$41\",TRUE)),3)","v":{"$error":"#VALUE!"}},{"$f":"COUNTIF(IF(ISERROR(INDIRECT(\"'Voksen \"&A73&\"'!$H$50\",TRUE)),\"\",INDIRECT(\"'Voksen \"&A73&\"'!$H$50\",TRUE)),3)","v":{"$error":"#VALUE!"}},{"$f":"COUNTIF(IF(ISERROR(INDIRECT(\"'Voksen \"&A73&\"'!$H$58\",TRUE)),\"\",INDIRECT(\"'Voksen \"&A73&\"'!$H$58\",TRUE)),3)","v":{"$error":"#VALUE!"}},{"$f":"COUNTIF(IF(ISERROR(INDIRECT(\"'Voksen \"&A73&\"'!$H$69\",TRUE)),\"\",INDIRECT(\"'Voksen \"&A73&\"'!$H$69\",TRUE)),3)","v":{"$error":"#VALUE!"}},{"$f":"COUNTIF(IF(ISERROR(INDIRECT(\"'Voksen \"&A73&\"'!$H$77\",TRUE)),\"\",INDIRECT(\"'Voksen \"&A73&\"'!$H$77\",TRUE)),3)","v":{"$error":"#VALUE!"}},null,null,{"$f":"COUNTIF(IF(ISERROR(INDIRECT(\"'Børn \"&A73&\"'!$H$31\",TRUE)),\"\",INDIRECT(\"'Børn \"&A73&\"'!$H$31\",TRUE)),3)","v":{"$error":"#VALUE!"}},{"$f":"COUNTIF(IF(ISERROR(INDIRECT(\"'Børn \"&A73&\"'!$H$44\",TRUE)),\"\",INDIRECT(\"'Børn \"&A73&\"'!$H$44\",TRUE)),3)","v":{"$error":"#VALUE!"}},{"$f":"COUNTIF(IF(ISERROR(INDIRECT(\"'Børn \"&A73&\"'!$H$53\",TRUE)),\"\",INDIRECT(\"'Børn \"&A73&\"'!$H$53\",TRUE)),3)","v":{"$error":"#VALUE!"}},{"$f":"COUNTIF(IF(ISERROR(INDIRECT(\"'Børn \"&A73&\"'!$H$61\",TRUE)),\"\",INDIRECT(\"'Børn \"&A73&\"'!$H$61\",TRUE)),3)","v":{"$error":"#VALUE!"}},{"$f":"COUNTIF(IF(ISERROR(INDIRECT(\"'Børn \"&A73&\"'!$H$68\",TRUE)),\"\",INDIRECT(\"'Børn \"&A73&\"'!$H$68\",TRUE)),3)","v":{"$error":"#VALUE!"}},{"$f":"COUNTIF(IF(ISERROR(INDIRECT(\"'Børn \"&A73&\"'!$H$79\",TRUE)),\"\",INDIRECT(\"'Børn \"&A73&\"'!$H$79\",TRUE)),3)","v":{"$error":"#VALUE!"}},{"$f":"COUNTIF(IF(ISERROR(INDIRECT(\"'Børn \"&A73&\"'!$H$87\",TRUE)),\"\",INDIRECT(\"'Børn \"&A73&\"'!$H$87\",TRUE)),3)","v":{"$error":"#VALUE!"}},null,null,null,{"$f":"U72","v":"Tilsyn 6"},{"$f":"IF(INDIRECT(\"'Voksen \"&U73&\"'!$c$115\")=\"\",\"\",IFERROR(INDIRECT(\"'Voksen \"&U73&\"'!$c$115\",TRUE),\"\"))","v":{"$error":"#REF!"}},{"$f":"IF(INDIRECT(\"'Voksen \"&U73&\"'!$c$136\")=\"\",\"\",IFERROR(INDIRECT(\"'Voksen \"&U73&\"'!$c$136\",TRUE),\"\"))","v":{"$error":"#REF!"}},{"$f":"IF(INDIRECT(\"'Voksen \"&U73&\"'!$c$157\")=\"\",\"\",IFERROR(INDIRECT(\"'Voksen \"&U73&\"'!$c$157\",TRUE),\"\"))","v":{"$error":"#REF!"}},{"$f":"IF(INDIRECT(\"'Voksen \"&U73&\"'!$c$172\")=\"\",\"\",IFERROR(INDIRECT(\"'Voksen \"&U73&\"'!$c$172\",TRUE),\"\"))","v":{"$error":"#REF!"}},{"$f":"IF(INDIRECT(\"'Voksen \"&U73&\"'!$c$189\")=\"\",\"\",IFERROR(INDIRECT(\"'Voksen \"&U73&\"'!$c$189\",TRUE),\"\"))","v":{"$error":"#REF!"}},{"$f":"IF(INDIRECT(\"'Voksen \"&U73&\"'!$c$210\")=\"\",\"\",IFERROR(INDIRECT(\"'Voksen \"&U73&\"'!$c$210\",TRUE),\"\"))","v":{"$error":"#REF!"}},{"$f":"IF(INDIRECT(\"'Voksen \"&U73&\"'!$c$232\")=\"\",\"\",IFERROR(INDIRECT(\"'Voksen \"&U73&\"'!$c$232\",TRUE),\"\"))","v":{"$error":"#REF!"}},{"$f":"IF(INDIRECT(\"'Voksen \"&U73&\"'!$c$258\")=\"\",\"\",IFERROR(INDIRECT(\"'Voksen \"&U73&\"'!$c$258\",TRUE),\"\"))","v":{"$error":"#REF!"}},null,{"$f":"IF(INDIRECT(\"'Børn \"&U73&\"'!$c$126\")=\"\",\"\",IFERROR(INDIRECT(\"'Børn \"&U73&\"'!$c$126\",TRUE),\"\"))","v":{"$error":"#REF!"}},{"$f":"IF(INDIRECT(\"'Børn \"&U73&\"'!$c$142\")=\"\",\"\",IFERROR(INDIRECT(\"'Børn \"&U73&\"'!$c$142\",TRUE),\"\"))","v":{"$error":"#REF!"}},{"$f":"IF(INDIRECT(\"'Børn \"&U73&\"'!$c$166\")=\"\",\"\",IFERROR(INDIRECT(\"'Børn \"&U73&\"'!$c$166\",TRUE),\"\"))","v":{"$error":"#REF!"}},{"$f":"IF(INDIRECT(\"'Børn \"&U73&\"'!$c$180\")=\"\",\"\",IFERROR(INDIRECT(\"'Børn \"&U73&\"'!$c$180\",TRUE),\"\"))","v":{"$error":"#REF!"}},{"$f":"IF(INDIRECT(\"'Børn \"&U73&\"'!$c$200\")=\"\",\"\",IFERROR(INDIRECT(\"'Børn \"&U73&\"'!$c$200\",TRUE),\"\"))","v":{"$error":"#REF!"}},{"$f":"IF(INDIRECT(\"'Børn \"&U73&\"'!$c$221\")=\"\",\"\",IFERROR(INDIRECT(\"'Børn \"&U73&\"'!$c$221\",TRUE),\"\"))","v":{"$error":"#REF!"}},{"$f":"IF(INDIRECT(\"'Børn \"&U73&\"'!$c$244\")=\"\",\"\",IFERROR(INDIRECT(\"'Børn \"&U73&\"'!$c$244\",TRUE),\"\"))","v":{"$error":"#REF!"}}]
["Tilsyn 5","Status:  grøn",{"$f":"COUNTIF(IF(ISERROR(INDIRECT(\"'Voksen \"&A74&\"'!$H$31\",TRUE)),\"\",INDIRECT(\"'Voksen \"&A74&\"'!$H$31\",TRUE)),1)","v":{"$error":"#VALUE!"}},{"$f":"COUNTIF(IF(ISERROR(INDIRECT(\"'Voksen \"&A74&\"'!$H$41\",TRUE)),\"\",INDIRECT(\"'Voksen \"&A74&\"'!$H$41\",TRUE)),1)","v":{"$error":"#VALUE!"}},{"$f":"COUNTIF(IF(ISERROR(INDIRECT(\"'Voksen \"&A74&\"'!$H$50\",TRUE)),\"\",INDIRECT(\"'Voksen \"&A74&\"'!$H$50\",TRUE)),1)","v":{"$error":"#VALUE!"}},{"$f":"COUNTIF(IF(ISERROR(INDIRECT(\"'Voksen \"&A74&\"'!$H$58\",TRUE)),\"\",INDIRECT(\"'Voksen \"&A74&\"'!$H$58\",TRUE)),1)","v":{"$error":"#VALUE!"}},{"$f":"COUNTIF(IF(ISERROR(INDIRECT(\"'Voksen \"&A74&\"'!$H$69\",TRUE)),\"\",INDIRECT(\"'Voksen \"&A74&\"'!$H$69\",TRUE)),1)","v":{"$error":"#VALUE!"}},{"$f":"COUNTIF(IF(ISERROR(INDIRECT(\"'Voksen \"&A74&\"'!$H$77\",TRUE)),\"\",INDIRECT(\"'Voksen \"&A74&\"'!$H$77\",TRUE)),1)","v":{"$error":"#VALUE!"}},null,null,{"$f":"COUNTIF(IF(ISERROR(INDIRECT(\"'Børn \"&A74&\"'!$H$31\",TRUE)),\"\",INDIRECT(\"'Børn \"&A74&\"'!$H$31\",TRUE)),1)","v":{"$error":"#VALUE!"}},{"$f":"COUNTIF(IF(ISERROR(INDIRECT(\"'Børn \"&A74&\"'!$H$44\",TRUE)),\"\",INDIRECT(\"'Børn \"&A74&\"'!$H$44\",TRUE)),1)","v":{"$error":"#VALUE!"}},{"$f":"COUNTIF(IF(ISERROR(INDIRECT(\"'Børn \"&A74&\"'!$H$53\",TRUE)),\"\",INDIRECT(\"'Børn \"&A74&\"'!$H$53\",TRUE)),1)","v":{"$error":"#VALUE!"}},{"$f":"COUNTIF(IF(ISERROR(INDIRECT(\"'Børn \"&A74&\"'!$H$61\",TRUE)),\"\",INDIRECT(\"'Børn \"&A74&\"'!$H$61\",TRUE)),1)","v":{"$error":"#VALUE!"}},{"$f":"COUNTIF(IF(ISERROR(INDIRECT(\"'Børn \"&A74&\"'!$H$68\",TRUE)),\"\",INDIRECT(\"'Børn \"&A74&\"'!$H$68\",TRUE)),1)","v":{"$error":"#VALUE!"}},{"$f":"COUNTIF(IF(ISERROR(INDIRECT(\"'Børn \"&A74&\"'!$H$79\",TRUE)),\"\",INDIRECT(\"'Børn \"&A74&\"'!$H$79\",TRUE)),1)","v":{"$error":"#VALUE!"}},{"$f":"COUNTIF(IF(ISERROR(INDIRECT(\"'Børn \"&A74&\"'!$H$87\",TRUE)),\"\",INDIRECT(\"'Børn \"&A74&\"'!$H$87\",TRUE)),1)","v":{"$error":"#VALUE!"}},null,null,null,"Tilsyn 7",{"$f":"IF(INDIRECT(\"'Voksen \"&U74&\"'!$c$112\")=\"\",\"\",IFERROR(INDIRECT(\"'Voksen \"&U74&\"'!$c$112\",TRUE),\"\"))","v":{"$error":"#REF!"}},{"$f":"IF(INDIRECT(\"'Voksen \"&U74&\"'!$c$133\")=\"\",\"\",IFERROR(INDIRECT(\"'Voksen \"&U74&\"'!$c$133\",TRUE),\"\"))","v":{"$error":"#REF!"}},{"$f":"IF(INDIRECT(\"'Voksen \"&U74&\"'!$c$154\")=\"\",\"\",IFERROR(INDIRECT(\"'Voksen \"&U74&\"'!$c$154\",TRUE),\"\"))","v":{"$error":"#REF!"}},{"$f":"IF(INDIRECT(\"'Voksen \"&U74&\"'!$c$169\")=\"\",\"\",IFERROR(INDIRECT(\"'Voksen \"&U74&\"'!$c$169\",TRUE),\"\"))","v":{"$error":"#REF!"}},{"$f":"IF(INDIRECT(\"'Voksen \"&U74&\"'!$c$186\")=\"\",\"\",IFERROR(INDIRECT(\"'Voksen \"&U74&\"'!$c$186\",TRUE),\"\"))","v":{"$error":"#REF!"}},{"$f":"IF(INDIRECT(\"'Voksen \"&U74&\"'!$c$207\")=\"\",\"\",IFERROR(INDIRECT(\"'Voksen \"&U74&\"'!$c$207\",TRUE),\"\"))","v":{"$error":"#REF!"}},{"$f":"IF(INDIRECT(\"'Voksen \"&U74&\"'!$c$229\")=\"\",\"\",IFERROR(INDIRECT(\"'Voksen \"&U74&\"'!$c$229\",TRUE),\"\"))","v":{"$error":"#REF!"}},{"$f":"IF(INDIRECT(\"'Voksen \"&U74&\"'!$c$255\")=\"\",\"\",IFERROR(INDIRECT(\"'Voksen \"&U74&\"'!$c$255\",TRUE),\"\"))","v":{"$error":"#REF!"}},null,{"$f":"IF(INDIRECT(\"'Børn \"&U74&\"'!$c$123\")=\"\",\"\",IFERROR(INDIRECT(\"'Børn \"&U74&\"'!$c$123\",TRUE),\"\"))","v":{"$error":"#REF!"}},{"$f":"IF(INDIRECT(\"'Børn \"&U74&\"'!$c$139\")=\"\",\"\",IFERROR(INDIRECT(\"'Børn \"&U74&\"'!$c$139\",TRUE),\"\"))","v":{"$error":"#REF!"}},{"$f":"IF(INDIRECT(\"'Børn \"&U74&\"'!$c$163\")=\"\",\"\",IFERROR(INDIRECT(\"'Børn \"&U74&\"'!$c$163\",TRUE),\"\"))","v":{"$error":"#REF!"}},{"$f":"IF(INDIRECT(\"'Børn \"&U74&\"'!$c$177\")=\"\",\"\",IFERROR(INDIRECT(\"'Børn \"&U74&\"'!$c$177\",TRUE),\"\"))","v":{"$error":"#REF!"}},{"$f":"IF(INDIRECT(\"'Børn \"&U74&\"'!$c$197\")=\"\",\"\",IFERROR(INDIRECT(\"'Børn \"&U74&\"'!$c$197\",TRUE),\"\"))","v":{"$error":"#REF!"}},{"$f":"IF(INDIRECT(\"'Børn \"&U74&\"'!$c$218\")=\"\",\"\",IFERROR(INDIRECT(\"'Børn \"&U74&\"'!$c$218\",TRUE),\"\"))","v":{"$error":"#REF!"}},{"$f":"IF(INDIRECT(\"'Børn \"&U74&\"'!$c$241\")=\"\",\"\",IFERROR(INDIRECT(\"'Børn \"&U74&\"'!$c$241\",TRUE),\"\"))","v":{"$error":"#REF!"}}]
["Tilsyn 5","Status:  gul",{"$f":"COUNTIF(IF(ISERROR(INDIRECT(\"'Voksen \"&A75&\"'!$H$31\",TRUE)),\"\",INDIRECT(\"'Voksen \"&A75&\"'!$H$31\",TRUE)),2)","v":{"$error":"#VALUE!"}},{"$f":"COUNTIF(IF(ISERROR(INDIRECT(\"'Voksen \"&A75&\"'!$H$41\",TRUE)),\"\",INDIRECT(\"'Voksen \"&A75&\"'!$H$41\",TRUE)),2)","v":{"$error":"#VALUE!"}},{"$f":"COUNTIF(IF(ISERROR(INDIRECT(\"'Voksen \"&A75&\"'!$H$50\",TRUE)),\"\",INDIRECT(\"'Voksen \"&A75&\"'!$H$50\",TRUE)),2)","v":{"$error":"#VALUE!"}},{"$f":"COUNTIF(IF(ISERROR(INDIRECT(\"'Voksen \"&A75&\"'!$H$58\",TRUE)),\"\",INDIRECT(\"'Voksen \"&A75&\"'!$H$58\",TRUE)),2)","v":{"$error":"#VALUE!"}},{"$f":"COUNTIF(IF(ISERROR(INDIRECT(\"'Voksen \"&A75&\"'!$H$69\",TRUE)),\"\",INDIRECT(\"'Voksen \"&A75&\"'!$H$69\",TRUE)),2)","v":{"$error":"#VALUE!"}},{"$f":"COUNTIF(IF(ISERROR(INDIRECT(\"'Voksen \"&A75&\"'!$H$77\",TRUE)),\"\",INDIRECT(\"'Voksen \"&A75&\"'!$H$77\",TRUE)),2)","v":{"$error":"#VALUE!"}},null,null,{"$f":"COUNTIF(IF(ISERROR(INDIRECT(\"'Børn \"&A75&\"'!$H$31\",TRUE)),\"\",INDIRECT(\"'Børn \"&A75&\"'!$H$31\",TRUE)),2)","v":{"$error":"#VALUE!"}},{"$f":"COUNTIF(IF(ISERROR(INDIRECT(\"'Børn \"&A75&\"'!$H$44\",TRUE)),\"\",INDIRECT(\"'Børn \"&A75&\"'!$H$44\",TRUE)),2)","v":{"$error":"#VALUE!"}},{"$f":"COUNTIF(IF(ISERROR(INDIRECT(\"'Børn \"&A75&\"'!$H$53\",TRUE)),\"\",INDIRECT(\"'Børn \"&A75&\"'!$H$53\",TRUE)),2)","v":{"$error":"#VALUE!"}},{"$f":"COUNTIF(IF(ISERROR(INDIRECT(\"'Børn \"&A75&\"'!$H$61\",TRUE)),\"\",INDIRECT(\"'Børn \"&A75&\"'!$H$61\",TRUE)),2)","v":{"$error":"#VALUE!"}},{"$f":"COUNTIF(IF(ISERROR(INDIRECT(\"'Børn \"&A75&\"'!$H$68\",TRUE)),\"\",INDIRECT(\"'Børn \"&A75&\"'!$H$68\",TRUE)),2)","v":{"$error":"#VALUE!"}},{"$f":"COUNTIF(IF(ISERROR(INDIRECT(\"'Børn \"&A75&\"'!$H$79\",TRUE)),\"\",INDIRECT(\"'Børn \"&A75&\"'!$H$79\",TRUE)),2)","v":{"$error":"#VALUE!"}},{"$f":"COUNTIF(IF(ISERROR(INDIRECT(\"'Børn \"&A75&\"'!$H$87\",TRUE)),\"\",INDIRECT(\"'Børn \"&A75&\"'!$H$87\",TRUE)),2)","v":{"$error":"#VALUE!"}},null,null,null,{"$f":"U74","v":"Tilsyn 7"},{"$f":"IF(INDIRECT(\"'Voksen \"&U75&\"'!$c$115\")=\"\",\"\",IFERROR(INDIRECT(\"'Voksen \"&U75&\"'!$c$115\",TRUE),\"\"))","v":{"$error":"#REF!"}},{"$f":"IF(INDIRECT(\"'Voksen \"&U75&\"'!$c$136\")=\"\",\"\",IFERROR(INDIRECT(\"'Voksen \"&U75&\"'!$c$136\",TRUE),\"\"))","v":{"$error":"#REF!"}},{"$f":"IF(INDIRECT(\"'Voksen \"&U75&\"'!$c$157\")=\"\",\"\",IFERROR(INDIRECT(\"'Voksen \"&U75&\"'!$c$157\",TRUE),\"\"))","v":{"$error":"#REF!"}},{"$f":"IF(INDIRECT(\"'Voksen \"&U75&\"'!$c$172\")=\"\",\"\",IFERROR(INDIRECT(\"'Voksen \"&U75&\"'!$c$172\",TRUE),\"\"))","v":{"$error":"#REF!"}},{"$f":"IF(INDIRECT(\"'Voksen \"&U75&\"'!$c$189\")=\"\",\"\",IFERROR(INDIRECT(\"'Voksen \"&U75&\"'!$c$189\",TRUE),\"\"))","v":{"$error":"#REF!"}},{"$f":"IF(INDIRECT(\"'Voksen \"&U75&\"'!$c$210\")=\"\",\"\",IFERROR(INDIRECT(\"'Voksen \"&U75&\"'!$c$210\",TRUE),\"\"))","v":{"$error":"#REF!"}},{"$f":"IF(INDIRECT(\"'Voksen \"&U75&\"'!$c$232\")=\"\",\"\",IFERROR(INDIRECT(\"'Voksen \"&U75&\"'!$c$232\",TRUE),\"\"))","v":{"$error":"#REF!"}},{"$f":"IF(INDIRECT(\"'Voksen \"&U75&\"'!$c$258\")=\"\",\"\",IFERROR(INDIRECT(\"'Voksen \"&U75&\"'!$c$258\",TRUE),\"\"))","v":{"$error":"#REF!"}},null,{"$f":"IF(INDIRECT(\"'Børn \"&U75&\"'!$c$126\")=\"\",\"\",IFERROR(INDIRECT(\"'Børn \"&U75&\"'!$c$126\",TRUE),\"\"))","v":{"$error":"#REF!"}},{"$f":"IF(INDIRECT(\"'Børn \"&U75&\"'!$c$142\")=\"\",\"\",IFERROR(INDIRECT(\"'Børn \"&U75&\"'!$c$142\",TRUE),\"\"))","v":{"$error":"#REF!"}},{"$f":"IF(INDIRECT(\"'Børn \"&U75&\"'!$c$166\")=\"\",\"\",IFERROR(INDIRECT(\"'Børn \"&U75&\"'!$c$166\",TRUE),\"\"))","v":{"$error":"#REF!"}},{"$f":"IF(INDIRECT(\"'Børn \"&U75&\"'!$c$180\")=\"\",\"\",IFERROR(INDIRECT(\"'Børn \"&U75&\"'!$c$180\",TRUE),\"\"))","v":{"$error":"#REF!"}},{"$f":"IF(INDIRECT(\"'Børn \"&U75&\"'!$c$200\")=\"\",\"\",IFERROR(INDIRECT(\"'Børn \"&U75&\"'!$c$200\",TRUE),\"\"))","v":{"$error":"#REF!"}},{"$f":"IF(INDIRECT(\"'Børn \"&U75&\"'!$c$221\")=\"\",\"\",IFERROR(INDIRECT(\"'Børn \"&U75&\"'!$c$221\",TRUE),\"\"))","v":{"$error":"#REF!"}},{"$f":"IF(INDIRECT(\"'Børn \"&U75&\"'!$c$244\")=\"\",\"\",IFERROR(INDIRECT(\"'Børn \"&U75&\"'!$c$244\",TRUE),\"\"))","v":{"$error":"#REF!"}}]
["Tilsyn 5","Status:  rød",{"$f":"COUNTIF(IF(ISERROR(INDIRECT(\"'Voksen \"&A76&\"'!$H$31\",TRUE)),\"\",INDIRECT(\"'Voksen \"&A76&\"'!$H$31\",TRUE)),3)","v":{"$error":"#VALUE!"}},{"$f":"COUNTIF(IF(ISERROR(INDIRECT(\"'Voksen \"&A76&\"'!$H$41\",TRUE)),\"\",INDIRECT(\"'Voksen \"&A76&\"'!$H$41\",TRUE)),3)","v":{"$error":"#VALUE!"}},{"$f":"COUNTIF(IF(ISERROR(INDIRECT(\"'Voksen \"&A76&\"'!$H$50\",TRUE)),\"\",INDIRECT(\"'Voksen \"&A76&\"'!$H$50\",TRUE)),3)","v":{"$error":"#VALUE!"}},{"$f":"COUNTIF(IF(ISERROR(INDIRECT(\"'Voksen \"&A76&\"'!$H$58\",TRUE)),\"\",INDIRECT(\"'Voksen \"&A76&\"'!$H$58\",TRUE)),3)","v":{"$error":"#VALUE!"}},{"$f":"COUNTIF(IF(ISERROR(INDIRECT(\"'Voksen \"&A76&\"'!$H$69\",TRUE)),\"\",INDIRECT(\"'Voksen \"&A76&\"'!$H$69\",TRUE)),3)","v":{"$error":"#VALUE!"}},{"$f":"COUNTIF(IF(ISERROR(INDIRECT(\"'Voksen \"&A76&\"'!$H$77\",TRUE)),\"\",INDIRECT(\"'Voksen \"&A76&\"'!$H$77\",TRUE)),3)","v":{"$error":"#VALUE!"}},null,null,{"$f":"COUNTIF(IF(ISERROR(INDIRECT(\"'Børn \"&A76&\"'!$H$31\",TRUE)),\"\",INDIRECT(\"'Børn \"&A76&\"'!$H$31\",TRUE)),3)","v":{"$error":"#VALUE!"}},{"$f":"COUNTIF(IF(ISERROR(INDIRECT(\"'Børn \"&A76&\"'!$H$44\",TRUE)),\"\",INDIRECT(\"'Børn \"&A76&\"'!$H$44\",TRUE)),3)","v":{"$error":"#VALUE!"}},{"$f":"COUNTIF(IF(ISERROR(INDIRECT(\"'Børn \"&A76&\"'!$H$53\",TRUE)),\"\",INDIRECT(\"'Børn \"&A76&\"'!$H$53\",TRUE)),3)","v":{"$error":"#VALUE!"}},{"$f":"COUNTIF(IF(ISERROR(INDIRECT(\"'Børn \"&A76&\"'!$H$61\",TRUE)),\"\",INDIRECT(\"'Børn \"&A76&\"'!$H$61\",TRUE)),3)","v":{"$error":"#VALUE!"}},{"$f":"COUNTIF(IF(ISERROR(INDIRECT(\"'Børn \"&A76&\"'!$H$68\",TRUE)),\"\",INDIRECT(\"'Børn \"&A76&\"'!$H$68\",TRUE)),3)","v":{"$error":"#VALUE!"}},{"$f":"COUNTIF(IF(ISERROR(INDIRECT(\"'Børn \"&A76&\"'!$H$79\",TRUE)),\"\",INDIRECT(\"'Børn \"&A76&\"'!$H$79\",TRUE)),3)","v":{"$error":"#VALUE!"}},{"$f":"COUNTIF(IF(ISERROR(INDIRECT(\"'Børn \"&A76&\"'!$H$87\",TRUE)),\"\",INDIRECT(\"'Børn \"&A76&\"'!$H$87\",TRUE)),3)","v":{"$error":"#VALUE!"}},null,null,null,"Tilsyn 8",{"$f":"IF(INDIRECT(\"'Voksen \"&U76&\"'!$c$112\")=\"\",\"\",IFERROR(INDIRECT(\"'Voksen \"&U76&\"'!$c$112\",TRUE),\"\"))","v":{"$error":"#REF!"}},{"$f":"IF(INDIRECT(\"'Voksen \"&U76&\"'!$c$133\")=\"\",\"\",IFERROR(INDIRECT(\"'Voksen \"&U76&\"'!$c$133\",TRUE),\"\"))","v":{"$error":"#REF!"}},{"$f":"IF(INDIRECT(\"'Voksen \"&U76&\"'!$c$154\")=\"\",\"\",IFERROR(INDIRECT(\"'Voksen \"&U76&\"'!$c$154\",TRUE),\"\"))","v":{"$error":"#REF!"}},{"$f":"IF(INDIRECT(\"'Voksen \"&U76&\"'!$c$169\")=\"\",\"\",IFERROR(INDIRECT(\"'Voksen \"&U76&\"'!$c$169\",TRUE),\"\"))","v":{"$error":"#REF!"}},{"$f":"IF(INDIRECT(\"'Voksen \"&U76&\"'!$c$186\")=\"\",\"\",IFERROR(INDIRECT(\"'Voksen \"&U76&\"'!$c$186\",TRUE),\"\"))","v":{"$error":"#REF!"}},{"$f":"IF(INDIRECT(\"'Voksen \"&U76&\"'!$c$207\")=\"\",\"\",IFERROR(INDIRECT(\"'Voksen \"&U76&\"'!$c$207\",TRUE),\"\"))","v":{"$error":"#REF!"}},{"$f":"IF(INDIRECT(\"'Voksen \"&U76&\"'!$c$229\")=\"\",\"\",IFERROR(INDIRECT(\"'Voksen \"&U76&\"'!$c$229\",TRUE),\"\"))","v":{"$error":"#REF!"}},{"$f":"IF(INDIRECT(\"'Voksen \"&U76&\"'!$c$255\")=\"\",\"\",IFERROR(INDIRECT(\"'Voksen \"&U76&\"'!$c$255\",TRUE),\"\"))","v":{"$error":"#REF!"}},null,{"$f":"IF(INDIRECT(\"'Børn \"&U76&\"'!$c$123\")=\"\",\"\",IFERROR(INDIRECT(\"'Børn \"&U76&\"'!$c$123\",TRUE),\"\"))","v":{"$error":"#REF!"}},{"$f":"IF(INDIRECT(\"'Børn \"&U76&\"'!$c$139\")=\"\",\"\",IFERROR(INDIRECT(\"'Børn \"&U76&\"'!$c$139\",TRUE),\"\"))","v":{"$error":"#REF!"}},{"$f":"IF(INDIRECT(\"'Børn \"&U76&\"'!$c$163\")=\"\",\"\",IFERROR(INDIRECT(\"'Børn \"&U76&\"'!$c$163\",TRUE),\"\"))","v":{"$error":"#REF!"}},{"$f":"IF(INDIRECT(\"'Børn \"&U76&\"'!$c$177\")=\"\",\"\",IFERROR(INDIRECT(\"'Børn \"&U76&\"'!$c$177\",TRUE),\"\"))","v":{"$error":"#REF!"}},{"$f":"IF(INDIRECT(\"'Børn \"&U76&\"'!$c$197\")=\"\",\"\",IFERROR(INDIRECT(\"'Børn \"&U76&\"'!$c$197\",TRUE),\"\"))","v":{"$error":"#REF!"}},{"$f":"IF(INDIRECT(\"'Børn \"&U76&\"'!$c$218\")=\"\",\"\",IFERROR(INDIRECT(\"'Børn \"&U76&\"'!$c$218\",TRUE),\"\"))","v":{"$error":"#REF!"}},{"$f":"IF(INDIRECT(\"'Børn \"&U76&\"'!$c$241\")=\"\",\"\",IFERROR(INDIRECT(\"'Børn \"&U76&\"'!$c$241\",TRUE),\"\"))","v":{"$error":"#REF!"}}]
["Tilsyn 6","Status:  grøn",{"$f":"COUNTIF(IF(ISERROR(INDIRECT(\"'Voksen \"&A77&\"'!$H$31\",TRUE)),\"\",INDIRECT(\"'Voksen \"&A77&\"'!$H$31\",TRUE)),1)","v":{"$error":"#VALUE!"}},{"$f":"COUNTIF(IF(ISERROR(INDIRECT(\"'Voksen \"&A77&\"'!$H$41\",TRUE)),\"\",INDIRECT(\"'Voksen \"&A77&\"'!$H$41\",TRUE)),1)","v":{"$error":"#VALUE!"}},{"$f":"COUNTIF(IF(ISERROR(INDIRECT(\"'Voksen \"&A77&\"'!$H$50\",TRUE)),\"\",INDIRECT(\"'Voksen \"&A77&\"'!$H$50\",TRUE)),1)","v":{"$error":"#VALUE!"}},{"$f":"COUNTIF(IF(ISERROR(INDIRECT(\"'Voksen \"&A77&\"'!$H$58\",TRUE)),\"\",INDIRECT(\"'Voksen \"&A77&\"'!$H$58\",TRUE)),1)","v":{"$error":"#VALUE!"}},{"$f":"COUNTIF(IF(ISERROR(INDIRECT(\"'Voksen \"&A77&\"'!$H$69\",TRUE)),\"\",INDIRECT(\"'Voksen \"&A77&\"'!$H$69\",TRUE)),1)","v":{"$error":"#VALUE!"}},{"$f":"COUNTIF(IF(ISERROR(INDIRECT(\"'Voksen \"&A77&\"'!$H$77\",TRUE)),\"\",INDIRECT(\"'Voksen \"&A77&\"'!$H$77\",TRUE)),1)","v":{"$error":"#VALUE!"}},null,null,{"$f":"COUNTIF(IF(ISERROR(INDIRECT(\"'Børn \"&A77&\"'!$H$31\",TRUE)),\"\",INDIRECT(\"'Børn \"&A77&\"'!$H$31\",TRUE)),1)","v":{"$error":"#VALUE!"}},{"$f":"COUNTIF(IF(ISERROR(INDIRECT(\"'Børn \"&A77&\"'!$H$44\",TRUE)),\"\",INDIRECT(\"'Børn \"&A77&\"'!$H$44\",TRUE)),1)","v":{"$error":"#VALUE!"}},{"$f":"COUNTIF(IF(ISERROR(INDIRECT(\"'Børn \"&A77&\"'!$H$53\",TRUE)),\"\",INDIRECT(\"'Børn \"&A77&\"'!$H$53\",TRUE)),1)","v":{"$error":"#VALUE!"}},{"$f":"COUNTIF(IF(ISERROR(INDIRECT(\"'Børn \"&A77&\"'!$H$61\",TRUE)),\"\",INDIRECT(\"'Børn \"&A77&\"'!$H$61\",TRUE)),1)","v":{"$error":"#VALUE!"}},{"$f":"COUNTIF(IF(ISERROR(INDIRECT(\"'Børn \"&A77&\"'!$H$68\",TRUE)),\"\",INDIRECT(\"'Børn \"&A77&\"'!$H$68\",TRUE)),1)","v":{"$error":"#VALUE!"}},{"$f":"COUNTIF(IF(ISERROR(INDIRECT(\"'Børn \"&A77&\"'!$H$79\",TRUE)),\"\",INDIRECT(\"'Børn \"&A77&\"'!$H$79\",TRUE)),1)","v":{"$error":"#VALUE!"}},{"$f":"COUNTIF(IF(ISERROR(INDIRECT(\"'Børn \"&A77&\"'!$H$87\",TRUE)),\"\",INDIRECT(\"'Børn \"&A77&\"'!$H$87\",TRUE)),1)","v":{"$error":"#VALUE!"}},null,null,null,{"$f":"U76","v":"Tilsyn 8"},{"$f":"IF(INDIRECT(\"'Voksen \"&U77&\"'!$c$115\")=\"\",\"\",IFERROR(INDIRECT(\"'Voksen \"&U77&\"'!$c$115\",TRUE),\"\"))","v":{"$error":"#REF!"}},{"$f":"IF(INDIRECT(\"'Voksen \"&U77&\"'!$c$136\")=\"\",\"\",IFERROR(INDIRECT(\"'Voksen \"&U77&\"'!$c$136\",TRUE),\"\"))","v":{"$error":"#REF!"}},{"$f":"IF(INDIRECT(\"'Voksen \"&U77&\"'!$c$157\")=\"\",\"\",IFERROR(INDIRECT(\"'Voksen \"&U77&\"'!$c$157\",TRUE),\"\"))","v":{"$error":"#REF!"}},{"$f":"IF(INDIRECT(\"'Voksen \"&U77&\"'!$c$172\")=\"\",\"\",IFERROR(INDIRECT(\"'Voksen \"&U77&\"'!$c$172\",TRUE),\"\"))","v":{"$error":"#REF!"}},{"$f":"IF(INDIRECT(\"'Voksen \"&U77&\"'!$c$189\")=\"\",\"\",IFERROR(INDIRECT(\"'Voksen \"&U77&\"'!$c$189\",TRUE),\"\"))","v":{"$error":"#REF!"}},{"$f":"IF(INDIRECT(\"'Voksen \"&U77&\"'!$c$210\")=\"\",\"\",IFERROR(INDIRECT(\"'Voksen \"&U77&\"'!$c$210\",TRUE),\"\"))","v":{"$error":"#REF!"}},{"$f":"IF(INDIRECT(\"'Voksen \"&U77&\"'!$c$232\")=\"\",\"\",IFERROR(INDIRECT(\"'Voksen \"&U77&\"'!$c$232\",TRUE),\"\"))","v":{"$error":"#REF!"}},{"$f":"IF(INDIRECT(\"'Voksen \"&U77&\"'!$c$258\")=\"\",\"\",IFERROR(INDIRECT(\"'Voksen \"&U77&\"'!$c$258\",TRUE),\"\"))","v":{"$error":"#REF!"}},null,{"$f":"IF(INDIRECT(\"'Børn \"&U77&\"'!$c$126\")=\"\",\"\",IFERROR(INDIRECT(\"'Børn \"&U77&\"'!$c$126\",TRUE),\"\"))","v":{"$error":"#REF!"}},{"$f":"IF(INDIRECT(\"'Børn \"&U77&\"'!$c$142\")=\"\",\"\",IFERROR(INDIRECT(\"'Børn \"&U77&\"'!$c$142\",TRUE),\"\"))","v":{"$error":"#REF!"}},{"$f":"IF(INDIRECT(\"'Børn \"&U77&\"'!$c$166\")=\"\",\"\",IFERROR(INDIRECT(\"'Børn \"&U77&\"'!$c$166\",TRUE),\"\"))","v":{"$error":"#REF!"}},{"$f":"IF(INDIRECT(\"'Børn \"&U77&\"'!$c$180\")=\"\",\"\",IFERROR(INDIRECT(\"'Børn \"&U77&\"'!$c$180\",TRUE),\"\"))","v":{"$error":"#REF!"}},{"$f":"IF(INDIRECT(\"'Børn \"&U77&\"'!$c$200\")=\"\",\"\",IFERROR(INDIRECT(\"'Børn \"&U77&\"'!$c$200\",TRUE),\"\"))","v":{"$error":"#REF!"}},{"$f":"IF(INDIRECT(\"'Børn \"&U77&\"'!$c$221\")=\"\",\"\",IFERROR(INDIRECT(\"'Børn \"&U77&\"'!$c$221\",TRUE),\"\"))","v":{"$error":"#REF!"}},{"$f":"IF(INDIRECT(\"'Børn \"&U77&\"'!$c$244\")=\"\",\"\",IFERROR(INDIRECT(\"'Børn \"&U77&\"'!$c$244\",TRUE),\"\"))","v":{"$error":"#REF!"}}]
["Tilsyn 6","Status:  gul",{"$f":"COUNTIF(IF(ISERROR(INDIRECT(\"'Voksen \"&A78&\"'!$H$31\",TRUE)),\"\",INDIRECT(\"'Voksen \"&A78&\"'!$H$31\",TRUE)),2)","v":{"$error":"#VALUE!"}},{"$f":"COUNTIF(IF(ISERROR(INDIRECT(\"'Voksen \"&A78&\"'!$H$41\",TRUE)),\"\",INDIRECT(\"'Voksen \"&A78&\"'!$H$41\",TRUE)),2)","v":{"$error":"#VALUE!"}},{"$f":"COUNTIF(IF(ISERROR(INDIRECT(\"'Voksen \"&A78&\"'!$H$50\",TRUE)),\"\",INDIRECT(\"'Voksen \"&A78&\"'!$H$50\",TRUE)),2)","v":{"$error":"#VALUE!"}},{"$f":"COUNTIF(IF(ISERROR(INDIRECT(\"'Voksen \"&A78&\"'!$H$58\",TRUE)),\"\",INDIRECT(\"'Voksen \"&A78&\"'!$H$58\",TRUE)),2)","v":{"$error":"#VALUE!"}},{"$f":"COUNTIF(IF(ISERROR(INDIRECT(\"'Voksen \"&A78&\"'!$H$69\",TRUE)),\"\",INDIRECT(\"'Voksen \"&A78&\"'!$H$69\",TRUE)),2)","v":{"$error":"#VALUE!"}},{"$f":"COUNTIF(IF(ISERROR(INDIRECT(\"'Voksen \"&A78&\"'!$H$77\",TRUE)),\"\",INDIRECT(\"'Voksen \"&A78&\"'!$H$77\",TRUE)),2)","v":{"$error":"#VALUE!"}},null,null,{"$f":"COUNTIF(IF(ISERROR(INDIRECT(\"'Børn \"&A78&\"'!$H$31\",TRUE)),\"\",INDIRECT(\"'Børn \"&A78&\"'!$H$31\",TRUE)),2)","v":{"$error":"#VALUE!"}},{"$f":"COUNTIF(IF(ISERROR(INDIRECT(\"'Børn \"&A78&\"'!$H$44\",TRUE)),\"\",INDIRECT(\"'Børn \"&A78&\"'!$H$44\",TRUE)),2)","v":{"$error":"#VALUE!"}},{"$f":"COUNTIF(IF(ISERROR(INDIRECT(\"'Børn \"&A78&\"'!$H$53\",TRUE)),\"\",INDIRECT(\"'Børn \"&A78&\"'!$H$53\",TRUE)),2)","v":{"$error":"#VALUE!"}},{"$f":"COUNTIF(IF(ISERROR(INDIRECT(\"'Børn \"&A78&\"'!$H$61\",TRUE)),\"\",INDIRECT(\"'Børn \"&A78&\"'!$H$61\",TRUE)),2)","v":{"$error":"#VALUE!"}},{"$f":"COUNTIF(IF(ISERROR(INDIRECT(\"'Børn \"&A78&\"'!$H$68\",TRUE)),\"\",INDIRECT(\"'Børn \"&A78&\"'!$H$68\",TRUE)),2)","v":{"$error":"#VALUE!"}},{"$f":"COUNTIF(IF(ISERROR(INDIRECT(\"'Børn \"&A78&\"'!$H$79\",TRUE)),\"\",INDIRECT(\"'Børn \"&A78&\"'!$H$79\",TRUE)),2)","v":{"$error":"#VALUE!"}},{"$f":"COUNTIF(IF(ISERROR(INDIRECT(\"'Børn \"&A78&\"'!$H$87\",TRUE)),\"\",INDIRECT(\"'Børn \"&A78&\"'!$H$87\",TRUE)),2)","v":{"$error":"#VALUE!"}},null,null,null,"Tilsyn 9",{"$f":"IF(INDIRECT(\"'Voksen \"&U78&\"'!$c$112\")=\"\",\"\",IFERROR(INDIRECT(\"'Voksen \"&U78&\"'!$c$112\",TRUE),\"\"))","v":{"$error":"#REF!"}},{"$f":"IF(INDIRECT(\"'Voksen \"&U78&\"'!$c$133\")=\"\",\"\",IFERROR(INDIRECT(\"'Voksen \"&U78&\"'!$c$133\",TRUE),\"\"))","v":{"$error":"#REF!"}},{"$f":"IF(INDIRECT(\"'Voksen \"&U78&\"'!$c$154\")=\"\",\"\",IFERROR(INDIRECT(\"'Voksen \"&U78&\"'!$c$154\",TRUE),\"\"))","v":{"$error":"#REF!"}},{"$f":"IF(INDIRECT(\"'Voksen \"&U78&\"'!$c$169\")=\"\",\"\",IFERROR(INDIRECT(\"'Voksen \"&U78&\"'!$c$169\",TRUE),\"\"))","v":{"$error":"#REF!"}},{"$f":"IF(INDIRECT(\"'Voksen \"&U78&\"'!$c$186\")=\"\",\"\",IFERROR(INDIRECT(\"'Voksen \"&U78&\"'!$c$186\",TRUE),\"\"))","v":{"$error":"#REF!"}},{"$f":"IF(INDIRECT(\"'Voksen \"&U78&\"'!$c$207\")=\"\",\"\",IFERROR(INDIRECT(\"'Voksen \"&U78&\"'!$c$207\",TRUE),\"\"))","v":{"$error":"#REF!"}},{"$f":"IF(INDIRECT(\"'Voksen \"&U78&\"'!$c$229\")=\"\",\"\",IFERROR(INDIRECT(\"'Voksen \"&U78&\"'!$c$229\",TRUE),\"\"))","v":{"$error":"#REF!"}},{"$f":"IF(INDIRECT(\"'Voksen \"&U78&\"'!$c$255\")=\"\",\"\",IFERROR(INDIRECT(\"'Voksen \"&U78&\"'!$c$255\",TRUE),\"\"))","v":{"$error":"#REF!"}},null,{"$f":"IF(INDIRECT(\"'Børn \"&U78&\"'!$c$123\")=\"\",\"\",IFERROR(INDIRECT(\"'Børn \"&U78&\"'!$c$123\",TRUE),\"\"))","v":{"$error":"#REF!"}},{"$f":"IF(INDIRECT(\"'Børn \"&U78&\"'!$c$139\")=\"\",\"\",IFERROR(INDIRECT(\"'Børn \"&U78&\"'!$c$139\",TRUE),\"\"))","v":{"$error":"#REF!"}},{"$f":"IF(INDIRECT(\"'Børn \"&U78&\"'!$c$163\")=\"\",\"\",IFERROR(INDIRECT(\"'Børn \"&U78&\"'!$c$163\",TRUE),\"\"))","v":{"$error":"#REF!"}},{"$f":"IF(INDIRECT(\"'Børn \"&U78&\"'!$c$177\")=\"\",\"\",IFERROR(INDIRECT(\"'Børn \"&U78&\"'!$c$177\",TRUE),\"\"))","v":{"$error":"#REF!"}},{"$f":"IF(INDIRECT(\"'Børn \"&U78&\"'!$c$197\")=\"\",\"\",IFERROR(INDIRECT(\"'Børn \"&U78&\"'!$c$197\",TRUE),\"\"))","v":{"$error":"#REF!"}},{"$f":"IF(INDIRECT(\"'Børn \"&U78&\"'!$c$218\")=\"\",\"\",IFERROR(INDIRECT(\"'Børn \"&U78&\"'!$c$218\",TRUE),\"\"))","v":{"$error":"#REF!"}},{"$f":"IF(INDIRECT(\"'Børn \"&U78&\"'!$c$241\")=\"\",\"\",IFERROR(INDIRECT(\"'Børn \"&U78&\"'!$c$241\",TRUE),\"\"))","v":{"$error":"#REF!"}}]
["Tilsyn 6","Status:  rød",{"$f":"COUNTIF(IF(ISERROR(INDIRECT(\"'Voksen \"&A79&\"'!$H$31\",TRUE)),\"\",INDIRECT(\"'Voksen \"&A79&\"'!$H$31\",TRUE)),3)","v":{"$error":"#VALUE!"}},{"$f":"COUNTIF(IF(ISERROR(INDIRECT(\"'Voksen \"&A79&\"'!$H$41\",TRUE)),\"\",INDIRECT(\"'Voksen \"&A79&\"'!$H$41\",TRUE)),3)","v":{"$error":"#VALUE!"}},{"$f":"COUNTIF(IF(ISERROR(INDIRECT(\"'Voksen \"&A79&\"'!$H$50\",TRUE)),\"\",INDIRECT(\"'Voksen \"&A79&\"'!$H$50\",TRUE)),3)","v":{"$error":"#VALUE!"}},{"$f":"COUNTIF(IF(ISERROR(INDIRECT(\"'Voksen \"&A79&\"'!$H$58\",TRUE)),\"\",INDIRECT(\"'Voksen \"&A79&\"'!$H$58\",TRUE)),3)","v":{"$error":"#VALUE!"}},{"$f":"COUNTIF(IF(ISERROR(INDIRECT(\"'Voksen \"&A79&\"'!$H$69\",TRUE)),\"\",INDIRECT(\"'Voksen \"&A79&\"'!$H$69\",TRUE)),3)","v":{"$error":"#VALUE!"}},{"$f":"COUNTIF(IF(ISERROR(INDIRECT(\"'Voksen \"&A79&\"'!$H$77\",TRUE)),\"\",INDIRECT(\"'Voksen \"&A79&\"'!$H$77\",TRUE)),3)","v":{"$error":"#VALUE!"}},null,null,{"$f":"COUNTIF(IF(ISERROR(INDIRECT(\"'Børn \"&A79&\"'!$H$31\",TRUE)),\"\",INDIRECT(\"'Børn \"&A79&\"'!$H$31\",TRUE)),3)","v":{"$error":"#VALUE!"}},{"$f":"COUNTIF(IF(ISERROR(INDIRECT(\"'Børn \"&A79&\"'!$H$44\",TRUE)),\"\",INDIRECT(\"'Børn \"&A79&\"'!$H$44\",TRUE)),3)","v":{"$error":"#VALUE!"}},{"$f":"COUNTIF(IF(ISERROR(INDIRECT(\"'Børn \"&A79&\"'!$H$53\",TRUE)),\"\",INDIRECT(\"'Børn \"&A79&\"'!$H$53\",TRUE)),3)","v":{"$error":"#VALUE!"}},{"$f":"COUNTIF(IF(ISERROR(INDIRECT(\"'Børn \"&A79&\"'!$H$61\",TRUE)),\"\",INDIRECT(\"'Børn \"&A79&\"'!$H$61\",TRUE)),3)","v":{"$error":"#VALUE!"}},{"$f":"COUNTIF(IF(ISERROR(INDIRECT(\"'Børn \"&A79&\"'!$H$68\",TRUE)),\"\",INDIRECT(\"'Børn \"&A79&\"'!$H$68\",TRUE)),3)","v":{"$error":"#VALUE!"}},{"$f":"COUNTIF(IF(ISERROR(INDIRECT(\"'Børn \"&A79&\"'!$H$79\",TRUE)),\"\",INDIRECT(\"'Børn \"&A79&\"'!$H$79\",TRUE)),3)","v":{"$error":"#VALUE!"}},{"$f":"COUNTIF(IF(ISERROR(INDIRECT(\"'Børn \"&A79&\"'!$H$87\",TRUE)),\"\",INDIRECT(\"'Børn \"&A79&\"'!$H$87\",TRUE)),3)","v":{"$error":"#VALUE!"}},null,null,null,{"$f":"U78","v":"Tilsyn 9"},{"$f":"IF(INDIRECT(\"'Voksen \"&U79&\"'!$c$115\")=\"\",\"\",IFERROR(INDIRECT(\"'Voksen \"&U79&\"'!$c$115\",TRUE),\"\"))","v":{"$error":"#REF!"}},{"$f":"IF(INDIRECT(\"'Voksen \"&U79&\"'!$c$136\")=\"\",\"\",IFERROR(INDIRECT(\"'Voksen \"&U79&\"'!$c$136\",TRUE),\"\"))","v":{"$error":"#REF!"}},{"$f":"IF(INDIRECT(\"'Voksen \"&U79&\"'!$c$157\")=\"\",\"\",IFERROR(INDIRECT(\"'Voksen \"&U79&\"'!$c$157\",TRUE),\"\"))","v":{"$error":"#REF!"}},{"$f":"IF(INDIRECT(\"'Voksen \"&U79&\"'!$c$172\")=\"\",\"\",IFERROR(INDIRECT(\"'Voksen \"&U79&\"'!$c$172\",TRUE),\"\"))","v":{"$error":"#REF!"}},{"$f":"IF(INDIRECT(\"'Voksen \"&U79&\"'!$c$189\")=\"\",\"\",IFERROR(INDIRECT(\"'Voksen \"&U79&\"'!$c$189\",TRUE),\"\"))","v":{"$error":"#REF!"}},{"$f":"IF(INDIRECT(\"'Voksen \"&U79&\"'!$c$210\")=\"\",\"\",IFERROR(INDIRECT(\"'Voksen \"&U79&\"'!$c$210\",TRUE),\"\"))","v":{"$error":"#REF!"}},{"$f":"IF(INDIRECT(\"'Voksen \"&U79&\"'!$c$232\")=\"\",\"\",IFERROR(INDIRECT(\"'Voksen \"&U79&\"'!$c$232\",TRUE),\"\"))","v":{"$error":"#REF!"}},{"$f":"IF(INDIRECT(\"'Voksen \"&U79&\"'!$c$258\")=\"\",\"\",IFERROR(INDIRECT(\"'Voksen \"&U79&\"'!$c$258\",TRUE),\"\"))","v":{"$error":"#REF!"}},null,{"$f":"IF(INDIRECT(\"'Børn \"&U79&\"'!$c$126\")=\"\",\"\",IFERROR(INDIRECT(\"'Børn \"&U79&\"'!$c$126\",TRUE),\"\"))","v":{"$error":"#REF!"}},{"$f":"IF(INDIRECT(\"'Børn \"&U79&\"'!$c$142\")=\"\",\"\",IFERROR(INDIRECT(\"'Børn \"&U79&\"'!$c$142\",TRUE),\"\"))","v":{"$error":"#REF!"}},{"$f":"IF(INDIRECT(\"'Børn \"&U79&\"'!$c$166\")=\"\",\"\",IFERROR(INDIRECT(\"'Børn \"&U79&\"'!$c$166\",TRUE),\"\"))","v":{"$error":"#REF!"}},{"$f":"IF(INDIRECT(\"'Børn \"&U79&\"'!$c$180\")=\"\",\"\",IFERROR(INDIRECT(\"'Børn \"&U79&\"'!$c$180\",TRUE),\"\"))","v":{"$error":"#REF!"}},{"$f":"IF(INDIRECT(\"'Børn \"&U79&\"'!$c$200\")=\"\",\"\",IFERROR(INDIRECT(\"'Børn \"&U79&\"'!$c$200\",TRUE),\"\"))","v":{"$error":"#REF!"}},{"$f":"IF(INDIRECT(\"'Børn \"&U79&\"'!$c$221\")=\"\",\"\",IFERROR(INDIRECT(\"'Børn \"&U79&\"'!$c$221\",TRUE),\"\"))","v":{"$error":"#REF!"}},{"$f":"IF(INDIRECT(\"'Børn \"&U79&\"'!$c$244\")=\"\",\"\",IFERROR(INDIRECT(\"'Børn \"&U79&\"'!$c$244\",TRUE),\"\"))","v":{"$error":"#REF!"}}]
["Tilsyn 7","Status:  grøn",{"$f":"COUNTIF(IF(ISERROR(INDIRECT(\"'Voksen \"&A80&\"'!$H$31\",TRUE)),\"\",INDIRECT(\"'Voksen \"&A80&\"'!$H$31\",TRUE)),1)","v":{"$error":"#VALUE!"}},{"$f":"COUNTIF(IF(ISERROR(INDIRECT(\"'Voksen \"&A80&\"'!$H$41\",TRUE)),\"\",INDIRECT(\"'Voksen \"&A80&\"'!$H$41\",TRUE)),1)","v":{"$error":"#VALUE!"}},{"$f":"COUNTIF(IF(ISERROR(INDIRECT(\"'Voksen \"&A80&\"'!$H$50\",TRUE)),\"\",INDIRECT(\"'Voksen \"&A80&\"'!$H$50\",TRUE)),1)","v":{"$error":"#VALUE!"}},{"$f":"COUNTIF(IF(ISERROR(INDIRECT(\"'Voksen \"&A80&\"'!$H$58\",TRUE)),\"\",INDIRECT(\"'Voksen \"&A80&\"'!$H$58\",TRUE)),1)","v":{"$error":"#VALUE!"}},{"$f":"COUNTIF(IF(ISERROR(INDIRECT(\"'Voksen \"&A80&\"'!$H$69\",TRUE)),\"\",INDIRECT(\"'Voksen \"&A80&\"'!$H$69\",TRUE)),1)","v":{"$error":"#VALUE!"}},{"$f":"COUNTIF(IF(ISERROR(INDIRECT(\"'Voksen \"&A80&\"'!$H$77\",TRUE)),\"\",INDIRECT(\"'Voksen \"&A80&\"'!$H$77\",TRUE)),1)","v":{"$error":"#VALUE!"}},null,null,{"$f":"COUNTIF(IF(ISERROR(INDIRECT(\"'Børn \"&A80&\"'!$H$31\",TRUE)),\"\",INDIRECT(\"'Børn \"&A80&\"'!$H$31\",TRUE)),1)","v":{"$error":"#VALUE!"}},{"$f":"COUNTIF(IF(ISERROR(INDIRECT(\"'Børn \"&A80&\"'!$H$44\",TRUE)),\"\",INDIRECT(\"'Børn \"&A80&\"'!$H$44\",TRUE)),1)","v":{"$error":"#VALUE!"}},{"$f":"COUNTIF(IF(ISERROR(INDIRECT(\"'Børn \"&A80&\"'!$H$53\",TRUE)),\"\",INDIRECT(\"'Børn \"&A80&\"'!$H$53\",TRUE)),1)","v":{"$error":"#VALUE!"}},{"$f":"COUNTIF(IF(ISERROR(INDIRECT(\"'Børn \"&A80&\"'!$H$61\",TRUE)),\"\",INDIRECT(\"'Børn \"&A80&\"'!$H$61\",TRUE)),1)","v":{"$error":"#VALUE!"}},{"$f":"COUNTIF(IF(ISERROR(INDIRECT(\"'Børn \"&A80&\"'!$H$68\",TRUE)),\"\",INDIRECT(\"'Børn \"&A80&\"'!$H$68\",TRUE)),1)","v":{"$error":"#VALUE!"}},{"$f":"COUNTIF(IF(ISERROR(INDIRECT(\"'Børn \"&A80&\"'!$H$79\",TRUE)),\"\",INDIRECT(\"'Børn \"&A80&\"'!$H$79\",TRUE)),1)","v":{"$error":"#VALUE!"}},{"$f":"COUNTIF(IF(ISERROR(INDIRECT(\"'Børn \"&A80&\"'!$H$87\",TRUE)),\"\",INDIRECT(\"'Børn \"&A80&\"'!$H$87\",TRUE)),1)","v":{"$error":"#VALUE!"}},null,null,null,"Tilsyn 10",{"$f":"IF(INDIRECT(\"'Voksen \"&U80&\"'!$c$112\")=\"\",\"\",IFERROR(INDIRECT(\"'Voksen \"&U80&\"'!$c$112\",TRUE),\"\"))","v":{"$error":"#REF!"}},{"$f":"IF(INDIRECT(\"'Voksen \"&U80&\"'!$c$133\")=\"\",\"\",IFERROR(INDIRECT(\"'Voksen \"&U80&\"'!$c$133\",TRUE),\"\"))","v":{"$error":"#REF!"}},{"$f":"IF(INDIRECT(\"'Voksen \"&U80&\"'!$c$154\")=\"\",\"\",IFERROR(INDIRECT(\"'Voksen \"&U80&\"'!$c$154\",TRUE),\"\"))","v":{"$error":"#REF!"}},{"$f":"IF(INDIRECT(\"'Voksen \"&U80&\"'!$c$169\")=\"\",\"\",IFERROR(INDIRECT(\"'Voksen \"&U80&\"'!$c$169\",TRUE),\"\"))","v":{"$error":"#REF!"}},{"$f":"IF(INDIRECT(\"'Voksen \"&U80&\"'!$c$186\")=\"\",\"\",IFERROR(INDIRECT(\"'Voksen \"&U80&\"'!$c$186\",TRUE),\"\"))","v":{"$error":"#REF!"}},{"$f":"IF(INDIRECT(\"'Voksen \"&U80&\"'!$c$207\")=\"\",\"\",IFERROR(INDIRECT(\"'Voksen \"&U80&\"'!$c$207\",TRUE),\"\"))","v":{"$error":"#REF!"}},{"$f":"IF(INDIRECT(\"'Voksen \"&U80&\"'!$c$229\")=\"\",\"\",IFERROR(INDIRECT(\"'Voksen \"&U80&\"'!$c$229\",TRUE),\"\"))","v":{"$error":"#REF!"}},{"$f":"IF(INDIRECT(\"'Voksen \"&U80&\"'!$c$255\")=\"\",\"\",IFERROR(INDIRECT(\"'Voksen \"&U80&\"'!$c$255\",TRUE),\"\"))","v":{"$error":"#REF!"}},null,{"$f":"IF(INDIRECT(\"'Børn \"&U80&\"'!$c$123\")=\"\",\"\",IFERROR(INDIRECT(\"'Børn \"&U80&\"'!$c$123\",TRUE),\"\"))","v":{"$error":"#REF!"}},{"$f":"IF(INDIRECT(\"'Børn \"&U80&\"'!$c$139\")=\"\",\"\",IFERROR(INDIRECT(\"'Børn \"&U80&\"'!$c$139\",TRUE),\"\"))","v":{"$error":"#REF!"}},{"$f":"IF(INDIRECT(\"'Børn \"&U80&\"'!$c$163\")=\"\",\"\",IFERROR(INDIRECT(\"'Børn \"&U80&\"'!$c$163\",TRUE),\"\"))","v":{"$error":"#REF!"}},{"$f":"IF(INDIRECT(\"'Børn \"&U80&\"'!$c$177\")=\"\",\"\",IFERROR(INDIRECT(\"'Børn \"&U80&\"'!$c$177\",TRUE),\"\"))","v":{"$error":"#REF!"}},{"$f":"IF(INDIRECT(\"'Børn \"&U80&\"'!$c$197\")=\"\",\"\",IFERROR(INDIRECT(\"'Børn \"&U80&\"'!$c$197\",TRUE),\"\"))","v":{"$error":"#REF!"}},{"$f":"IF(INDIRECT(\"'Børn \"&U80&\"'!$c$218\")=\"\",\"\",IFERROR(INDIRECT(\"'Børn \"&U80&\"'!$c$218\",TRUE),\"\"))","v":{"$error":"#REF!"}},{"$f":"IF(INDIRECT(\"'Børn \"&U80&\"'!$c$241\")=\"\",\"\",IFERROR(INDIRECT(\"'Børn \"&U80&\"'!$c$241\",TRUE),\"\"))","v":{"$error":"#REF!"}}]
["Tilsyn 7","Status:  gul",{"$f":"COUNTIF(IF(ISERROR(INDIRECT(\"'Voksen \"&A81&\"'!$H$31\",TRUE)),\"\",INDIRECT(\"'Voksen \"&A81&\"'!$H$31\",TRUE)),2)","v":{"$error":"#VALUE!"}},{"$f":"COUNTIF(IF(ISERROR(INDIRECT(\"'Voksen \"&A81&\"'!$H$41\",TRUE)),\"\",INDIRECT(\"'Voksen \"&A81&\"'!$H$41\",TRUE)),2)","v":{"$error":"#VALUE!"}},{"$f":"COUNTIF(IF(ISERROR(INDIRECT(\"'Voksen \"&A81&\"'!$H$50\",TRUE)),\"\",INDIRECT(\"'Voksen \"&A81&\"'!$H$50\",TRUE)),2)","v":{"$error":"#VALUE!"}},{"$f":"COUNTIF(IF(ISERROR(INDIRECT(\"'Voksen \"&A81&\"'!$H$58\",TRUE)),\"\",INDIRECT(\"'Voksen \"&A81&\"'!$H$58\",TRUE)),2)","v":{"$error":"#VALUE!"}},{"$f":"COUNTIF(IF(ISERROR(INDIRECT(\"'Voksen \"&A81&\"'!$H$69\",TRUE)),\"\",INDIRECT(\"'Voksen \"&A81&\"'!$H$69\",TRUE)),2)","v":{"$error":"#VALUE!"}},{"$f":"COUNTIF(IF(ISERROR(INDIRECT(\"'Voksen \"&A81&\"'!$H$77\",TRUE)),\"\",INDIRECT(\"'Voksen \"&A81&\"'!$H$77\",TRUE)),2)","v":{"$error":"#VALUE!"}},null,null,{"$f":"COUNTIF(IF(ISERROR(INDIRECT(\"'Børn \"&A81&\"'!$H$31\",TRUE)),\"\",INDIRECT(\"'Børn \"&A81&\"'!$H$31\",TRUE)),2)","v":{"$error":"#VALUE!"}},{"$f":"COUNTIF(IF(ISERROR(INDIRECT(\"'Børn \"&A81&\"'!$H$44\",TRUE)),\"\",INDIRECT(\"'Børn \"&A81&\"'!$H$44\",TRUE)),2)","v":{"$error":"#VALUE!"}},{"$f":"COUNTIF(IF(ISERROR(INDIRECT(\"'Børn \"&A81&\"'!$H$53\",TRUE)),\"\",INDIRECT(\"'Børn \"&A81&\"'!$H$53\",TRUE)),2)","v":{"$error":"#VALUE!"}},{"$f":"COUNTIF(IF(ISERROR(INDIRECT(\"'Børn \"&A81&\"'!$H$61\",TRUE)),\"\",INDIRECT(\"'Børn \"&A81&\"'!$H$61\",TRUE)),2)","v":{"$error":"#VALUE!"}},{"$f":"COUNTIF(IF(ISERROR(INDIRECT(\"'Børn \"&A81&\"'!$H$68\",TRUE)),\"\",INDIRECT(\"'Børn \"&A81&\"'!$H$68\",TRUE)),2)","v":{"$error":"#VALUE!"}},{"$f":"COUNTIF(IF(ISERROR(INDIRECT(\"'Børn \"&A81&\"'!$H$79\",TRUE)),\"\",INDIRECT(\"'Børn \"&A81&\"'!$H$79\",TRUE)),2)","v":{"$error":"#VALUE!"}},{"$f":"COUNTIF(IF(ISERROR(INDIRECT(\"'Børn \"&A81&\"'!$H$87\",TRUE)),\"\",INDIRECT(\"'Børn \"&A81&\"'!$H$87\",TRUE)),2)","v":{"$error":"#VALUE!"}},null,null,null,{"$f":"U80","v":"Tilsyn 10"},{"$f":"IF(INDIRECT(\"'Voksen \"&U81&\"'!$c$115\")=\"\",\"\",IFERROR(INDIRECT(\"'Voksen \"&U81&\"'!$c$115\",TRUE),\"\"))","v":{"$error":"#REF!"}},{"$f":"IF(INDIRECT(\"'Voksen \"&U81&\"'!$c$136\")=\"\",\"\",IFERROR(INDIRECT(\"'Voksen \"&U81&\"'!$c$136\",TRUE),\"\"))","v":{"$error":"#REF!"}},{"$f":"IF(INDIRECT(\"'Voksen \"&U81&\"'!$c$157\")=\"\",\"\",IFERROR(INDIRECT(\"'Voksen \"&U81&\"'!$c$157\",TRUE),\"\"))","v":{"$error":"#REF!"}},{"$f":"IF(INDIRECT(\"'Voksen \"&U81&\"'!$c$172\")=\"\",\"\",IFERROR(INDIRECT(\"'Voksen \"&U81&\"'!$c$172\",TRUE),\"\"))","v":{"$error":"#REF!"}},{"$f":"IF(INDIRECT(\"'Voksen \"&U81&\"'!$c$189\")=\"\",\"\",IFERROR(INDIRECT(\"'Voksen \"&U81&\"'!$c$189\",TRUE),\"\"))","v":{"$error":"#REF!"}},{"$f":"IF(INDIRECT(\"'Voksen \"&U81&\"'!$c$210\")=\"\",\"\",IFERROR(INDIRECT(\"'Voksen \"&U81&\"'!$c$210\",TRUE),\"\"))","v":{"$error":"#REF!"}},{"$f":"IF(INDIRECT(\"'Voksen \"&U81&\"'!$c$232\")=\"\",\"\",IFERROR(INDIRECT(\"'Voksen \"&U81&\"'!$c$232\",TRUE),\"\"))","v":{"$error":"#REF!"}},{"$f":"IF(INDIRECT(\"'Voksen \"&U81&\"'!$c$258\")=\"\",\"\",IFERROR(INDIRECT(\"'Voksen \"&U81&\"'!$c$258\",TRUE),\"\"))","v":{"$error":"#REF!"}},null,{"$f":"IF(INDIRECT(\"'Børn \"&U81&\"'!$c$126\")=\"\",\"\",IFERROR(INDIRECT(\"'Børn \"&U81&\"'!$c$126\",TRUE),\"\"))","v":{"$error":"#REF!"}},{"$f":"IF(INDIRECT(\"'Børn \"&U81&\"'!$c$142\")=\"\",\"\",IFERROR(INDIRECT(\"'Børn \"&U81&\"'!$c$142\",TRUE),\"\"))","v":{"$error":"#REF!"}},{"$f":"IF(INDIRECT(\"'Børn \"&U81&\"'!$c$166\")=\"\",\"\",IFERROR(INDIRECT(\"'Børn \"&U81&\"'!$c$166\",TRUE),\"\"))","v":{"$error":"#REF!"}},{"$f":"IF(INDIRECT(\"'Børn \"&U81&\"'!$c$180\")=\"\",\"\",IFERROR(INDIRECT(\"'Børn \"&U81&\"'!$c$180\",TRUE),\"\"))","v":{"$error":"#REF!"}},{"$f":"IF(INDIRECT(\"'Børn \"&U81&\"'!$c$200\")=\"\",\"\",IFERROR(INDIRECT(\"'Børn \"&U81&\"'!$c$200\",TRUE),\"\"))","v":{"$error":"#REF!"}},{"$f":"IF(INDIRECT(\"'Børn \"&U81&\"'!$c$221\")=\"\",\"\",IFERROR(INDIRECT(\"'Børn \"&U81&\"'!$c$221\",TRUE),\"\"))","v":{"$error":"#REF!"}},{"$f":"IF(INDIRECT(\"'Børn \"&U81&\"'!$c$244\")=\"\",\"\",IFERROR(INDIRECT(\"'Børn \"&U81&\"'!$c$244\",TRUE),\"\"))","v":{"$error":"#REF!"}}]
["Tilsyn 7","Status:  rød",{"$f":"COUNTIF(IF(ISERROR(INDIRECT(\"'Voksen \"&A82&\"'!$H$31\",TRUE)),\"\",INDIRECT(\"'Voksen \"&A82&\"'!$H$31\",TRUE)),3)","v":{"$error":"#VALUE!"}},{"$f":"COUNTIF(IF(ISERROR(INDIRECT(\"'Voksen \"&A82&\"'!$H$41\",TRUE)),\"\",INDIRECT(\"'Voksen \"&A82&\"'!$H$41\",TRUE)),3)","v":{"$error":"#VALUE!"}},{"$f":"COUNTIF(IF(ISERROR(INDIRECT(\"'Voksen \"&A82&\"'!$H$50\",TRUE)),\"\",INDIRECT(\"'Voksen \"&A82&\"'!$H$50\",TRUE)),3)","v":{"$error":"#VALUE!"}},{"$f":"COUNTIF(IF(ISERROR(INDIRECT(\"'Voksen \"&A82&\"'!$H$58\",TRUE)),\"\",INDIRECT(\"'Voksen \"&A82&\"'!$H$58\",TRUE)),3)","v":{"$error":"#VALUE!"}},{"$f":"COUNTIF(IF(ISERROR(INDIRECT(\"'Voksen \"&A82&\"'!$H$69\",TRUE)),\"\",INDIRECT(\"'Voksen \"&A82&\"'!$H$69\",TRUE)),3)","v":{"$error":"#VALUE!"}},{"$f":"COUNTIF(IF(ISERROR(INDIRECT(\"'Voksen \"&A82&\"'!$H$77\",TRUE)),\"\",INDIRECT(\"'Voksen \"&A82&\"'!$H$77\",TRUE)),3)","v":{"$error":"#VALUE!"}},null,null,{"$f":"COUNTIF(IF(ISERROR(INDIRECT(\"'Børn \"&A82&\"'!$H$31\",TRUE)),\"\",INDIRECT(\"'Børn \"&A82&\"'!$H$31\",TRUE)),3)","v":{"$error":"#VALUE!"}},{"$f":"COUNTIF(IF(ISERROR(INDIRECT(\"'Børn \"&A82&\"'!$H$44\",TRUE)),\"\",INDIRECT(\"'Børn \"&A82&\"'!$H$44\",TRUE)),3)","v":{"$error":"#VALUE!"}},{"$f":"COUNTIF(IF(ISERROR(INDIRECT(\"'Børn \"&A82&\"'!$H$53\",TRUE)),\"\",INDIRECT(\"'Børn \"&A82&\"'!$H$53\",TRUE)),3)","v":{"$error":"#VALUE!"}},{"$f":"COUNTIF(IF(ISERROR(INDIRECT(\"'Børn \"&A82&\"'!$H$61\",TRUE)),\"\",INDIRECT(\"'Børn \"&A82&\"'!$H$61\",TRUE)),3)","v":{"$error":"#VALUE!"}},{"$f":"COUNTIF(IF(ISERROR(INDIRECT(\"'Børn \"&A82&\"'!$H$68\",TRUE)),\"\",INDIRECT(\"'Børn \"&A82&\"'!$H$68\",TRUE)),3)","v":{"$error":"#VALUE!"}},{"$f":"COUNTIF(IF(ISERROR(INDIRECT(\"'Børn \"&A82&\"'!$H$79\",TRUE)),\"\",INDIRECT(\"'Børn \"&A82&\"'!$H$79\",TRUE)),3)","v":{"$error":"#VALUE!"}},{"$f":"COUNTIF(IF(ISERROR(INDIRECT(\"'Børn \"&A82&\"'!$H$87\",TRUE)),\"\",INDIRECT(\"'Børn \"&A82&\"'!$H$87\",TRUE)),3)","v":{"$error":"#VALUE!"}},null,null,null,"Tilsyn 11",{"$f":"IF(INDIRECT(\"'Voksen \"&U82&\"'!$c$112\")=\"\",\"\",IFERROR(INDIRECT(\"'Voksen \"&U82&\"'!$c$112\",TRUE),\"\"))","v":{"$error":"#REF!"}},{"$f":"IF(INDIRECT(\"'Voksen \"&U82&\"'!$c$133\")=\"\",\"\",IFERROR(INDIRECT(\"'Voksen \"&U82&\"'!$c$133\",TRUE),\"\"))","v":{"$error":"#REF!"}},{"$f":"IF(INDIRECT(\"'Voksen \"&U82&\"'!$c$154\")=\"\",\"\",IFERROR(INDIRECT(\"'Voksen \"&U82&\"'!$c$154\",TRUE),\"\"))","v":{"$error":"#REF!"}},{"$f":"IF(INDIRECT(\"'Voksen \"&U82&\"'!$c$169\")=\"\",\"\",IFERROR(INDIRECT(\"'Voksen \"&U82&\"'!$c$169\",TRUE),\"\"))","v":{"$error":"#REF!"}},{"$f":"IF(INDIRECT(\"'Voksen \"&U82&\"'!$c$186\")=\"\",\"\",IFERROR(INDIRECT(\"'Voksen \"&U82&\"'!$c$186\",TRUE),\"\"))","v":{"$error":"#REF!"}},{"$f":"IF(INDIRECT(\"'Voksen \"&U82&\"'!$c$207\")=\"\",\"\",IFERROR(INDIRECT(\"'Voksen \"&U82&\"'!$c$207\",TRUE),\"\"))","v":{"$error":"#REF!"}},{"$f":"IF(INDIRECT(\"'Voksen \"&U82&\"'!$c$229\")=\"\",\"\",IFERROR(INDIRECT(\"'Voksen \"&U82&\"'!$c$229\",TRUE),\"\"))","v":{"$error":"#REF!"}},{"$f":"IF(INDIRECT(\"'Voksen \"&U82&\"'!$c$255\")=\"\",\"\",IFERROR(INDIRECT(\"'Voksen \"&U82&\"'!$c$255\",TRUE),\"\"))","v":{"$error":"#REF!"}},null,{"$f":"IF(INDIRECT(\"'Børn \"&U82&\"'!$c$123\")=\"\",\"\",IFERROR(INDIRECT(\"'Børn \"&U82&\"'!$c$123\",TRUE),\"\"))","v":{"$error":"#REF!"}},{"$f":"IF(INDIRECT(\"'Børn \"&U82&\"'!$c$139\")=\"\",\"\",IFERROR(INDIRECT(\"'Børn \"&U82&\"'!$c$139\",TRUE),\"\"))","v":{"$error":"#REF!"}},{"$f":"IF(INDIRECT(\"'Børn \"&U82&\"'!$c$163\")=\"\",\"\",IFERROR(INDIRECT(\"'Børn \"&U82&\"'!$c$163\",TRUE),\"\"))","v":{"$error":"#REF!"}},{"$f":"IF(INDIRECT(\"'Børn \"&U82&\"'!$c$177\")=\"\",\"\",IFERROR(INDIRECT(\"'Børn \"&U82&\"'!$c$177\",TRUE),\"\"))","v":{"$error":"#REF!"}},{"$f":"IF(INDIRECT(\"'Børn \"&U82&\"'!$c$197\")=\"\",\"\",IFERROR(INDIRECT(\"'Børn \"&U82&\"'!$c$197\",TRUE),\"\"))","v":{"$error":"#REF!"}},{"$f":"IF(INDIRECT(\"'Børn \"&U82&\"'!$c$218\")=\"\",\"\",IFERROR(INDIRECT(\"'Børn \"&U82&\"'!$c$218\",TRUE),\"\"))","v":{"$error":"#REF!"}},{"$f":"IF(INDIRECT(\"'Børn \"&U82&\"'!$c$241\")=\"\",\"\",IFERROR(INDIRECT(\"'Børn \"&U82&\"'!$c$241\",TRUE),\"\"))","v":{"$error":"#REF!"}}]
["Tilsyn 8","Status:  grøn",{"$f":"COUNTIF(IF(ISERROR(INDIRECT(\"'Voksen \"&A83&\"'!$H$31\",TRUE)),\"\",INDIRECT(\"'Voksen \"&A83&\"'!$H$31\",TRUE)),1)","v":{"$error":"#VALUE!"}},{"$f":"COUNTIF(IF(ISERROR(INDIRECT(\"'Voksen \"&A83&\"'!$H$41\",TRUE)),\"\",INDIRECT(\"'Voksen \"&A83&\"'!$H$41\",TRUE)),1)","v":{"$error":"#VALUE!"}},{"$f":"COUNTIF(IF(ISERROR(INDIRECT(\"'Voksen \"&A83&\"'!$H$50\",TRUE)),\"\",INDIRECT(\"'Voksen \"&A83&\"'!$H$50\",TRUE)),1)","v":{"$error":"#VALUE!"}},{"$f":"COUNTIF(IF(ISERROR(INDIRECT(\"'Voksen \"&A83&\"'!$H$58\",TRUE)),\"\",INDIRECT(\"'Voksen \"&A83&\"'!$H$58\",TRUE)),1)","v":{"$error":"#VALUE!"}},{"$f":"COUNTIF(IF(ISERROR(INDIRECT(\"'Voksen \"&A83&\"'!$H$69\",TRUE)),\"\",INDIRECT(\"'Voksen \"&A83&\"'!$H$69\",TRUE)),1)","v":{"$error":"#VALUE!"}},{"$f":"COUNTIF(IF(ISERROR(INDIRECT(\"'Voksen \"&A83&\"'!$H$77\",TRUE)),\"\",INDIRECT(\"'Voksen \"&A83&\"'!$H$77\",TRUE)),1)","v":{"$error":"#VALUE!"}},null,null,{"$f":"COUNTIF(IF(ISERROR(INDIRECT(\"'Børn \"&A83&\"'!$H$31\",TRUE)),\"\",INDIRECT(\"'Børn \"&A83&\"'!$H$31\",TRUE)),1)","v":{"$error":"#VALUE!"}},{"$f":"COUNTIF(IF(ISERROR(INDIRECT(\"'Børn \"&A83&\"'!$H$44\",TRUE)),\"\",INDIRECT(\"'Børn \"&A83&\"'!$H$44\",TRUE)),1)","v":{"$error":"#VALUE!"}},{"$f":"COUNTIF(IF(ISERROR(INDIRECT(\"'Børn \"&A83&\"'!$H$53\",TRUE)),\"\",INDIRECT(\"'Børn \"&A83&\"'!$H$53\",TRUE)),1)","v":{"$error":"#VALUE!"}},{"$f":"COUNTIF(IF(ISERROR(INDIRECT(\"'Børn \"&A83&\"'!$H$61\",TRUE)),\"\",INDIRECT(\"'Børn \"&A83&\"'!$H$61\",TRUE)),1)","v":{"$error":"#VALUE!"}},{"$f":"COUNTIF(IF(ISERROR(INDIRECT(\"'Børn \"&A83&\"'!$H$68\",TRUE)),\"\",INDIRECT(\"'Børn \"&A83&\"'!$H$68\",TRUE)),1)","v":{"$error":"#VALUE!"}},{"$f":"COUNTIF(IF(ISERROR(INDIRECT(\"'Børn \"&A83&\"'!$H$79\",TRUE)),\"\",INDIRECT(\"'Børn \"&A83&\"'!$H$79\",TRUE)),1)","v":{"$error":"#VALUE!"}},{"$f":"COUNTIF(IF(ISERROR(INDIRECT(\"'Børn \"&A83&\"'!$H$87\",TRUE)),\"\",INDIRECT(\"'Børn \"&A83&\"'!$H$87\",TRUE)),1)","v":{"$error":"#VALUE!"}},null,null,null,{"$f":"U82","v":"Tilsyn 11"},{"$f":"IF(INDIRECT(\"'Voksen \"&U83&\"'!$c$115\")=\"\",\"\",IFERROR(INDIRECT(\"'Voksen \"&U83&\"'!$c$115\",TRUE),\"\"))","v":{"$error":"#REF!"}},{"$f":"IF(INDIRECT(\"'Voksen \"&U83&\"'!$c$136\")=\"\",\"\",IFERROR(INDIRECT(\"'Voksen \"&U83&\"'!$c$136\",TRUE),\"\"))","v":{"$error":"#REF!"}},{"$f":"IF(INDIRECT(\"'Voksen \"&U83&\"'!$c$157\")=\"\",\"\",IFERROR(INDIRECT(\"'Voksen \"&U83&\"'!$c$157\",TRUE),\"\"))","v":{"$error":"#REF!"}},{"$f":"IF(INDIRECT(\"'Voksen \"&U83&\"'!$c$172\")=\"\",\"\",IFERROR(INDIRECT(\"'Voksen \"&U83&\"'!$c$172\",TRUE),\"\"))","v":{"$error":"#REF!"}},{"$f":"IF(INDIRECT(\"'Voksen \"&U83&\"'!$c$189\")=\"\",\"\",IFERROR(INDIRECT(\"'Voksen \"&U83&\"'!$c$189\",TRUE),\"\"))","v":{"$error":"#REF!"}},{"$f":"IF(INDIRECT(\"'Voksen \"&U83&\"'!$c$210\")=\"\",\"\",IFERROR(INDIRECT(\"'Voksen \"&U83&\"'!$c$210\",TRUE),\"\"))","v":{"$error":"#REF!"}},{"$f":"IF(INDIRECT(\"'Voksen \"&U83&\"'!$c$232\")=\"\",\"\",IFERROR(INDIRECT(\"'Voksen \"&U83&\"'!$c$232\",TRUE),\"\"))","v":{"$error":"#REF!"}},{"$f":"IF(INDIRECT(\"'Voksen \"&U83&\"'!$c$258\")=\"\",\"\",IFERROR(INDIRECT(\"'Voksen \"&U83&\"'!$c$258\",TRUE),\"\"))","v":{"$error":"#REF!"}},null,{"$f":"IF(INDIRECT(\"'Børn \"&U83&\"'!$c$126\")=\"\",\"\",IFERROR(INDIRECT(\"'Børn \"&U83&\"'!$c$126\",TRUE),\"\"))","v":{"$error":"#REF!"}},{"$f":"IF(INDIRECT(\"'Børn \"&U83&\"'!$c$142\")=\"\",\"\",IFERROR(INDIRECT(\"'Børn \"&U83&\"'!$c$142\",TRUE),\"\"))","v":{"$error":"#REF!"}},{"$f":"IF(INDIRECT(\"'Børn \"&U83&\"'!$c$166\")=\"\",\"\",IFERROR(INDIRECT(\"'Børn \"&U83&\"'!$c$166\",TRUE),\"\"))","v":{"$error":"#REF!"}},{"$f":"IF(INDIRECT(\"'Børn \"&U83&\"'!$c$180\")=\"\",\"\",IFERROR(INDIRECT(\"'Børn \"&U83&\"'!$c$180\",TRUE),\"\"))","v":{"$error":"#REF!"}},{"$f":"IF(INDIRECT(\"'Børn \"&U83&\"'!$c$200\")=\"\",\"\",IFERROR(INDIRECT(\"'Børn \"&U83&\"'!$c$200\",TRUE),\"\"))","v":{"$error":"#REF!"}},{"$f":"IF(INDIRECT(\"'Børn \"&U83&\"'!$c$221\")=\"\",\"\",IFERROR(INDIRECT(\"'Børn \"&U83&\"'!$c$221\",TRUE),\"\"))","v":{"$error":"#REF!"}},{"$f":"IF(INDIRECT(\"'Børn \"&U83&\"'!$c$244\")=\"\",\"\",IFERROR(INDIRECT(\"'Børn \"&U83&\"'!$c$244\",TRUE),\"\"))","v":{"$error":"#REF!"}}]
["Tilsyn 8","Status:  gul",{"$f":"COUNTIF(IF(ISERROR(INDIRECT(\"'Voksen \"&A84&\"'!$H$31\",TRUE)),\"\",INDIRECT(\"'Voksen \"&A84&\"'!$H$31\",TRUE)),2)","v":{"$error":"#VALUE!"}},{"$f":"COUNTIF(IF(ISERROR(INDIRECT(\"'Voksen \"&A84&\"'!$H$41\",TRUE)),\"\",INDIRECT(\"'Voksen \"&A84&\"'!$H$41\",TRUE)),2)","v":{"$error":"#VALUE!"}},{"$f":"COUNTIF(IF(ISERROR(INDIRECT(\"'Voksen \"&A84&\"'!$H$50\",TRUE)),\"\",INDIRECT(\"'Voksen \"&A84&\"'!$H$50\",TRUE)),2)","v":{"$error":"#VALUE!"}},{"$f":"COUNTIF(IF(ISERROR(INDIRECT(\"'Voksen \"&A84&\"'!$H$58\",TRUE)),\"\",INDIRECT(\"'Voksen \"&A84&\"'!$H$58\",TRUE)),2)","v":{"$error":"#VALUE!"}},{"$f":"COUNTIF(IF(ISERROR(INDIRECT(\"'Voksen \"&A84&\"'!$H$69\",TRUE)),\"\",INDIRECT(\"'Voksen \"&A84&\"'!$H$69\",TRUE)),2)","v":{"$error":"#VALUE!"}},{"$f":"COUNTIF(IF(ISERROR(INDIRECT(\"'Voksen \"&A84&\"'!$H$77\",TRUE)),\"\",INDIRECT(\"'Voksen \"&A84&\"'!$H$77\",TRUE)),2)","v":{"$error":"#VALUE!"}},null,null,{"$f":"COUNTIF(IF(ISERROR(INDIRECT(\"'Børn \"&A84&\"'!$H$31\",TRUE)),\"\",INDIRECT(\"'Børn \"&A84&\"'!$H$31\",TRUE)),2)","v":{"$error":"#VALUE!"}},{"$f":"COUNTIF(IF(ISERROR(INDIRECT(\"'Børn \"&A84&\"'!$H$44\",TRUE)),\"\",INDIRECT(\"'Børn \"&A84&\"'!$H$44\",TRUE)),2)","v":{"$error":"#VALUE!"}},{"$f":"COUNTIF(IF(ISERROR(INDIRECT(\"'Børn \"&A84&\"'!$H$53\",TRUE)),\"\",INDIRECT(\"'Børn \"&A84&\"'!$H$53\",TRUE)),2)","v":{"$error":"#VALUE!"}},{"$f":"COUNTIF(IF(ISERROR(INDIRECT(\"'Børn \"&A84&\"'!$H$61\",TRUE)),\"\",INDIRECT(\"'Børn \"&A84&\"'!$H$61\",TRUE)),2)","v":{"$error":"#VALUE!"}},{"$f":"COUNTIF(IF(ISERROR(INDIRECT(\"'Børn \"&A84&\"'!$H$68\",TRUE)),\"\",INDIRECT(\"'Børn \"&A84&\"'!$H$68\",TRUE)),2)","v":{"$error":"#VALUE!"}},{"$f":"COUNTIF(IF(ISERROR(INDIRECT(\"'Børn \"&A84&\"'!$H$79\",TRUE)),\"\",INDIRECT(\"'Børn \"&A84&\"'!$H$79\",TRUE)),2)","v":{"$error":"#VALUE!"}},{"$f":"COUNTIF(IF(ISERROR(INDIRECT(\"'Børn \"&A84&\"'!$H$87\",TRUE)),\"\",INDIRECT(\"'Børn \"&A84&\"'!$H$87\",TRUE)),2)","v":{"$error":"#VALUE!"}},null,null,null,"Tilsyn 12",{"$f":"IF(INDIRECT(\"'Voksen \"&U84&\"'!$c$112\")=\"\",\"\",IFERROR(INDIRECT(\"'Voksen \"&U84&\"'!$c$112\",TRUE),\"\"))","v":{"$error":"#REF!"}},{"$f":"IF(INDIRECT(\"'Voksen \"&U84&\"'!$c$133\")=\"\",\"\",IFERROR(INDIRECT(\"'Voksen \"&U84&\"'!$c$133\",TRUE),\"\"))","v":{"$error":"#REF!"}},{"$f":"IF(INDIRECT(\"'Voksen \"&U84&\"'!$c$154\")=\"\",\"\",IFERROR(INDIRECT(\"'Voksen \"&U84&\"'!$c$154\",TRUE),\"\"))","v":{"$error":"#REF!"}},{"$f":"IF(INDIRECT(\"'Voksen \"&U84&\"'!$c$169\")=\"\",\"\",IFERROR(INDIRECT(\"'Voksen \"&U84&\"'!$c$169\",TRUE),\"\"))","v":{"$error":"#REF!"}},{"$f":"IF(INDIRECT(\"'Voksen \"&U84&\"'!$c$186\")=\"\",\"\",IFERROR(INDIRECT(\"'Voksen \"&U84&\"'!$c$186\",TRUE),\"\"))","v":{"$error":"#REF!"}},{"$f":"IF(INDIRECT(\"'Voksen \"&U84&\"'!$c$207\")=\"\",\"\",IFERROR(INDIRECT(\"'Voksen \"&U84&\"'!$c$207\",TRUE),\"\"))","v":{"$error":"#REF!"}},{"$f":"IF(INDIRECT(\"'Voksen \"&U84&\"'!$c$229\")=\"\",\"\",IFERROR(INDIRECT(\"'Voksen \"&U84&\"'!$c$229\",TRUE),\"\"))","v":{"$error":"#REF!"}},{"$f":"IF(INDIRECT(\"'Voksen \"&U84&\"'!$c$255\")=\"\",\"\",IFERROR(INDIRECT(\"'Voksen \"&U84&\"'!$c$255\",TRUE),\"\"))","v":{"$error":"#REF!"}},null,{"$f":"IF(INDIRECT(\"'Børn \"&U84&\"'!$c$123\")=\"\",\"\",IFERROR(INDIRECT(\"'Børn \"&U84&\"'!$c$123\",TRUE),\"\"))","v":{"$error":"#REF!"}},{"$f":"IF(INDIRECT(\"'Børn \"&U84&\"'!$c$139\")=\"\",\"\",IFERROR(INDIRECT(\"'Børn \"&U84&\"'!$c$139\",TRUE),\"\"))","v":{"$error":"#REF!"}},{"$f":"IF(INDIRECT(\"'Børn \"&U84&\"'!$c$163\")=\"\",\"\",IFERROR(INDIRECT(\"'Børn \"&U84&\"'!$c$163\",TRUE),\"\"))","v":{"$error":"#REF!"}},{"$f":"IF(INDIRECT(\"'Børn \"&U84&\"'!$c$177\")=\"\",\"\",IFERROR(INDIRECT(\"'Børn \"&U84&\"'!$c$177\",TRUE),\"\"))","v":{"$error":"#REF!"}},{"$f":"IF(INDIRECT(\"'Børn \"&U84&\"'!$c$197\")=\"\",\"\",IFERROR(INDIRECT(\"'Børn \"&U84&\"'!$c$197\",TRUE),\"\"))","v":{"$error":"#REF!"}},{"$f":"IF(INDIRECT(\"'Børn \"&U84&\"'!$c$218\")=\"\",\"\",IFERROR(INDIRECT(\"'Børn \"&U84&\"'!$c$218\",TRUE),\"\"))","v":{"$error":"#REF!"}},{"$f":"IF(INDIRECT(\"'Børn \"&U84&\"'!$c$241\")=\"\",\"\",IFERROR(INDIRECT(\"'Børn \"&U84&\"'!$c$241\",TRUE),\"\"))","v":{"$error":"#REF!"}}]
["Tilsyn 8","Status:  rød",{"$f":"COUNTIF(IF(ISERROR(INDIRECT(\"'Voksen \"&A85&\"'!$H$31\",TRUE)),\"\",INDIRECT(\"'Voksen \"&A85&\"'!$H$31\",TRUE)),3)","v":{"$error":"#VALUE!"}},{"$f":"COUNTIF(IF(ISERROR(INDIRECT(\"'Voksen \"&A85&\"'!$H$41\",TRUE)),\"\",INDIRECT(\"'Voksen \"&A85&\"'!$H$41\",TRUE)),3)","v":{"$error":"#VALUE!"}},{"$f":"COUNTIF(IF(ISERROR(INDIRECT(\"'Voksen \"&A85&\"'!$H$50\",TRUE)),\"\",INDIRECT(\"'Voksen \"&A85&\"'!$H$50\",TRUE)),3)","v":{"$error":"#VALUE!"}},{"$f":"COUNTIF(IF(ISERROR(INDIRECT(\"'Voksen \"&A85&\"'!$H$58\",TRUE)),\"\",INDIRECT(\"'Voksen \"&A85&\"'!$H$58\",TRUE)),3)","v":{"$error":"#VALUE!"}},{"$f":"COUNTIF(IF(ISERROR(INDIRECT(\"'Voksen \"&A85&\"'!$H$69\",TRUE)),\"\",INDIRECT(\"'Voksen \"&A85&\"'!$H$69\",TRUE)),3)","v":{"$error":"#VALUE!"}},{"$f":"COUNTIF(IF(ISERROR(INDIRECT(\"'Voksen \"&A85&\"'!$H$77\",TRUE)),\"\",INDIRECT(\"'Voksen \"&A85&\"'!$H$77\",TRUE)),3)","v":{"$error":"#VALUE!"}},null,null,{"$f":"COUNTIF(IF(ISERROR(INDIRECT(\"'Børn \"&A85&\"'!$H$31\",TRUE)),\"\",INDIRECT(\"'Børn \"&A85&\"'!$H$31\",TRUE)),3)","v":{"$error":"#VALUE!"}},{"$f":"COUNTIF(IF(ISERROR(INDIRECT(\"'Børn \"&A85&\"'!$H$44\",TRUE)),\"\",INDIRECT(\"'Børn \"&A85&\"'!$H$44\",TRUE)),3)","v":{"$error":"#VALUE!"}},{"$f":"COUNTIF(IF(ISERROR(INDIRECT(\"'Børn \"&A85&\"'!$H$53\",TRUE)),\"\",INDIRECT(\"'Børn \"&A85&\"'!$H$53\",TRUE)),3)","v":{"$error":"#VALUE!"}},{"$f":"COUNTIF(IF(ISERROR(INDIRECT(\"'Børn \"&A85&\"'!$H$61\",TRUE)),\"\",INDIRECT(\"'Børn \"&A85&\"'!$H$61\",TRUE)),3)","v":{"$error":"#VALUE!"}},{"$f":"COUNTIF(IF(ISERROR(INDIRECT(\"'Børn \"&A85&\"'!$H$68\",TRUE)),\"\",INDIRECT(\"'Børn \"&A85&\"'!$H$68\",TRUE)),3)","v":{"$error":"#VALUE!"}},{"$f":"COUNTIF(IF(ISERROR(INDIRECT(\"'Børn \"&A85&\"'!$H$79\",TRUE)),\"\",INDIRECT(\"'Børn \"&A85&\"'!$H$79\",TRUE)),3)","v":{"$error":"#VALUE!"}},{"$f":"COUNTIF(IF(ISERROR(INDIRECT(\"'Børn \"&A85&\"'!$H$87\",TRUE)),\"\",INDIRECT(\"'Børn \"&A85&\"'!$H$87\",TRUE)),3)","v":{"$error":"#VALUE!"}},null,null,null,{"$f":"U84","v":"Tilsyn 12"},{"$f":"IF(INDIRECT(\"'Voksen \"&U85&\"'!$c$115\")=\"\",\"\",IFERROR(INDIRECT(\"'Voksen \"&U85&\"'!$c$115\",TRUE),\"\"))","v":{"$error":"#REF!"}},{"$f":"IF(INDIRECT(\"'Voksen \"&U85&\"'!$c$136\")=\"\",\"\",IFERROR(INDIRECT(\"'Voksen \"&U85&\"'!$c$136\",TRUE),\"\"))","v":{"$error":"#REF!"}},{"$f":"IF(INDIRECT(\"'Voksen \"&U85&\"'!$c$157\")=\"\",\"\",IFERROR(INDIRECT(\"'Voksen \"&U85&\"'!$c$157\",TRUE),\"\"))","v":{"$error":"#REF!"}},{"$f":"IF(INDIRECT(\"'Voksen \"&U85&\"'!$c$172\")=\"\",\"\",IFERROR(INDIRECT(\"'Voksen \"&U85&\"'!$c$172\",TRUE),\"\"))","v":{"$error":"#REF!"}},{"$f":"IF(INDIRECT(\"'Voksen \"&U85&\"'!$c$189\")=\"\",\"\",IFERROR(INDIRECT(\"'Voksen \"&U85&\"'!$c$189\",TRUE),\"\"))","v":{"$error":"#REF!"}},{"$f":"IF(INDIRECT(\"'Voksen \"&U85&\"'!$c$210\")=\"\",\"\",IFERROR(INDIRECT(\"'Voksen \"&U85&\"'!$c$210\",TRUE),\"\"))","v":{"$error":"#REF!"}},{"$f":"IF(INDIRECT(\"'Voksen \"&U85&\"'!$c$232\")=\"\",\"\",IFERROR(INDIRECT(\"'Voksen \"&U85&\"'!$c$232\",TRUE),\"\"))","v":{"$error":"#REF!"}},{"$f":"IF(INDIRECT(\"'Voksen \"&U85&\"'!$c$258\")=\"\",\"\",IFERROR(INDIRECT(\"'Voksen \"&U85&\"'!$c$258\",TRUE),\"\"))","v":{"$error":"#REF!"}},null,{"$f":"IF(INDIRECT(\"'Børn \"&U85&\"'!$c$126\")=\"\",\"\",IFERROR(INDIRECT(\"'Børn \"&U85&\"'!$c$126\",TRUE),\"\"))","v":{"$error":"#REF!"}},{"$f":"IF(INDIRECT(\"'Børn \"&U85&\"'!$c$142\")=\"\",\"\",IFERROR(INDIRECT(\"'Børn \"&U85&\"'!$c$142\",TRUE),\"\"))","v":{"$error":"#REF!"}},{"$f":"IF(INDIRECT(\"'Børn \"&U85&\"'!$c$166\")=\"\",\"\",IFERROR(INDIRECT(\"'Børn \"&U85&\"'!$c$166\",TRUE),\"\"))","v":{"$error":"#REF!"}},{"$f":"IF(INDIRECT(\"'Børn \"&U85&\"'!$c$180\")=\"\",\"\",IFERROR(INDIRECT(\"'Børn \"&U85&\"'!$c$180\",TRUE),\"\"))","v":{"$error":"#REF!"}},{"$f":"IF(INDIRECT(\"'Børn \"&U85&\"'!$c$200\")=\"\",\"\",IFERROR(INDIRECT(\"'Børn \"&U85&\"'!$c$200\",TRUE),\"\"))","v":{"$error":"#REF!"}},{"$f":"IF(INDIRECT(\"'Børn \"&U85&\"'!$c$221\")=\"\",\"\",IFERROR(INDIRECT(\"'Børn \"&U85&\"'!$c$221\",TRUE),\"\"))","v":{"$error":"#REF!"}},{"$f":"IF(INDIRECT(\"'Børn \"&U85&\"'!$c$244\")=\"\",\"\",IFERROR(INDIRECT(\"'Børn \"&U85&\"'!$c$244\",TRUE),\"\"))","v":{"$error":"#REF!"}}]
["Tilsyn 9","Status:  grøn",{"$f":"COUNTIF(IF(ISERROR(INDIRECT(\"'Voksen \"&A86&\"'!$H$31\",TRUE)),\"\",INDIRECT(\"'Voksen \"&A86&\"'!$H$31\",TRUE)),1)","v":{"$error":"#VALUE!"}},{"$f":"COUNTIF(IF(ISERROR(INDIRECT(\"'Voksen \"&A86&\"'!$H$41\",TRUE)),\"\",INDIRECT(\"'Voksen \"&A86&\"'!$H$41\",TRUE)),1)","v":{"$error":"#VALUE!"}},{"$f":"COUNTIF(IF(ISERROR(INDIRECT(\"'Voksen \"&A86&\"'!$H$50\",TRUE)),\"\",INDIRECT(\"'Voksen \"&A86&\"'!$H$50\",TRUE)),1)","v":{"$error":"#VALUE!"}},{"$f":"COUNTIF(IF(ISERROR(INDIRECT(\"'Voksen \"&A86&\"'!$H$58\",TRUE)),\"\",INDIRECT(\"'Voksen \"&A86&\"'!$H$58\",TRUE)),1)","v":{"$error":"#VALUE!"}},{"$f":"COUNTIF(IF(ISERROR(INDIRECT(\"'Voksen \"&A86&\"'!$H$69\",TRUE)),\"\",INDIRECT(\"'Voksen \"&A86&\"'!$H$69\",TRUE)),1)","v":{"$error":"#VALUE!"}},{"$f":"COUNTIF(IF(ISERROR(INDIRECT(\"'Voksen \"&A86&\"'!$H$77\",TRUE)),\"\",INDIRECT(\"'Voksen \"&A86&\"'!$H$77\",TRUE)),1)","v":{"$error":"#VALUE!"}},null,null,{"$f":"COUNTIF(IF(ISERROR(INDIRECT(\"'Børn \"&A86&\"'!$H$31\",TRUE)),\"\",INDIRECT(\"'Børn \"&A86&\"'!$H$31\",TRUE)),1)","v":{"$error":"#VALUE!"}},{"$f":"COUNTIF(IF(ISERROR(INDIRECT(\"'Børn \"&A86&\"'!$H$44\",TRUE)),\"\",INDIRECT(\"'Børn \"&A86&\"'!$H$44\",TRUE)),1)","v":{"$error":"#VALUE!"}},{"$f":"COUNTIF(IF(ISERROR(INDIRECT(\"'Børn \"&A86&\"'!$H$53\",TRUE)),\"\",INDIRECT(\"'Børn \"&A86&\"'!$H$53\",TRUE)),1)","v":{"$error":"#VALUE!"}},{"$f":"COUNTIF(IF(ISERROR(INDIRECT(\"'Børn \"&A86&\"'!$H$61\",TRUE)),\"\",INDIRECT(\"'Børn \"&A86&\"'!$H$61\",TRUE)),1)","v":{"$error":"#VALUE!"}},{"$f":"COUNTIF(IF(ISERROR(INDIRECT(\"'Børn \"&A86&\"'!$H$68\",TRUE)),\"\",INDIRECT(\"'Børn \"&A86&\"'!$H$68\",TRUE)),1)","v":{"$error":"#VALUE!"}},{"$f":"COUNTIF(IF(ISERROR(INDIRECT(\"'Børn \"&A86&\"'!$H$79\",TRUE)),\"\",INDIRECT(\"'Børn \"&A86&\"'!$H$79\",TRUE)),1)","v":{"$error":"#VALUE!"}},{"$f":"COUNTIF(IF(ISERROR(INDIRECT(\"'Børn \"&A86&\"'!$H$87\",TRUE)),\"\",INDIRECT(\"'Børn \"&A86&\"'!$H$87\",TRUE)),1)","v":{"$error":"#VALUE!"}},null,null,null,"Tilsyn 13",{"$f":"IF(INDIRECT(\"'Voksen \"&U86&\"'!$c$112\")=\"\",\"\",IFERROR(INDIRECT(\"'Voksen \"&U86&\"'!$c$112\",TRUE),\"\"))","v":{"$error":"#REF!"}},{"$f":"IF(INDIRECT(\"'Voksen \"&U86&\"'!$c$133\")=\"\",\"\",IFERROR(INDIRECT(\"'Voksen \"&U86&\"'!$c$133\",TRUE),\"\"))","v":{"$error":"#REF!"}},{"$f":"IF(INDIRECT(\"'Voksen \"&U86&\"'!$c$154\")=\"\",\"\",IFERROR(INDIRECT(\"'Voksen \"&U86&\"'!$c$154\",TRUE),\"\"))","v":{"$error":"#REF!"}},{"$f":"IF(INDIRECT(\"'Voksen \"&U86&\"'!$c$169\")=\"\",\"\",IFERROR(INDIRECT(\"'Voksen \"&U86&\"'!$c$169\",TRUE),\"\"))","v":{"$error":"#REF!"}},{"$f":"IF(INDIRECT(\"'Voksen \"&U86&\"'!$c$186\")=\"\",\"\",IFERROR(INDIRECT(\"'Voksen \"&U86&\"'!$c$186\",TRUE),\"\"))","v":{"$error":"#REF!"}},{"$f":"IF(INDIRECT(\"'Voksen \"&U86&\"'!$c$207\")=\"\",\"\",IFERROR(INDIRECT(\"'Voksen \"&U86&\"'!$c$207\",TRUE),\"\"))","v":{"$error":"#REF!"}},{"$f":"IF(INDIRECT(\"'Voksen \"&U86&\"'!$c$229\")=\"\",\"\",IFERROR(INDIRECT(\"'Voksen \"&U86&\"'!$c$229\",TRUE),\"\"))","v":{"$error":"#REF!"}},{"$f":"IF(INDIRECT(\"'Voksen \"&U86&\"'!$c$255\")=\"\",\"\",IFERROR(INDIRECT(\"'Voksen \"&U86&\"'!$c$255\",TRUE),\"\"))","v":{"$error":"#REF!"}},null,{"$f":"IF(INDIRECT(\"'Børn \"&U86&\"'!$c$123\")=\"\",\"\",IFERROR(INDIRECT(\"'Børn \"&U86&\"'!$c$123\",TRUE),\"\"))","v":{"$error":"#REF!"}},{"$f":"IF(INDIRECT(\"'Børn \"&U86&\"'!$c$139\")=\"\",\"\",IFERROR(INDIRECT(\"'Børn \"&U86&\"'!$c$139\",TRUE),\"\"))","v":{"$error":"#REF!"}},{"$f":"IF(INDIRECT(\"'Børn \"&U86&\"'!$c$163\")=\"\",\"\",IFERROR(INDIRECT(\"'Børn \"&U86&\"'!$c$163\",TRUE),\"\"))","v":{"$error":"#REF!"}},{"$f":"IF(INDIRECT(\"'Børn \"&U86&\"'!$c$177\")=\"\",\"\",IFERROR(INDIRECT(\"'Børn \"&U86&\"'!$c$177\",TRUE),\"\"))","v":{"$error":"#REF!"}},{"$f":"IF(INDIRECT(\"'Børn \"&U86&\"'!$c$197\")=\"\",\"\",IFERROR(INDIRECT(\"'Børn \"&U86&\"'!$c$197\",TRUE),\"\"))","v":{"$error":"#REF!"}},{"$f":"IF(INDIRECT(\"'Børn \"&U86&\"'!$c$218\")=\"\",\"\",IFERROR(INDIRECT(\"'Børn \"&U86&\"'!$c$218\",TRUE),\"\"))","v":{"$error":"#REF!"}},{"$f":"IF(INDIRECT(\"'Børn \"&U86&\"'!$c$241\")=\"\",\"\",IFERROR(INDIRECT(\"'Børn \"&U86&\"'!$c$241\",TRUE),\"\"))","v":{"$error":"#REF!"}}]
["Tilsyn 9","Status:  gul",{"$f":"COUNTIF(IF(ISERROR(INDIRECT(\"'Voksen \"&A87&\"'!$H$31\",TRUE)),\"\",INDIRECT(\"'Voksen \"&A87&\"'!$H$31\",TRUE)),2)","v":{"$error":"#VALUE!"}},{"$f":"COUNTIF(IF(ISERROR(INDIRECT(\"'Voksen \"&A87&\"'!$H$41\",TRUE)),\"\",INDIRECT(\"'Voksen \"&A87&\"'!$H$41\",TRUE)),2)","v":{"$error":"#VALUE!"}},{"$f":"COUNTIF(IF(ISERROR(INDIRECT(\"'Voksen \"&A87&\"'!$H$50\",TRUE)),\"\",INDIRECT(\"'Voksen \"&A87&\"'!$H$50\",TRUE)),2)","v":{"$error":"#VALUE!"}},{"$f":"COUNTIF(IF(ISERROR(INDIRECT(\"'Voksen \"&A87&\"'!$H$58\",TRUE)),\"\",INDIRECT(\"'Voksen \"&A87&\"'!$H$58\",TRUE)),2)","v":{"$error":"#VALUE!"}},{"$f":"COUNTIF(IF(ISERROR(INDIRECT(\"'Voksen \"&A87&\"'!$H$69\",TRUE)),\"\",INDIRECT(\"'Voksen \"&A87&\"'!$H$69\",TRUE)),2)","v":{"$error":"#VALUE!"}},{"$f":"COUNTIF(IF(ISERROR(INDIRECT(\"'Voksen \"&A87&\"'!$H$77\",TRUE)),\"\",INDIRECT(\"'Voksen \"&A87&\"'!$H$77\",TRUE)),2)","v":{"$error":"#VALUE!"}},null,null,{"$f":"COUNTIF(IF(ISERROR(INDIRECT(\"'Børn \"&A87&\"'!$H$31\",TRUE)),\"\",INDIRECT(\"'Børn \"&A87&\"'!$H$31\",TRUE)),2)","v":{"$error":"#VALUE!"}},{"$f":"COUNTIF(IF(ISERROR(INDIRECT(\"'Børn \"&A87&\"'!$H$44\",TRUE)),\"\",INDIRECT(\"'Børn \"&A87&\"'!$H$44\",TRUE)),2)","v":{"$error":"#VALUE!"}},{"$f":"COUNTIF(IF(ISERROR(INDIRECT(\"'Børn \"&A87&\"'!$H$53\",TRUE)),\"\",INDIRECT(\"'Børn \"&A87&\"'!$H$53\",TRUE)),2)","v":{"$error":"#VALUE!"}},{"$f":"COUNTIF(IF(ISERROR(INDIRECT(\"'Børn \"&A87&\"'!$H$61\",TRUE)),\"\",INDIRECT(\"'Børn \"&A87&\"'!$H$61\",TRUE)),2)","v":{"$error":"#VALUE!"}},{"$f":"COUNTIF(IF(ISERROR(INDIRECT(\"'Børn \"&A87&\"'!$H$68\",TRUE)),\"\",INDIRECT(\"'Børn \"&A87&\"'!$H$68\",TRUE)),2)","v":{"$error":"#VALUE!"}},{"$f":"COUNTIF(IF(ISERROR(INDIRECT(\"'Børn \"&A87&\"'!$H$79\",TRUE)),\"\",INDIRECT(\"'Børn \"&A87&\"'!$H$79\",TRUE)),2)","v":{"$error":"#VALUE!"}},{"$f":"COUNTIF(IF(ISERROR(INDIRECT(\"'Børn \"&A87&\"'!$H$87\",TRUE)),\"\",INDIRECT(\"'Børn \"&A87&\"'!$H$87\",TRUE)),2)","v":{"$error":"#VALUE!"}},null,null,null,{"$f":"U86","v":"Tilsyn 13"},{"$f":"IF(INDIRECT(\"'Voksen \"&U87&\"'!$c$115\")=\"\",\"\",IFERROR(INDIRECT(\"'Voksen \"&U87&\"'!$c$115\",TRUE),\"\"))","v":{"$error":"#REF!"}},{"$f":"IF(INDIRECT(\"'Voksen \"&U87&\"'!$c$136\")=\"\",\"\",IFERROR(INDIRECT(\"'Voksen \"&U87&\"'!$c$136\",TRUE),\"\"))","v":{"$error":"#REF!"}},{"$f":"IF(INDIRECT(\"'Voksen \"&U87&\"'!$c$157\")=\"\",\"\",IFERROR(INDIRECT(\"'Voksen \"&U87&\"'!$c$157\",TRUE),\"\"))","v":{"$error":"#REF!"}},{"$f":"IF(INDIRECT(\"'Voksen \"&U87&\"'!$c$172\")=\"\",\"\",IFERROR(INDIRECT(\"'Voksen \"&U87&\"'!$c$172\",TRUE),\"\"))","v":{"$error":"#REF!"}},{"$f":"IF(INDIRECT(\"'Voksen \"&U87&\"'!$c$189\")=\"\",\"\",IFERROR(INDIRECT(\"'Voksen \"&U87&\"'!$c$189\",TRUE),\"\"))","v":{"$error":"#REF!"}},{"$f":"IF(INDIRECT(\"'Voksen \"&U87&\"'!$c$210\")=\"\",\"\",IFERROR(INDIRECT(\"'Voksen \"&U87&\"'!$c$210\",TRUE),\"\"))","v":{"$error":"#REF!"}},{"$f":"IF(INDIRECT(\"'Voksen \"&U87&\"'!$c$232\")=\"\",\"\",IFERROR(INDIRECT(\"'Voksen \"&U87&\"'!$c$232\",TRUE),\"\"))","v":{"$error":"#REF!"}},{"$f":"IF(INDIRECT(\"'Voksen \"&U87&\"'!$c$258\")=\"\",\"\",IFERROR(INDIRECT(\"'Voksen \"&U87&\"'!$c$258\",TRUE),\"\"))","v":{"$error":"#REF!"}},null,{"$f":"IF(INDIRECT(\"'Børn \"&U87&\"'!$c$126\")=\"\",\"\",IFERROR(INDIRECT(\"'Børn \"&U87&\"'!$c$126\",TRUE),\"\"))","v":{"$error":"#REF!"}},{"$f":"IF(INDIRECT(\"'Børn \"&U87&\"'!$c$142\")=\"\",\"\",IFERROR(INDIRECT(\"'Børn \"&U87&\"'!$c$142\",TRUE),\"\"))","v":{"$error":"#REF!"}},{"$f":"IF(INDIRECT(\"'Børn \"&U87&\"'!$c$166\")=\"\",\"\",IFERROR(INDIRECT(\"'Børn \"&U87&\"'!$c$166\",TRUE),\"\"))","v":{"$error":"#REF!"}},{"$f":"IF(INDIRECT(\"'Børn \"&U87&\"'!$c$180\")=\"\",\"\",IFERROR(INDIRECT(\"'Børn \"&U87&\"'!$c$180\",TRUE),\"\"))","v":{"$error":"#REF!"}},{"$f":"IF(INDIRECT(\"'Børn \"&U87&\"'!$c$200\")=\"\",\"\",IFERROR(INDIRECT(\"'Børn \"&U87&\"'!$c$200\",TRUE),\"\"))","v":{"$error":"#REF!"}},{"$f":"IF(INDIRECT(\"'Børn \"&U87&\"'!$c$221\")=\"\",\"\",IFERROR(INDIRECT(\"'Børn \"&U87&\"'!$c$221\",TRUE),\"\"))","v":{"$error":"#REF!"}},{"$f":"IF(INDIRECT(\"'Børn \"&U87&\"'!$c$244\")=\"\",\"\",IFERROR(INDIRECT(\"'Børn \"&U87&\"'!$c$244\",TRUE),\"\"))","v":{"$error":"#REF!"}}]
["Tilsyn 9","Status:  rød",{"$f":"COUNTIF(IF(ISERROR(INDIRECT(\"'Voksen \"&A88&\"'!$H$31\",TRUE)),\"\",INDIRECT(\"'Voksen \"&A88&\"'!$H$31\",TRUE)),3)","v":{"$error":"#VALUE!"}},{"$f":"COUNTIF(IF(ISERROR(INDIRECT(\"'Voksen \"&A88&\"'!$H$41\",TRUE)),\"\",INDIRECT(\"'Voksen \"&A88&\"'!$H$41\",TRUE)),3)","v":{"$error":"#VALUE!"}},{"$f":"COUNTIF(IF(ISERROR(INDIRECT(\"'Voksen \"&A88&\"'!$H$50\",TRUE)),\"\",INDIRECT(\"'Voksen \"&A88&\"'!$H$50\",TRUE)),3)","v":{"$error":"#VALUE!"}},{"$f":"COUNTIF(IF(ISERROR(INDIRECT(\"'Voksen \"&A88&\"'!$H$58\",TRUE)),\"\",INDIRECT(\"'Voksen \"&A88&\"'!$H$58\",TRUE)),3)","v":{"$error":"#VALUE!"}},{"$f":"COUNTIF(IF(ISERROR(INDIRECT(\"'Voksen \"&A88&\"'!$H$69\",TRUE)),\"\",INDIRECT(\"'Voksen \"&A88&\"'!$H$69\",TRUE)),3)","v":{"$error":"#VALUE!"}},{"$f":"COUNTIF(IF(ISERROR(INDIRECT(\"'Voksen \"&A88&\"'!$H$77\",TRUE)),\"\",INDIRECT(\"'Voksen \"&A88&\"'!$H$77\",TRUE)),3)","v":{"$error":"#VALUE!"}},null,null,{"$f":"COUNTIF(IF(ISERROR(INDIRECT(\"'Børn \"&A88&\"'!$H$31\",TRUE)),\"\",INDIRECT(\"'Børn \"&A88&\"'!$H$31\",TRUE)),3)","v":{"$error":"#VALUE!"}},{"$f":"COUNTIF(IF(ISERROR(INDIRECT(\"'Børn \"&A88&\"'!$H$44\",TRUE)),\"\",INDIRECT(\"'Børn \"&A88&\"'!$H$44\",TRUE)),3)","v":{"$error":"#VALUE!"}},{"$f":"COUNTIF(IF(ISERROR(INDIRECT(\"'Børn \"&A88&\"'!$H$53\",TRUE)),\"\",INDIRECT(\"'Børn \"&A88&\"'!$H$53\",TRUE)),3)","v":{"$error":"#VALUE!"}},{"$f":"COUNTIF(IF(ISERROR(INDIRECT(\"'Børn \"&A88&\"'!$H$61\",TRUE)),\"\",INDIRECT(\"'Børn \"&A88&\"'!$H$61\",TRUE)),3)","v":{"$error":"#VALUE!"}},{"$f":"COUNTIF(IF(ISERROR(INDIRECT(\"'Børn \"&A88&\"'!$H$68\",TRUE)),\"\",INDIRECT(\"'Børn \"&A88&\"'!$H$68\",TRUE)),3)","v":{"$error":"#VALUE!"}},{"$f":"COUNTIF(IF(ISERROR(INDIRECT(\"'Børn \"&A88&\"'!$H$79\",TRUE)),\"\",INDIRECT(\"'Børn \"&A88&\"'!$H$79\",TRUE)),3)","v":{"$error":"#VALUE!"}},{"$f":"COUNTIF(IF(ISERROR(INDIRECT(\"'Børn \"&A88&\"'!$H$87\",TRUE)),\"\",INDIRECT(\"'Børn \"&A88&\"'!$H$87\",TRUE)),3)","v":{"$error":"#VALUE!"}},null,null,null,"Tilsyn 14",{"$f":"IF(INDIRECT(\"'Voksen \"&U88&\"'!$c$112\")=\"\",\"\",IFERROR(INDIRECT(\"'Voksen \"&U88&\"'!$c$112\",TRUE),\"\"))","v":{"$error":"#REF!"}},{"$f":"IF(INDIRECT(\"'Voksen \"&U88&\"'!$c$133\")=\"\",\"\",IFERROR(INDIRECT(\"'Voksen \"&U88&\"'!$c$133\",TRUE),\"\"))","v":{"$error":"#REF!"}},{"$f":"IF(INDIRECT(\"'Voksen \"&U88&\"'!$c$154\")=\"\",\"\",IFERROR(INDIRECT(\"'Voksen \"&U88&\"'!$c$154\",TRUE),\"\"))","v":{"$error":"#REF!"}},{"$f":"IF(INDIRECT(\"'Voksen \"&U88&\"'!$c$169\")=\"\",\"\",IFERROR(INDIRECT(\"'Voksen \"&U88&\"'!$c$169\",TRUE),\"\"))","v":{"$error":"#REF!"}},{"$f":"IF(INDIRECT(\"'Voksen \"&U88&\"'!$c$186\")=\"\",\"\",IFERROR(INDIRECT(\"'Voksen \"&U88&\"'!$c$186\",TRUE),\"\"))","v":{"$error":"#REF!"}},{"$f":"IF(INDIRECT(\"'Voksen \"&U88&\"'!$c$207\")=\"\",\"\",IFERROR(INDIRECT(\"'Voksen \"&U88&\"'!$c$207\",TRUE),\"\"))","v":{"$error":"#REF!"}},{"$f":"IF(INDIRECT(\"'Voksen \"&U88&\"'!$c$229\")=\"\",\"\",IFERROR(INDIRECT(\"'Voksen \"&U88&\"'!$c$229\",TRUE),\"\"))","v":{"$error":"#REF!"}},{"$f":"IF(INDIRECT(\"'Voksen \"&U88&\"'!$c$255\")=\"\",\"\",IFERROR(INDIRECT(\"'Voksen \"&U88&\"'!$c$255\",TRUE),\"\"))","v":{"$error":"#REF!"}},null,{"$f":"IF(INDIRECT(\"'Børn \"&U88&\"'!$c$123\")=\"\",\"\",IFERROR(INDIRECT(\"'Børn \"&U88&\"'!$c$123\",TRUE),\"\"))","v":{"$error":"#REF!"}},{"$f":"IF(INDIRECT(\"'Børn \"&U88&\"'!$c$139\")=\"\",\"\",IFERROR(INDIRECT(\"'Børn \"&U88&\"'!$c$139\",TRUE),\"\"))","v":{"$error":"#REF!"}},{"$f":"IF(INDIRECT(\"'Børn \"&U88&\"'!$c$163\")=\"\",\"\",IFERROR(INDIRECT(\"'Børn \"&U88&\"'!$c$163\",TRUE),\"\"))","v":{"$error":"#REF!"}},{"$f":"IF(INDIRECT(\"'Børn \"&U88&\"'!$c$177\")=\"\",\"\",IFERROR(INDIRECT(\"'Børn \"&U88&\"'!$c$177\",TRUE),\"\"))","v":{"$error":"#REF!"}},{"$f":"IF(INDIRECT(\"'Børn \"&U88&\"'!$c$197\")=\"\",\"\",IFERROR(INDIRECT(\"'Børn \"&U88&\"'!$c$197\",TRUE),\"\"))","v":{"$error":"#REF!"}},{"$f":"IF(INDIRECT(\"'Børn \"&U88&\"'!$c$218\")=\"\",\"\",IFERROR(INDIRECT(\"'Børn \"&U88&\"'!$c$218\",TRUE),\"\"))","v":{"$error":"#REF!"}},{"$f":"IF(INDIRECT(\"'Børn \"&U88&\"'!$c$241\")=\"\",\"\",IFERROR(INDIRECT(\"'Børn \"&U88&\"'!$c$241\",TRUE),\"\"))","v":{"$error":"#REF!"}}]
["Tilsyn 10","Status:  grøn",{"$f":"COUNTIF(IF(ISERROR(INDIRECT(\"'Voksen \"&A89&\"'!$H$31\",TRUE)),\"\",INDIRECT(\"'Voksen \"&A89&\"'!$H$31\",TRUE)),1)","v":{"$error":"#VALUE!"}},{"$f":"COUNTIF(IF(ISERROR(INDIRECT(\"'Voksen \"&A89&\"'!$H$41\",TRUE)),\"\",INDIRECT(\"'Voksen \"&A89&\"'!$H$41\",TRUE)),1)","v":{"$error":"#VALUE!"}},{"$f":"COUNTIF(IF(ISERROR(INDIRECT(\"'Voksen \"&A89&\"'!$H$50\",TRUE)),\"\",INDIRECT(\"'Voksen \"&A89&\"'!$H$50\",TRUE)),1)","v":{"$error":"#VALUE!"}},{"$f":"COUNTIF(IF(ISERROR(INDIRECT(\"'Voksen \"&A89&\"'!$H$58\",TRUE)),\"\",INDIRECT(\"'Voksen \"&A89&\"'!$H$58\",TRUE)),1)","v":{"$error":"#VALUE!"}},{"$f":"COUNTIF(IF(ISERROR(INDIRECT(\"'Voksen \"&A89&\"'!$H$69\",TRUE)),\"\",INDIRECT(\"'Voksen \"&A89&\"'!$H$69\",TRUE)),1)","v":{"$error":"#VALUE!"}},{"$f":"COUNTIF(IF(ISERROR(INDIRECT(\"'Voksen \"&A89&\"'!$H$77\",TRUE)),\"\",INDIRECT(\"'Voksen \"&A89&\"'!$H$77\",TRUE)),1)","v":{"$error":"#VALUE!"}},null,null,{"$f":"COUNTIF(IF(ISERROR(INDIRECT(\"'Børn \"&A89&\"'!$H$31\",TRUE)),\"\",INDIRECT(\"'Børn \"&A89&\"'!$H$31\",TRUE)),1)","v":{"$error":"#VALUE!"}},{"$f":"COUNTIF(IF(ISERROR(INDIRECT(\"'Børn \"&A89&\"'!$H$44\",TRUE)),\"\",INDIRECT(\"'Børn \"&A89&\"'!$H$44\",TRUE)),1)","v":{"$error":"#VALUE!"}},{"$f":"COUNTIF(IF(ISERROR(INDIRECT(\"'Børn \"&A89&\"'!$H$53\",TRUE)),\"\",INDIRECT(\"'Børn \"&A89&\"'!$H$53\",TRUE)),1)","v":{"$error":"#VALUE!"}},{"$f":"COUNTIF(IF(ISERROR(INDIRECT(\"'Børn \"&A89&\"'!$H$61\",TRUE)),\"\",INDIRECT(\"'Børn \"&A89&\"'!$H$61\",TRUE)),1)","v":{"$error":"#VALUE!"}},{"$f":"COUNTIF(IF(ISERROR(INDIRECT(\"'Børn \"&A89&\"'!$H$68\",TRUE)),\"\",INDIRECT(\"'Børn \"&A89&\"'!$H$68\",TRUE)),1)","v":{"$error":"#VALUE!"}},{"$f":"COUNTIF(IF(ISERROR(INDIRECT(\"'Børn \"&A89&\"'!$H$79\",TRUE)),\"\",INDIRECT(\"'Børn \"&A89&\"'!$H$79\",TRUE)),1)","v":{"$error":"#VALUE!"}},{"$f":"COUNTIF(IF(ISERROR(INDIRECT(\"'Børn \"&A89&\"'!$H$87\",TRUE)),\"\",INDIRECT(\"'Børn \"&A89&\"'!$H$87\",TRUE)),1)","v":{"$error":"#VALUE!"}},null,null,null,{"$f":"U88","v":"Tilsyn 14"},{"$f":"IF(INDIRECT(\"'Voksen \"&U89&\"'!$c$115\")=\"\",\"\",IFERROR(INDIRECT(\"'Voksen \"&U89&\"'!$c$115\",TRUE),\"\"))","v":{"$error":"#REF!"}},{"$f":"IF(INDIRECT(\"'Voksen \"&U89&\"'!$c$136\")=\"\",\"\",IFERROR(INDIRECT(\"'Voksen \"&U89&\"'!$c$136\",TRUE),\"\"))","v":{"$error":"#REF!"}},{"$f":"IF(INDIRECT(\"'Voksen \"&U89&\"'!$c$157\")=\"\",\"\",IFERROR(INDIRECT(\"'Voksen \"&U89&\"'!$c$157\",TRUE),\"\"))","v":{"$error":"#REF!"}},{"$f":"IF(INDIRECT(\"'Voksen \"&U89&\"'!$c$172\")=\"\",\"\",IFERROR(INDIRECT(\"'Voksen \"&U89&\"'!$c$172\",TRUE),\"\"))","v":{"$error":"#REF!"}},{"$f":"IF(INDIRECT(\"'Voksen \"&U89&\"'!$c$189\")=\"\",\"\",IFERROR(INDIRECT(\"'Voksen \"&U89&\"'!$c$189\",TRUE),\"\"))","v":{"$error":"#REF!"}},{"$f":"IF(INDIRECT(\"'Voksen \"&U89&\"'!$c$210\")=\"\",\"\",IFERROR(INDIRECT(\"'Voksen \"&U89&\"'!$c$210\",TRUE),\"\"))","v":{"$error":"#REF!"}},{"$f":"IF(INDIRECT(\"'Voksen \"&U89&\"'!$c$232\")=\"\",\"\",IFERROR(INDIRECT(\"'Voksen \"&U89&\"'!$c$232\",TRUE),\"\"))","v":{"$error":"#REF!"}},{"$f":"IF(INDIRECT(\"'Voksen \"&U89&\"'!$c$258\")=\"\",\"\",IFERROR(INDIRECT(\"'Voksen \"&U89&\"'!$c$258\",TRUE),\"\"))","v":{"$error":"#REF!"}},null,{"$f":"IF(INDIRECT(\"'Børn \"&U89&\"'!$c$126\")=\"\",\"\",IFERROR(INDIRECT(\"'Børn \"&U89&\"'!$c$126\",TRUE),\"\"))","v":{"$error":"#REF!"}},{"$f":"IF(INDIRECT(\"'Børn \"&U89&\"'!$c$142\")=\"\",\"\",IFERROR(INDIRECT(\"'Børn \"&U89&\"'!$c$142\",TRUE),\"\"))","v":{"$error":"#REF!"}},{"$f":"IF(INDIRECT(\"'Børn \"&U89&\"'!$c$166\")=\"\",\"\",IFERROR(INDIRECT(\"'Børn \"&U89&\"'!$c$166\",TRUE),\"\"))","v":{"$error":"#REF!"}},{"$f":"IF(INDIRECT(\"'Børn \"&U89&\"'!$c$180\")=\"\",\"\",IFERROR(INDIRECT(\"'Børn \"&U89&\"'!$c$180\",TRUE),\"\"))","v":{"$error":"#REF!"}},{"$f":"IF(INDIRECT(\"'Børn \"&U89&\"'!$c$200\")=\"\",\"\",IFERROR(INDIRECT(\"'Børn \"&U89&\"'!$c$200\",TRUE),\"\"))","v":{"$error":"#REF!"}},{"$f":"IF(INDIRECT(\"'Børn \"&U89&\"'!$c$221\")=\"\",\"\",IFERROR(INDIRECT(\"'Børn \"&U89&\"'!$c$221\",TRUE),\"\"))","v":{"$error":"#REF!"}},{"$f":"IF(INDIRECT(\"'Børn \"&U89&\"'!$c$244\")=\"\",\"\",IFERROR(INDIRECT(\"'Børn \"&U89&\"'!$c$244\",TRUE),\"\"))","v":{"$error":"#REF!"}}]
["Tilsyn 10","Status:  gul",{"$f":"COUNTIF(IF(ISERROR(INDIRECT(\"'Voksen \"&A90&\"'!$H$31\",TRUE)),\"\",INDIRECT(\"'Voksen \"&A90&\"'!$H$31\",TRUE)),2)","v":{"$error":"#VALUE!"}},{"$f":"COUNTIF(IF(ISERROR(INDIRECT(\"'Voksen \"&A90&\"'!$H$41\",TRUE)),\"\",INDIRECT(\"'Voksen \"&A90&\"'!$H$41\",TRUE)),2)","v":{"$error":"#VALUE!"}},{"$f":"COUNTIF(IF(ISERROR(INDIRECT(\"'Voksen \"&A90&\"'!$H$50\",TRUE)),\"\",INDIRECT(\"'Voksen \"&A90&\"'!$H$50\",TRUE)),2)","v":{"$error":"#VALUE!"}},{"$f":"COUNTIF(IF(ISERROR(INDIRECT(\"'Voksen \"&A90&\"'!$H$58\",TRUE)),\"\",INDIRECT(\"'Voksen \"&A90&\"'!$H$58\",TRUE)),2)","v":{"$error":"#VALUE!"}},{"$f":"COUNTIF(IF(ISERROR(INDIRECT(\"'Voksen \"&A90&\"'!$H$69\",TRUE)),\"\",INDIRECT(\"'Voksen \"&A90&\"'!$H$69\",TRUE)),2)","v":{"$error":"#VALUE!"}},{"$f":"COUNTIF(IF(ISERROR(INDIRECT(\"'Voksen \"&A90&\"'!$H$77\",TRUE)),\"\",INDIRECT(\"'Voksen \"&A90&\"'!$H$77\",TRUE)),2)","v":{"$error":"#VALUE!"}},null,null,{"$f":"COUNTIF(IF(ISERROR(INDIRECT(\"'Børn \"&A90&\"'!$H$31\",TRUE)),\"\",INDIRECT(\"'Børn \"&A90&\"'!$H$31\",TRUE)),2)","v":{"$error":"#VALUE!"}},{"$f":"COUNTIF(IF(ISERROR(INDIRECT(\"'Børn \"&A90&\"'!$H$44\",TRUE)),\"\",INDIRECT(\"'Børn \"&A90&\"'!$H$44\",TRUE)),2)","v":{"$error":"#VALUE!"}},{"$f":"COUNTIF(IF(ISERROR(INDIRECT(\"'Børn \"&A90&\"'!$H$53\",TRUE)),\"\",INDIRECT(\"'Børn \"&A90&\"'!$H$53\",TRUE)),2)","v":{"$error":"#VALUE!"}},{"$f":"COUNTIF(IF(ISERROR(INDIRECT(\"'Børn \"&A90&\"'!$H$61\",TRUE)),\"\",INDIRECT(\"'Børn \"&A90&\"'!$H$61\",TRUE)),2)","v":{"$error":"#VALUE!"}},{"$f":"COUNTIF(IF(ISERROR(INDIRECT(\"'Børn \"&A90&\"'!$H$68\",TRUE)),\"\",INDIRECT(\"'Børn \"&A90&\"'!$H$68\",TRUE)),2)","v":{"$error":"#VALUE!"}},{"$f":"COUNTIF(IF(ISERROR(INDIRECT(\"'Børn \"&A90&\"'!$H$79\",TRUE)),\"\",INDIRECT(\"'Børn \"&A90&\"'!$H$79\",TRUE)),2)","v":{"$error":"#VALUE!"}},{"$f":"COUNTIF(IF(ISERROR(INDIRECT(\"'Børn \"&A90&\"'!$H$87\",TRUE)),\"\",INDIRECT(\"'Børn \"&A90&\"'!$H$87\",TRUE)),2)","v":{"$error":"#VALUE!"}},null,null,null,"Tilsyn 15",{"$f":"IF(INDIRECT(\"'Voksen \"&U90&\"'!$c$112\")=\"\",\"\",IFERROR(INDIRECT(\"'Voksen \"&U90&\"'!$c$112\",TRUE),\"\"))","v":{"$error":"#REF!"}},{"$f":"IF(INDIRECT(\"'Voksen \"&U90&\"'!$c$133\")=\"\",\"\",IFERROR(INDIRECT(\"'Voksen \"&U90&\"'!$c$133\",TRUE),\"\"))","v":{"$error":"#REF!"}},{"$f":"IF(INDIRECT(\"'Voksen \"&U90&\"'!$c$154\")=\"\",\"\",IFERROR(INDIRECT(\"'Voksen \"&U90&\"'!$c$154\",TRUE),\"\"))","v":{"$error":"#REF!"}},{"$f":"IF(INDIRECT(\"'Voksen \"&U90&\"'!$c$169\")=\"\",\"\",IFERROR(INDIRECT(\"'Voksen \"&U90&\"'!$c$169\",TRUE),\"\"))","v":{"$error":"#REF!"}},{"$f":"IF(INDIRECT(\"'Voksen \"&U90&\"'!$c$186\")=\"\",\"\",IFERROR(INDIRECT(\"'Voksen \"&U90&\"'!$c$186\",TRUE),\"\"))","v":{"$error":"#REF!"}},{"$f":"IF(INDIRECT(\"'Voksen \"&U90&\"'!$c$207\")=\"\",\"\",IFERROR(INDIRECT(\"'Voksen \"&U90&\"'!$c$207\",TRUE),\"\"))","v":{"$error":"#REF!"}},{"$f":"IF(INDIRECT(\"'Voksen \"&U90&\"'!$c$229\")=\"\",\"\",IFERROR(INDIRECT(\"'Voksen \"&U90&\"'!$c$229\",TRUE),\"\"))","v":{"$error":"#REF!"}},{"$f":"IF(INDIRECT(\"'Voksen \"&U90&\"'!$c$255\")=\"\",\"\",IFERROR(INDIRECT(\"'Voksen \"&U90&\"'!$c$255\",TRUE),\"\"))","v":{"$error":"#REF!"}},null,{"$f":"IF(INDIRECT(\"'Børn \"&U90&\"'!$c$123\")=\"\",\"\",IFERROR(INDIRECT(\"'Børn \"&U90&\"'!$c$123\",TRUE),\"\"))","v":{"$error":"#REF!"}},{"$f":"IF(INDIRECT(\"'Børn \"&U90&\"'!$c$139\")=\"\",\"\",IFERROR(INDIRECT(\"'Børn \"&U90&\"'!$c$139\",TRUE),\"\"))","v":{"$error":"#REF!"}},{"$f":"IF(INDIRECT(\"'Børn \"&U90&\"'!$c$163\")=\"\",\"\",IFERROR(INDIRECT(\"'Børn \"&U90&\"'!$c$163\",TRUE),\"\"))","v":{"$error":"#REF!"}},{"$f":"IF(INDIRECT(\"'Børn \"&U90&\"'!$c$177\")=\"\",\"\",IFERROR(INDIRECT(\"'Børn \"&U90&\"'!$c$177\",TRUE),\"\"))","v":{"$error":"#REF!"}},{"$f":"IF(INDIRECT(\"'Børn \"&U90&\"'!$c$197\")=\"\",\"\",IFERROR(INDIRECT(\"'Børn \"&U90&\"'!$c$197\",TRUE),\"\"))","v":{"$error":"#REF!"}},{"$f":"IF(INDIRECT(\"'Børn \"&U90&\"'!$c$218\")=\"\",\"\",IFERROR(INDIRECT(\"'Børn \"&U90&\"'!$c$218\",TRUE),\"\"))","v":{"$error":"#REF!"}},{"$f":"IF(INDIRECT(\"'Børn \"&U90&\"'!$c$241\")=\"\",\"\",IFERROR(INDIRECT(\"'Børn \"&U90&\"'!$c$241\",TRUE),\"\"))","v":{"$error":"#REF!"}}]
["Tilsyn 10","Status:  rød",{"$f":"COUNTIF(IF(ISERROR(INDIRECT(\"'Voksen \"&A91&\"'!$H$31\",TRUE)),\"\",INDIRECT(\"'Voksen \"&A91&\"'!$H$31\",TRUE)),3)","v":{"$error":"#VALUE!"}},{"$f":"COUNTIF(IF(ISERROR(INDIRECT(\"'Voksen \"&A91&\"'!$H$41\",TRUE)),\"\",INDIRECT(\"'Voksen \"&A91&\"'!$H$41\",TRUE)),3)","v":{"$error":"#VALUE!"}},{"$f":"COUNTIF(IF(ISERROR(INDIRECT(\"'Voksen \"&A91&\"'!$H$50\",TRUE)),\"\",INDIRECT(\"'Voksen \"&A91&\"'!$H$50\",TRUE)),3)","v":{"$error":"#VALUE!"}},{"$f":"COUNTIF(IF(ISERROR(INDIRECT(\"'Voksen \"&A91&\"'!$H$58\",TRUE)),\"\",INDIRECT(\"'Voksen \"&A91&\"'!$H$58\",TRUE)),3)","v":{"$error":"#VALUE!"}},{"$f":"COUNTIF(IF(ISERROR(INDIRECT(\"'Voksen \"&A91&\"'!$H$69\",TRUE)),\"\",INDIRECT(\"'Voksen \"&A91&\"'!$H$69\",TRUE)),3)","v":{"$error":"#VALUE!"}},{"$f":"COUNTIF(IF(ISERROR(INDIRECT(\"'Voksen \"&A91&\"'!$H$77\",TRUE)),\"\",INDIRECT(\"'Voksen \"&A91&\"'!$H$77\",TRUE)),3)","v":{"$error":"#VALUE!"}},null,null,{"$f":"COUNTIF(IF(ISERROR(INDIRECT(\"'Børn \"&A91&\"'!$H$31\",TRUE)),\"\",INDIRECT(\"'Børn \"&A91&\"'!$H$31\",TRUE)),3)","v":{"$error":"#VALUE!"}},{"$f":"COUNTIF(IF(ISERROR(INDIRECT(\"'Børn \"&A91&\"'!$H$44\",TRUE)),\"\",INDIRECT(\"'Børn \"&A91&\"'!$H$44\",TRUE)),3)","v":{"$error":"#VALUE!"}},{"$f":"COUNTIF(IF(ISERROR(INDIRECT(\"'Børn \"&A91&\"'!$H$53\",TRUE)),\"\",INDIRECT(\"'Børn \"&A91&\"'!$H$53\",TRUE)),3)","v":{"$error":"#VALUE!"}},{"$f":"COUNTIF(IF(ISERROR(INDIRECT(\"'Børn \"&A91&\"'!$H$61\",TRUE)),\"\",INDIRECT(\"'Børn \"&A91&\"'!$H$61\",TRUE)),3)","v":{"$error":"#VALUE!"}},{"$f":"COUNTIF(IF(ISERROR(INDIRECT(\"'Børn \"&A91&\"'!$H$68\",TRUE)),\"\",INDIRECT(\"'Børn \"&A91&\"'!$H$68\",TRUE)),3)","v":{"$error":"#VALUE!"}},{"$f":"COUNTIF(IF(ISERROR(INDIRECT(\"'Børn \"&A91&\"'!$H$79\",TRUE)),\"\",INDIRECT(\"'Børn \"&A91&\"'!$H$79\",TRUE)),3)","v":{"$error":"#VALUE!"}},{"$f":"COUNTIF(IF(ISERROR(INDIRECT(\"'Børn \"&A91&\"'!$H$87\",TRUE)),\"\",INDIRECT(\"'Børn \"&A91&\"'!$H$87\",TRUE)),3)","v":{"$error":"#VALUE!"}},null,null,null,{"$f":"U90","v":"Tilsyn 15"},{"$f":"IF(INDIRECT(\"'Voksen \"&U91&\"'!$c$115\")=\"\",\"\",IFERROR(INDIRECT(\"'Voksen \"&U91&\"'!$c$115\",TRUE),\"\"))","v":{"$error":"#REF!"}},{"$f":"IF(INDIRECT(\"'Voksen \"&U91&\"'!$c$136\")=\"\",\"\",IFERROR(INDIRECT(\"'Voksen \"&U91&\"'!$c$136\",TRUE),\"\"))","v":{"$error":"#REF!"}},{"$f":"IF(INDIRECT(\"'Voksen \"&U91&\"'!$c$157\")=\"\",\"\",IFERROR(INDIRECT(\"'Voksen \"&U91&\"'!$c$157\",TRUE),\"\"))","v":{"$error":"#REF!"}},{"$f":"IF(INDIRECT(\"'Voksen \"&U91&\"'!$c$172\")=\"\",\"\",IFERROR(INDIRECT(\"'Voksen \"&U91&\"'!$c$172\",TRUE),\"\"))","v":{"$error":"#REF!"}},{"$f":"IF(INDIRECT(\"'Voksen \"&U91&\"'!$c$189\")=\"\",\"\",IFERROR(INDIRECT(\"'Voksen \"&U91&\"'!$c$189\",TRUE),\"\"))","v":{"$error":"#REF!"}},{"$f":"IF(INDIRECT(\"'Voksen \"&U91&\"'!$c$210\")=\"\",\"\",IFERROR(INDIRECT(\"'Voksen \"&U91&\"'!$c$210\",TRUE),\"\"))","v":{"$error":"#REF!"}},{"$f":"IF(INDIRECT(\"'Voksen \"&U91&\"'!$c$232\")=\"\",\"\",IFERROR(INDIRECT(\"'Voksen \"&U91&\"'!$c$232\",TRUE),\"\"))","v":{"$error":"#REF!"}},{"$f":"IF(INDIRECT(\"'Voksen \"&U91&\"'!$c$258\")=\"\",\"\",IFERROR(INDIRECT(\"'Voksen \"&U91&\"'!$c$258\",TRUE),\"\"))","v":{"$error":"#REF!"}},null,{"$f":"IF(INDIRECT(\"'Børn \"&U91&\"'!$c$126\")=\"\",\"\",IFERROR(INDIRECT(\"'Børn \"&U91&\"'!$c$126\",TRUE),\"\"))","v":{"$error":"#REF!"}},{"$f":"IF(INDIRECT(\"'Børn \"&U91&\"'!$c$142\")=\"\",\"\",IFERROR(INDIRECT(\"'Børn \"&U91&\"'!$c$142\",TRUE),\"\"))","v":{"$error":"#REF!"}},{"$f":"IF(INDIRECT(\"'Børn \"&U91&\"'!$c$166\")=\"\",\"\",IFERROR(INDIRECT(\"'Børn \"&U91&\"'!$c$166\",TRUE),\"\"))","v":{"$error":"#REF!"}},{"$f":"IF(INDIRECT(\"'Børn \"&U91&\"'!$c$180\")=\"\",\"\",IFERROR(INDIRECT(\"'Børn \"&U91&\"'!$c$180\",TRUE),\"\"))","v":{"$error":"#REF!"}},{"$f":"IF(INDIRECT(\"'Børn \"&U91&\"'!$c$200\")=\"\",\"\",IFERROR(INDIRECT(\"'Børn \"&U91&\"'!$c$200\",TRUE),\"\"))","v":{"$error":"#REF!"}},{"$f":"IF(INDIRECT(\"'Børn \"&U91&\"'!$c$221\")=\"\",\"\",IFERROR(INDIRECT(\"'Børn \"&U91&\"'!$c$221\",TRUE),\"\"))","v":{"$error":"#REF!"}},{"$f":"IF(INDIRECT(\"'Børn \"&U91&\"'!$c$244\")=\"\",\"\",IFERROR(INDIRECT(\"'Børn \"&U91&\"'!$c$244\",TRUE),\"\"))","v":{"$error":"#REF!"}}]
["Tilsyn 11","Status:  grøn",{"$f":"COUNTIF(IF(ISERROR(INDIRECT(\"'Voksen \"&A92&\"'!$H$31\",TRUE)),\"\",INDIRECT(\"'Voksen \"&A92&\"'!$H$31\",TRUE)),1)","v":{"$error":"#VALUE!"}},{"$f":"COUNTIF(IF(ISERROR(INDIRECT(\"'Voksen \"&A92&\"'!$H$41\",TRUE)),\"\",INDIRECT(\"'Voksen \"&A92&\"'!$H$41\",TRUE)),1)","v":{"$error":"#VALUE!"}},{"$f":"COUNTIF(IF(ISERROR(INDIRECT(\"'Voksen \"&A92&\"'!$H$50\",TRUE)),\"\",INDIRECT(\"'Voksen \"&A92&\"'!$H$50\",TRUE)),1)","v":{"$error":"#VALUE!"}},{"$f":"COUNTIF(IF(ISERROR(INDIRECT(\"'Voksen \"&A92&\"'!$H$58\",TRUE)),\"\",INDIRECT(\"'Voksen \"&A92&\"'!$H$58\",TRUE)),1)","v":{"$error":"#VALUE!"}},{"$f":"COUNTIF(IF(ISERROR(INDIRECT(\"'Voksen \"&A92&\"'!$H$69\",TRUE)),\"\",INDIRECT(\"'Voksen \"&A92&\"'!$H$69\",TRUE)),1)","v":{"$error":"#VALUE!"}},{"$f":"COUNTIF(IF(ISERROR(INDIRECT(\"'Voksen \"&A92&\"'!$H$77\",TRUE)),\"\",INDIRECT(\"'Voksen \"&A92&\"'!$H$77\",TRUE)),1)","v":{"$error":"#VALUE!"}},null,null,{"$f":"COUNTIF(IF(ISERROR(INDIRECT(\"'Børn \"&A92&\"'!$H$31\",TRUE)),\"\",INDIRECT(\"'Børn \"&A92&\"'!$H$31\",TRUE)),1)","v":{"$error":"#VALUE!"}},{"$f":"COUNTIF(IF(ISERROR(INDIRECT(\"'Børn \"&A92&\"'!$H$44\",TRUE)),\"\",INDIRECT(\"'Børn \"&A92&\"'!$H$44\",TRUE)),1)","v":{"$error":"#VALUE!"}},{"$f":"COUNTIF(IF(ISERROR(INDIRECT(\"'Børn \"&A92&\"'!$H$53\",TRUE)),\"\",INDIRECT(\"'Børn \"&A92&\"'!$H$53\",TRUE)),1)","v":{"$error":"#VALUE!"}},{"$f":"COUNTIF(IF(ISERROR(INDIRECT(\"'Børn \"&A92&\"'!$H$61\",TRUE)),\"\",INDIRECT(\"'Børn \"&A92&\"'!$H$61\",TRUE)),1)","v":{"$error":"#VALUE!"}},{"$f":"COUNTIF(IF(ISERROR(INDIRECT(\"'Børn \"&A92&\"'!$H$68\",TRUE)),\"\",INDIRECT(\"'Børn \"&A92&\"'!$H$68\",TRUE)),1)","v":{"$error":"#VALUE!"}},{"$f":"COUNTIF(IF(ISERROR(INDIRECT(\"'Børn \"&A92&\"'!$H$79\",TRUE)),\"\",INDIRECT(\"'Børn \"&A92&\"'!$H$79\",TRUE)),1)","v":{"$error":"#VALUE!"}},{"$f":"COUNTIF(IF(ISERROR(INDIRECT(\"'Børn \"&A92&\"'!$H$87\",TRUE)),\"\",INDIRECT(\"'Børn \"&A92&\"'!$H$87\",TRUE)),1)","v":{"$error":"#VALUE!"}},null,null,null,"Tilsyn 16",{"$f":"IF(INDIRECT(\"'Voksen \"&U92&\"'!$c$112\")=\"\",\"\",IFERROR(INDIRECT(\"'Voksen \"&U92&\"'!$c$112\",TRUE),\"\"))","v":{"$error":"#REF!"}},{"$f":"IF(INDIRECT(\"'Voksen \"&U92&\"'!$c$133\")=\"\",\"\",IFERROR(INDIRECT(\"'Voksen \"&U92&\"'!$c$133\",TRUE),\"\"))","v":{"$error":"#REF!"}},{"$f":"IF(INDIRECT(\"'Voksen \"&U92&\"'!$c$154\")=\"\",\"\",IFERROR(INDIRECT(\"'Voksen \"&U92&\"'!$c$154\",TRUE),\"\"))","v":{"$error":"#REF!"}},{"$f":"IF(INDIRECT(\"'Voksen \"&U92&\"'!$c$169\")=\"\",\"\",IFERROR(INDIRECT(\"'Voksen \"&U92&\"'!$c$169\",TRUE),\"\"))","v":{"$error":"#REF!"}},{"$f":"IF(INDIRECT(\"'Voksen \"&U92&\"'!$c$186\")=\"\",\"\",IFERROR(INDIRECT(\"'Voksen \"&U92&\"'!$c$186\",TRUE),\"\"))","v":{"$error":"#REF!"}},{"$f":"IF(INDIRECT(\"'Voksen \"&U92&\"'!$c$207\")=\"\",\"\",IFERROR(INDIRECT(\"'Voksen \"&U92&\"'!$c$207\",TRUE),\"\"))","v":{"$error":"#REF!"}},{"$f":"IF(INDIRECT(\"'Voksen \"&U92&\"'!$c$229\")=\"\",\"\",IFERROR(INDIRECT(\"'Voksen \"&U92&\"'!$c$229\",TRUE),\"\"))","v":{"$error":"#REF!"}},{"$f":"IF(INDIRECT(\"'Voksen \"&U92&\"'!$c$255\")=\"\",\"\",IFERROR(INDIRECT(\"'Voksen \"&U92&\"'!$c$255\",TRUE),\"\"))","v":{"$error":"#REF!"}},null,{"$f":"IF(INDIRECT(\"'Børn \"&U92&\"'!$c$123\")=\"\",\"\",IFERROR(INDIRECT(\"'Børn \"&U92&\"'!$c$123\",TRUE),\"\"))","v":{"$error":"#REF!"}},{"$f":"IF(INDIRECT(\"'Børn \"&U92&\"'!$c$139\")=\"\",\"\",IFERROR(INDIRECT(\"'Børn \"&U92&\"'!$c$139\",TRUE),\"\"))","v":{"$error":"#REF!"}},{"$f":"IF(INDIRECT(\"'Børn \"&U92&\"'!$c$163\")=\"\",\"\",IFERROR(INDIRECT(\"'Børn \"&U92&\"'!$c$163\",TRUE),\"\"))","v":{"$error":"#REF!"}},{"$f":"IF(INDIRECT(\"'Børn \"&U92&\"'!$c$177\")=\"\",\"\",IFERROR(INDIRECT(\"'Børn \"&U92&\"'!$c$177\",TRUE),\"\"))","v":{"$error":"#REF!"}},{"$f":"IF(INDIRECT(\"'Børn \"&U92&\"'!$c$197\")=\"\",\"\",IFERROR(INDIRECT(\"'Børn \"&U92&\"'!$c$197\",TRUE),\"\"))","v":{"$error":"#REF!"}},{"$f":"IF(INDIRECT(\"'Børn \"&U92&\"'!$c$218\")=\"\",\"\",IFERROR(INDIRECT(\"'Børn \"&U92&\"'!$c$218\",TRUE),\"\"))","v":{"$error":"#REF!"}},{"$f":"IF(INDIRECT(\"'Børn \"&U92&\"'!$c$241\")=\"\",\"\",IFERROR(INDIRECT(\"'Børn \"&U92&\"'!$c$241\",TRUE),\"\"))","v":{"$error":"#REF!"}}]
["Tilsyn 11","Status:  gul",{"$f":"COUNTIF(IF(ISERROR(INDIRECT(\"'Voksen \"&A93&\"'!$H$31\",TRUE)),\"\",INDIRECT(\"'Voksen \"&A93&\"'!$H$31\",TRUE)),2)","v":{"$error":"#VALUE!"}},{"$f":"COUNTIF(IF(ISERROR(INDIRECT(\"'Voksen \"&A93&\"'!$H$41\",TRUE)),\"\",INDIRECT(\"'Voksen \"&A93&\"'!$H$41\",TRUE)),2)","v":{"$error":"#VALUE!"}},{"$f":"COUNTIF(IF(ISERROR(INDIRECT(\"'Voksen \"&A93&\"'!$H$50\",TRUE)),\"\",INDIRECT(\"'Voksen \"&A93&\"'!$H$50\",TRUE)),2)","v":{"$error":"#VALUE!"}},{"$f":"COUNTIF(IF(ISERROR(INDIRECT(\"'Voksen \"&A93&\"'!$H$58\",TRUE)),\"\",INDIRECT(\"'Voksen \"&A93&\"'!$H$58\",TRUE)),2)","v":{"$error":"#VALUE!"}},{"$f":"COUNTIF(IF(ISERROR(INDIRECT(\"'Voksen \"&A93&\"'!$H$69\",TRUE)),\"\",INDIRECT(\"'Voksen \"&A93&\"'!$H$69\",TRUE)),2)","v":{"$error":"#VALUE!"}},{"$f":"COUNTIF(IF(ISERROR(INDIRECT(\"'Voksen \"&A93&\"'!$H$77\",TRUE)),\"\",INDIRECT(\"'Voksen \"&A93&\"'!$H$77\",TRUE)),2)","v":{"$error":"#VALUE!"}},null,null,{"$f":"COUNTIF(IF(ISERROR(INDIRECT(\"'Børn \"&A93&\"'!$H$31\",TRUE)),\"\",INDIRECT(\"'Børn \"&A93&\"'!$H$31\",TRUE)),2)","v":{"$error":"#VALUE!"}},{"$f":"COUNTIF(IF(ISERROR(INDIRECT(\"'Børn \"&A93&\"'!$H$44\",TRUE)),\"\",INDIRECT(\"'Børn \"&A93&\"'!$H$44\",TRUE)),2)","v":{"$error":"#VALUE!"}},{"$f":"COUNTIF(IF(ISERROR(INDIRECT(\"'Børn \"&A93&\"'!$H$53\",TRUE)),\"\",INDIRECT(\"'Børn \"&A93&\"'!$H$53\",TRUE)),2)","v":{"$error":"#VALUE!"}},{"$f":"COUNTIF(IF(ISERROR(INDIRECT(\"'Børn \"&A93&\"'!$H$61\",TRUE)),\"\",INDIRECT(\"'Børn \"&A93&\"'!$H$61\",TRUE)),2)","v":{"$error":"#VALUE!"}},{"$f":"COUNTIF(IF(ISERROR(INDIRECT(\"'Børn \"&A93&\"'!$H$68\",TRUE)),\"\",INDIRECT(\"'Børn \"&A93&\"'!$H$68\",TRUE)),2)","v":{"$error":"#VALUE!"}},{"$f":"COUNTIF(IF(ISERROR(INDIRECT(\"'Børn \"&A93&\"'!$H$79\",TRUE)),\"\",INDIRECT(\"'Børn \"&A93&\"'!$H$79\",TRUE)),2)","v":{"$error":"#VALUE!"}},{"$f":"COUNTIF(IF(ISERROR(INDIRECT(\"'Børn \"&A93&\"'!$H$87\",TRUE)),\"\",INDIRECT(\"'Børn \"&A93&\"'!$H$87\",TRUE)),2)","v":{"$error":"#VALUE!"}},null,null,null,{"$f":"U92","v":"Tilsyn 16"},{"$f":"IF(INDIRECT(\"'Voksen \"&U93&\"'!$c$115\")=\"\",\"\",IFERROR(INDIRECT(\"'Voksen \"&U93&\"'!$c$115\",TRUE),\"\"))","v":{"$error":"#REF!"}},{"$f":"IF(INDIRECT(\"'Voksen \"&U93&\"'!$c$136\")=\"\",\"\",IFERROR(INDIRECT(\"'Voksen \"&U93&\"'!$c$136\",TRUE),\"\"))","v":{"$error":"#REF!"}},{"$f":"IF(INDIRECT(\"'Voksen \"&U93&\"'!$c$157\")=\"\",\"\",IFERROR(INDIRECT(\"'Voksen \"&U93&\"'!$c$157\",TRUE),\"\"))","v":{"$error":"#REF!"}},{"$f":"IF(INDIRECT(\"'Voksen \"&U93&\"'!$c$172\")=\"\",\"\",IFERROR(INDIRECT(\"'Voksen \"&U93&\"'!$c$172\",TRUE),\"\"))","v":{"$error":"#REF!"}},{"$f":"IF(INDIRECT(\"'Voksen \"&U93&\"'!$c$189\")=\"\",\"\",IFERROR(INDIRECT(\"'Voksen \"&U93&\"'!$c$189\",TRUE),\"\"))","v":{"$error":"#REF!"}},{"$f":"IF(INDIRECT(\"'Voksen \"&U93&\"'!$c$210\")=\"\",\"\",IFERROR(INDIRECT(\"'Voksen \"&U93&\"'!$c$210\",TRUE),\"\"))","v":{"$error":"#REF!"}},{"$f":"IF(INDIRECT(\"'Voksen \"&U93&\"'!$c$232\")=\"\",\"\",IFERROR(INDIRECT(\"'Voksen \"&U93&\"'!$c$232\",TRUE),\"\"))","v":{"$error":"#REF!"}},{"$f":"IF(INDIRECT(\"'Voksen \"&U93&\"'!$c$258\")=\"\",\"\",IFERROR(INDIRECT(\"'Voksen \"&U93&\"'!$c$258\",TRUE),\"\"))","v":{"$error":"#REF!"}},null,{"$f":"IF(INDIRECT(\"'Børn \"&U93&\"'!$c$126\")=\"\",\"\",IFERROR(INDIRECT(\"'Børn \"&U93&\"'!$c$126\",TRUE),\"\"))","v":{"$error":"#REF!"}},{"$f":"IF(INDIRECT(\"'Børn \"&U93&\"'!$c$142\")=\"\",\"\",IFERROR(INDIRECT(\"'Børn \"&U93&\"'!$c$142\",TRUE),\"\"))","v":{"$error":"#REF!"}},{"$f":"IF(INDIRECT(\"'Børn \"&U93&\"'!$c$166\")=\"\",\"\",IFERROR(INDIRECT(\"'Børn \"&U93&\"'!$c$166\",TRUE),\"\"))","v":{"$error":"#REF!"}},{"$f":"IF(INDIRECT(\"'Børn \"&U93&\"'!$c$180\")=\"\",\"\",IFERROR(INDIRECT(\"'Børn \"&U93&\"'!$c$180\",TRUE),\"\"))","v":{"$error":"#REF!"}},{"$f":"IF(INDIRECT(\"'Børn \"&U93&\"'!$c$200\")=\"\",\"\",IFERROR(INDIRECT(\"'Børn \"&U93&\"'!$c$200\",TRUE),\"\"))","v":{"$error":"#REF!"}},{"$f":"IF(INDIRECT(\"'Børn \"&U93&\"'!$c$221\")=\"\",\"\",IFERROR(INDIRECT(\"'Børn \"&U93&\"'!$c$221\",TRUE),\"\"))","v":{"$error":"#REF!"}},{"$f":"IF(INDIRECT(\"'Børn \"&U93&\"'!$c$244\")=\"\",\"\",IFERROR(INDIRECT(\"'Børn \"&U93&\"'!$c$244\",TRUE),\"\"))","v":{"$error":"#REF!"}}]
["Tilsyn 11","Status:  rød",{"$f":"COUNTIF(IF(ISERROR(INDIRECT(\"'Voksen \"&A94&\"'!$H$31\",TRUE)),\"\",INDIRECT(\"'Voksen \"&A94&\"'!$H$31\",TRUE)),3)","v":{"$error":"#VALUE!"}},{"$f":"COUNTIF(IF(ISERROR(INDIRECT(\"'Voksen \"&A94&\"'!$H$41\",TRUE)),\"\",INDIRECT(\"'Voksen \"&A94&\"'!$H$41\",TRUE)),3)","v":{"$error":"#VALUE!"}},{"$f":"COUNTIF(IF(ISERROR(INDIRECT(\"'Voksen \"&A94&\"'!$H$50\",TRUE)),\"\",INDIRECT(\"'Voksen \"&A94&\"'!$H$50\",TRUE)),3)","v":{"$error":"#VALUE!"}},{"$f":"COUNTIF(IF(ISERROR(INDIRECT(\"'Voksen \"&A94&\"'!$H$58\",TRUE)),\"\",INDIRECT(\"'Voksen \"&A94&\"'!$H$58\",TRUE)),3)","v":{"$error":"#VALUE!"}},{"$f":"COUNTIF(IF(ISERROR(INDIRECT(\"'Voksen \"&A94&\"'!$H$69\",TRUE)),\"\",INDIRECT(\"'Voksen \"&A94&\"'!$H$69\",TRUE)),3)","v":{"$error":"#VALUE!"}},{"$f":"COUNTIF(IF(ISERROR(INDIRECT(\"'Voksen \"&A94&\"'!$H$77\",TRUE)),\"\",INDIRECT(\"'Voksen \"&A94&\"'!$H$77\",TRUE)),3)","v":{"$error":"#VALUE!"}},null,null,{"$f":"COUNTIF(IF(ISERROR(INDIRECT(\"'Børn \"&A94&\"'!$H$31\",TRUE)),\"\",INDIRECT(\"'Børn \"&A94&\"'!$H$31\",TRUE)),3)","v":{"$error":"#VALUE!"}},{"$f":"COUNTIF(IF(ISERROR(INDIRECT(\"'Børn \"&A94&\"'!$H$44\",TRUE)),\"\",INDIRECT(\"'Børn \"&A94&\"'!$H$44\",TRUE)),3)","v":{"$error":"#VALUE!"}},{"$f":"COUNTIF(IF(ISERROR(INDIRECT(\"'Børn \"&A94&\"'!$H$53\",TRUE)),\"\",INDIRECT(\"'Børn \"&A94&\"'!$H$53\",TRUE)),3)","v":{"$error":"#VALUE!"}},{"$f":"COUNTIF(IF(ISERROR(INDIRECT(\"'Børn \"&A94&\"'!$H$61\",TRUE)),\"\",INDIRECT(\"'Børn \"&A94&\"'!$H$61\",TRUE)),3)","v":{"$error":"#VALUE!"}},{"$f":"COUNTIF(IF(ISERROR(INDIRECT(\"'Børn \"&A94&\"'!$H$68\",TRUE)),\"\",INDIRECT(\"'Børn \"&A94&\"'!$H$68\",TRUE)),3)","v":{"$error":"#VALUE!"}},{"$f":"COUNTIF(IF(ISERROR(INDIRECT(\"'Børn \"&A94&\"'!$H$79\",TRUE)),\"\",INDIRECT(\"'Børn \"&A94&\"'!$H$79\",TRUE)),3)","v":{"$error":"#VALUE!"}},{"$f":"COUNTIF(IF(ISERROR(INDIRECT(\"'Børn \"&A94&\"'!$H$87\",TRUE)),\"\",INDIRECT(\"'Børn \"&A94&\"'!$H$87\",TRUE)),3)","v":{"$error":"#VALUE!"}},null,null,null,"Tilsyn 17",{"$f":"IF(INDIRECT(\"'Voksen \"&U94&\"'!$c$112\")=\"\",\"\",IFERROR(INDIRECT(\"'Voksen \"&U94&\"'!$c$112\",TRUE),\"\"))","v":{"$error":"#REF!"}},{"$f":"IF(INDIRECT(\"'Voksen \"&U94&\"'!$c$133\")=\"\",\"\",IFERROR(INDIRECT(\"'Voksen \"&U94&\"'!$c$133\",TRUE),\"\"))","v":{"$error":"#REF!"}},{"$f":"IF(INDIRECT(\"'Voksen \"&U94&\"'!$c$154\")=\"\",\"\",IFERROR(INDIRECT(\"'Voksen \"&U94&\"'!$c$154\",TRUE),\"\"))","v":{"$error":"#REF!"}},{"$f":"IF(INDIRECT(\"'Voksen \"&U94&\"'!$c$169\")=\"\",\"\",IFERROR(INDIRECT(\"'Voksen \"&U94&\"'!$c$169\",TRUE),\"\"))","v":{"$error":"#REF!"}},{"$f":"IF(INDIRECT(\"'Voksen \"&U94&\"'!$c$186\")=\"\",\"\",IFERROR(INDIRECT(\"'Voksen \"&U94&\"'!$c$186\",TRUE),\"\"))","v":{"$error":"#REF!"}},{"$f":"IF(INDIRECT(\"'Voksen \"&U94&\"'!$c$207\")=\"\",\"\",IFERROR(INDIRECT(\"'Voksen \"&U94&\"'!$c$207\",TRUE),\"\"))","v":{"$error":"#REF!"}},{"$f":"IF(INDIRECT(\"'Voksen \"&U94&\"'!$c$229\")=\"\",\"\",IFERROR(INDIRECT(\"'Voksen \"&U94&\"'!$c$229\",TRUE),\"\"))","v":{"$error":"#REF!"}},{"$f":"IF(INDIRECT(\"'Voksen \"&U94&\"'!$c$255\")=\"\",\"\",IFERROR(INDIRECT(\"'Voksen \"&U94&\"'!$c$255\",TRUE),\"\"))","v":{"$error":"#REF!"}},null,{"$f":"IF(INDIRECT(\"'Børn \"&U94&\"'!$c$123\")=\"\",\"\",IFERROR(INDIRECT(\"'Børn \"&U94&\"'!$c$123\",TRUE),\"\"))","v":{"$error":"#REF!"}},{"$f":"IF(INDIRECT(\"'Børn \"&U94&\"'!$c$139\")=\"\",\"\",IFERROR(INDIRECT(\"'Børn \"&U94&\"'!$c$139\",TRUE),\"\"))","v":{"$error":"#REF!"}},{"$f":"IF(INDIRECT(\"'Børn \"&U94&\"'!$c$163\")=\"\",\"\",IFERROR(INDIRECT(\"'Børn \"&U94&\"'!$c$163\",TRUE),\"\"))","v":{"$error":"#REF!"}},{"$f":"IF(INDIRECT(\"'Børn \"&U94&\"'!$c$177\")=\"\",\"\",IFERROR(INDIRECT(\"'Børn \"&U94&\"'!$c$177\",TRUE),\"\"))","v":{"$error":"#REF!"}},{"$f":"IF(INDIRECT(\"'Børn \"&U94&\"'!$c$197\")=\"\",\"\",IFERROR(INDIRECT(\"'Børn \"&U94&\"'!$c$197\",TRUE),\"\"))","v":{"$error":"#REF!"}},{"$f":"IF(INDIRECT(\"'Børn \"&U94&\"'!$c$218\")=\"\",\"\",IFERROR(INDIRECT(\"'Børn \"&U94&\"'!$c$218\",TRUE),\"\"))","v":{"$error":"#REF!"}},{"$f":"IF(INDIRECT(\"'Børn \"&U94&\"'!$c$241\")=\"\",\"\",IFERROR(INDIRECT(\"'Børn \"&U94&\"'!$c$241\",TRUE),\"\"))","v":{"$error":"#REF!"}}]
["Tilsyn 12","Status:  grøn",{"$f":"COUNTIF(IF(ISERROR(INDIRECT(\"'Voksen \"&A95&\"'!$H$31\",TRUE)),\"\",INDIRECT(\"'Voksen \"&A95&\"'!$H$31\",TRUE)),1)","v":{"$error":"#VALUE!"}},{"$f":"COUNTIF(IF(ISERROR(INDIRECT(\"'Voksen \"&A95&\"'!$H$41\",TRUE)),\"\",INDIRECT(\"'Voksen \"&A95&\"'!$H$41\",TRUE)),1)","v":{"$error":"#VALUE!"}},{"$f":"COUNTIF(IF(ISERROR(INDIRECT(\"'Voksen \"&A95&\"'!$H$50\",TRUE)),\"\",INDIRECT(\"'Voksen \"&A95&\"'!$H$50\",TRUE)),1)","v":{"$error":"#VALUE!"}},{"$f":"COUNTIF(IF(ISERROR(INDIRECT(\"'Voksen \"&A95&\"'!$H$58\",TRUE)),\"\",INDIRECT(\"'Voksen \"&A95&\"'!$H$58\",TRUE)),1)","v":{"$error":"#VALUE!"}},{"$f":"COUNTIF(IF(ISERROR(INDIRECT(\"'Voksen \"&A95&\"'!$H$69\",TRUE)),\"\",INDIRECT(\"'Voksen \"&A95&\"'!$H$69\",TRUE)),1)","v":{"$error":"#VALUE!"}},{"$f":"COUNTIF(IF(ISERROR(INDIRECT(\"'Voksen \"&A95&\"'!$H$77\",TRUE)),\"\",INDIRECT(\"'Voksen \"&A95&\"'!$H$77\",TRUE)),1)","v":{"$error":"#VALUE!"}},null,null,{"$f":"COUNTIF(IF(ISERROR(INDIRECT(\"'Børn \"&A95&\"'!$H$31\",TRUE)),\"\",INDIRECT(\"'Børn \"&A95&\"'!$H$31\",TRUE)),1)","v":{"$error":"#VALUE!"}},{"$f":"COUNTIF(IF(ISERROR(INDIRECT(\"'Børn \"&A95&\"'!$H$44\",TRUE)),\"\",INDIRECT(\"'Børn \"&A95&\"'!$H$44\",TRUE)),1)","v":{"$error":"#VALUE!"}},{"$f":"COUNTIF(IF(ISERROR(INDIRECT(\"'Børn \"&A95&\"'!$H$53\",TRUE)),\"\",INDIRECT(\"'Børn \"&A95&\"'!$H$53\",TRUE)),1)","v":{"$error":"#VALUE!"}},{"$f":"COUNTIF(IF(ISERROR(INDIRECT(\"'Børn \"&A95&\"'!$H$61\",TRUE)),\"\",INDIRECT(\"'Børn \"&A95&\"'!$H$61\",TRUE)),1)","v":{"$error":"#VALUE!"}},{"$f":"COUNTIF(IF(ISERROR(INDIRECT(\"'Børn \"&A95&\"'!$H$68\",TRUE)),\"\",INDIRECT(\"'Børn \"&A95&\"'!$H$68\",TRUE)),1)","v":{"$error":"#VALUE!"}},{"$f":"COUNTIF(IF(ISERROR(INDIRECT(\"'Børn \"&A95&\"'!$H$79\",TRUE)),\"\",INDIRECT(\"'Børn \"&A95&\"'!$H$79\",TRUE)),1)","v":{"$error":"#VALUE!"}},{"$f":"COUNTIF(IF(ISERROR(INDIRECT(\"'Børn \"&A95&\"'!$H$87\",TRUE)),\"\",INDIRECT(\"'Børn \"&A95&\"'!$H$87\",TRUE)),1)","v":{"$error":"#VALUE!"}},null,null,null,{"$f":"U94","v":"Tilsyn 17"},{"$f":"IF(INDIRECT(\"'Voksen \"&U95&\"'!$c$115\")=\"\",\"\",IFERROR(INDIRECT(\"'Voksen \"&U95&\"'!$c$115\",TRUE),\"\"))","v":{"$error":"#REF!"}},{"$f":"IF(INDIRECT(\"'Voksen \"&U95&\"'!$c$136\")=\"\",\"\",IFERROR(INDIRECT(\"'Voksen \"&U95&\"'!$c$136\",TRUE),\"\"))","v":{"$error":"#REF!"}},{"$f":"IF(INDIRECT(\"'Voksen \"&U95&\"'!$c$157\")=\"\",\"\",IFERROR(INDIRECT(\"'Voksen \"&U95&\"'!$c$157\",TRUE),\"\"))","v":{"$error":"#REF!"}},{"$f":"IF(INDIRECT(\"'Voksen \"&U95&\"'!$c$172\")=\"\",\"\",IFERROR(INDIRECT(\"'Voksen \"&U95&\"'!$c$172\",TRUE),\"\"))","v":{"$error":"#REF!"}},{"$f":"IF(INDIRECT(\"'Voksen \"&U95&\"'!$c$189\")=\"\",\"\",IFERROR(INDIRECT(\"'Voksen \"&U95&\"'!$c$189\",TRUE),\"\"))","v":{"$error":"#REF!"}},{"$f":"IF(INDIRECT(\"'Voksen \"&U95&\"'!$c$210\")=\"\",\"\",IFERROR(INDIRECT(\"'Voksen \"&U95&\"'!$c$210\",TRUE),\"\"))","v":{"$error":"#REF!"}},{"$f":"IF(INDIRECT(\"'Voksen \"&U95&\"'!$c$232\")=\"\",\"\",IFERROR(INDIRECT(\"'Voksen \"&U95&\"'!$c$232\",TRUE),\"\"))","v":{"$error":"#REF!"}},{"$f":"IF(INDIRECT(\"'Voksen \"&U95&\"'!$c$258\")=\"\",\"\",IFERROR(INDIRECT(\"'Voksen \"&U95&\"'!$c$258\",TRUE),\"\"))","v":{"$error":"#REF!"}},null,{"$f":"IF(INDIRECT(\"'Børn \"&U95&\"'!$c$126\")=\"\",\"\",IFERROR(INDIRECT(\"'Børn \"&U95&\"'!$c$126\",TRUE),\"\"))","v":{"$error":"#REF!"}},{"$f":"IF(INDIRECT(\"'Børn \"&U95&\"'!$c$142\")=\"\",\"\",IFERROR(INDIRECT(\"'Børn \"&U95&\"'!$c$142\",TRUE),\"\"))","v":{"$error":"#REF!"}},{"$f":"IF(INDIRECT(\"'Børn \"&U95&\"'!$c$166\")=\"\",\"\",IFERROR(INDIRECT(\"'Børn \"&U95&\"'!$c$166\",TRUE),\"\"))","v":{"$error":"#REF!"}},{"$f":"IF(INDIRECT(\"'Børn \"&U95&\"'!$c$180\")=\"\",\"\",IFERROR(INDIRECT(\"'Børn \"&U95&\"'!$c$180\",TRUE),\"\"))","v":{"$error":"#REF!"}},{"$f":"IF(INDIRECT(\"'Børn \"&U95&\"'!$c$200\")=\"\",\"\",IFERROR(INDIRECT(\"'Børn \"&U95&\"'!$c$200\",TRUE),\"\"))","v":{"$error":"#REF!"}},{"$f":"IF(INDIRECT(\"'Børn \"&U95&\"'!$c$221\")=\"\",\"\",IFERROR(INDIRECT(\"'Børn \"&U95&\"'!$c$221\",TRUE),\"\"))","v":{"$error":"#REF!"}},{"$f":"IF(INDIRECT(\"'Børn \"&U95&\"'!$c$244\")=\"\",\"\",IFERROR(INDIRECT(\"'Børn \"&U95&\"'!$c$244\",TRUE),\"\"))","v":{"$error":"#REF!"}}]
["Tilsyn 12","Status:  gul",{"$f":"COUNTIF(IF(ISERROR(INDIRECT(\"'Voksen \"&A96&\"'!$H$31\",TRUE)),\"\",INDIRECT(\"'Voksen \"&A96&\"'!$H$31\",TRUE)),2)","v":{"$error":"#VALUE!"}},{"$f":"COUNTIF(IF(ISERROR(INDIRECT(\"'Voksen \"&A96&\"'!$H$41\",TRUE)),\"\",INDIRECT(\"'Voksen \"&A96&\"'!$H$41\",TRUE)),2)","v":{"$error":"#VALUE!"}},{"$f":"COUNTIF(IF(ISERROR(INDIRECT(\"'Voksen \"&A96&\"'!$H$50\",TRUE)),\"\",INDIRECT(\"'Voksen \"&A96&\"'!$H$50\",TRUE)),2)","v":{"$error":"#VALUE!"}},{"$f":"COUNTIF(IF(ISERROR(INDIRECT(\"'Voksen \"&A96&\"'!$H$58\",TRUE)),\"\",INDIRECT(\"'Voksen \"&A96&\"'!$H$58\",TRUE)),2)","v":{"$error":"#VALUE!"}},{"$f":"COUNTIF(IF(ISERROR(INDIRECT(\"'Voksen \"&A96&\"'!$H$69\",TRUE)),\"\",INDIRECT(\"'Voksen \"&A96&\"'!$H$69\",TRUE)),2)","v":{"$error":"#VALUE!"}},{"$f":"COUNTIF(IF(ISERROR(INDIRECT(\"'Voksen \"&A96&\"'!$H$77\",TRUE)),\"\",INDIRECT(\"'Voksen \"&A96&\"'!$H$77\",TRUE)),2)","v":{"$error":"#VALUE!"}},null,null,{"$f":"COUNTIF(IF(ISERROR(INDIRECT(\"'Børn \"&A96&\"'!$H$31\",TRUE)),\"\",INDIRECT(\"'Børn \"&A96&\"'!$H$31\",TRUE)),2)","v":{"$error":"#VALUE!"}},{"$f":"COUNTIF(IF(ISERROR(INDIRECT(\"'Børn \"&A96&\"'!$H$44\",TRUE)),\"\",INDIRECT(\"'Børn \"&A96&\"'!$H$44\",TRUE)),2)","v":{"$error":"#VALUE!"}},{"$f":"COUNTIF(IF(ISERROR(INDIRECT(\"'Børn \"&A96&\"'!$H$53\",TRUE)),\"\",INDIRECT(\"'Børn \"&A96&\"'!$H$53\",TRUE)),2)","v":{"$error":"#VALUE!"}},{"$f":"COUNTIF(IF(ISERROR(INDIRECT(\"'Børn \"&A96&\"'!$H$61\",TRUE)),\"\",INDIRECT(\"'Børn \"&A96&\"'!$H$61\",TRUE)),2)","v":{"$error":"#VALUE!"}},{"$f":"COUNTIF(IF(ISERROR(INDIRECT(\"'Børn \"&A96&\"'!$H$68\",TRUE)),\"\",INDIRECT(\"'Børn \"&A96&\"'!$H$68\",TRUE)),2)","v":{"$error":"#VALUE!"}},{"$f":"COUNTIF(IF(ISERROR(INDIRECT(\"'Børn \"&A96&\"'!$H$79\",TRUE)),\"\",INDIRECT(\"'Børn \"&A96&\"'!$H$79\",TRUE)),2)","v":{"$error":"#VALUE!"}},{"$f":"COUNTIF(IF(ISERROR(INDIRECT(\"'Børn \"&A96&\"'!$H$87\",TRUE)),\"\",INDIRECT(\"'Børn \"&A96&\"'!$H$87\",TRUE)),2)","v":{"$error":"#VALUE!"}},null,null,null,"Tilsyn 18",{"$f":"IF(INDIRECT(\"'Voksen \"&U96&\"'!$c$112\")=\"\",\"\",IFERROR(INDIRECT(\"'Voksen \"&U96&\"'!$c$112\",TRUE),\"\"))","v":{"$error":"#REF!"}},{"$f":"IF(INDIRECT(\"'Voksen \"&U96&\"'!$c$133\")=\"\",\"\",IFERROR(INDIRECT(\"'Voksen \"&U96&\"'!$c$133\",TRUE),\"\"))","v":{"$error":"#REF!"}},{"$f":"IF(INDIRECT(\"'Voksen \"&U96&\"'!$c$154\")=\"\",\"\",IFERROR(INDIRECT(\"'Voksen \"&U96&\"'!$c$154\",TRUE),\"\"))","v":{"$error":"#REF!"}},{"$f":"IF(INDIRECT(\"'Voksen \"&U96&\"'!$c$169\")=\"\",\"\",IFERROR(INDIRECT(\"'Voksen \"&U96&\"'!$c$169\",TRUE),\"\"))","v":{"$error":"#REF!"}},{"$f":"IF(INDIRECT(\"'Voksen \"&U96&\"'!$c$186\")=\"\",\"\",IFERROR(INDIRECT(\"'Voksen \"&U96&\"'!$c$186\",TRUE),\"\"))","v":{"$error":"#REF!"}},{"$f":"IF(INDIRECT(\"'Voksen \"&U96&\"'!$c$207\")=\"\",\"\",IFERROR(INDIRECT(\"'Voksen \"&U96&\"'!$c$207\",TRUE),\"\"))","v":{"$error":"#REF!"}},{"$f":"IF(INDIRECT(\"'Voksen \"&U96&\"'!$c$229\")=\"\",\"\",IFERROR(INDIRECT(\"'Voksen \"&U96&\"'!$c$229\",TRUE),\"\"))","v":{"$error":"#REF!"}},{"$f":"IF(INDIRECT(\"'Voksen \"&U96&\"'!$c$255\")=\"\",\"\",IFERROR(INDIRECT(\"'Voksen \"&U96&\"'!$c$255\",TRUE),\"\"))","v":{"$error":"#REF!"}},null,{"$f":"IF(INDIRECT(\"'Børn \"&U96&\"'!$c$123\")=\"\",\"\",IFERROR(INDIRECT(\"'Børn \"&U96&\"'!$c$123\",TRUE),\"\"))","v":{"$error":"#REF!"}},{"$f":"IF(INDIRECT(\"'Børn \"&U96&\"'!$c$139\")=\"\",\"\",IFERROR(INDIRECT(\"'Børn \"&U96&\"'!$c$139\",TRUE),\"\"))","v":{"$error":"#REF!"}},{"$f":"IF(INDIRECT(\"'Børn \"&U96&\"'!$c$163\")=\"\",\"\",IFERROR(INDIRECT(\"'Børn \"&U96&\"'!$c$163\",TRUE),\"\"))","v":{"$error":"#REF!"}},{"$f":"IF(INDIRECT(\"'Børn \"&U96&\"'!$c$177\")=\"\",\"\",IFERROR(INDIRECT(\"'Børn \"&U96&\"'!$c$177\",TRUE),\"\"))","v":{"$error":"#REF!"}},{"$f":"IF(INDIRECT(\"'Børn \"&U96&\"'!$c$197\")=\"\",\"\",IFERROR(INDIRECT(\"'Børn \"&U96&\"'!$c$197\",TRUE),\"\"))","v":{"$error":"#REF!"}},{"$f":"IF(INDIRECT(\"'Børn \"&U96&\"'!$c$218\")=\"\",\"\",IFERROR(INDIRECT(\"'Børn \"&U96&\"'!$c$218\",TRUE),\"\"))","v":{"$error":"#REF!"}},{"$f":"IF(INDIRECT(\"'Børn \"&U96&\"'!$c$241\")=\"\",\"\",IFERROR(INDIRECT(\"'Børn \"&U96&\"'!$c$241\",TRUE),\"\"))","v":{"$error":"#REF!"}}]
["Tilsyn 12","Status:  rød",{"$f":"COUNTIF(IF(ISERROR(INDIRECT(\"'Voksen \"&A97&\"'!$H$31\",TRUE)),\"\",INDIRECT(\"'Voksen \"&A97&\"'!$H$31\",TRUE)),3)","v":{"$error":"#VALUE!"}},{"$f":"COUNTIF(IF(ISERROR(INDIRECT(\"'Voksen \"&A97&\"'!$H$41\",TRUE)),\"\",INDIRECT(\"'Voksen \"&A97&\"'!$H$41\",TRUE)),3)","v":{"$error":"#VALUE!"}},{"$f":"COUNTIF(IF(ISERROR(INDIRECT(\"'Voksen \"&A97&\"'!$H$50\",TRUE)),\"\",INDIRECT(\"'Voksen \"&A97&\"'!$H$50\",TRUE)),3)","v":{"$error":"#VALUE!"}},{"$f":"COUNTIF(IF(ISERROR(INDIRECT(\"'Voksen \"&A97&\"'!$H$58\",TRUE)),\"\",INDIRECT(\"'Voksen \"&A97&\"'!$H$58\",TRUE)),3)","v":{"$error":"#VALUE!"}},{"$f":"COUNTIF(IF(ISERROR(INDIRECT(\"'Voksen \"&A97&\"'!$H$69\",TRUE)),\"\",INDIRECT(\"'Voksen \"&A97&\"'!$H$69\",TRUE)),3)","v":{"$error":"#VALUE!"}},{"$f":"COUNTIF(IF(ISERROR(INDIRECT(\"'Voksen \"&A97&\"'!$H$77\",TRUE)),\"\",INDIRECT(\"'Voksen \"&A97&\"'!$H$77\",TRUE)),3)","v":{"$error":"#VALUE!"}},null,null,{"$f":"COUNTIF(IF(ISERROR(INDIRECT(\"'Børn \"&A97&\"'!$H$31\",TRUE)),\"\",INDIRECT(\"'Børn \"&A97&\"'!$H$31\",TRUE)),3)","v":{"$error":"#VALUE!"}},{"$f":"COUNTIF(IF(ISERROR(INDIRECT(\"'Børn \"&A97&\"'!$H$44\",TRUE)),\"\",INDIRECT(\"'Børn \"&A97&\"'!$H$44\",TRUE)),3)","v":{"$error":"#VALUE!"}},{"$f":"COUNTIF(IF(ISERROR(INDIRECT(\"'Børn \"&A97&\"'!$H$53\",TRUE)),\"\",INDIRECT(\"'Børn \"&A97&\"'!$H$53\",TRUE)),3)","v":{"$error":"#VALUE!"}},{"$f":"COUNTIF(IF(ISERROR(INDIRECT(\"'Børn \"&A97&\"'!$H$61\",TRUE)),\"\",INDIRECT(\"'Børn \"&A97&\"'!$H$61\",TRUE)),3)","v":{"$error":"#VALUE!"}},{"$f":"COUNTIF(IF(ISERROR(INDIRECT(\"'Børn \"&A97&\"'!$H$68\",TRUE)),\"\",INDIRECT(\"'Børn \"&A97&\"'!$H$68\",TRUE)),3)","v":{"$error":"#VALUE!"}},{"$f":"COUNTIF(IF(ISERROR(INDIRECT(\"'Børn \"&A97&\"'!$H$79\",TRUE)),\"\",INDIRECT(\"'Børn \"&A97&\"'!$H$79\",TRUE)),3)","v":{"$error":"#VALUE!"}},{"$f":"COUNTIF(IF(ISERROR(INDIRECT(\"'Børn \"&A97&\"'!$H$87\",TRUE)),\"\",INDIRECT(\"'Børn \"&A97&\"'!$H$87\",TRUE)),3)","v":{"$error":"#VALUE!"}},null,null,null,{"$f":"U96","v":"Tilsyn 18"},{"$f":"IF(INDIRECT(\"'Voksen \"&U97&\"'!$c$115\")=\"\",\"\",IFERROR(INDIRECT(\"'Voksen \"&U97&\"'!$c$115\",TRUE),\"\"))","v":{"$error":"#REF!"}},{"$f":"IF(INDIRECT(\"'Voksen \"&U97&\"'!$c$136\")=\"\",\"\",IFERROR(INDIRECT(\"'Voksen \"&U97&\"'!$c$136\",TRUE),\"\"))","v":{"$error":"#REF!"}},{"$f":"IF(INDIRECT(\"'Voksen \"&U97&\"'!$c$157\")=\"\",\"\",IFERROR(INDIRECT(\"'Voksen \"&U97&\"'!$c$157\",TRUE),\"\"))","v":{"$error":"#REF!"}},{"$f":"IF(INDIRECT(\"'Voksen \"&U97&\"'!$c$172\")=\"\",\"\",IFERROR(INDIRECT(\"'Voksen \"&U97&\"'!$c$172\",TRUE),\"\"))","v":{"$error":"#REF!"}},{"$f":"IF(INDIRECT(\"'Voksen \"&U97&\"'!$c$189\")=\"\",\"\",IFERROR(INDIRECT(\"'Voksen \"&U97&\"'!$c$189\",TRUE),\"\"))","v":{"$error":"#REF!"}},{"$f":"IF(INDIRECT(\"'Voksen \"&U97&\"'!$c$210\")=\"\",\"\",IFERROR(INDIRECT(\"'Voksen \"&U97&\"'!$c$210\",TRUE),\"\"))","v":{"$error":"#REF!"}},{"$f":"IF(INDIRECT(\"'Voksen \"&U97&\"'!$c$232\")=\"\",\"\",IFERROR(INDIRECT(\"'Voksen \"&U97&\"'!$c$232\",TRUE),\"\"))","v":{"$error":"#REF!"}},{"$f":"IF(INDIRECT(\"'Voksen \"&U97&\"'!$c$258\")=\"\",\"\",IFERROR(INDIRECT(\"'Voksen \"&U97&\"'!$c$258\",TRUE),\"\"))","v":{"$error":"#REF!"}},null,{"$f":"IF(INDIRECT(\"'Børn \"&U97&\"'!$c$126\")=\"\",\"\",IFERROR(INDIRECT(\"'Børn \"&U97&\"'!$c$126\",TRUE),\"\"))","v":{"$error":"#REF!"}},{"$f":"IF(INDIRECT(\"'Børn \"&U97&\"'!$c$142\")=\"\",\"\",IFERROR(INDIRECT(\"'Børn \"&U97&\"'!$c$142\",TRUE),\"\"))","v":{"$error":"#REF!"}},{"$f":"IF(INDIRECT(\"'Børn \"&U97&\"'!$c$166\")=\"\",\"\",IFERROR(INDIRECT(\"'Børn \"&U97&\"'!$c$166\",TRUE),\"\"))","v":{"$error":"#REF!"}},{"$f":"IF(INDIRECT(\"'Børn \"&U97&\"'!$c$180\")=\"\",\"\",IFERROR(INDIRECT(\"'Børn \"&U97&\"'!$c$180\",TRUE),\"\"))","v":{"$error":"#REF!"}},{"$f":"IF(INDIRECT(\"'Børn \"&U97&\"'!$c$200\")=\"\",\"\",IFERROR(INDIRECT(\"'Børn \"&U97&\"'!$c$200\",TRUE),\"\"))","v":{"$error":"#REF!"}},{"$f":"IF(INDIRECT(\"'Børn \"&U97&\"'!$c$221\")=\"\",\"\",IFERROR(INDIRECT(\"'Børn \"&U97&\"'!$c$221\",TRUE),\"\"))","v":{"$error":"#REF!"}},{"$f":"IF(INDIRECT(\"'Børn \"&U97&\"'!$c$244\")=\"\",\"\",IFERROR(INDIRECT(\"'Børn \"&U97&\"'!$c$244\",TRUE),\"\"))","v":{"$error":"#REF!"}}]
["Tilsyn 13","Status:  grøn",{"$f":"COUNTIF(IF(ISERROR(INDIRECT(\"'Voksen \"&A98&\"'!$H$31\",TRUE)),\"\",INDIRECT(\"'Voksen \"&A98&\"'!$H$31\",TRUE)),1)","v":{"$error":"#VALUE!"}},{"$f":"COUNTIF(IF(ISERROR(INDIRECT(\"'Voksen \"&A98&\"'!$H$41\",TRUE)),\"\",INDIRECT(\"'Voksen \"&A98&\"'!$H$41\",TRUE)),1)","v":{"$error":"#VALUE!"}},{"$f":"COUNTIF(IF(ISERROR(INDIRECT(\"'Voksen \"&A98&\"'!$H$50\",TRUE)),\"\",INDIRECT(\"'Voksen \"&A98&\"'!$H$50\",TRUE)),1)","v":{"$error":"#VALUE!"}},{"$f":"COUNTIF(IF(ISERROR(INDIRECT(\"'Voksen \"&A98&\"'!$H$58\",TRUE)),\"\",INDIRECT(\"'Voksen \"&A98&\"'!$H$58\",TRUE)),1)","v":{"$error":"#VALUE!"}},{"$f":"COUNTIF(IF(ISERROR(INDIRECT(\"'Voksen \"&A98&\"'!$H$69\",TRUE)),\"\",INDIRECT(\"'Voksen \"&A98&\"'!$H$69\",TRUE)),1)","v":{"$error":"#VALUE!"}},{"$f":"COUNTIF(IF(ISERROR(INDIRECT(\"'Voksen \"&A98&\"'!$H$77\",TRUE)),\"\",INDIRECT(\"'Voksen \"&A98&\"'!$H$77\",TRUE)),1)","v":{"$error":"#VALUE!"}},null,null,{"$f":"COUNTIF(IF(ISERROR(INDIRECT(\"'Børn \"&A98&\"'!$H$31\",TRUE)),\"\",INDIRECT(\"'Børn \"&A98&\"'!$H$31\",TRUE)),1)","v":{"$error":"#VALUE!"}},{"$f":"COUNTIF(IF(ISERROR(INDIRECT(\"'Børn \"&A98&\"'!$H$44\",TRUE)),\"\",INDIRECT(\"'Børn \"&A98&\"'!$H$44\",TRUE)),1)","v":{"$error":"#VALUE!"}},{"$f":"COUNTIF(IF(ISERROR(INDIRECT(\"'Børn \"&A98&\"'!$H$53\",TRUE)),\"\",INDIRECT(\"'Børn \"&A98&\"'!$H$53\",TRUE)),1)","v":{"$error":"#VALUE!"}},{"$f":"COUNTIF(IF(ISERROR(INDIRECT(\"'Børn \"&A98&\"'!$H$61\",TRUE)),\"\",INDIRECT(\"'Børn \"&A98&\"'!$H$61\",TRUE)),1)","v":{"$error":"#VALUE!"}},{"$f":"COUNTIF(IF(ISERROR(INDIRECT(\"'Børn \"&A98&\"'!$H$68\",TRUE)),\"\",INDIRECT(\"'Børn \"&A98&\"'!$H$68\",TRUE)),1)","v":{"$error":"#VALUE!"}},{"$f":"COUNTIF(IF(ISERROR(INDIRECT(\"'Børn \"&A98&\"'!$H$79\",TRUE)),\"\",INDIRECT(\"'Børn \"&A98&\"'!$H$79\",TRUE)),1)","v":{"$error":"#VALUE!"}},{"$f":"COUNTIF(IF(ISERROR(INDIRECT(\"'Børn \"&A98&\"'!$H$87\",TRUE)),\"\",INDIRECT(\"'Børn \"&A98&\"'!$H$87\",TRUE)),1)","v":{"$error":"#VALUE!"}},null,null,null,"Tilsyn 19",{"$f":"IF(INDIRECT(\"'Voksen \"&U98&\"'!$c$112\")=\"\",\"\",IFERROR(INDIRECT(\"'Voksen \"&U98&\"'!$c$112\",TRUE),\"\"))","v":{"$error":"#REF!"}},{"$f":"IF(INDIRECT(\"'Voksen \"&U98&\"'!$c$133\")=\"\",\"\",IFERROR(INDIRECT(\"'Voksen \"&U98&\"'!$c$133\",TRUE),\"\"))","v":{"$error":"#REF!"}},{"$f":"IF(INDIRECT(\"'Voksen \"&U98&\"'!$c$154\")=\"\",\"\",IFERROR(INDIRECT(\"'Voksen \"&U98&\"'!$c$154\",TRUE),\"\"))","v":{"$error":"#REF!"}},{"$f":"IF(INDIRECT(\"'Voksen \"&U98&\"'!$c$169\")=\"\",\"\",IFERROR(INDIRECT(\"'Voksen \"&U98&\"'!$c$169\",TRUE),\"\"))","v":{"$error":"#REF!"}},{"$f":"IF(INDIRECT(\"'Voksen \"&U98&\"'!$c$186\")=\"\",\"\",IFERROR(INDIRECT(\"'Voksen \"&U98&\"'!$c$186\",TRUE),\"\"))","v":{"$error":"#REF!"}},{"$f":"IF(INDIRECT(\"'Voksen \"&U98&\"'!$c$207\")=\"\",\"\",IFERROR(INDIRECT(\"'Voksen \"&U98&\"'!$c$207\",TRUE),\"\"))","v":{"$error":"#REF!"}},{"$f":"IF(INDIRECT(\"'Voksen \"&U98&\"'!$c$229\")=\"\",\"\",IFERROR(INDIRECT(\"'Voksen \"&U98&\"'!$c$229\",TRUE),\"\"))","v":{"$error":"#REF!"}},{"$f":"IF(INDIRECT(\"'Voksen \"&U98&\"'!$c$255\")=\"\",\"\",IFERROR(INDIRECT(\"'Voksen \"&U98&\"'!$c$255\",TRUE),\"\"))","v":{"$error":"#REF!"}},null,{"$f":"IF(INDIRECT(\"'Børn \"&U98&\"'!$c$123\")=\"\",\"\",IFERROR(INDIRECT(\"'Børn \"&U98&\"'!$c$123\",TRUE),\"\"))","v":{"$error":"#REF!"}},{"$f":"IF(INDIRECT(\"'Børn \"&U98&\"'!$c$139\")=\"\",\"\",IFERROR(INDIRECT(\"'Børn \"&U98&\"'!$c$139\",TRUE),\"\"))","v":{"$error":"#REF!"}},{"$f":"IF(INDIRECT(\"'Børn \"&U98&\"'!$c$163\")=\"\",\"\",IFERROR(INDIRECT(\"'Børn \"&U98&\"'!$c$163\",TRUE),\"\"))","v":{"$error":"#REF!"}},{"$f":"IF(INDIRECT(\"'Børn \"&U98&\"'!$c$177\")=\"\",\"\",IFERROR(INDIRECT(\"'Børn \"&U98&\"'!$c$177\",TRUE),\"\"))","v":{"$error":"#REF!"}},{"$f":"IF(INDIRECT(\"'Børn \"&U98&\"'!$c$197\")=\"\",\"\",IFERROR(INDIRECT(\"'Børn \"&U98&\"'!$c$197\",TRUE),\"\"))","v":{"$error":"#REF!"}},{"$f":"IF(INDIRECT(\"'Børn \"&U98&\"'!$c$218\")=\"\",\"\",IFERROR(INDIRECT(\"'Børn \"&U98&\"'!$c$218\",TRUE),\"\"))","v":{"$error":"#REF!"}},{"$f":"IF(INDIRECT(\"'Børn \"&U98&\"'!$c$241\")=\"\",\"\",IFERROR(INDIRECT(\"'Børn \"&U98&\"'!$c$241\",TRUE),\"\"))","v":{"$error":"#REF!"}}]
["Tilsyn 13","Status:  gul",{"$f":"COUNTIF(IF(ISERROR(INDIRECT(\"'Voksen \"&A99&\"'!$H$31\",TRUE)),\"\",INDIRECT(\"'Voksen \"&A99&\"'!$H$31\",TRUE)),2)","v":{"$error":"#VALUE!"}},{"$f":"COUNTIF(IF(ISERROR(INDIRECT(\"'Voksen \"&A99&\"'!$H$41\",TRUE)),\"\",INDIRECT(\"'Voksen \"&A99&\"'!$H$41\",TRUE)),2)","v":{"$error":"#VALUE!"}},{"$f":"COUNTIF(IF(ISERROR(INDIRECT(\"'Voksen \"&A99&\"'!$H$50\",TRUE)),\"\",INDIRECT(\"'Voksen \"&A99&\"'!$H$50\",TRUE)),2)","v":{"$error":"#VALUE!"}},{"$f":"COUNTIF(IF(ISERROR(INDIRECT(\"'Voksen \"&A99&\"'!$H$58\",TRUE)),\"\",INDIRECT(\"'Voksen \"&A99&\"'!$H$58\",TRUE)),2)","v":{"$error":"#VALUE!"}},{"$f":"COUNTIF(IF(ISERROR(INDIRECT(\"'Voksen \"&A99&\"'!$H$69\",TRUE)),\"\",INDIRECT(\"'Voksen \"&A99&\"'!$H$69\",TRUE)),2)","v":{"$error":"#VALUE!"}},{"$f":"COUNTIF(IF(ISERROR(INDIRECT(\"'Voksen \"&A99&\"'!$H$77\",TRUE)),\"\",INDIRECT(\"'Voksen \"&A99&\"'!$H$77\",TRUE)),2)","v":{"$error":"#VALUE!"}},null,null,{"$f":"COUNTIF(IF(ISERROR(INDIRECT(\"'Børn \"&A99&\"'!$H$31\",TRUE)),\"\",INDIRECT(\"'Børn \"&A99&\"'!$H$31\",TRUE)),2)","v":{"$error":"#VALUE!"}},{"$f":"COUNTIF(IF(ISERROR(INDIRECT(\"'Børn \"&A99&\"'!$H$44\",TRUE)),\"\",INDIRECT(\"'Børn \"&A99&\"'!$H$44\",TRUE)),2)","v":{"$error":"#VALUE!"}},{"$f":"COUNTIF(IF(ISERROR(INDIRECT(\"'Børn \"&A99&\"'!$H$53\",TRUE)),\"\",INDIRECT(\"'Børn \"&A99&\"'!$H$53\",TRUE)),2)","v":{"$error":"#VALUE!"}},{"$f":"COUNTIF(IF(ISERROR(INDIRECT(\"'Børn \"&A99&\"'!$H$61\",TRUE)),\"\",INDIRECT(\"'Børn \"&A99&\"'!$H$61\",TRUE)),2)","v":{"$error":"#VALUE!"}},{"$f":"COUNTIF(IF(ISERROR(INDIRECT(\"'Børn \"&A99&\"'!$H$68\",TRUE)),\"\",INDIRECT(\"'Børn \"&A99&\"'!$H$68\",TRUE)),2)","v":{"$error":"#VALUE!"}},{"$f":"COUNTIF(IF(ISERROR(INDIRECT(\"'Børn \"&A99&\"'!$H$79\",TRUE)),\"\",INDIRECT(\"'Børn \"&A99&\"'!$H$79\",TRUE)),2)","v":{"$error":"#VALUE!"}},{"$f":"COUNTIF(IF(ISERROR(INDIRECT(\"'Børn \"&A99&\"'!$H$87\",TRUE)),\"\",INDIRECT(\"'Børn \"&A99&\"'!$H$87\",TRUE)),2)","v":{"$error":"#VALUE!"}},null,null,null,{"$f":"U98","v":"Tilsyn 19"},{"$f":"IF(INDIRECT(\"'Voksen \"&U99&\"'!$c$115\")=\"\",\"\",IFERROR(INDIRECT(\"'Voksen \"&U99&\"'!$c$115\",TRUE),\"\"))","v":{"$error":"#REF!"}},{"$f":"IF(INDIRECT(\"'Voksen \"&U99&\"'!$c$136\")=\"\",\"\",IFERROR(INDIRECT(\"'Voksen \"&U99&\"'!$c$136\",TRUE),\"\"))","v":{"$error":"#REF!"}},{"$f":"IF(INDIRECT(\"'Voksen \"&U99&\"'!$c$157\")=\"\",\"\",IFERROR(INDIRECT(\"'Voksen \"&U99&\"'!$c$157\",TRUE),\"\"))","v":{"$error":"#REF!"}},{"$f":"IF(INDIRECT(\"'Voksen \"&U99&\"'!$c$172\")=\"\",\"\",IFERROR(INDIRECT(\"'Voksen \"&U99&\"'!$c$172\",TRUE),\"\"))","v":{"$error":"#REF!"}},{"$f":"IF(INDIRECT(\"'Voksen \"&U99&\"'!$c$189\")=\"\",\"\",IFERROR(INDIRECT(\"'Voksen \"&U99&\"'!$c$189\",TRUE),\"\"))","v":{"$error":"#REF!"}},{"$f":"IF(INDIRECT(\"'Voksen \"&U99&\"'!$c$210\")=\"\",\"\",IFERROR(INDIRECT(\"'Voksen \"&U99&\"'!$c$210\",TRUE),\"\"))","v":{"$error":"#REF!"}},{"$f":"IF(INDIRECT(\"'Voksen \"&U99&\"'!$c$232\")=\"\",\"\",IFERROR(INDIRECT(\"'Voksen \"&U99&\"'!$c$232\",TRUE),\"\"))","v":{"$error":"#REF!"}},{"$f":"IF(INDIRECT(\"'Voksen \"&U99&\"'!$c$258\")=\"\",\"\",IFERROR(INDIRECT(\"'Voksen \"&U99&\"'!$c$258\",TRUE),\"\"))","v":{"$error":"#REF!"}},null,{"$f":"IF(INDIRECT(\"'Børn \"&U99&\"'!$c$126\")=\"\",\"\",IFERROR(INDIRECT(\"'Børn \"&U99&\"'!$c$126\",TRUE),\"\"))","v":{"$error":"#REF!"}},{"$f":"IF(INDIRECT(\"'Børn \"&U99&\"'!$c$142\")=\"\",\"\",IFERROR(INDIRECT(\"'Børn \"&U99&\"'!$c$142\",TRUE),\"\"))","v":{"$error":"#REF!"}},{"$f":"IF(INDIRECT(\"'Børn \"&U99&\"'!$c$166\")=\"\",\"\",IFERROR(INDIRECT(\"'Børn \"&U99&\"'!$c$166\",TRUE),\"\"))","v":{"$error":"#REF!"}},{"$f":"IF(INDIRECT(\"'Børn \"&U99&\"'!$c$180\")=\"\",\"\",IFERROR(INDIRECT(\"'Børn \"&U99&\"'!$c$180\",TRUE),\"\"))","v":{"$error":"#REF!"}},{"$f":"IF(INDIRECT(\"'Børn \"&U99&\"'!$c$200\")=\"\",\"\",IFERROR(INDIRECT(\"'Børn \"&U99&\"'!$c$200\",TRUE),\"\"))","v":{"$error":"#REF!"}},{"$f":"IF(INDIRECT(\"'Børn \"&U99&\"'!$c$221\")=\"\",\"\",IFERROR(INDIRECT(\"'Børn \"&U99&\"'!$c$221\",TRUE),\"\"))","v":{"$error":"#REF!"}},{"$f":"IF(INDIRECT(\"'Børn \"&U99&\"'!$c$244\")=\"\",\"\",IFERROR(INDIRECT(\"'Børn \"&U99&\"'!$c$244\",TRUE),\"\"))","v":{"$error":"#REF!"}}]
["Tilsyn 13","Status:  rød",{"$f":"COUNTIF(IF(ISERROR(INDIRECT(\"'Voksen \"&A100&\"'!$H$31\",TRUE)),\"\",INDIRECT(\"'Voksen \"&A100&\"'!$H$31\",TRUE)),3)","v":{"$error":"#VALUE!"}},{"$f":"COUNTIF(IF(ISERROR(INDIRECT(\"'Voksen \"&A100&\"'!$H$41\",TRUE)),\"\",INDIRECT(\"'Voksen \"&A100&\"'!$H$41\",TRUE)),3)","v":{"$error":"#VALUE!"}},{"$f":"COUNTIF(IF(ISERROR(INDIRECT(\"'Voksen \"&A100&\"'!$H$50\",TRUE)),\"\",INDIRECT(\"'Voksen \"&A100&\"'!$H$50\",TRUE)),3)","v":{"$error":"#VALUE!"}},{"$f":"COUNTIF(IF(ISERROR(INDIRECT(\"'Voksen \"&A100&\"'!$H$58\",TRUE)),\"\",INDIRECT(\"'Voksen \"&A100&\"'!$H$58\",TRUE)),3)","v":{"$error":"#VALUE!"}},{"$f":"COUNTIF(IF(ISERROR(INDIRECT(\"'Voksen \"&A100&\"'!$H$69\",TRUE)),\"\",INDIRECT(\"'Voksen \"&A100&\"'!$H$69\",TRUE)),3)","v":{"$error":"#VALUE!"}},{"$f":"COUNTIF(IF(ISERROR(INDIRECT(\"'Voksen \"&A100&\"'!$H$77\",TRUE)),\"\",INDIRECT(\"'Voksen \"&A100&\"'!$H$77\",TRUE)),3)","v":{"$error":"#VALUE!"}},null,null,{"$f":"COUNTIF(IF(ISERROR(INDIRECT(\"'Børn \"&A100&\"'!$H$31\",TRUE)),\"\",INDIRECT(\"'Børn \"&A100&\"'!$H$31\",TRUE)),3)","v":{"$error":"#VALUE!"}},{"$f":"COUNTIF(IF(ISERROR(INDIRECT(\"'Børn \"&A100&\"'!$H$44\",TRUE)),\"\",INDIRECT(\"'Børn \"&A100&\"'!$H$44\",TRUE)),3)","v":{"$error":"#VALUE!"}},{"$f":"COUNTIF(IF(ISERROR(INDIRECT(\"'Børn \"&A100&\"'!$H$53\",TRUE)),\"\",INDIRECT(\"'Børn \"&A100&\"'!$H$53\",TRUE)),3)","v":{"$error":"#VALUE!"}},{"$f":"COUNTIF(IF(ISERROR(INDIRECT(\"'Børn \"&A100&\"'!$H$61\",TRUE)),\"\",INDIRECT(\"'Børn \"&A100&\"'!$H$61\",TRUE)),3)","v":{"$error":"#VALUE!"}},{"$f":"COUNTIF(IF(ISERROR(INDIRECT(\"'Børn \"&A100&\"'!$H$68\",TRUE)),\"\",INDIRECT(\"'Børn \"&A100&\"'!$H$68\",TRUE)),3)","v":{"$error":"#VALUE!"}},{"$f":"COUNTIF(IF(ISERROR(INDIRECT(\"'Børn \"&A100&\"'!$H$79\",TRUE)),\"\",INDIRECT(\"'Børn \"&A100&\"'!$H$79\",TRUE)),3)","v":{"$error":"#VALUE!"}},{"$f":"COUNTIF(IF(ISERROR(INDIRECT(\"'Børn \"&A100&\"'!$H$87\",TRUE)),\"\",INDIRECT(\"'Børn \"&A100&\"'!$H$87\",TRUE)),3)","v":{"$error":"#VALUE!"}},null,null,null,"Tilsyn 20",{"$f":"IF(INDIRECT(\"'Voksen \"&U100&\"'!$c$112\")=\"\",\"\",IFERROR(INDIRECT(\"'Voksen \"&U100&\"'!$c$112\",TRUE),\"\"))","v":{"$error":"#REF!"}},{"$f":"IF(INDIRECT(\"'Voksen \"&U100&\"'!$c$133\")=\"\",\"\",IFERROR(INDIRECT(\"'Voksen \"&U100&\"'!$c$133\",TRUE),\"\"))","v":{"$error":"#REF!"}},{"$f":"IF(INDIRECT(\"'Voksen \"&U100&\"'!$c$154\")=\"\",\"\",IFERROR(INDIRECT(\"'Voksen \"&U100&\"'!$c$154\",TRUE),\"\"))","v":{"$error":"#REF!"}},{"$f":"IF(INDIRECT(\"'Voksen \"&U100&\"'!$c$169\")=\"\",\"\",IFERROR(INDIRECT(\"'Voksen \"&U100&\"'!$c$169\",TRUE),\"\"))","v":{"$error":"#REF!"}},{"$f":"IF(INDIRECT(\"'Voksen \"&U100&\"'!$c$186\")=\"\",\"\",IFERROR(INDIRECT(\"'Voksen \"&U100&\"'!$c$186\",TRUE),\"\"))","v":{"$error":"#REF!"}},{"$f":"IF(INDIRECT(\"'Voksen \"&U100&\"'!$c$207\")=\"\",\"\",IFERROR(INDIRECT(\"'Voksen \"&U100&\"'!$c$207\",TRUE),\"\"))","v":{"$error":"#REF!"}},{"$f":"IF(INDIRECT(\"'Voksen \"&U100&\"'!$c$229\")=\"\",\"\",IFERROR(INDIRECT(\"'Voksen \"&U100&\"'!$c$229\",TRUE),\"\"))","v":{"$error":"#REF!"}},{"$f":"IF(INDIRECT(\"'Voksen \"&U100&\"'!$c$255\")=\"\",\"\",IFERROR(INDIRECT(\"'Voksen \"&U100&\"'!$c$255\",TRUE),\"\"))","v":{"$error":"#REF!"}},null,{"$f":"IF(INDIRECT(\"'Børn \"&U100&\"'!$c$123\")=\"\",\"\",IFERROR(INDIRECT(\"'Børn \"&U100&\"'!$c$123\",TRUE),\"\"))","v":{"$error":"#REF!"}},{"$f":"IF(INDIRECT(\"'Børn \"&U100&\"'!$c$139\")=\"\",\"\",IFERROR(INDIRECT(\"'Børn \"&U100&\"'!$c$139\",TRUE),\"\"))","v":{"$error":"#REF!"}},{"$f":"IF(INDIRECT(\"'Børn \"&U100&\"'!$c$163\")=\"\",\"\",IFERROR(INDIRECT(\"'Børn \"&U100&\"'!$c$163\",TRUE),\"\"))","v":{"$error":"#REF!"}},{"$f":"IF(INDIRECT(\"'Børn \"&U100&\"'!$c$177\")=\"\",\"\",IFERROR(INDIRECT(\"'Børn \"&U100&\"'!$c$177\",TRUE),\"\"))","v":{"$error":"#REF!"}},{"$f":"IF(INDIRECT(\"'Børn \"&U100&\"'!$c$197\")=\"\",\"\",IFERROR(INDIRECT(\"'Børn \"&U100&\"'!$c$197\",TRUE),\"\"))","v":{"$error":"#REF!"}},{"$f":"IF(INDIRECT(\"'Børn \"&U100&\"'!$c$218\")=\"\",\"\",IFERROR(INDIRECT(\"'Børn \"&U100&\"'!$c$218\",TRUE),\"\"))","v":{"$error":"#REF!"}},{"$f":"IF(INDIRECT(\"'Børn \"&U100&\"'!$c$241\")=\"\",\"\",IFERROR(INDIRECT(\"'Børn \"&U100&\"'!$c$241\",TRUE),\"\"))","v":{"$error":"#REF!"}}]
["Tilsyn 14","Status:  grøn",{"$f":"COUNTIF(IF(ISERROR(INDIRECT(\"'Voksen \"&A101&\"'!$H$31\",TRUE)),\"\",INDIRECT(\"'Voksen \"&A101&\"'!$H$31\",TRUE)),1)","v":{"$error":"#VALUE!"}},{"$f":"COUNTIF(IF(ISERROR(INDIRECT(\"'Voksen \"&A101&\"'!$H$41\",TRUE)),\"\",INDIRECT(\"'Voksen \"&A101&\"'!$H$41\",TRUE)),1)","v":{"$error":"#VALUE!"}},{"$f":"COUNTIF(IF(ISERROR(INDIRECT(\"'Voksen \"&A101&\"'!$H$50\",TRUE)),\"\",INDIRECT(\"'Voksen \"&A101&\"'!$H$50\",TRUE)),1)","v":{"$error":"#VALUE!"}},{"$f":"COUNTIF(IF(ISERROR(INDIRECT(\"'Voksen \"&A101&\"'!$H$58\",TRUE)),\"\",INDIRECT(\"'Voksen \"&A101&\"'!$H$58\",TRUE)),1)","v":{"$error":"#VALUE!"}},{"$f":"COUNTIF(IF(ISERROR(INDIRECT(\"'Voksen \"&A101&\"'!$H$69\",TRUE)),\"\",INDIRECT(\"'Voksen \"&A101&\"'!$H$69\",TRUE)),1)","v":{"$error":"#VALUE!"}},{"$f":"COUNTIF(IF(ISERROR(INDIRECT(\"'Voksen \"&A101&\"'!$H$77\",TRUE)),\"\",INDIRECT(\"'Voksen \"&A101&\"'!$H$77\",TRUE)),1)","v":{"$error":"#VALUE!"}},null,null,{"$f":"COUNTIF(IF(ISERROR(INDIRECT(\"'Børn \"&A101&\"'!$H$31\",TRUE)),\"\",INDIRECT(\"'Børn \"&A101&\"'!$H$31\",TRUE)),1)","v":{"$error":"#VALUE!"}},{"$f":"COUNTIF(IF(ISERROR(INDIRECT(\"'Børn \"&A101&\"'!$H$44\",TRUE)),\"\",INDIRECT(\"'Børn \"&A101&\"'!$H$44\",TRUE)),1)","v":{"$error":"#VALUE!"}},{"$f":"COUNTIF(IF(ISERROR(INDIRECT(\"'Børn \"&A101&\"'!$H$53\",TRUE)),\"\",INDIRECT(\"'Børn \"&A101&\"'!$H$53\",TRUE)),1)","v":{"$error":"#VALUE!"}},{"$f":"COUNTIF(IF(ISERROR(INDIRECT(\"'Børn \"&A101&\"'!$H$61\",TRUE)),\"\",INDIRECT(\"'Børn \"&A101&\"'!$H$61\",TRUE)),1)","v":{"$error":"#VALUE!"}},{"$f":"COUNTIF(IF(ISERROR(INDIRECT(\"'Børn \"&A101&\"'!$H$68\",TRUE)),\"\",INDIRECT(\"'Børn \"&A101&\"'!$H$68\",TRUE)),1)","v":{"$error":"#VALUE!"}},{"$f":"COUNTIF(IF(ISERROR(INDIRECT(\"'Børn \"&A101&\"'!$H$79\",TRUE)),\"\",INDIRECT(\"'Børn \"&A101&\"'!$H$79\",TRUE)),1)","v":{"$error":"#VALUE!"}},{"$f":"COUNTIF(IF(ISERROR(INDIRECT(\"'Børn \"&A101&\"'!$H$87\",TRUE)),\"\",INDIRECT(\"'Børn \"&A101&\"'!$H$87\",TRUE)),1)","v":{"$error":"#VALUE!"}},null,null,null,{"$f":"U100","v":"Tilsyn 20"},{"$f":"IF(INDIRECT(\"'Voksen \"&U101&\"'!$c$115\")=\"\",\"\",IFERROR(INDIRECT(\"'Voksen \"&U101&\"'!$c$115\",TRUE),\"\"))","v":{"$error":"#REF!"}},{"$f":"IF(INDIRECT(\"'Voksen \"&U101&\"'!$c$136\")=\"\",\"\",IFERROR(INDIRECT(\"'Voksen \"&U101&\"'!$c$136\",TRUE),\"\"))","v":{"$error":"#REF!"}},{"$f":"IF(INDIRECT(\"'Voksen \"&U101&\"'!$c$157\")=\"\",\"\",IFERROR(INDIRECT(\"'Voksen \"&U101&\"'!$c$157\",TRUE),\"\"))","v":{"$error":"#REF!"}},{"$f":"IF(INDIRECT(\"'Voksen \"&U101&\"'!$c$172\")=\"\",\"\",IFERROR(INDIRECT(\"'Voksen \"&U101&\"'!$c$172\",TRUE),\"\"))","v":{"$error":"#REF!"}},{"$f":"IF(INDIRECT(\"'Voksen \"&U101&\"'!$c$189\")=\"\",\"\",IFERROR(INDIRECT(\"'Voksen \"&U101&\"'!$c$189\",TRUE),\"\"))","v":{"$error":"#REF!"}},{"$f":"IF(INDIRECT(\"'Voksen \"&U101&\"'!$c$210\")=\"\",\"\",IFERROR(INDIRECT(\"'Voksen \"&U101&\"'!$c$210\",TRUE),\"\"))","v":{"$error":"#REF!"}},{"$f":"IF(INDIRECT(\"'Voksen \"&U101&\"'!$c$232\")=\"\",\"\",IFERROR(INDIRECT(\"'Voksen \"&U101&\"'!$c$232\",TRUE),\"\"))","v":{"$error":"#REF!"}},{"$f":"IF(INDIRECT(\"'Voksen \"&U101&\"'!$c$258\")=\"\",\"\",IFERROR(INDIRECT(\"'Voksen \"&U101&\"'!$c$258\",TRUE),\"\"))","v":{"$error":"#REF!"}},null,{"$f":"IF(INDIRECT(\"'Børn \"&U101&\"'!$c$126\")=\"\",\"\",IFERROR(INDIRECT(\"'Børn \"&U101&\"'!$c$126\",TRUE),\"\"))","v":{"$error":"#REF!"}},{"$f":"IF(INDIRECT(\"'Børn \"&U101&\"'!$c$142\")=\"\",\"\",IFERROR(INDIRECT(\"'Børn \"&U101&\"'!$c$142\",TRUE),\"\"))","v":{"$error":"#REF!"}},{"$f":"IF(INDIRECT(\"'Børn \"&U101&\"'!$c$166\")=\"\",\"\",IFERROR(INDIRECT(\"'Børn \"&U101&\"'!$c$166\",TRUE),\"\"))","v":{"$error":"#REF!"}},{"$f":"IF(INDIRECT(\"'Børn \"&U101&\"'!$c$180\")=\"\",\"\",IFERROR(INDIRECT(\"'Børn \"&U101&\"'!$c$180\",TRUE),\"\"))","v":{"$error":"#REF!"}},{"$f":"IF(INDIRECT(\"'Børn \"&U101&\"'!$c$200\")=\"\",\"\",IFERROR(INDIRECT(\"'Børn \"&U101&\"'!$c$200\",TRUE),\"\"))","v":{"$error":"#REF!"}},{"$f":"IF(INDIRECT(\"'Børn \"&U101&\"'!$c$221\")=\"\",\"\",IFERROR(INDIRECT(\"'Børn \"&U101&\"'!$c$221\",TRUE),\"\"))","v":{"$error":"#REF!"}},{"$f":"IF(INDIRECT(\"'Børn \"&U101&\"'!$c$244\")=\"\",\"\",IFERROR(INDIRECT(\"'Børn \"&U101&\"'!$c$244\",TRUE),\"\"))","v":{"$error":"#REF!"}}]
["Tilsyn 14","Status:  gul",{"$f":"COUNTIF(IF(ISERROR(INDIRECT(\"'Voksen \"&A102&\"'!$H$31\",TRUE)),\"\",INDIRECT(\"'Voksen \"&A102&\"'!$H$31\",TRUE)),2)","v":{"$error":"#VALUE!"}},{"$f":"COUNTIF(IF(ISERROR(INDIRECT(\"'Voksen \"&A102&\"'!$H$41\",TRUE)),\"\",INDIRECT(\"'Voksen \"&A102&\"'!$H$41\",TRUE)),2)","v":{"$error":"#VALUE!"}},{"$f":"COUNTIF(IF(ISERROR(INDIRECT(\"'Voksen \"&A102&\"'!$H$50\",TRUE)),\"\",INDIRECT(\"'Voksen \"&A102&\"'!$H$50\",TRUE)),2)","v":{"$error":"#VALUE!"}},{"$f":"COUNTIF(IF(ISERROR(INDIRECT(\"'Voksen \"&A102&\"'!$H$58\",TRUE)),\"\",INDIRECT(\"'Voksen \"&A102&\"'!$H$58\",TRUE)),2)","v":{"$error":"#VALUE!"}},{"$f":"COUNTIF(IF(ISERROR(INDIRECT(\"'Voksen \"&A102&\"'!$H$69\",TRUE)),\"\",INDIRECT(\"'Voksen \"&A102&\"'!$H$69\",TRUE)),2)","v":{"$error":"#VALUE!"}},{"$f":"COUNTIF(IF(ISERROR(INDIRECT(\"'Voksen \"&A102&\"'!$H$77\",TRUE)),\"\",INDIRECT(\"'Voksen \"&A102&\"'!$H$77\",TRUE)),2)","v":{"$error":"#VALUE!"}},null,null,{"$f":"COUNTIF(IF(ISERROR(INDIRECT(\"'Børn \"&A102&\"'!$H$31\",TRUE)),\"\",INDIRECT(\"'Børn \"&A102&\"'!$H$31\",TRUE)),2)","v":{"$error":"#VALUE!"}},{"$f":"COUNTIF(IF(ISERROR(INDIRECT(\"'Børn \"&A102&\"'!$H$44\",TRUE)),\"\",INDIRECT(\"'Børn \"&A102&\"'!$H$44\",TRUE)),2)","v":{"$error":"#VALUE!"}},{"$f":"COUNTIF(IF(ISERROR(INDIRECT(\"'Børn \"&A102&\"'!$H$53\",TRUE)),\"\",INDIRECT(\"'Børn \"&A102&\"'!$H$53\",TRUE)),2)","v":{"$error":"#VALUE!"}},{"$f":"COUNTIF(IF(ISERROR(INDIRECT(\"'Børn \"&A102&\"'!$H$61\",TRUE)),\"\",INDIRECT(\"'Børn \"&A102&\"'!$H$61\",TRUE)),2)","v":{"$error":"#VALUE!"}},{"$f":"COUNTIF(IF(ISERROR(INDIRECT(\"'Børn \"&A102&\"'!$H$68\",TRUE)),\"\",INDIRECT(\"'Børn \"&A102&\"'!$H$68\",TRUE)),2)","v":{"$error":"#VALUE!"}},{"$f":"COUNTIF(IF(ISERROR(INDIRECT(\"'Børn \"&A102&\"'!$H$79\",TRUE)),\"\",INDIRECT(\"'Børn \"&A102&\"'!$H$79\",TRUE)),2)","v":{"$error":"#VALUE!"}},{"$f":"COUNTIF(IF(ISERROR(INDIRECT(\"'Børn \"&A102&\"'!$H$87\",TRUE)),\"\",INDIRECT(\"'Børn \"&A102&\"'!$H$87\",TRUE)),2)","v":{"$error":"#VALUE!"}},null,null,null,"Tilsyn 21",{"$f":"IF(INDIRECT(\"'Voksen \"&U102&\"'!$c$112\")=\"\",\"\",IFERROR(INDIRECT(\"'Voksen \"&U102&\"'!$c$112\",TRUE),\"\"))","v":{"$error":"#REF!"}},{"$f":"IF(INDIRECT(\"'Voksen \"&U102&\"'!$c$133\")=\"\",\"\",IFERROR(INDIRECT(\"'Voksen \"&U102&\"'!$c$133\",TRUE),\"\"))","v":{"$error":"#REF!"}},{"$f":"IF(INDIRECT(\"'Voksen \"&U102&\"'!$c$154\")=\"\",\"\",IFERROR(INDIRECT(\"'Voksen \"&U102&\"'!$c$154\",TRUE),\"\"))","v":{"$error":"#REF!"}},{"$f":"IF(INDIRECT(\"'Voksen \"&U102&\"'!$c$169\")=\"\",\"\",IFERROR(INDIRECT(\"'Voksen \"&U102&\"'!$c$169\",TRUE),\"\"))","v":{"$error":"#REF!"}},{"$f":"IF(INDIRECT(\"'Voksen \"&U102&\"'!$c$186\")=\"\",\"\",IFERROR(INDIRECT(\"'Voksen \"&U102&\"'!$c$186\",TRUE),\"\"))","v":{"$error":"#REF!"}},{"$f":"IF(INDIRECT(\"'Voksen \"&U102&\"'!$c$207\")=\"\",\"\",IFERROR(INDIRECT(\"'Voksen \"&U102&\"'!$c$207\",TRUE),\"\"))","v":{"$error":"#REF!"}},{"$f":"IF(INDIRECT(\"'Voksen \"&U102&\"'!$c$229\")=\"\",\"\",IFERROR(INDIRECT(\"'Voksen \"&U102&\"'!$c$229\",TRUE),\"\"))","v":{"$error":"#REF!"}},{"$f":"IF(INDIRECT(\"'Voksen \"&U102&\"'!$c$255\")=\"\",\"\",IFERROR(INDIRECT(\"'Voksen \"&U102&\"'!$c$255\",TRUE),\"\"))","v":{"$error":"#REF!"}},null,{"$f":"IF(INDIRECT(\"'Børn \"&U102&\"'!$c$123\")=\"\",\"\",IFERROR(INDIRECT(\"'Børn \"&U102&\"'!$c$123\",TRUE),\"\"))","v":{"$error":"#REF!"}},{"$f":"IF(INDIRECT(\"'Børn \"&U102&\"'!$c$139\")=\"\",\"\",IFERROR(INDIRECT(\"'Børn \"&U102&\"'!$c$139\",TRUE),\"\"))","v":{"$error":"#REF!"}},{"$f":"IF(INDIRECT(\"'Børn \"&U102&\"'!$c$163\")=\"\",\"\",IFERROR(INDIRECT(\"'Børn \"&U102&\"'!$c$163\",TRUE),\"\"))","v":{"$error":"#REF!"}},{"$f":"IF(INDIRECT(\"'Børn \"&U102&\"'!$c$177\")=\"\",\"\",IFERROR(INDIRECT(\"'Børn \"&U102&\"'!$c$177\",TRUE),\"\"))","v":{"$error":"#REF!"}},{"$f":"IF(INDIRECT(\"'Børn \"&U102&\"'!$c$197\")=\"\",\"\",IFERROR(INDIRECT(\"'Børn \"&U102&\"'!$c$197\",TRUE),\"\"))","v":{"$error":"#REF!"}},{"$f":"IF(INDIRECT(\"'Børn \"&U102&\"'!$c$218\")=\"\",\"\",IFERROR(INDIRECT(\"'Børn \"&U102&\"'!$c$218\",TRUE),\"\"))","v":{"$error":"#REF!"}},{"$f":"IF(INDIRECT(\"'Børn \"&U102&\"'!$c$241\")=\"\",\"\",IFERROR(INDIRECT(\"'Børn \"&U102&\"'!$c$241\",TRUE),\"\"))","v":{"$error":"#REF!"}}]
["Tilsyn 14","Status:  rød",{"$f":"COUNTIF(IF(ISERROR(INDIRECT(\"'Voksen \"&A103&\"'!$H$31\",TRUE)),\"\",INDIRECT(\"'Voksen \"&A103&\"'!$H$31\",TRUE)),3)","v":{"$error":"#VALUE!"}},{"$f":"COUNTIF(IF(ISERROR(INDIRECT(\"'Voksen \"&A103&\"'!$H$41\",TRUE)),\"\",INDIRECT(\"'Voksen \"&A103&\"'!$H$41\",TRUE)),3)","v":{"$error":"#VALUE!"}},{"$f":"COUNTIF(IF(ISERROR(INDIRECT(\"'Voksen \"&A103&\"'!$H$50\",TRUE)),\"\",INDIRECT(\"'Voksen \"&A103&\"'!$H$50\",TRUE)),3)","v":{"$error":"#VALUE!"}},{"$f":"COUNTIF(IF(ISERROR(INDIRECT(\"'Voksen \"&A103&\"'!$H$58\",TRUE)),\"\",INDIRECT(\"'Voksen \"&A103&\"'!$H$58\",TRUE)),3)","v":{"$error":"#VALUE!"}},{"$f":"COUNTIF(IF(ISERROR(INDIRECT(\"'Voksen \"&A103&\"'!$H$69\",TRUE)),\"\",INDIRECT(\"'Voksen \"&A103&\"'!$H$69\",TRUE)),3)","v":{"$error":"#VALUE!"}},{"$f":"COUNTIF(IF(ISERROR(INDIRECT(\"'Voksen \"&A103&\"'!$H$77\",TRUE)),\"\",INDIRECT(\"'Voksen \"&A103&\"'!$H$77\",TRUE)),3)","v":{"$error":"#VALUE!"}},null,null,{"$f":"COUNTIF(IF(ISERROR(INDIRECT(\"'Børn \"&A103&\"'!$H$31\",TRUE)),\"\",INDIRECT(\"'Børn \"&A103&\"'!$H$31\",TRUE)),3)","v":{"$error":"#VALUE!"}},{"$f":"COUNTIF(IF(ISERROR(INDIRECT(\"'Børn \"&A103&\"'!$H$44\",TRUE)),\"\",INDIRECT(\"'Børn \"&A103&\"'!$H$44\",TRUE)),3)","v":{"$error":"#VALUE!"}},{"$f":"COUNTIF(IF(ISERROR(INDIRECT(\"'Børn \"&A103&\"'!$H$53\",TRUE)),\"\",INDIRECT(\"'Børn \"&A103&\"'!$H$53\",TRUE)),3)","v":{"$error":"#VALUE!"}},{"$f":"COUNTIF(IF(ISERROR(INDIRECT(\"'Børn \"&A103&\"'!$H$61\",TRUE)),\"\",INDIRECT(\"'Børn \"&A103&\"'!$H$61\",TRUE)),3)","v":{"$error":"#VALUE!"}},{"$f":"COUNTIF(IF(ISERROR(INDIRECT(\"'Børn \"&A103&\"'!$H$68\",TRUE)),\"\",INDIRECT(\"'Børn \"&A103&\"'!$H$68\",TRUE)),3)","v":{"$error":"#VALUE!"}},{"$f":"COUNTIF(IF(ISERROR(INDIRECT(\"'Børn \"&A103&\"'!$H$79\",TRUE)),\"\",INDIRECT(\"'Børn \"&A103&\"'!$H$79\",TRUE)),3)","v":{"$error":"#VALUE!"}},{"$f":"COUNTIF(IF(ISERROR(INDIRECT(\"'Børn \"&A103&\"'!$H$87\",TRUE)),\"\",INDIRECT(\"'Børn \"&A103&\"'!$H$87\",TRUE)),3)","v":{"$error":"#VALUE!"}},null,null,null,{"$f":"U102","v":"Tilsyn 21"},{"$f":"IF(INDIRECT(\"'Voksen \"&U103&\"'!$c$115\")=\"\",\"\",IFERROR(INDIRECT(\"'Voksen \"&U103&\"'!$c$115\",TRUE),\"\"))","v":{"$error":"#REF!"}},{"$f":"IF(INDIRECT(\"'Voksen \"&U103&\"'!$c$136\")=\"\",\"\",IFERROR(INDIRECT(\"'Voksen \"&U103&\"'!$c$136\",TRUE),\"\"))","v":{"$error":"#REF!"}},{"$f":"IF(INDIRECT(\"'Voksen \"&U103&\"'!$c$157\")=\"\",\"\",IFERROR(INDIRECT(\"'Voksen \"&U103&\"'!$c$157\",TRUE),\"\"))","v":{"$error":"#REF!"}},{"$f":"IF(INDIRECT(\"'Voksen \"&U103&\"'!$c$172\")=\"\",\"\",IFERROR(INDIRECT(\"'Voksen \"&U103&\"'!$c$172\",TRUE),\"\"))","v":{"$error":"#REF!"}},{"$f":"IF(INDIRECT(\"'Voksen \"&U103&\"'!$c$189\")=\"\",\"\",IFERROR(INDIRECT(\"'Voksen \"&U103&\"'!$c$189\",TRUE),\"\"))","v":{"$error":"#REF!"}},{"$f":"IF(INDIRECT(\"'Voksen \"&U103&\"'!$c$210\")=\"\",\"\",IFERROR(INDIRECT(\"'Voksen \"&U103&\"'!$c$210\",TRUE),\"\"))","v":{"$error":"#REF!"}},{"$f":"IF(INDIRECT(\"'Voksen \"&U103&\"'!$c$232\")=\"\",\"\",IFERROR(INDIRECT(\"'Voksen \"&U103&\"'!$c$232\",TRUE),\"\"))","v":{"$error":"#REF!"}},{"$f":"IF(INDIRECT(\"'Voksen \"&U103&\"'!$c$258\")=\"\",\"\",IFERROR(INDIRECT(\"'Voksen \"&U103&\"'!$c$258\",TRUE),\"\"))","v":{"$error":"#REF!"}},null,{"$f":"IF(INDIRECT(\"'Børn \"&U103&\"'!$c$126\")=\"\",\"\",IFERROR(INDIRECT(\"'Børn \"&U103&\"'!$c$126\",TRUE),\"\"))","v":{"$error":"#REF!"}},{"$f":"IF(INDIRECT(\"'Børn \"&U103&\"'!$c$142\")=\"\",\"\",IFERROR(INDIRECT(\"'Børn \"&U103&\"'!$c$142\",TRUE),\"\"))","v":{"$error":"#REF!"}},{"$f":"IF(INDIRECT(\"'Børn \"&U103&\"'!$c$166\")=\"\",\"\",IFERROR(INDIRECT(\"'Børn \"&U103&\"'!$c$166\",TRUE),\"\"))","v":{"$error":"#REF!"}},{"$f":"IF(INDIRECT(\"'Børn \"&U103&\"'!$c$180\")=\"\",\"\",IFERROR(INDIRECT(\"'Børn \"&U103&\"'!$c$180\",TRUE),\"\"))","v":{"$error":"#REF!"}},{"$f":"IF(INDIRECT(\"'Børn \"&U103&\"'!$c$200\")=\"\",\"\",IFERROR(INDIRECT(\"'Børn \"&U103&\"'!$c$200\",TRUE),\"\"))","v":{"$error":"#REF!"}},{"$f":"IF(INDIRECT(\"'Børn \"&U103&\"'!$c$221\")=\"\",\"\",IFERROR(INDIRECT(\"'Børn \"&U103&\"'!$c$221\",TRUE),\"\"))","v":{"$error":"#REF!"}},{"$f":"IF(INDIRECT(\"'Børn \"&U103&\"'!$c$244\")=\"\",\"\",IFERROR(INDIRECT(\"'Børn \"&U103&\"'!$c$244\",TRUE),\"\"))","v":{"$error":"#REF!"}}]
["Tilsyn 15","Status:  grøn",{"$f":"COUNTIF(IF(ISERROR(INDIRECT(\"'Voksen \"&A104&\"'!$H$31\",TRUE)),\"\",INDIRECT(\"'Voksen \"&A104&\"'!$H$31\",TRUE)),1)","v":{"$error":"#VALUE!"}},{"$f":"COUNTIF(IF(ISERROR(INDIRECT(\"'Voksen \"&A104&\"'!$H$41\",TRUE)),\"\",INDIRECT(\"'Voksen \"&A104&\"'!$H$41\",TRUE)),1)","v":{"$error":"#VALUE!"}},{"$f":"COUNTIF(IF(ISERROR(INDIRECT(\"'Voksen \"&A104&\"'!$H$50\",TRUE)),\"\",INDIRECT(\"'Voksen \"&A104&\"'!$H$50\",TRUE)),1)","v":{"$error":"#VALUE!"}},{"$f":"COUNTIF(IF(ISERROR(INDIRECT(\"'Voksen \"&A104&\"'!$H$58\",TRUE)),\"\",INDIRECT(\"'Voksen \"&A104&\"'!$H$58\",TRUE)),1)","v":{"$error":"#VALUE!"}},{"$f":"COUNTIF(IF(ISERROR(INDIRECT(\"'Voksen \"&A104&\"'!$H$69\",TRUE)),\"\",INDIRECT(\"'Voksen \"&A104&\"'!$H$69\",TRUE)),1)","v":{"$error":"#VALUE!"}},{"$f":"COUNTIF(IF(ISERROR(INDIRECT(\"'Voksen \"&A104&\"'!$H$77\",TRUE)),\"\",INDIRECT(\"'Voksen \"&A104&\"'!$H$77\",TRUE)),1)","v":{"$error":"#VALUE!"}},null,null,{"$f":"COUNTIF(IF(ISERROR(INDIRECT(\"'Børn \"&A104&\"'!$H$31\",TRUE)),\"\",INDIRECT(\"'Børn \"&A104&\"'!$H$31\",TRUE)),1)","v":{"$error":"#VALUE!"}},{"$f":"COUNTIF(IF(ISERROR(INDIRECT(\"'Børn \"&A104&\"'!$H$44\",TRUE)),\"\",INDIRECT(\"'Børn \"&A104&\"'!$H$44\",TRUE)),1)","v":{"$error":"#VALUE!"}},{"$f":"COUNTIF(IF(ISERROR(INDIRECT(\"'Børn \"&A104&\"'!$H$53\",TRUE)),\"\",INDIRECT(\"'Børn \"&A104&\"'!$H$53\",TRUE)),1)","v":{"$error":"#VALUE!"}},{"$f":"COUNTIF(IF(ISERROR(INDIRECT(\"'Børn \"&A104&\"'!$H$61\",TRUE)),\"\",INDIRECT(\"'Børn \"&A104&\"'!$H$61\",TRUE)),1)","v":{"$error":"#VALUE!"}},{"$f":"COUNTIF(IF(ISERROR(INDIRECT(\"'Børn \"&A104&\"'!$H$68\",TRUE)),\"\",INDIRECT(\"'Børn \"&A104&\"'!$H$68\",TRUE)),1)","v":{"$error":"#VALUE!"}},{"$f":"COUNTIF(IF(ISERROR(INDIRECT(\"'Børn \"&A104&\"'!$H$79\",TRUE)),\"\",INDIRECT(\"'Børn \"&A104&\"'!$H$79\",TRUE)),1)","v":{"$error":"#VALUE!"}},{"$f":"COUNTIF(IF(ISERROR(INDIRECT(\"'Børn \"&A104&\"'!$H$87\",TRUE)),\"\",INDIRECT(\"'Børn \"&A104&\"'!$H$87\",TRUE)),1)","v":{"$error":"#VALUE!"}},null,null,null,"Tilsyn 22",{"$f":"IF(INDIRECT(\"'Voksen \"&U104&\"'!$c$112\")=\"\",\"\",IFERROR(INDIRECT(\"'Voksen \"&U104&\"'!$c$112\",TRUE),\"\"))","v":{"$error":"#REF!"}},{"$f":"IF(INDIRECT(\"'Voksen \"&U104&\"'!$c$133\")=\"\",\"\",IFERROR(INDIRECT(\"'Voksen \"&U104&\"'!$c$133\",TRUE),\"\"))","v":{"$error":"#REF!"}},{"$f":"IF(INDIRECT(\"'Voksen \"&U104&\"'!$c$154\")=\"\",\"\",IFERROR(INDIRECT(\"'Voksen \"&U104&\"'!$c$154\",TRUE),\"\"))","v":{"$error":"#REF!"}},{"$f":"IF(INDIRECT(\"'Voksen \"&U104&\"'!$c$169\")=\"\",\"\",IFERROR(INDIRECT(\"'Voksen \"&U104&\"'!$c$169\",TRUE),\"\"))","v":{"$error":"#REF!"}},{"$f":"IF(INDIRECT(\"'Voksen \"&U104&\"'!$c$186\")=\"\",\"\",IFERROR(INDIRECT(\"'Voksen \"&U104&\"'!$c$186\",TRUE),\"\"))","v":{"$error":"#REF!"}},{"$f":"IF(INDIRECT(\"'Voksen \"&U104&\"'!$c$207\")=\"\",\"\",IFERROR(INDIRECT(\"'Voksen \"&U104&\"'!$c$207\",TRUE),\"\"))","v":{"$error":"#REF!"}},{"$f":"IF(INDIRECT(\"'Voksen \"&U104&\"'!$c$229\")=\"\",\"\",IFERROR(INDIRECT(\"'Voksen \"&U104&\"'!$c$229\",TRUE),\"\"))","v":{"$error":"#REF!"}},{"$f":"IF(INDIRECT(\"'Voksen \"&U104&\"'!$c$255\")=\"\",\"\",IFERROR(INDIRECT(\"'Voksen \"&U104&\"'!$c$255\",TRUE),\"\"))","v":{"$error":"#REF!"}},null,{"$f":"IF(INDIRECT(\"'Børn \"&U104&\"'!$c$123\")=\"\",\"\",IFERROR(INDIRECT(\"'Børn \"&U104&\"'!$c$123\",TRUE),\"\"))","v":{"$error":"#REF!"}},{"$f":"IF(INDIRECT(\"'Børn \"&U104&\"'!$c$139\")=\"\",\"\",IFERROR(INDIRECT(\"'Børn \"&U104&\"'!$c$139\",TRUE),\"\"))","v":{"$error":"#REF!"}},{"$f":"IF(INDIRECT(\"'Børn \"&U104&\"'!$c$163\")=\"\",\"\",IFERROR(INDIRECT(\"'Børn \"&U104&\"'!$c$163\",TRUE),\"\"))","v":{"$error":"#REF!"}},{"$f":"IF(INDIRECT(\"'Børn \"&U104&\"'!$c$177\")=\"\",\"\",IFERROR(INDIRECT(\"'Børn \"&U104&\"'!$c$177\",TRUE),\"\"))","v":{"$error":"#REF!"}},{"$f":"IF(INDIRECT(\"'Børn \"&U104&\"'!$c$197\")=\"\",\"\",IFERROR(INDIRECT(\"'Børn \"&U104&\"'!$c$197\",TRUE),\"\"))","v":{"$error":"#REF!"}},{"$f":"IF(INDIRECT(\"'Børn \"&U104&\"'!$c$218\")=\"\",\"\",IFERROR(INDIRECT(\"'Børn \"&U104&\"'!$c$218\",TRUE),\"\"))","v":{"$error":"#REF!"}},{"$f":"IF(INDIRECT(\"'Børn \"&U104&\"'!$c$241\")=\"\",\"\",IFERROR(INDIRECT(\"'Børn \"&U104&\"'!$c$241\",TRUE),\"\"))","v":{"$error":"#REF!"}}]
["Tilsyn 15","Status:  gul",{"$f":"COUNTIF(IF(ISERROR(INDIRECT(\"'Voksen \"&A105&\"'!$H$31\",TRUE)),\"\",INDIRECT(\"'Voksen \"&A105&\"'!$H$31\",TRUE)),2)","v":{"$error":"#VALUE!"}},{"$f":"COUNTIF(IF(ISERROR(INDIRECT(\"'Voksen \"&A105&\"'!$H$41\",TRUE)),\"\",INDIRECT(\"'Voksen \"&A105&\"'!$H$41\",TRUE)),2)","v":{"$error":"#VALUE!"}},{"$f":"COUNTIF(IF(ISERROR(INDIRECT(\"'Voksen \"&A105&\"'!$H$50\",TRUE)),\"\",INDIRECT(\"'Voksen \"&A105&\"'!$H$50\",TRUE)),2)","v":{"$error":"#VALUE!"}},{"$f":"COUNTIF(IF(ISERROR(INDIRECT(\"'Voksen \"&A105&\"'!$H$58\",TRUE)),\"\",INDIRECT(\"'Voksen \"&A105&\"'!$H$58\",TRUE)),2)","v":{"$error":"#VALUE!"}},{"$f":"COUNTIF(IF(ISERROR(INDIRECT(\"'Voksen \"&A105&\"'!$H$69\",TRUE)),\"\",INDIRECT(\"'Voksen \"&A105&\"'!$H$69\",TRUE)),2)","v":{"$error":"#VALUE!"}},{"$f":"COUNTIF(IF(ISERROR(INDIRECT(\"'Voksen \"&A105&\"'!$H$77\",TRUE)),\"\",INDIRECT(\"'Voksen \"&A105&\"'!$H$77\",TRUE)),2)","v":{"$error":"#VALUE!"}},null,null,{"$f":"COUNTIF(IF(ISERROR(INDIRECT(\"'Børn \"&A105&\"'!$H$31\",TRUE)),\"\",INDIRECT(\"'Børn \"&A105&\"'!$H$31\",TRUE)),2)","v":{"$error":"#VALUE!"}},{"$f":"COUNTIF(IF(ISERROR(INDIRECT(\"'Børn \"&A105&\"'!$H$44\",TRUE)),\"\",INDIRECT(\"'Børn \"&A105&\"'!$H$44\",TRUE)),2)","v":{"$error":"#VALUE!"}},{"$f":"COUNTIF(IF(ISERROR(INDIRECT(\"'Børn \"&A105&\"'!$H$53\",TRUE)),\"\",INDIRECT(\"'Børn \"&A105&\"'!$H$53\",TRUE)),2)","v":{"$error":"#VALUE!"}},{"$f":"COUNTIF(IF(ISERROR(INDIRECT(\"'Børn \"&A105&\"'!$H$61\",TRUE)),\"\",INDIRECT(\"'Børn \"&A105&\"'!$H$61\",TRUE)),2)","v":{"$error":"#VALUE!"}},{"$f":"COUNTIF(IF(ISERROR(INDIRECT(\"'Børn \"&A105&\"'!$H$68\",TRUE)),\"\",INDIRECT(\"'Børn \"&A105&\"'!$H$68\",TRUE)),2)","v":{"$error":"#VALUE!"}},{"$f":"COUNTIF(IF(ISERROR(INDIRECT(\"'Børn \"&A105&\"'!$H$79\",TRUE)),\"\",INDIRECT(\"'Børn \"&A105&\"'!$H$79\",TRUE)),2)","v":{"$error":"#VALUE!"}},{"$f":"COUNTIF(IF(ISERROR(INDIRECT(\"'Børn \"&A105&\"'!$H$87\",TRUE)),\"\",INDIRECT(\"'Børn \"&A105&\"'!$H$87\",TRUE)),2)","v":{"$error":"#VALUE!"}},null,null,null,{"$f":"U104","v":"Tilsyn 22"},{"$f":"IF(INDIRECT(\"'Voksen \"&U105&\"'!$c$115\")=\"\",\"\",IFERROR(INDIRECT(\"'Voksen \"&U105&\"'!$c$115\",TRUE),\"\"))","v":{"$error":"#REF!"}},{"$f":"IF(INDIRECT(\"'Voksen \"&U105&\"'!$c$136\")=\"\",\"\",IFERROR(INDIRECT(\"'Voksen \"&U105&\"'!$c$136\",TRUE),\"\"))","v":{"$error":"#REF!"}},{"$f":"IF(INDIRECT(\"'Voksen \"&U105&\"'!$c$157\")=\"\",\"\",IFERROR(INDIRECT(\"'Voksen \"&U105&\"'!$c$157\",TRUE),\"\"))","v":{"$error":"#REF!"}},{"$f":"IF(INDIRECT(\"'Voksen \"&U105&\"'!$c$172\")=\"\",\"\",IFERROR(INDIRECT(\"'Voksen \"&U105&\"'!$c$172\",TRUE),\"\"))","v":{"$error":"#REF!"}},{"$f":"IF(INDIRECT(\"'Voksen \"&U105&\"'!$c$189\")=\"\",\"\",IFERROR(INDIRECT(\"'Voksen \"&U105&\"'!$c$189\",TRUE),\"\"))","v":{"$error":"#REF!"}},{"$f":"IF(INDIRECT(\"'Voksen \"&U105&\"'!$c$210\")=\"\",\"\",IFERROR(INDIRECT(\"'Voksen \"&U105&\"'!$c$210\",TRUE),\"\"))","v":{"$error":"#REF!"}},{"$f":"IF(INDIRECT(\"'Voksen \"&U105&\"'!$c$232\")=\"\",\"\",IFERROR(INDIRECT(\"'Voksen \"&U105&\"'!$c$232\",TRUE),\"\"))","v":{"$error":"#REF!"}},{"$f":"IF(INDIRECT(\"'Voksen \"&U105&\"'!$c$258\")=\"\",\"\",IFERROR(INDIRECT(\"'Voksen \"&U105&\"'!$c$258\",TRUE),\"\"))","v":{"$error":"#REF!"}},null,{"$f":"IF(INDIRECT(\"'Børn \"&U105&\"'!$c$126\")=\"\",\"\",IFERROR(INDIRECT(\"'Børn \"&U105&\"'!$c$126\",TRUE),\"\"))","v":{"$error":"#REF!"}},{"$f":"IF(INDIRECT(\"'Børn \"&U105&\"'!$c$142\")=\"\",\"\",IFERROR(INDIRECT(\"'Børn \"&U105&\"'!$c$142\",TRUE),\"\"))","v":{"$error":"#REF!"}},{"$f":"IF(INDIRECT(\"'Børn \"&U105&\"'!$c$166\")=\"\",\"\",IFERROR(INDIRECT(\"'Børn \"&U105&\"'!$c$166\",TRUE),\"\"))","v":{"$error":"#REF!"}},{"$f":"IF(INDIRECT(\"'Børn \"&U105&\"'!$c$180\")=\"\",\"\",IFERROR(INDIRECT(\"'Børn \"&U105&\"'!$c$180\",TRUE),\"\"))","v":{"$error":"#REF!"}},{"$f":"IF(INDIRECT(\"'Børn \"&U105&\"'!$c$200\")=\"\",\"\",IFERROR(INDIRECT(\"'Børn \"&U105&\"'!$c$200\",TRUE),\"\"))","v":{"$error":"#REF!"}},{"$f":"IF(INDIRECT(\"'Børn \"&U105&\"'!$c$221\")=\"\",\"\",IFERROR(INDIRECT(\"'Børn \"&U105&\"'!$c$221\",TRUE),\"\"))","v":{"$error":"#REF!"}},{"$f":"IF(INDIRECT(\"'Børn \"&U105&\"'!$c$244\")=\"\",\"\",IFERROR(INDIRECT(\"'Børn \"&U105&\"'!$c$244\",TRUE),\"\"))","v":{"$error":"#REF!"}}]
["Tilsyn 15","Status:  rød",{"$f":"COUNTIF(IF(ISERROR(INDIRECT(\"'Voksen \"&A106&\"'!$H$31\",TRUE)),\"\",INDIRECT(\"'Voksen \"&A106&\"'!$H$31\",TRUE)),3)","v":{"$error":"#VALUE!"}},{"$f":"COUNTIF(IF(ISERROR(INDIRECT(\"'Voksen \"&A106&\"'!$H$41\",TRUE)),\"\",INDIRECT(\"'Voksen \"&A106&\"'!$H$41\",TRUE)),3)","v":{"$error":"#VALUE!"}},{"$f":"COUNTIF(IF(ISERROR(INDIRECT(\"'Voksen \"&A106&\"'!$H$50\",TRUE)),\"\",INDIRECT(\"'Voksen \"&A106&\"'!$H$50\",TRUE)),3)","v":{"$error":"#VALUE!"}},{"$f":"COUNTIF(IF(ISERROR(INDIRECT(\"'Voksen \"&A106&\"'!$H$58\",TRUE)),\"\",INDIRECT(\"'Voksen \"&A106&\"'!$H$58\",TRUE)),3)","v":{"$error":"#VALUE!"}},{"$f":"COUNTIF(IF(ISERROR(INDIRECT(\"'Voksen \"&A106&\"'!$H$69\",TRUE)),\"\",INDIRECT(\"'Voksen \"&A106&\"'!$H$69\",TRUE)),3)","v":{"$error":"#VALUE!"}},{"$f":"COUNTIF(IF(ISERROR(INDIRECT(\"'Voksen \"&A106&\"'!$H$77\",TRUE)),\"\",INDIRECT(\"'Voksen \"&A106&\"'!$H$77\",TRUE)),3)","v":{"$error":"#VALUE!"}},null,null,{"$f":"COUNTIF(IF(ISERROR(INDIRECT(\"'Børn \"&A106&\"'!$H$31\",TRUE)),\"\",INDIRECT(\"'Børn \"&A106&\"'!$H$31\",TRUE)),3)","v":{"$error":"#VALUE!"}},{"$f":"COUNTIF(IF(ISERROR(INDIRECT(\"'Børn \"&A106&\"'!$H$44\",TRUE)),\"\",INDIRECT(\"'Børn \"&A106&\"'!$H$44\",TRUE)),3)","v":{"$error":"#VALUE!"}},{"$f":"COUNTIF(IF(ISERROR(INDIRECT(\"'Børn \"&A106&\"'!$H$53\",TRUE)),\"\",INDIRECT(\"'Børn \"&A106&\"'!$H$53\",TRUE)),3)","v":{"$error":"#VALUE!"}},{"$f":"COUNTIF(IF(ISERROR(INDIRECT(\"'Børn \"&A106&\"'!$H$61\",TRUE)),\"\",INDIRECT(\"'Børn \"&A106&\"'!$H$61\",TRUE)),3)","v":{"$error":"#VALUE!"}},{"$f":"COUNTIF(IF(ISERROR(INDIRECT(\"'Børn \"&A106&\"'!$H$68\",TRUE)),\"\",INDIRECT(\"'Børn \"&A106&\"'!$H$68\",TRUE)),3)","v":{"$error":"#VALUE!"}},{"$f":"COUNTIF(IF(ISERROR(INDIRECT(\"'Børn \"&A106&\"'!$H$79\",TRUE)),\"\",INDIRECT(\"'Børn \"&A106&\"'!$H$79\",TRUE)),3)","v":{"$error":"#VALUE!"}},{"$f":"COUNTIF(IF(ISERROR(INDIRECT(\"'Børn \"&A106&\"'!$H$87\",TRUE)),\"\",INDIRECT(\"'Børn \"&A106&\"'!$H$87\",TRUE)),3)","v":{"$error":"#VALUE!"}},null,null,null,"Tilsyn 23",{"$f":"IF(INDIRECT(\"'Voksen \"&U106&\"'!$c$112\")=\"\",\"\",IFERROR(INDIRECT(\"'Voksen \"&U106&\"'!$c$112\",TRUE),\"\"))","v":{"$error":"#REF!"}},{"$f":"IF(INDIRECT(\"'Voksen \"&U106&\"'!$c$133\")=\"\",\"\",IFERROR(INDIRECT(\"'Voksen \"&U106&\"'!$c$133\",TRUE),\"\"))","v":{"$error":"#REF!"}},{"$f":"IF(INDIRECT(\"'Voksen \"&U106&\"'!$c$154\")=\"\",\"\",IFERROR(INDIRECT(\"'Voksen \"&U106&\"'!$c$154\",TRUE),\"\"))","v":{"$error":"#REF!"}},{"$f":"IF(INDIRECT(\"'Voksen \"&U106&\"'!$c$169\")=\"\",\"\",IFERROR(INDIRECT(\"'Voksen \"&U106&\"'!$c$169\",TRUE),\"\"))","v":{"$error":"#REF!"}},{"$f":"IF(INDIRECT(\"'Voksen \"&U106&\"'!$c$186\")=\"\",\"\",IFERROR(INDIRECT(\"'Voksen \"&U106&\"'!$c$186\",TRUE),\"\"))","v":{"$error":"#REF!"}},{"$f":"IF(INDIRECT(\"'Voksen \"&U106&\"'!$c$207\")=\"\",\"\",IFERROR(INDIRECT(\"'Voksen \"&U106&\"'!$c$207\",TRUE),\"\"))","v":{"$error":"#REF!"}},{"$f":"IF(INDIRECT(\"'Voksen \"&U106&\"'!$c$229\")=\"\",\"\",IFERROR(INDIRECT(\"'Voksen \"&U106&\"'!$c$229\",TRUE),\"\"))","v":{"$error":"#REF!"}},{"$f":"IF(INDIRECT(\"'Voksen \"&U106&\"'!$c$255\")=\"\",\"\",IFERROR(INDIRECT(\"'Voksen \"&U106&\"'!$c$255\",TRUE),\"\"))","v":{"$error":"#REF!"}},null,{"$f":"IF(INDIRECT(\"'Børn \"&U106&\"'!$c$123\")=\"\",\"\",IFERROR(INDIRECT(\"'Børn \"&U106&\"'!$c$123\",TRUE),\"\"))","v":{"$error":"#REF!"}},{"$f":"IF(INDIRECT(\"'Børn \"&U106&\"'!$c$139\")=\"\",\"\",IFERROR(INDIRECT(\"'Børn \"&U106&\"'!$c$139\",TRUE),\"\"))","v":{"$error":"#REF!"}},{"$f":"IF(INDIRECT(\"'Børn \"&U106&\"'!$c$163\")=\"\",\"\",IFERROR(INDIRECT(\"'Børn \"&U106&\"'!$c$163\",TRUE),\"\"))","v":{"$error":"#REF!"}},{"$f":"IF(INDIRECT(\"'Børn \"&U106&\"'!$c$177\")=\"\",\"\",IFERROR(INDIRECT(\"'Børn \"&U106&\"'!$c$177\",TRUE),\"\"))","v":{"$error":"#REF!"}},{"$f":"IF(INDIRECT(\"'Børn \"&U106&\"'!$c$197\")=\"\",\"\",IFERROR(INDIRECT(\"'Børn \"&U106&\"'!$c$197\",TRUE),\"\"))","v":{"$error":"#REF!"}},{"$f":"IF(INDIRECT(\"'Børn \"&U106&\"'!$c$218\")=\"\",\"\",IFERROR(INDIRECT(\"'Børn \"&U106&\"'!$c$218\",TRUE),\"\"))","v":{"$error":"#REF!"}},{"$f":"IF(INDIRECT(\"'Børn \"&U106&\"'!$c$241\")=\"\",\"\",IFERROR(INDIRECT(\"'Børn \"&U106&\"'!$c$241\",TRUE),\"\"))","v":{"$error":"#REF!"}}]
["Tilsyn 16","Status:  grøn",{"$f":"COUNTIF(IF(ISERROR(INDIRECT(\"'Voksen \"&A107&\"'!$H$31\",TRUE)),\"\",INDIRECT(\"'Voksen \"&A107&\"'!$H$31\",TRUE)),1)","v":{"$error":"#VALUE!"}},{"$f":"COUNTIF(IF(ISERROR(INDIRECT(\"'Voksen \"&A107&\"'!$H$41\",TRUE)),\"\",INDIRECT(\"'Voksen \"&A107&\"'!$H$41\",TRUE)),1)","v":{"$error":"#VALUE!"}},{"$f":"COUNTIF(IF(ISERROR(INDIRECT(\"'Voksen \"&A107&\"'!$H$50\",TRUE)),\"\",INDIRECT(\"'Voksen \"&A107&\"'!$H$50\",TRUE)),1)","v":{"$error":"#VALUE!"}},{"$f":"COUNTIF(IF(ISERROR(INDIRECT(\"'Voksen \"&A107&\"'!$H$58\",TRUE)),\"\",INDIRECT(\"'Voksen \"&A107&\"'!$H$58\",TRUE)),1)","v":{"$error":"#VALUE!"}},{"$f":"COUNTIF(IF(ISERROR(INDIRECT(\"'Voksen \"&A107&\"'!$H$69\",TRUE)),\"\",INDIRECT(\"'Voksen \"&A107&\"'!$H$69\",TRUE)),1)","v":{"$error":"#VALUE!"}},{"$f":"COUNTIF(IF(ISERROR(INDIRECT(\"'Voksen \"&A107&\"'!$H$77\",TRUE)),\"\",INDIRECT(\"'Voksen \"&A107&\"'!$H$77\",TRUE)),1)","v":{"$error":"#VALUE!"}},null,null,{"$f":"COUNTIF(IF(ISERROR(INDIRECT(\"'Børn \"&A107&\"'!$H$31\",TRUE)),\"\",INDIRECT(\"'Børn \"&A107&\"'!$H$31\",TRUE)),1)","v":{"$error":"#VALUE!"}},{"$f":"COUNTIF(IF(ISERROR(INDIRECT(\"'Børn \"&A107&\"'!$H$44\",TRUE)),\"\",INDIRECT(\"'Børn \"&A107&\"'!$H$44\",TRUE)),1)","v":{"$error":"#VALUE!"}},{"$f":"COUNTIF(IF(ISERROR(INDIRECT(\"'Børn \"&A107&\"'!$H$53\",TRUE)),\"\",INDIRECT(\"'Børn \"&A107&\"'!$H$53\",TRUE)),1)","v":{"$error":"#VALUE!"}},{"$f":"COUNTIF(IF(ISERROR(INDIRECT(\"'Børn \"&A107&\"'!$H$61\",TRUE)),\"\",INDIRECT(\"'Børn \"&A107&\"'!$H$61\",TRUE)),1)","v":{"$error":"#VALUE!"}},{"$f":"COUNTIF(IF(ISERROR(INDIRECT(\"'Børn \"&A107&\"'!$H$68\",TRUE)),\"\",INDIRECT(\"'Børn \"&A107&\"'!$H$68\",TRUE)),1)","v":{"$error":"#VALUE!"}},{"$f":"COUNTIF(IF(ISERROR(INDIRECT(\"'Børn \"&A107&\"'!$H$79\",TRUE)),\"\",INDIRECT(\"'Børn \"&A107&\"'!$H$79\",TRUE)),1)","v":{"$error":"#VALUE!"}},{"$f":"COUNTIF(IF(ISERROR(INDIRECT(\"'Børn \"&A107&\"'!$H$87\",TRUE)),\"\",INDIRECT(\"'Børn \"&A107&\"'!$H$87\",TRUE)),1)","v":{"$error":"#VALUE!"}},null,null,null,{"$f":"U106","v":"Tilsyn 23"},{"$f":"IF(INDIRECT(\"'Voksen \"&U107&\"'!$c$115\")=\"\",\"\",IFERROR(INDIRECT(\"'Voksen \"&U107&\"'!$c$115\",TRUE),\"\"))","v":{"$error":"#REF!"}},{"$f":"IF(INDIRECT(\"'Voksen \"&U107&\"'!$c$136\")=\"\",\"\",IFERROR(INDIRECT(\"'Voksen \"&U107&\"'!$c$136\",TRUE),\"\"))","v":{"$error":"#REF!"}},{"$f":"IF(INDIRECT(\"'Voksen \"&U107&\"'!$c$157\")=\"\",\"\",IFERROR(INDIRECT(\"'Voksen \"&U107&\"'!$c$157\",TRUE),\"\"))","v":{"$error":"#REF!"}},{"$f":"IF(INDIRECT(\"'Voksen \"&U107&\"'!$c$172\")=\"\",\"\",IFERROR(INDIRECT(\"'Voksen \"&U107&\"'!$c$172\",TRUE),\"\"))","v":{"$error":"#REF!"}},{"$f":"IF(INDIRECT(\"'Voksen \"&U107&\"'!$c$189\")=\"\",\"\",IFERROR(INDIRECT(\"'Voksen \"&U107&\"'!$c$189\",TRUE),\"\"))","v":{"$error":"#REF!"}},{"$f":"IF(INDIRECT(\"'Voksen \"&U107&\"'!$c$210\")=\"\",\"\",IFERROR(INDIRECT(\"'Voksen \"&U107&\"'!$c$210\",TRUE),\"\"))","v":{"$error":"#REF!"}},{"$f":"IF(INDIRECT(\"'Voksen \"&U107&\"'!$c$232\")=\"\",\"\",IFERROR(INDIRECT(\"'Voksen \"&U107&\"'!$c$232\",TRUE),\"\"))","v":{"$error":"#REF!"}},{"$f":"IF(INDIRECT(\"'Voksen \"&U107&\"'!$c$258\")=\"\",\"\",IFERROR(INDIRECT(\"'Voksen \"&U107&\"'!$c$258\",TRUE),\"\"))","v":{"$error":"#REF!"}},null,{"$f":"IF(INDIRECT(\"'Børn \"&U107&\"'!$c$126\")=\"\",\"\",IFERROR(INDIRECT(\"'Børn \"&U107&\"'!$c$126\",TRUE),\"\"))","v":{"$error":"#REF!"}},{"$f":"IF(INDIRECT(\"'Børn \"&U107&\"'!$c$142\")=\"\",\"\",IFERROR(INDIRECT(\"'Børn \"&U107&\"'!$c$142\",TRUE),\"\"))","v":{"$error":"#REF!"}},{"$f":"IF(INDIRECT(\"'Børn \"&U107&\"'!$c$166\")=\"\",\"\",IFERROR(INDIRECT(\"'Børn \"&U107&\"'!$c$166\",TRUE),\"\"))","v":{"$error":"#REF!"}},{"$f":"IF(INDIRECT(\"'Børn \"&U107&\"'!$c$180\")=\"\",\"\",IFERROR(INDIRECT(\"'Børn \"&U107&\"'!$c$180\",TRUE),\"\"))","v":{"$error":"#REF!"}},{"$f":"IF(INDIRECT(\"'Børn \"&U107&\"'!$c$200\")=\"\",\"\",IFERROR(INDIRECT(\"'Børn \"&U107&\"'!$c$200\",TRUE),\"\"))","v":{"$error":"#REF!"}},{"$f":"IF(INDIRECT(\"'Børn \"&U107&\"'!$c$221\")=\"\",\"\",IFERROR(INDIRECT(\"'Børn \"&U107&\"'!$c$221\",TRUE),\"\"))","v":{"$error":"#REF!"}},{"$f":"IF(INDIRECT(\"'Børn \"&U107&\"'!$c$244\")=\"\",\"\",IFERROR(INDIRECT(\"'Børn \"&U107&\"'!$c$244\",TRUE),\"\"))","v":{"$error":"#REF!"}}]
["Tilsyn 16","Status:  gul",{"$f":"COUNTIF(IF(ISERROR(INDIRECT(\"'Voksen \"&A108&\"'!$H$31\",TRUE)),\"\",INDIRECT(\"'Voksen \"&A108&\"'!$H$31\",TRUE)),2)","v":{"$error":"#VALUE!"}},{"$f":"COUNTIF(IF(ISERROR(INDIRECT(\"'Voksen \"&A108&\"'!$H$41\",TRUE)),\"\",INDIRECT(\"'Voksen \"&A108&\"'!$H$41\",TRUE)),2)","v":{"$error":"#VALUE!"}},{"$f":"COUNTIF(IF(ISERROR(INDIRECT(\"'Voksen \"&A108&\"'!$H$50\",TRUE)),\"\",INDIRECT(\"'Voksen \"&A108&\"'!$H$50\",TRUE)),2)","v":{"$error":"#VALUE!"}},{"$f":"COUNTIF(IF(ISERROR(INDIRECT(\"'Voksen \"&A108&\"'!$H$58\",TRUE)),\"\",INDIRECT(\"'Voksen \"&A108&\"'!$H$58\",TRUE)),2)","v":{"$error":"#VALUE!"}},{"$f":"COUNTIF(IF(ISERROR(INDIRECT(\"'Voksen \"&A108&\"'!$H$69\",TRUE)),\"\",INDIRECT(\"'Voksen \"&A108&\"'!$H$69\",TRUE)),2)","v":{"$error":"#VALUE!"}},{"$f":"COUNTIF(IF(ISERROR(INDIRECT(\"'Voksen \"&A108&\"'!$H$77\",TRUE)),\"\",INDIRECT(\"'Voksen \"&A108&\"'!$H$77\",TRUE)),2)","v":{"$error":"#VALUE!"}},null,null,{"$f":"COUNTIF(IF(ISERROR(INDIRECT(\"'Børn \"&A108&\"'!$H$31\",TRUE)),\"\",INDIRECT(\"'Børn \"&A108&\"'!$H$31\",TRUE)),2)","v":{"$error":"#VALUE!"}},{"$f":"COUNTIF(IF(ISERROR(INDIRECT(\"'Børn \"&A108&\"'!$H$44\",TRUE)),\"\",INDIRECT(\"'Børn \"&A108&\"'!$H$44\",TRUE)),2)","v":{"$error":"#VALUE!"}},{"$f":"COUNTIF(IF(ISERROR(INDIRECT(\"'Børn \"&A108&\"'!$H$53\",TRUE)),\"\",INDIRECT(\"'Børn \"&A108&\"'!$H$53\",TRUE)),2)","v":{"$error":"#VALUE!"}},{"$f":"COUNTIF(IF(ISERROR(INDIRECT(\"'Børn \"&A108&\"'!$H$61\",TRUE)),\"\",INDIRECT(\"'Børn \"&A108&\"'!$H$61\",TRUE)),2)","v":{"$error":"#VALUE!"}},{"$f":"COUNTIF(IF(ISERROR(INDIRECT(\"'Børn \"&A108&\"'!$H$68\",TRUE)),\"\",INDIRECT(\"'Børn \"&A108&\"'!$H$68\",TRUE)),2)","v":{"$error":"#VALUE!"}},{"$f":"COUNTIF(IF(ISERROR(INDIRECT(\"'Børn \"&A108&\"'!$H$79\",TRUE)),\"\",INDIRECT(\"'Børn \"&A108&\"'!$H$79\",TRUE)),2)","v":{"$error":"#VALUE!"}},{"$f":"COUNTIF(IF(ISERROR(INDIRECT(\"'Børn \"&A108&\"'!$H$87\",TRUE)),\"\",INDIRECT(\"'Børn \"&A108&\"'!$H$87\",TRUE)),2)","v":{"$error":"#VALUE!"}},null,null,null,"Tilsyn 24",{"$f":"IF(INDIRECT(\"'Voksen \"&U108&\"'!$c$112\")=\"\",\"\",IFERROR(INDIRECT(\"'Voksen \"&U108&\"'!$c$112\",TRUE),\"\"))","v":{"$error":"#REF!"}},{"$f":"IF(INDIRECT(\"'Voksen \"&U108&\"'!$c$133\")=\"\",\"\",IFERROR(INDIRECT(\"'Voksen \"&U108&\"'!$c$133\",TRUE),\"\"))","v":{"$error":"#REF!"}},{"$f":"IF(INDIRECT(\"'Voksen \"&U108&\"'!$c$154\")=\"\",\"\",IFERROR(INDIRECT(\"'Voksen \"&U108&\"'!$c$154\",TRUE),\"\"))","v":{"$error":"#REF!"}},{"$f":"IF(INDIRECT(\"'Voksen \"&U108&\"'!$c$169\")=\"\",\"\",IFERROR(INDIRECT(\"'Voksen \"&U108&\"'!$c$169\",TRUE),\"\"))","v":{"$error":"#REF!"}},{"$f":"IF(INDIRECT(\"'Voksen \"&U108&\"'!$c$186\")=\"\",\"\",IFERROR(INDIRECT(\"'Voksen \"&U108&\"'!$c$186\",TRUE),\"\"))","v":{"$error":"#REF!"}},{"$f":"IF(INDIRECT(\"'Voksen \"&U108&\"'!$c$207\")=\"\",\"\",IFERROR(INDIRECT(\"'Voksen \"&U108&\"'!$c$207\",TRUE),\"\"))","v":{"$error":"#REF!"}},{"$f":"IF(INDIRECT(\"'Voksen \"&U108&\"'!$c$229\")=\"\",\"\",IFERROR(INDIRECT(\"'Voksen \"&U108&\"'!$c$229\",TRUE),\"\"))","v":{"$error":"#REF!"}},{"$f":"IF(INDIRECT(\"'Voksen \"&U108&\"'!$c$255\")=\"\",\"\",IFERROR(INDIRECT(\"'Voksen \"&U108&\"'!$c$255\",TRUE),\"\"))","v":{"$error":"#REF!"}},null,{"$f":"IF(INDIRECT(\"'Børn \"&U108&\"'!$c$123\")=\"\",\"\",IFERROR(INDIRECT(\"'Børn \"&U108&\"'!$c$123\",TRUE),\"\"))","v":{"$error":"#REF!"}},{"$f":"IF(INDIRECT(\"'Børn \"&U108&\"'!$c$139\")=\"\",\"\",IFERROR(INDIRECT(\"'Børn \"&U108&\"'!$c$139\",TRUE),\"\"))","v":{"$error":"#REF!"}},{"$f":"IF(INDIRECT(\"'Børn \"&U108&\"'!$c$163\")=\"\",\"\",IFERROR(INDIRECT(\"'Børn \"&U108&\"'!$c$163\",TRUE),\"\"))","v":{"$error":"#REF!"}},{"$f":"IF(INDIRECT(\"'Børn \"&U108&\"'!$c$177\")=\"\",\"\",IFERROR(INDIRECT(\"'Børn \"&U108&\"'!$c$177\",TRUE),\"\"))","v":{"$error":"#REF!"}},{"$f":"IF(INDIRECT(\"'Børn \"&U108&\"'!$c$197\")=\"\",\"\",IFERROR(INDIRECT(\"'Børn \"&U108&\"'!$c$197\",TRUE),\"\"))","v":{"$error":"#REF!"}},{"$f":"IF(INDIRECT(\"'Børn \"&U108&\"'!$c$218\")=\"\",\"\",IFERROR(INDIRECT(\"'Børn \"&U108&\"'!$c$218\",TRUE),\"\"))","v":{"$error":"#REF!"}},{"$f":"IF(INDIRECT(\"'Børn \"&U108&\"'!$c$241\")=\"\",\"\",IFERROR(INDIRECT(\"'Børn \"&U108&\"'!$c$241\",TRUE),\"\"))","v":{"$error":"#REF!"}}]
["Tilsyn 16","Status:  rød",{"$f":"COUNTIF(IF(ISERROR(INDIRECT(\"'Voksen \"&A109&\"'!$H$31\",TRUE)),\"\",INDIRECT(\"'Voksen \"&A109&\"'!$H$31\",TRUE)),3)","v":{"$error":"#VALUE!"}},{"$f":"COUNTIF(IF(ISERROR(INDIRECT(\"'Voksen \"&A109&\"'!$H$41\",TRUE)),\"\",INDIRECT(\"'Voksen \"&A109&\"'!$H$41\",TRUE)),3)","v":{"$error":"#VALUE!"}},{"$f":"COUNTIF(IF(ISERROR(INDIRECT(\"'Voksen \"&A109&\"'!$H$50\",TRUE)),\"\",INDIRECT(\"'Voksen \"&A109&\"'!$H$50\",TRUE)),3)","v":{"$error":"#VALUE!"}},{"$f":"COUNTIF(IF(ISERROR(INDIRECT(\"'Voksen \"&A109&\"'!$H$58\",TRUE)),\"\",INDIRECT(\"'Voksen \"&A109&\"'!$H$58\",TRUE)),3)","v":{"$error":"#VALUE!"}},{"$f":"COUNTIF(IF(ISERROR(INDIRECT(\"'Voksen \"&A109&\"'!$H$69\",TRUE)),\"\",INDIRECT(\"'Voksen \"&A109&\"'!$H$69\",TRUE)),3)","v":{"$error":"#VALUE!"}},{"$f":"COUNTIF(IF(ISERROR(INDIRECT(\"'Voksen \"&A109&\"'!$H$77\",TRUE)),\"\",INDIRECT(\"'Voksen \"&A109&\"'!$H$77\",TRUE)),3)","v":{"$error":"#VALUE!"}},null,null,{"$f":"COUNTIF(IF(ISERROR(INDIRECT(\"'Børn \"&A109&\"'!$H$31\",TRUE)),\"\",INDIRECT(\"'Børn \"&A109&\"'!$H$31\",TRUE)),3)","v":{"$error":"#VALUE!"}},{"$f":"COUNTIF(IF(ISERROR(INDIRECT(\"'Børn \"&A109&\"'!$H$44\",TRUE)),\"\",INDIRECT(\"'Børn \"&A109&\"'!$H$44\",TRUE)),3)","v":{"$error":"#VALUE!"}},{"$f":"COUNTIF(IF(ISERROR(INDIRECT(\"'Børn \"&A109&\"'!$H$53\",TRUE)),\"\",INDIRECT(\"'Børn \"&A109&\"'!$H$53\",TRUE)),3)","v":{"$error":"#VALUE!"}},{"$f":"COUNTIF(IF(ISERROR(INDIRECT(\"'Børn \"&A109&\"'!$H$61\",TRUE)),\"\",INDIRECT(\"'Børn \"&A109&\"'!$H$61\",TRUE)),3)","v":{"$error":"#VALUE!"}},{"$f":"COUNTIF(IF(ISERROR(INDIRECT(\"'Børn \"&A109&\"'!$H$68\",TRUE)),\"\",INDIRECT(\"'Børn \"&A109&\"'!$H$68\",TRUE)),3)","v":{"$error":"#VALUE!"}},{"$f":"COUNTIF(IF(ISERROR(INDIRECT(\"'Børn \"&A109&\"'!$H$79\",TRUE)),\"\",INDIRECT(\"'Børn \"&A109&\"'!$H$79\",TRUE)),3)","v":{"$error":"#VALUE!"}},{"$f":"COUNTIF(IF(ISERROR(INDIRECT(\"'Børn \"&A109&\"'!$H$87\",TRUE)),\"\",INDIRECT(\"'Børn \"&A109&\"'!$H$87\",TRUE)),3)","v":{"$error":"#VALUE!"}},null,null,null,{"$f":"U108","v":"Tilsyn 24"},{"$f":"IF(INDIRECT(\"'Voksen \"&U109&\"'!$c$115\")=\"\",\"\",IFERROR(INDIRECT(\"'Voksen \"&U109&\"'!$c$115\",TRUE),\"\"))","v":{"$error":"#REF!"}},{"$f":"IF(INDIRECT(\"'Voksen \"&U109&\"'!$c$136\")=\"\",\"\",IFERROR(INDIRECT(\"'Voksen \"&U109&\"'!$c$136\",TRUE),\"\"))","v":{"$error":"#REF!"}},{"$f":"IF(INDIRECT(\"'Voksen \"&U109&\"'!$c$157\")=\"\",\"\",IFERROR(INDIRECT(\"'Voksen \"&U109&\"'!$c$157\",TRUE),\"\"))","v":{"$error":"#REF!"}},{"$f":"IF(INDIRECT(\"'Voksen \"&U109&\"'!$c$172\")=\"\",\"\",IFERROR(INDIRECT(\"'Voksen \"&U109&\"'!$c$172\",TRUE),\"\"))","v":{"$error":"#REF!"}},{"$f":"IF(INDIRECT(\"'Voksen \"&U109&\"'!$c$189\")=\"\",\"\",IFERROR(INDIRECT(\"'Voksen \"&U109&\"'!$c$189\",TRUE),\"\"))","v":{"$error":"#REF!"}},{"$f":"IF(INDIRECT(\"'Voksen \"&U109&\"'!$c$210\")=\"\",\"\",IFERROR(INDIRECT(\"'Voksen \"&U109&\"'!$c$210\",TRUE),\"\"))","v":{"$error":"#REF!"}},{"$f":"IF(INDIRECT(\"'Voksen \"&U109&\"'!$c$232\")=\"\",\"\",IFERROR(INDIRECT(\"'Voksen \"&U109&\"'!$c$232\",TRUE),\"\"))","v":{"$error":"#REF!"}},{"$f":"IF(INDIRECT(\"'Voksen \"&U109&\"'!$c$258\")=\"\",\"\",IFERROR(INDIRECT(\"'Voksen \"&U109&\"'!$c$258\",TRUE),\"\"))","v":{"$error":"#REF!"}},null,{"$f":"IF(INDIRECT(\"'Børn \"&U109&\"'!$c$126\")=\"\",\"\",IFERROR(INDIRECT(\"'Børn \"&U109&\"'!$c$126\",TRUE),\"\"))","v":{"$error":"#REF!"}},{"$f":"IF(INDIRECT(\"'Børn \"&U109&\"'!$c$142\")=\"\",\"\",IFERROR(INDIRECT(\"'Børn \"&U109&\"'!$c$142\",TRUE),\"\"))","v":{"$error":"#REF!"}},{"$f":"IF(INDIRECT(\"'Børn \"&U109&\"'!$c$166\")=\"\",\"\",IFERROR(INDIRECT(\"'Børn \"&U109&\"'!$c$166\",TRUE),\"\"))","v":{"$error":"#REF!"}},{"$f":"IF(INDIRECT(\"'Børn \"&U109&\"'!$c$180\")=\"\",\"\",IFERROR(INDIRECT(\"'Børn \"&U109&\"'!$c$180\",TRUE),\"\"))","v":{"$error":"#REF!"}},{"$f":"IF(INDIRECT(\"'Børn \"&U109&\"'!$c$200\")=\"\",\"\",IFERROR(INDIRECT(\"'Børn \"&U109&\"'!$c$200\",TRUE),\"\"))","v":{"$error":"#REF!"}},{"$f":"IF(INDIRECT(\"'Børn \"&U109&\"'!$c$221\")=\"\",\"\",IFERROR(INDIRECT(\"'Børn \"&U109&\"'!$c$221\",TRUE),\"\"))","v":{"$error":"#REF!"}},{"$f":"IF(INDIRECT(\"'Børn \"&U109&\"'!$c$244\")=\"\",\"\",IFERROR(INDIRECT(\"'Børn \"&U109&\"'!$c$244\",TRUE),\"\"))","v":{"$error":"#REF!"}}]
["Tilsyn 17","Status:  grøn",{"$f":"COUNTIF(IF(ISERROR(INDIRECT(\"'Voksen \"&A110&\"'!$H$31\",TRUE)),\"\",INDIRECT(\"'Voksen \"&A110&\"'!$H$31\",TRUE)),1)","v":{"$error":"#VALUE!"}},{"$f":"COUNTIF(IF(ISERROR(INDIRECT(\"'Voksen \"&A110&\"'!$H$41\",TRUE)),\"\",INDIRECT(\"'Voksen \"&A110&\"'!$H$41\",TRUE)),1)","v":{"$error":"#VALUE!"}},{"$f":"COUNTIF(IF(ISERROR(INDIRECT(\"'Voksen \"&A110&\"'!$H$50\",TRUE)),\"\",INDIRECT(\"'Voksen \"&A110&\"'!$H$50\",TRUE)),1)","v":{"$error":"#VALUE!"}},{"$f":"COUNTIF(IF(ISERROR(INDIRECT(\"'Voksen \"&A110&\"'!$H$58\",TRUE)),\"\",INDIRECT(\"'Voksen \"&A110&\"'!$H$58\",TRUE)),1)","v":{"$error":"#VALUE!"}},{"$f":"COUNTIF(IF(ISERROR(INDIRECT(\"'Voksen \"&A110&\"'!$H$69\",TRUE)),\"\",INDIRECT(\"'Voksen \"&A110&\"'!$H$69\",TRUE)),1)","v":{"$error":"#VALUE!"}},{"$f":"COUNTIF(IF(ISERROR(INDIRECT(\"'Voksen \"&A110&\"'!$H$77\",TRUE)),\"\",INDIRECT(\"'Voksen \"&A110&\"'!$H$77\",TRUE)),1)","v":{"$error":"#VALUE!"}},null,null,{"$f":"COUNTIF(IF(ISERROR(INDIRECT(\"'Børn \"&A110&\"'!$H$31\",TRUE)),\"\",INDIRECT(\"'Børn \"&A110&\"'!$H$31\",TRUE)),1)","v":{"$error":"#VALUE!"}},{"$f":"COUNTIF(IF(ISERROR(INDIRECT(\"'Børn \"&A110&\"'!$H$44\",TRUE)),\"\",INDIRECT(\"'Børn \"&A110&\"'!$H$44\",TRUE)),1)","v":{"$error":"#VALUE!"}},{"$f":"COUNTIF(IF(ISERROR(INDIRECT(\"'Børn \"&A110&\"'!$H$53\",TRUE)),\"\",INDIRECT(\"'Børn \"&A110&\"'!$H$53\",TRUE)),1)","v":{"$error":"#VALUE!"}},{"$f":"COUNTIF(IF(ISERROR(INDIRECT(\"'Børn \"&A110&\"'!$H$61\",TRUE)),\"\",INDIRECT(\"'Børn \"&A110&\"'!$H$61\",TRUE)),1)","v":{"$error":"#VALUE!"}},{"$f":"COUNTIF(IF(ISERROR(INDIRECT(\"'Børn \"&A110&\"'!$H$68\",TRUE)),\"\",INDIRECT(\"'Børn \"&A110&\"'!$H$68\",TRUE)),1)","v":{"$error":"#VALUE!"}},{"$f":"COUNTIF(IF(ISERROR(INDIRECT(\"'Børn \"&A110&\"'!$H$79\",TRUE)),\"\",INDIRECT(\"'Børn \"&A110&\"'!$H$79\",TRUE)),1)","v":{"$error":"#VALUE!"}},{"$f":"COUNTIF(IF(ISERROR(INDIRECT(\"'Børn \"&A110&\"'!$H$87\",TRUE)),\"\",INDIRECT(\"'Børn \"&A110&\"'!$H$87\",TRUE)),1)","v":{"$error":"#VALUE!"}},null,null,null,"Tilsyn 25",{"$f":"IF(INDIRECT(\"'Voksen \"&U110&\"'!$c$112\")=\"\",\"\",IFERROR(INDIRECT(\"'Voksen \"&U110&\"'!$c$112\",TRUE),\"\"))","v":{"$error":"#REF!"}},{"$f":"IF(INDIRECT(\"'Voksen \"&U110&\"'!$c$133\")=\"\",\"\",IFERROR(INDIRECT(\"'Voksen \"&U110&\"'!$c$133\",TRUE),\"\"))","v":{"$error":"#REF!"}},{"$f":"IF(INDIRECT(\"'Voksen \"&U110&\"'!$c$154\")=\"\",\"\",IFERROR(INDIRECT(\"'Voksen \"&U110&\"'!$c$154\",TRUE),\"\"))","v":{"$error":"#REF!"}},{"$f":"IF(INDIRECT(\"'Voksen \"&U110&\"'!$c$169\")=\"\",\"\",IFERROR(INDIRECT(\"'Voksen \"&U110&\"'!$c$169\",TRUE),\"\"))","v":{"$error":"#REF!"}},{"$f":"IF(INDIRECT(\"'Voksen \"&U110&\"'!$c$186\")=\"\",\"\",IFERROR(INDIRECT(\"'Voksen \"&U110&\"'!$c$186\",TRUE),\"\"))","v":{"$error":"#REF!"}},{"$f":"IF(INDIRECT(\"'Voksen \"&U110&\"'!$c$207\")=\"\",\"\",IFERROR(INDIRECT(\"'Voksen \"&U110&\"'!$c$207\",TRUE),\"\"))","v":{"$error":"#REF!"}},{"$f":"IF(INDIRECT(\"'Voksen \"&U110&\"'!$c$229\")=\"\",\"\",IFERROR(INDIRECT(\"'Voksen \"&U110&\"'!$c$229\",TRUE),\"\"))","v":{"$error":"#REF!"}},{"$f":"IF(INDIRECT(\"'Voksen \"&U110&\"'!$c$255\")=\"\",\"\",IFERROR(INDIRECT(\"'Voksen \"&U110&\"'!$c$255\",TRUE),\"\"))","v":{"$error":"#REF!"}},null,{"$f":"IF(INDIRECT(\"'Børn \"&U110&\"'!$c$123\")=\"\",\"\",IFERROR(INDIRECT(\"'Børn \"&U110&\"'!$c$123\",TRUE),\"\"))","v":{"$error":"#REF!"}},{"$f":"IF(INDIRECT(\"'Børn \"&U110&\"'!$c$139\")=\"\",\"\",IFERROR(INDIRECT(\"'Børn \"&U110&\"'!$c$139\",TRUE),\"\"))","v":{"$error":"#REF!"}},{"$f":"IF(INDIRECT(\"'Børn \"&U110&\"'!$c$163\")=\"\",\"\",IFERROR(INDIRECT(\"'Børn \"&U110&\"'!$c$163\",TRUE),\"\"))","v":{"$error":"#REF!"}},{"$f":"IF(INDIRECT(\"'Børn \"&U110&\"'!$c$177\")=\"\",\"\",IFERROR(INDIRECT(\"'Børn \"&U110&\"'!$c$177\",TRUE),\"\"))","v":{"$error":"#REF!"}},{"$f":"IF(INDIRECT(\"'Børn \"&U110&\"'!$c$197\")=\"\",\"\",IFERROR(INDIRECT(\"'Børn \"&U110&\"'!$c$197\",TRUE),\"\"))","v":{"$error":"#REF!"}},{"$f":"IF(INDIRECT(\"'Børn \"&U110&\"'!$c$218\")=\"\",\"\",IFERROR(INDIRECT(\"'Børn \"&U110&\"'!$c$218\",TRUE),\"\"))","v":{"$error":"#REF!"}},{"$f":"IF(INDIRECT(\"'Børn \"&U110&\"'!$c$241\")=\"\",\"\",IFERROR(INDIRECT(\"'Børn \"&U110&\"'!$c$241\",TRUE),\"\"))","v":{"$error":"#REF!"}}]
["Tilsyn 17","Status:  gul",{"$f":"COUNTIF(IF(ISERROR(INDIRECT(\"'Voksen \"&A111&\"'!$H$31\",TRUE)),\"\",INDIRECT(\"'Voksen \"&A111&\"'!$H$31\",TRUE)),2)","v":{"$error":"#VALUE!"}},{"$f":"COUNTIF(IF(ISERROR(INDIRECT(\"'Voksen \"&A111&\"'!$H$41\",TRUE)),\"\",INDIRECT(\"'Voksen \"&A111&\"'!$H$41\",TRUE)),2)","v":{"$error":"#VALUE!"}},{"$f":"COUNTIF(IF(ISERROR(INDIRECT(\"'Voksen \"&A111&\"'!$H$50\",TRUE)),\"\",INDIRECT(\"'Voksen \"&A111&\"'!$H$50\",TRUE)),2)","v":{"$error":"#VALUE!"}},{"$f":"COUNTIF(IF(ISERROR(INDIRECT(\"'Voksen \"&A111&\"'!$H$58\",TRUE)),\"\",INDIRECT(\"'Voksen \"&A111&\"'!$H$58\",TRUE)),2)","v":{"$error":"#VALUE!"}},{"$f":"COUNTIF(IF(ISERROR(INDIRECT(\"'Voksen \"&A111&\"'!$H$69\",TRUE)),\"\",INDIRECT(\"'Voksen \"&A111&\"'!$H$69\",TRUE)),2)","v":{"$error":"#VALUE!"}},{"$f":"COUNTIF(IF(ISERROR(INDIRECT(\"'Voksen \"&A111&\"'!$H$77\",TRUE)),\"\",INDIRECT(\"'Voksen \"&A111&\"'!$H$77\",TRUE)),2)","v":{"$error":"#VALUE!"}},null,null,{"$f":"COUNTIF(IF(ISERROR(INDIRECT(\"'Børn \"&A111&\"'!$H$31\",TRUE)),\"\",INDIRECT(\"'Børn \"&A111&\"'!$H$31\",TRUE)),2)","v":{"$error":"#VALUE!"}},{"$f":"COUNTIF(IF(ISERROR(INDIRECT(\"'Børn \"&A111&\"'!$H$44\",TRUE)),\"\",INDIRECT(\"'Børn \"&A111&\"'!$H$44\",TRUE)),2)","v":{"$error":"#VALUE!"}},{"$f":"COUNTIF(IF(ISERROR(INDIRECT(\"'Børn \"&A111&\"'!$H$53\",TRUE)),\"\",INDIRECT(\"'Børn \"&A111&\"'!$H$53\",TRUE)),2)","v":{"$error":"#VALUE!"}},{"$f":"COUNTIF(IF(ISERROR(INDIRECT(\"'Børn \"&A111&\"'!$H$61\",TRUE)),\"\",INDIRECT(\"'Børn \"&A111&\"'!$H$61\",TRUE)),2)","v":{"$error":"#VALUE!"}},{"$f":"COUNTIF(IF(ISERROR(INDIRECT(\"'Børn \"&A111&\"'!$H$68\",TRUE)),\"\",INDIRECT(\"'Børn \"&A111&\"'!$H$68\",TRUE)),2)","v":{"$error":"#VALUE!"}},{"$f":"COUNTIF(IF(ISERROR(INDIRECT(\"'Børn \"&A111&\"'!$H$79\",TRUE)),\"\",INDIRECT(\"'Børn \"&A111&\"'!$H$79\",TRUE)),2)","v":{"$error":"#VALUE!"}},{"$f":"COUNTIF(IF(ISERROR(INDIRECT(\"'Børn \"&A111&\"'!$H$87\",TRUE)),\"\",INDIRECT(\"'Børn \"&A111&\"'!$H$87\",TRUE)),2)","v":{"$error":"#VALUE!"}},null,null,null,{"$f":"U110","v":"Tilsyn 25"},{"$f":"IF(INDIRECT(\"'Voksen \"&U111&\"'!$c$115\")=\"\",\"\",IFERROR(INDIRECT(\"'Voksen \"&U111&\"'!$c$115\",TRUE),\"\"))","v":{"$error":"#REF!"}},{"$f":"IF(INDIRECT(\"'Voksen \"&U111&\"'!$c$136\")=\"\",\"\",IFERROR(INDIRECT(\"'Voksen \"&U111&\"'!$c$136\",TRUE),\"\"))","v":{"$error":"#REF!"}},{"$f":"IF(INDIRECT(\"'Voksen \"&U111&\"'!$c$157\")=\"\",\"\",IFERROR(INDIRECT(\"'Voksen \"&U111&\"'!$c$157\",TRUE),\"\"))","v":{"$error":"#REF!"}},{"$f":"IF(INDIRECT(\"'Voksen \"&U111&\"'!$c$172\")=\"\",\"\",IFERROR(INDIRECT(\"'Voksen \"&U111&\"'!$c$172\",TRUE),\"\"))","v":{"$error":"#REF!"}},{"$f":"IF(INDIRECT(\"'Voksen \"&U111&\"'!$c$189\")=\"\",\"\",IFERROR(INDIRECT(\"'Voksen \"&U111&\"'!$c$189\",TRUE),\"\"))","v":{"$error":"#REF!"}},{"$f":"IF(INDIRECT(\"'Voksen \"&U111&\"'!$c$210\")=\"\",\"\",IFERROR(INDIRECT(\"'Voksen \"&U111&\"'!$c$210\",TRUE),\"\"))","v":{"$error":"#REF!"}},{"$f":"IF(INDIRECT(\"'Voksen \"&U111&\"'!$c$232\")=\"\",\"\",IFERROR(INDIRECT(\"'Voksen \"&U111&\"'!$c$232\",TRUE),\"\"))","v":{"$error":"#REF!"}},{"$f":"IF(INDIRECT(\"'Voksen \"&U111&\"'!$c$258\")=\"\",\"\",IFERROR(INDIRECT(\"'Voksen \"&U111&\"'!$c$258\",TRUE),\"\"))","v":{"$error":"#REF!"}},null,{"$f":"IF(INDIRECT(\"'Børn \"&U111&\"'!$c$126\")=\"\",\"\",IFERROR(INDIRECT(\"'Børn \"&U111&\"'!$c$126\",TRUE),\"\"))","v":{"$error":"#REF!"}},{"$f":"IF(INDIRECT(\"'Børn \"&U111&\"'!$c$142\")=\"\",\"\",IFERROR(INDIRECT(\"'Børn \"&U111&\"'!$c$142\",TRUE),\"\"))","v":{"$error":"#REF!"}},{"$f":"IF(INDIRECT(\"'Børn \"&U111&\"'!$c$166\")=\"\",\"\",IFERROR(INDIRECT(\"'Børn \"&U111&\"'!$c$166\",TRUE),\"\"))","v":{"$error":"#REF!"}},{"$f":"IF(INDIRECT(\"'Børn \"&U111&\"'!$c$180\")=\"\",\"\",IFERROR(INDIRECT(\"'Børn \"&U111&\"'!$c$180\",TRUE),\"\"))","v":{"$error":"#REF!"}},{"$f":"IF(INDIRECT(\"'Børn \"&U111&\"'!$c$200\")=\"\",\"\",IFERROR(INDIRECT(\"'Børn \"&U111&\"'!$c$200\",TRUE),\"\"))","v":{"$error":"#REF!"}},{"$f":"IF(INDIRECT(\"'Børn \"&U111&\"'!$c$221\")=\"\",\"\",IFERROR(INDIRECT(\"'Børn \"&U111&\"'!$c$221\",TRUE),\"\"))","v":{"$error":"#REF!"}},{"$f":"IF(INDIRECT(\"'Børn \"&U111&\"'!$c$244\")=\"\",\"\",IFERROR(INDIRECT(\"'Børn \"&U111&\"'!$c$244\",TRUE),\"\"))","v":{"$error":"#REF!"}}]
["Tilsyn 17","Status:  rød",{"$f":"COUNTIF(IF(ISERROR(INDIRECT(\"'Voksen \"&A112&\"'!$H$31\",TRUE)),\"\",INDIRECT(\"'Voksen \"&A112&\"'!$H$31\",TRUE)),3)","v":{"$error":"#VALUE!"}},{"$f":"COUNTIF(IF(ISERROR(INDIRECT(\"'Voksen \"&A112&\"'!$H$41\",TRUE)),\"\",INDIRECT(\"'Voksen \"&A112&\"'!$H$41\",TRUE)),3)","v":{"$error":"#VALUE!"}},{"$f":"COUNTIF(IF(ISERROR(INDIRECT(\"'Voksen \"&A112&\"'!$H$50\",TRUE)),\"\",INDIRECT(\"'Voksen \"&A112&\"'!$H$50\",TRUE)),3)","v":{"$error":"#VALUE!"}},{"$f":"COUNTIF(IF(ISERROR(INDIRECT(\"'Voksen \"&A112&\"'!$H$58\",TRUE)),\"\",INDIRECT(\"'Voksen \"&A112&\"'!$H$58\",TRUE)),3)","v":{"$error":"#VALUE!"}},{"$f":"COUNTIF(IF(ISERROR(INDIRECT(\"'Voksen \"&A112&\"'!$H$69\",TRUE)),\"\",INDIRECT(\"'Voksen \"&A112&\"'!$H$69\",TRUE)),3)","v":{"$error":"#VALUE!"}},{"$f":"COUNTIF(IF(ISERROR(INDIRECT(\"'Voksen \"&A112&\"'!$H$77\",TRUE)),\"\",INDIRECT(\"'Voksen \"&A112&\"'!$H$77\",TRUE)),3)","v":{"$error":"#VALUE!"}},null,null,{"$f":"COUNTIF(IF(ISERROR(INDIRECT(\"'Børn \"&A112&\"'!$H$31\",TRUE)),\"\",INDIRECT(\"'Børn \"&A112&\"'!$H$31\",TRUE)),3)","v":{"$error":"#VALUE!"}},{"$f":"COUNTIF(IF(ISERROR(INDIRECT(\"'Børn \"&A112&\"'!$H$44\",TRUE)),\"\",INDIRECT(\"'Børn \"&A112&\"'!$H$44\",TRUE)),3)","v":{"$error":"#VALUE!"}},{"$f":"COUNTIF(IF(ISERROR(INDIRECT(\"'Børn \"&A112&\"'!$H$53\",TRUE)),\"\",INDIRECT(\"'Børn \"&A112&\"'!$H$53\",TRUE)),3)","v":{"$error":"#VALUE!"}},{"$f":"COUNTIF(IF(ISERROR(INDIRECT(\"'Børn \"&A112&\"'!$H$61\",TRUE)),\"\",INDIRECT(\"'Børn \"&A112&\"'!$H$61\",TRUE)),3)","v":{"$error":"#VALUE!"}},{"$f":"COUNTIF(IF(ISERROR(INDIRECT(\"'Børn \"&A112&\"'!$H$68\",TRUE)),\"\",INDIRECT(\"'Børn \"&A112&\"'!$H$68\",TRUE)),3)","v":{"$error":"#VALUE!"}},{"$f":"COUNTIF(IF(ISERROR(INDIRECT(\"'Børn \"&A112&\"'!$H$79\",TRUE)),\"\",INDIRECT(\"'Børn \"&A112&\"'!$H$79\",TRUE)),3)","v":{"$error":"#VALUE!"}},{"$f":"COUNTIF(IF(ISERROR(INDIRECT(\"'Børn \"&A112&\"'!$H$87\",TRUE)),\"\",INDIRECT(\"'Børn \"&A112&\"'!$H$87\",TRUE)),3)","v":{"$error":"#VALUE!"}},null,null,null,"Tilsyn 26",{"$f":"IF(INDIRECT(\"'Voksen \"&U112&\"'!$c$112\")=\"\",\"\",IFERROR(INDIRECT(\"'Voksen \"&U112&\"'!$c$112\",TRUE),\"\"))","v":{"$error":"#REF!"}},{"$f":"IF(INDIRECT(\"'Voksen \"&U112&\"'!$c$133\")=\"\",\"\",IFERROR(INDIRECT(\"'Voksen \"&U112&\"'!$c$133\",TRUE),\"\"))","v":{"$error":"#REF!"}},{"$f":"IF(INDIRECT(\"'Voksen \"&U112&\"'!$c$154\")=\"\",\"\",IFERROR(INDIRECT(\"'Voksen \"&U112&\"'!$c$154\",TRUE),\"\"))","v":{"$error":"#REF!"}},{"$f":"IF(INDIRECT(\"'Voksen \"&U112&\"'!$c$169\")=\"\",\"\",IFERROR(INDIRECT(\"'Voksen \"&U112&\"'!$c$169\",TRUE),\"\"))","v":{"$error":"#REF!"}},{"$f":"IF(INDIRECT(\"'Voksen \"&U112&\"'!$c$186\")=\"\",\"\",IFERROR(INDIRECT(\"'Voksen \"&U112&\"'!$c$186\",TRUE),\"\"))","v":{"$error":"#REF!"}},{"$f":"IF(INDIRECT(\"'Voksen \"&U112&\"'!$c$207\")=\"\",\"\",IFERROR(INDIRECT(\"'Voksen \"&U112&\"'!$c$207\",TRUE),\"\"))","v":{"$error":"#REF!"}},{"$f":"IF(INDIRECT(\"'Voksen \"&U112&\"'!$c$229\")=\"\",\"\",IFERROR(INDIRECT(\"'Voksen \"&U112&\"'!$c$229\",TRUE),\"\"))","v":{"$error":"#REF!"}},{"$f":"IF(INDIRECT(\"'Voksen \"&U112&\"'!$c$255\")=\"\",\"\",IFERROR(INDIRECT(\"'Voksen \"&U112&\"'!$c$255\",TRUE),\"\"))","v":{"$error":"#REF!"}},null,{"$f":"IF(INDIRECT(\"'Børn \"&U112&\"'!$c$123\")=\"\",\"\",IFERROR(INDIRECT(\"'Børn \"&U112&\"'!$c$123\",TRUE),\"\"))","v":{"$error":"#REF!"}},{"$f":"IF(INDIRECT(\"'Børn \"&U112&\"'!$c$139\")=\"\",\"\",IFERROR(INDIRECT(\"'Børn \"&U112&\"'!$c$139\",TRUE),\"\"))","v":{"$error":"#REF!"}},{"$f":"IF(INDIRECT(\"'Børn \"&U112&\"'!$c$163\")=\"\",\"\",IFERROR(INDIRECT(\"'Børn \"&U112&\"'!$c$163\",TRUE),\"\"))","v":{"$error":"#REF!"}},{"$f":"IF(INDIRECT(\"'Børn \"&U112&\"'!$c$177\")=\"\",\"\",IFERROR(INDIRECT(\"'Børn \"&U112&\"'!$c$177\",TRUE),\"\"))","v":{"$error":"#REF!"}},{"$f":"IF(INDIRECT(\"'Børn \"&U112&\"'!$c$197\")=\"\",\"\",IFERROR(INDIRECT(\"'Børn \"&U112&\"'!$c$197\",TRUE),\"\"))","v":{"$error":"#REF!"}},{"$f":"IF(INDIRECT(\"'Børn \"&U112&\"'!$c$218\")=\"\",\"\",IFERROR(INDIRECT(\"'Børn \"&U112&\"'!$c$218\",TRUE),\"\"))","v":{"$error":"#REF!"}},{"$f":"IF(INDIRECT(\"'Børn \"&U112&\"'!$c$241\")=\"\",\"\",IFERROR(INDIRECT(\"'Børn \"&U112&\"'!$c$241\",TRUE),\"\"))","v":{"$error":"#REF!"}}]
["Tilsyn 18","Status:  grøn",{"$f":"COUNTIF(IF(ISERROR(INDIRECT(\"'Voksen \"&A113&\"'!$H$31\",TRUE)),\"\",INDIRECT(\"'Voksen \"&A113&\"'!$H$31\",TRUE)),1)","v":{"$error":"#VALUE!"}},{"$f":"COUNTIF(IF(ISERROR(INDIRECT(\"'Voksen \"&A113&\"'!$H$41\",TRUE)),\"\",INDIRECT(\"'Voksen \"&A113&\"'!$H$41\",TRUE)),1)","v":{"$error":"#VALUE!"}},{"$f":"COUNTIF(IF(ISERROR(INDIRECT(\"'Voksen \"&A113&\"'!$H$50\",TRUE)),\"\",INDIRECT(\"'Voksen \"&A113&\"'!$H$50\",TRUE)),1)","v":{"$error":"#VALUE!"}},{"$f":"COUNTIF(IF(ISERROR(INDIRECT(\"'Voksen \"&A113&\"'!$H$58\",TRUE)),\"\",INDIRECT(\"'Voksen \"&A113&\"'!$H$58\",TRUE)),1)","v":{"$error":"#VALUE!"}},{"$f":"COUNTIF(IF(ISERROR(INDIRECT(\"'Voksen \"&A113&\"'!$H$69\",TRUE)),\"\",INDIRECT(\"'Voksen \"&A113&\"'!$H$69\",TRUE)),1)","v":{"$error":"#VALUE!"}},{"$f":"COUNTIF(IF(ISERROR(INDIRECT(\"'Voksen \"&A113&\"'!$H$77\",TRUE)),\"\",INDIRECT(\"'Voksen \"&A113&\"'!$H$77\",TRUE)),1)","v":{"$error":"#VALUE!"}},null,null,{"$f":"COUNTIF(IF(ISERROR(INDIRECT(\"'Børn \"&A113&\"'!$H$31\",TRUE)),\"\",INDIRECT(\"'Børn \"&A113&\"'!$H$31\",TRUE)),1)","v":{"$error":"#VALUE!"}},{"$f":"COUNTIF(IF(ISERROR(INDIRECT(\"'Børn \"&A113&\"'!$H$44\",TRUE)),\"\",INDIRECT(\"'Børn \"&A113&\"'!$H$44\",TRUE)),1)","v":{"$error":"#VALUE!"}},{"$f":"COUNTIF(IF(ISERROR(INDIRECT(\"'Børn \"&A113&\"'!$H$53\",TRUE)),\"\",INDIRECT(\"'Børn \"&A113&\"'!$H$53\",TRUE)),1)","v":{"$error":"#VALUE!"}},{"$f":"COUNTIF(IF(ISERROR(INDIRECT(\"'Børn \"&A113&\"'!$H$61\",TRUE)),\"\",INDIRECT(\"'Børn \"&A113&\"'!$H$61\",TRUE)),1)","v":{"$error":"#VALUE!"}},{"$f":"COUNTIF(IF(ISERROR(INDIRECT(\"'Børn \"&A113&\"'!$H$68\",TRUE)),\"\",INDIRECT(\"'Børn \"&A113&\"'!$H$68\",TRUE)),1)","v":{"$error":"#VALUE!"}},{"$f":"COUNTIF(IF(ISERROR(INDIRECT(\"'Børn \"&A113&\"'!$H$79\",TRUE)),\"\",INDIRECT(\"'Børn \"&A113&\"'!$H$79\",TRUE)),1)","v":{"$error":"#VALUE!"}},{"$f":"COUNTIF(IF(ISERROR(INDIRECT(\"'Børn \"&A113&\"'!$H$87\",TRUE)),\"\",INDIRECT(\"'Børn \"&A113&\"'!$H$87\",TRUE)),1)","v":{"$error":"#VALUE!"}},null,null,null,{"$f":"U112","v":"Tilsyn 26"},{"$f":"IF(INDIRECT(\"'Voksen \"&U113&\"'!$c$115\")=\"\",\"\",IFERROR(INDIRECT(\"'Voksen \"&U113&\"'!$c$115\",TRUE),\"\"))","v":{"$error":"#REF!"}},{"$f":"IF(INDIRECT(\"'Voksen \"&U113&\"'!$c$136\")=\"\",\"\",IFERROR(INDIRECT(\"'Voksen \"&U113&\"'!$c$136\",TRUE),\"\"))","v":{"$error":"#REF!"}},{"$f":"IF(INDIRECT(\"'Voksen \"&U113&\"'!$c$157\")=\"\",\"\",IFERROR(INDIRECT(\"'Voksen \"&U113&\"'!$c$157\",TRUE),\"\"))","v":{"$error":"#REF!"}},{"$f":"IF(INDIRECT(\"'Voksen \"&U113&\"'!$c$172\")=\"\",\"\",IFERROR(INDIRECT(\"'Voksen \"&U113&\"'!$c$172\",TRUE),\"\"))","v":{"$error":"#REF!"}},{"$f":"IF(INDIRECT(\"'Voksen \"&U113&\"'!$c$189\")=\"\",\"\",IFERROR(INDIRECT(\"'Voksen \"&U113&\"'!$c$189\",TRUE),\"\"))","v":{"$error":"#REF!"}},{"$f":"IF(INDIRECT(\"'Voksen \"&U113&\"'!$c$210\")=\"\",\"\",IFERROR(INDIRECT(\"'Voksen \"&U113&\"'!$c$210\",TRUE),\"\"))","v":{"$error":"#REF!"}},{"$f":"IF(INDIRECT(\"'Voksen \"&U113&\"'!$c$232\")=\"\",\"\",IFERROR(INDIRECT(\"'Voksen \"&U113&\"'!$c$232\",TRUE),\"\"))","v":{"$error":"#REF!"}},{"$f":"IF(INDIRECT(\"'Voksen \"&U113&\"'!$c$258\")=\"\",\"\",IFERROR(INDIRECT(\"'Voksen \"&U113&\"'!$c$258\",TRUE),\"\"))","v":{"$error":"#REF!"}},null,{"$f":"IF(INDIRECT(\"'Børn \"&U113&\"'!$c$126\")=\"\",\"\",IFERROR(INDIRECT(\"'Børn \"&U113&\"'!$c$126\",TRUE),\"\"))","v":{"$error":"#REF!"}},{"$f":"IF(INDIRECT(\"'Børn \"&U113&\"'!$c$142\")=\"\",\"\",IFERROR(INDIRECT(\"'Børn \"&U113&\"'!$c$142\",TRUE),\"\"))","v":{"$error":"#REF!"}},{"$f":"IF(INDIRECT(\"'Børn \"&U113&\"'!$c$166\")=\"\",\"\",IFERROR(INDIRECT(\"'Børn \"&U113&\"'!$c$166\",TRUE),\"\"))","v":{"$error":"#REF!"}},{"$f":"IF(INDIRECT(\"'Børn \"&U113&\"'!$c$180\")=\"\",\"\",IFERROR(INDIRECT(\"'Børn \"&U113&\"'!$c$180\",TRUE),\"\"))","v":{"$error":"#REF!"}},{"$f":"IF(INDIRECT(\"'Børn \"&U113&\"'!$c$200\")=\"\",\"\",IFERROR(INDIRECT(\"'Børn \"&U113&\"'!$c$200\",TRUE),\"\"))","v":{"$error":"#REF!"}},{"$f":"IF(INDIRECT(\"'Børn \"&U113&\"'!$c$221\")=\"\",\"\",IFERROR(INDIRECT(\"'Børn \"&U113&\"'!$c$221\",TRUE),\"\"))","v":{"$error":"#REF!"}},{"$f":"IF(INDIRECT(\"'Børn \"&U113&\"'!$c$244\")=\"\",\"\",IFERROR(INDIRECT(\"'Børn \"&U113&\"'!$c$244\",TRUE),\"\"))","v":{"$error":"#REF!"}}]
["Tilsyn 18","Status:  gul",{"$f":"COUNTIF(IF(ISERROR(INDIRECT(\"'Voksen \"&A114&\"'!$H$31\",TRUE)),\"\",INDIRECT(\"'Voksen \"&A114&\"'!$H$31\",TRUE)),2)","v":{"$error":"#VALUE!"}},{"$f":"COUNTIF(IF(ISERROR(INDIRECT(\"'Voksen \"&A114&\"'!$H$41\",TRUE)),\"\",INDIRECT(\"'Voksen \"&A114&\"'!$H$41\",TRUE)),2)","v":{"$error":"#VALUE!"}},{"$f":"COUNTIF(IF(ISERROR(INDIRECT(\"'Voksen \"&A114&\"'!$H$50\",TRUE)),\"\",INDIRECT(\"'Voksen \"&A114&\"'!$H$50\",TRUE)),2)","v":{"$error":"#VALUE!"}},{"$f":"COUNTIF(IF(ISERROR(INDIRECT(\"'Voksen \"&A114&\"'!$H$58\",TRUE)),\"\",INDIRECT(\"'Voksen \"&A114&\"'!$H$58\",TRUE)),2)","v":{"$error":"#VALUE!"}},{"$f":"COUNTIF(IF(ISERROR(INDIRECT(\"'Voksen \"&A114&\"'!$H$69\",TRUE)),\"\",INDIRECT(\"'Voksen \"&A114&\"'!$H$69\",TRUE)),2)","v":{"$error":"#VALUE!"}},{"$f":"COUNTIF(IF(ISERROR(INDIRECT(\"'Voksen \"&A114&\"'!$H$77\",TRUE)),\"\",INDIRECT(\"'Voksen \"&A114&\"'!$H$77\",TRUE)),2)","v":{"$error":"#VALUE!"}},null,null,{"$f":"COUNTIF(IF(ISERROR(INDIRECT(\"'Børn \"&A114&\"'!$H$31\",TRUE)),\"\",INDIRECT(\"'Børn \"&A114&\"'!$H$31\",TRUE)),2)","v":{"$error":"#VALUE!"}},{"$f":"COUNTIF(IF(ISERROR(INDIRECT(\"'Børn \"&A114&\"'!$H$44\",TRUE)),\"\",INDIRECT(\"'Børn \"&A114&\"'!$H$44\",TRUE)),2)","v":{"$error":"#VALUE!"}},{"$f":"COUNTIF(IF(ISERROR(INDIRECT(\"'Børn \"&A114&\"'!$H$53\",TRUE)),\"\",INDIRECT(\"'Børn \"&A114&\"'!$H$53\",TRUE)),2)","v":{"$error":"#VALUE!"}},{"$f":"COUNTIF(IF(ISERROR(INDIRECT(\"'Børn \"&A114&\"'!$H$61\",TRUE)),\"\",INDIRECT(\"'Børn \"&A114&\"'!$H$61\",TRUE)),2)","v":{"$error":"#VALUE!"}},{"$f":"COUNTIF(IF(ISERROR(INDIRECT(\"'Børn \"&A114&\"'!$H$68\",TRUE)),\"\",INDIRECT(\"'Børn \"&A114&\"'!$H$68\",TRUE)),2)","v":{"$error":"#VALUE!"}},{"$f":"COUNTIF(IF(ISERROR(INDIRECT(\"'Børn \"&A114&\"'!$H$79\",TRUE)),\"\",INDIRECT(\"'Børn \"&A114&\"'!$H$79\",TRUE)),2)","v":{"$error":"#VALUE!"}},{"$f":"COUNTIF(IF(ISERROR(INDIRECT(\"'Børn \"&A114&\"'!$H$87\",TRUE)),\"\",INDIRECT(\"'Børn \"&A114&\"'!$H$87\",TRUE)),2)","v":{"$error":"#VALUE!"}},null,null,null,"Tilsyn 27",{"$f":"IF(INDIRECT(\"'Voksen \"&U114&\"'!$c$112\")=\"\",\"\",IFERROR(INDIRECT(\"'Voksen \"&U114&\"'!$c$112\",TRUE),\"\"))","v":{"$error":"#REF!"}},{"$f":"IF(INDIRECT(\"'Voksen \"&U114&\"'!$c$133\")=\"\",\"\",IFERROR(INDIRECT(\"'Voksen \"&U114&\"'!$c$133\",TRUE),\"\"))","v":{"$error":"#REF!"}},{"$f":"IF(INDIRECT(\"'Voksen \"&U114&\"'!$c$154\")=\"\",\"\",IFERROR(INDIRECT(\"'Voksen \"&U114&\"'!$c$154\",TRUE),\"\"))","v":{"$error":"#REF!"}},{"$f":"IF(INDIRECT(\"'Voksen \"&U114&\"'!$c$169\")=\"\",\"\",IFERROR(INDIRECT(\"'Voksen \"&U114&\"'!$c$169\",TRUE),\"\"))","v":{"$error":"#REF!"}},{"$f":"IF(INDIRECT(\"'Voksen \"&U114&\"'!$c$186\")=\"\",\"\",IFERROR(INDIRECT(\"'Voksen \"&U114&\"'!$c$186\",TRUE),\"\"))","v":{"$error":"#REF!"}},{"$f":"IF(INDIRECT(\"'Voksen \"&U114&\"'!$c$207\")=\"\",\"\",IFERROR(INDIRECT(\"'Voksen \"&U114&\"'!$c$207\",TRUE),\"\"))","v":{"$error":"#REF!"}},{"$f":"IF(INDIRECT(\"'Voksen \"&U114&\"'!$c$229\")=\"\",\"\",IFERROR(INDIRECT(\"'Voksen \"&U114&\"'!$c$229\",TRUE),\"\"))","v":{"$error":"#REF!"}},{"$f":"IF(INDIRECT(\"'Voksen \"&U114&\"'!$c$255\")=\"\",\"\",IFERROR(INDIRECT(\"'Voksen \"&U114&\"'!$c$255\",TRUE),\"\"))","v":{"$error":"#REF!"}},null,{"$f":"IF(INDIRECT(\"'Børn \"&U114&\"'!$c$123\")=\"\",\"\",IFERROR(INDIRECT(\"'Børn \"&U114&\"'!$c$123\",TRUE),\"\"))","v":{"$error":"#REF!"}},{"$f":"IF(INDIRECT(\"'Børn \"&U114&\"'!$c$139\")=\"\",\"\",IFERROR(INDIRECT(\"'Børn \"&U114&\"'!$c$139\",TRUE),\"\"))","v":{"$error":"#REF!"}},{"$f":"IF(INDIRECT(\"'Børn \"&U114&\"'!$c$163\")=\"\",\"\",IFERROR(INDIRECT(\"'Børn \"&U114&\"'!$c$163\",TRUE),\"\"))","v":{"$error":"#REF!"}},{"$f":"IF(INDIRECT(\"'Børn \"&U114&\"'!$c$177\")=\"\",\"\",IFERROR(INDIRECT(\"'Børn \"&U114&\"'!$c$177\",TRUE),\"\"))","v":{"$error":"#REF!"}},{"$f":"IF(INDIRECT(\"'Børn \"&U114&\"'!$c$197\")=\"\",\"\",IFERROR(INDIRECT(\"'Børn \"&U114&\"'!$c$197\",TRUE),\"\"))","v":{"$error":"#REF!"}},{"$f":"IF(INDIRECT(\"'Børn \"&U114&\"'!$c$218\")=\"\",\"\",IFERROR(INDIRECT(\"'Børn \"&U114&\"'!$c$218\",TRUE),\"\"))","v":{"$error":"#REF!"}},{"$f":"IF(INDIRECT(\"'Børn \"&U114&\"'!$c$241\")=\"\",\"\",IFERROR(INDIRECT(\"'Børn \"&U114&\"'!$c$241\",TRUE),\"\"))","v":{"$error":"#REF!"}}]
["Tilsyn 18","Status:  rød",{"$f":"COUNTIF(IF(ISERROR(INDIRECT(\"'Voksen \"&A115&\"'!$H$31\",TRUE)),\"\",INDIRECT(\"'Voksen \"&A115&\"'!$H$31\",TRUE)),3)","v":{"$error":"#VALUE!"}},{"$f":"COUNTIF(IF(ISERROR(INDIRECT(\"'Voksen \"&A115&\"'!$H$41\",TRUE)),\"\",INDIRECT(\"'Voksen \"&A115&\"'!$H$41\",TRUE)),3)","v":{"$error":"#VALUE!"}},{"$f":"COUNTIF(IF(ISERROR(INDIRECT(\"'Voksen \"&A115&\"'!$H$50\",TRUE)),\"\",INDIRECT(\"'Voksen \"&A115&\"'!$H$50\",TRUE)),3)","v":{"$error":"#VALUE!"}},{"$f":"COUNTIF(IF(ISERROR(INDIRECT(\"'Voksen \"&A115&\"'!$H$58\",TRUE)),\"\",INDIRECT(\"'Voksen \"&A115&\"'!$H$58\",TRUE)),3)","v":{"$error":"#VALUE!"}},{"$f":"COUNTIF(IF(ISERROR(INDIRECT(\"'Voksen \"&A115&\"'!$H$69\",TRUE)),\"\",INDIRECT(\"'Voksen \"&A115&\"'!$H$69\",TRUE)),3)","v":{"$error":"#VALUE!"}},{"$f":"COUNTIF(IF(ISERROR(INDIRECT(\"'Voksen \"&A115&\"'!$H$77\",TRUE)),\"\",INDIRECT(\"'Voksen \"&A115&\"'!$H$77\",TRUE)),3)","v":{"$error":"#VALUE!"}},null,null,{"$f":"COUNTIF(IF(ISERROR(INDIRECT(\"'Børn \"&A115&\"'!$H$31\",TRUE)),\"\",INDIRECT(\"'Børn \"&A115&\"'!$H$31\",TRUE)),3)","v":{"$error":"#VALUE!"}},{"$f":"COUNTIF(IF(ISERROR(INDIRECT(\"'Børn \"&A115&\"'!$H$44\",TRUE)),\"\",INDIRECT(\"'Børn \"&A115&\"'!$H$44\",TRUE)),3)","v":{"$error":"#VALUE!"}},{"$f":"COUNTIF(IF(ISERROR(INDIRECT(\"'Børn \"&A115&\"'!$H$53\",TRUE)),\"\",INDIRECT(\"'Børn \"&A115&\"'!$H$53\",TRUE)),3)","v":{"$error":"#VALUE!"}},{"$f":"COUNTIF(IF(ISERROR(INDIRECT(\"'Børn \"&A115&\"'!$H$61\",TRUE)),\"\",INDIRECT(\"'Børn \"&A115&\"'!$H$61\",TRUE)),3)","v":{"$error":"#VALUE!"}},{"$f":"COUNTIF(IF(ISERROR(INDIRECT(\"'Børn \"&A115&\"'!$H$68\",TRUE)),\"\",INDIRECT(\"'Børn \"&A115&\"'!$H$68\",TRUE)),3)","v":{"$error":"#VALUE!"}},{"$f":"COUNTIF(IF(ISERROR(INDIRECT(\"'Børn \"&A115&\"'!$H$79\",TRUE)),\"\",INDIRECT(\"'Børn \"&A115&\"'!$H$79\",TRUE)),3)","v":{"$error":"#VALUE!"}},{"$f":"COUNTIF(IF(ISERROR(INDIRECT(\"'Børn \"&A115&\"'!$H$87\",TRUE)),\"\",INDIRECT(\"'Børn \"&A115&\"'!$H$87\",TRUE)),3)","v":{"$error":"#VALUE!"}},null,null,null,{"$f":"U114","v":"Tilsyn 27"},{"$f":"IF(INDIRECT(\"'Voksen \"&U115&\"'!$c$115\")=\"\",\"\",IFERROR(INDIRECT(\"'Voksen \"&U115&\"'!$c$115\",TRUE),\"\"))","v":{"$error":"#REF!"}},{"$f":"IF(INDIRECT(\"'Voksen \"&U115&\"'!$c$136\")=\"\",\"\",IFERROR(INDIRECT(\"'Voksen \"&U115&\"'!$c$136\",TRUE),\"\"))","v":{"$error":"#REF!"}},{"$f":"IF(INDIRECT(\"'Voksen \"&U115&\"'!$c$157\")=\"\",\"\",IFERROR(INDIRECT(\"'Voksen \"&U115&\"'!$c$157\",TRUE),\"\"))","v":{"$error":"#REF!"}},{"$f":"IF(INDIRECT(\"'Voksen \"&U115&\"'!$c$172\")=\"\",\"\",IFERROR(INDIRECT(\"'Voksen \"&U115&\"'!$c$172\",TRUE),\"\"))","v":{"$error":"#REF!"}},{"$f":"IF(INDIRECT(\"'Voksen \"&U115&\"'!$c$189\")=\"\",\"\",IFERROR(INDIRECT(\"'Voksen \"&U115&\"'!$c$189\",TRUE),\"\"))","v":{"$error":"#REF!"}},{"$f":"IF(INDIRECT(\"'Voksen \"&U115&\"'!$c$210\")=\"\",\"\",IFERROR(INDIRECT(\"'Voksen \"&U115&\"'!$c$210\",TRUE),\"\"))","v":{"$error":"#REF!"}},{"$f":"IF(INDIRECT(\"'Voksen \"&U115&\"'!$c$232\")=\"\",\"\",IFERROR(INDIRECT(\"'Voksen \"&U115&\"'!$c$232\",TRUE),\"\"))","v":{"$error":"#REF!"}},{"$f":"IF(INDIRECT(\"'Voksen \"&U115&\"'!$c$258\")=\"\",\"\",IFERROR(INDIRECT(\"'Voksen \"&U115&\"'!$c$258\",TRUE),\"\"))","v":{"$error":"#REF!"}},null,{"$f":"IF(INDIRECT(\"'Børn \"&U115&\"'!$c$126\")=\"\",\"\",IFERROR(INDIRECT(\"'Børn \"&U115&\"'!$c$126\",TRUE),\"\"))","v":{"$error":"#REF!"}},{"$f":"IF(INDIRECT(\"'Børn \"&U115&\"'!$c$142\")=\"\",\"\",IFERROR(INDIRECT(\"'Børn \"&U115&\"'!$c$142\",TRUE),\"\"))","v":{"$error":"#REF!"}},{"$f":"IF(INDIRECT(\"'Børn \"&U115&\"'!$c$166\")=\"\",\"\",IFERROR(INDIRECT(\"'Børn \"&U115&\"'!$c$166\",TRUE),\"\"))","v":{"$error":"#REF!"}},{"$f":"IF(INDIRECT(\"'Børn \"&U115&\"'!$c$180\")=\"\",\"\",IFERROR(INDIRECT(\"'Børn \"&U115&\"'!$c$180\",TRUE),\"\"))","v":{"$error":"#REF!"}},{"$f":"IF(INDIRECT(\"'Børn \"&U115&\"'!$c$200\")=\"\",\"\",IFERROR(INDIRECT(\"'Børn \"&U115&\"'!$c$200\",TRUE),\"\"))","v":{"$error":"#REF!"}},{"$f":"IF(INDIRECT(\"'Børn \"&U115&\"'!$c$221\")=\"\",\"\",IFERROR(INDIRECT(\"'Børn \"&U115&\"'!$c$221\",TRUE),\"\"))","v":{"$error":"#REF!"}},{"$f":"IF(INDIRECT(\"'Børn \"&U115&\"'!$c$244\")=\"\",\"\",IFERROR(INDIRECT(\"'Børn \"&U115&\"'!$c$244\",TRUE),\"\"))","v":{"$error":"#REF!"}}]
["Tilsyn 19","Status:  grøn",{"$f":"COUNTIF(IF(ISERROR(INDIRECT(\"'Voksen \"&A116&\"'!$H$31\",TRUE)),\"\",INDIRECT(\"'Voksen \"&A116&\"'!$H$31\",TRUE)),1)","v":{"$error":"#VALUE!"}},{"$f":"COUNTIF(IF(ISERROR(INDIRECT(\"'Voksen \"&A116&\"'!$H$41\",TRUE)),\"\",INDIRECT(\"'Voksen \"&A116&\"'!$H$41\",TRUE)),1)","v":{"$error":"#VALUE!"}},{"$f":"COUNTIF(IF(ISERROR(INDIRECT(\"'Voksen \"&A116&\"'!$H$50\",TRUE)),\"\",INDIRECT(\"'Voksen \"&A116&\"'!$H$50\",TRUE)),1)","v":{"$error":"#VALUE!"}},{"$f":"COUNTIF(IF(ISERROR(INDIRECT(\"'Voksen \"&A116&\"'!$H$58\",TRUE)),\"\",INDIRECT(\"'Voksen \"&A116&\"'!$H$58\",TRUE)),1)","v":{"$error":"#VALUE!"}},{"$f":"COUNTIF(IF(ISERROR(INDIRECT(\"'Voksen \"&A116&\"'!$H$69\",TRUE)),\"\",INDIRECT(\"'Voksen \"&A116&\"'!$H$69\",TRUE)),1)","v":{"$error":"#VALUE!"}},{"$f":"COUNTIF(IF(ISERROR(INDIRECT(\"'Voksen \"&A116&\"'!$H$77\",TRUE)),\"\",INDIRECT(\"'Voksen \"&A116&\"'!$H$77\",TRUE)),1)","v":{"$error":"#VALUE!"}},null,null,{"$f":"COUNTIF(IF(ISERROR(INDIRECT(\"'Børn \"&A116&\"'!$H$31\",TRUE)),\"\",INDIRECT(\"'Børn \"&A116&\"'!$H$31\",TRUE)),1)","v":{"$error":"#VALUE!"}},{"$f":"COUNTIF(IF(ISERROR(INDIRECT(\"'Børn \"&A116&\"'!$H$44\",TRUE)),\"\",INDIRECT(\"'Børn \"&A116&\"'!$H$44\",TRUE)),1)","v":{"$error":"#VALUE!"}},{"$f":"COUNTIF(IF(ISERROR(INDIRECT(\"'Børn \"&A116&\"'!$H$53\",TRUE)),\"\",INDIRECT(\"'Børn \"&A116&\"'!$H$53\",TRUE)),1)","v":{"$error":"#VALUE!"}},{"$f":"COUNTIF(IF(ISERROR(INDIRECT(\"'Børn \"&A116&\"'!$H$61\",TRUE)),\"\",INDIRECT(\"'Børn \"&A116&\"'!$H$61\",TRUE)),1)","v":{"$error":"#VALUE!"}},{"$f":"COUNTIF(IF(ISERROR(INDIRECT(\"'Børn \"&A116&\"'!$H$68\",TRUE)),\"\",INDIRECT(\"'Børn \"&A116&\"'!$H$68\",TRUE)),1)","v":{"$error":"#VALUE!"}},{"$f":"COUNTIF(IF(ISERROR(INDIRECT(\"'Børn \"&A116&\"'!$H$79\",TRUE)),\"\",INDIRECT(\"'Børn \"&A116&\"'!$H$79\",TRUE)),1)","v":{"$error":"#VALUE!"}},{"$f":"COUNTIF(IF(ISERROR(INDIRECT(\"'Børn \"&A116&\"'!$H$87\",TRUE)),\"\",INDIRECT(\"'Børn \"&A116&\"'!$H$87\",TRUE)),1)","v":{"$error":"#VALUE!"}},null,null,null,"Tilsyn 28",{"$f":"IF(INDIRECT(\"'Voksen \"&U116&\"'!$c$112\")=\"\",\"\",IFERROR(INDIRECT(\"'Voksen \"&U116&\"'!$c$112\",TRUE),\"\"))","v":{"$error":"#REF!"}},{"$f":"IF(INDIRECT(\"'Voksen \"&U116&\"'!$c$133\")=\"\",\"\",IFERROR(INDIRECT(\"'Voksen \"&U116&\"'!$c$133\",TRUE),\"\"))","v":{"$error":"#REF!"}},{"$f":"IF(INDIRECT(\"'Voksen \"&U116&\"'!$c$154\")=\"\",\"\",IFERROR(INDIRECT(\"'Voksen \"&U116&\"'!$c$154\",TRUE),\"\"))","v":{"$error":"#REF!"}},{"$f":"IF(INDIRECT(\"'Voksen \"&U116&\"'!$c$169\")=\"\",\"\",IFERROR(INDIRECT(\"'Voksen \"&U116&\"'!$c$169\",TRUE),\"\"))","v":{"$error":"#REF!"}},{"$f":"IF(INDIRECT(\"'Voksen \"&U116&\"'!$c$186\")=\"\",\"\",IFERROR(INDIRECT(\"'Voksen \"&U116&\"'!$c$186\",TRUE),\"\"))","v":{"$error":"#REF!"}},{"$f":"IF(INDIRECT(\"'Voksen \"&U116&\"'!$c$207\")=\"\",\"\",IFERROR(INDIRECT(\"'Voksen \"&U116&\"'!$c$207\",TRUE),\"\"))","v":{"$error":"#REF!"}},{"$f":"IF(INDIRECT(\"'Voksen \"&U116&\"'!$c$229\")=\"\",\"\",IFERROR(INDIRECT(\"'Voksen \"&U116&\"'!$c$229\",TRUE),\"\"))","v":{"$error":"#REF!"}},{"$f":"IF(INDIRECT(\"'Voksen \"&U116&\"'!$c$255\")=\"\",\"\",IFERROR(INDIRECT(\"'Voksen \"&U116&\"'!$c$255\",TRUE),\"\"))","v":{"$error":"#REF!"}},null,{"$f":"IF(INDIRECT(\"'Børn \"&U116&\"'!$c$123\")=\"\",\"\",IFERROR(INDIRECT(\"'Børn \"&U116&\"'!$c$123\",TRUE),\"\"))","v":{"$error":"#REF!"}},{"$f":"IF(INDIRECT(\"'Børn \"&U116&\"'!$c$139\")=\"\",\"\",IFERROR(INDIRECT(\"'Børn \"&U116&\"'!$c$139\",TRUE),\"\"))","v":{"$error":"#REF!"}},{"$f":"IF(INDIRECT(\"'Børn \"&U116&\"'!$c$163\")=\"\",\"\",IFERROR(INDIRECT(\"'Børn \"&U116&\"'!$c$163\",TRUE),\"\"))","v":{"$error":"#REF!"}},{"$f":"IF(INDIRECT(\"'Børn \"&U116&\"'!$c$177\")=\"\",\"\",IFERROR(INDIRECT(\"'Børn \"&U116&\"'!$c$177\",TRUE),\"\"))","v":{"$error":"#REF!"}},{"$f":"IF(INDIRECT(\"'Børn \"&U116&\"'!$c$197\")=\"\",\"\",IFERROR(INDIRECT(\"'Børn \"&U116&\"'!$c$197\",TRUE),\"\"))","v":{"$error":"#REF!"}},{"$f":"IF(INDIRECT(\"'Børn \"&U116&\"'!$c$218\")=\"\",\"\",IFERROR(INDIRECT(\"'Børn \"&U116&\"'!$c$218\",TRUE),\"\"))","v":{"$error":"#REF!"}},{"$f":"IF(INDIRECT(\"'Børn \"&U116&\"'!$c$241\")=\"\",\"\",IFERROR(INDIRECT(\"'Børn \"&U116&\"'!$c$241\",TRUE),\"\"))","v":{"$error":"#REF!"}}]
["Tilsyn 19","Status:  gul",{"$f":"COUNTIF(IF(ISERROR(INDIRECT(\"'Voksen \"&A117&\"'!$H$31\",TRUE)),\"\",INDIRECT(\"'Voksen \"&A117&\"'!$H$31\",TRUE)),2)","v":{"$error":"#VALUE!"}},{"$f":"COUNTIF(IF(ISERROR(INDIRECT(\"'Voksen \"&A117&\"'!$H$41\",TRUE)),\"\",INDIRECT(\"'Voksen \"&A117&\"'!$H$41\",TRUE)),2)","v":{"$error":"#VALUE!"}},{"$f":"COUNTIF(IF(ISERROR(INDIRECT(\"'Voksen \"&A117&\"'!$H$50\",TRUE)),\"\",INDIRECT(\"'Voksen \"&A117&\"'!$H$50\",TRUE)),2)","v":{"$error":"#VALUE!"}},{"$f":"COUNTIF(IF(ISERROR(INDIRECT(\"'Voksen \"&A117&\"'!$H$58\",TRUE)),\"\",INDIRECT(\"'Voksen \"&A117&\"'!$H$58\",TRUE)),2)","v":{"$error":"#VALUE!"}},{"$f":"COUNTIF(IF(ISERROR(INDIRECT(\"'Voksen \"&A117&\"'!$H$69\",TRUE)),\"\",INDIRECT(\"'Voksen \"&A117&\"'!$H$69\",TRUE)),2)","v":{"$error":"#VALUE!"}},{"$f":"COUNTIF(IF(ISERROR(INDIRECT(\"'Voksen \"&A117&\"'!$H$77\",TRUE)),\"\",INDIRECT(\"'Voksen \"&A117&\"'!$H$77\",TRUE)),2)","v":{"$error":"#VALUE!"}},null,null,{"$f":"COUNTIF(IF(ISERROR(INDIRECT(\"'Børn \"&A117&\"'!$H$31\",TRUE)),\"\",INDIRECT(\"'Børn \"&A117&\"'!$H$31\",TRUE)),2)","v":{"$error":"#VALUE!"}},{"$f":"COUNTIF(IF(ISERROR(INDIRECT(\"'Børn \"&A117&\"'!$H$44\",TRUE)),\"\",INDIRECT(\"'Børn \"&A117&\"'!$H$44\",TRUE)),2)","v":{"$error":"#VALUE!"}},{"$f":"COUNTIF(IF(ISERROR(INDIRECT(\"'Børn \"&A117&\"'!$H$53\",TRUE)),\"\",INDIRECT(\"'Børn \"&A117&\"'!$H$53\",TRUE)),2)","v":{"$error":"#VALUE!"}},{"$f":"COUNTIF(IF(ISERROR(INDIRECT(\"'Børn \"&A117&\"'!$H$61\",TRUE)),\"\",INDIRECT(\"'Børn \"&A117&\"'!$H$61\",TRUE)),2)","v":{"$error":"#VALUE!"}},{"$f":"COUNTIF(IF(ISERROR(INDIRECT(\"'Børn \"&A117&\"'!$H$68\",TRUE)),\"\",INDIRECT(\"'Børn \"&A117&\"'!$H$68\",TRUE)),2)","v":{"$error":"#VALUE!"}},{"$f":"COUNTIF(IF(ISERROR(INDIRECT(\"'Børn \"&A117&\"'!$H$79\",TRUE)),\"\",INDIRECT(\"'Børn \"&A117&\"'!$H$79\",TRUE)),2)","v":{"$error":"#VALUE!"}},{"$f":"COUNTIF(IF(ISERROR(INDIRECT(\"'Børn \"&A117&\"'!$H$87\",TRUE)),\"\",INDIRECT(\"'Børn \"&A117&\"'!$H$87\",TRUE)),2)","v":{"$error":"#VALUE!"}},null,null,null,{"$f":"U116","v":"Tilsyn 28"},{"$f":"IF(INDIRECT(\"'Voksen \"&U117&\"'!$c$115\")=\"\",\"\",IFERROR(INDIRECT(\"'Voksen \"&U117&\"'!$c$115\",TRUE),\"\"))","v":{"$error":"#REF!"}},{"$f":"IF(INDIRECT(\"'Voksen \"&U117&\"'!$c$136\")=\"\",\"\",IFERROR(INDIRECT(\"'Voksen \"&U117&\"'!$c$136\",TRUE),\"\"))","v":{"$error":"#REF!"}},{"$f":"IF(INDIRECT(\"'Voksen \"&U117&\"'!$c$157\")=\"\",\"\",IFERROR(INDIRECT(\"'Voksen \"&U117&\"'!$c$157\",TRUE),\"\"))","v":{"$error":"#REF!"}},{"$f":"IF(INDIRECT(\"'Voksen \"&U117&\"'!$c$172\")=\"\",\"\",IFERROR(INDIRECT(\"'Voksen \"&U117&\"'!$c$172\",TRUE),\"\"))","v":{"$error":"#REF!"}},{"$f":"IF(INDIRECT(\"'Voksen \"&U117&\"'!$c$189\")=\"\",\"\",IFERROR(INDIRECT(\"'Voksen \"&U117&\"'!$c$189\",TRUE),\"\"))","v":{"$error":"#REF!"}},{"$f":"IF(INDIRECT(\"'Voksen \"&U117&\"'!$c$210\")=\"\",\"\",IFERROR(INDIRECT(\"'Voksen \"&U117&\"'!$c$210\",TRUE),\"\"))","v":{"$error":"#REF!"}},{"$f":"IF(INDIRECT(\"'Voksen \"&U117&\"'!$c$232\")=\"\",\"\",IFERROR(INDIRECT(\"'Voksen \"&U117&\"'!$c$232\",TRUE),\"\"))","v":{"$error":"#REF!"}},{"$f":"IF(INDIRECT(\"'Voksen \"&U117&\"'!$c$258\")=\"\",\"\",IFERROR(INDIRECT(\"'Voksen \"&U117&\"'!$c$258\",TRUE),\"\"))","v":{"$error":"#REF!"}},null,{"$f":"IF(INDIRECT(\"'Børn \"&U117&\"'!$c$126\")=\"\",\"\",IFERROR(INDIRECT(\"'Børn \"&U117&\"'!$c$126\",TRUE),\"\"))","v":{"$error":"#REF!"}},{"$f":"IF(INDIRECT(\"'Børn \"&U117&\"'!$c$142\")=\"\",\"\",IFERROR(INDIRECT(\"'Børn \"&U117&\"'!$c$142\",TRUE),\"\"))","v":{"$error":"#REF!"}},{"$f":"IF(INDIRECT(\"'Børn \"&U117&\"'!$c$166\")=\"\",\"\",IFERROR(INDIRECT(\"'Børn \"&U117&\"'!$c$166\",TRUE),\"\"))","v":{"$error":"#REF!"}},{"$f":"IF(INDIRECT(\"'Børn \"&U117&\"'!$c$180\")=\"\",\"\",IFERROR(INDIRECT(\"'Børn \"&U117&\"'!$c$180\",TRUE),\"\"))","v":{"$error":"#REF!"}},{"$f":"IF(INDIRECT(\"'Børn \"&U117&\"'!$c$200\")=\"\",\"\",IFERROR(INDIRECT(\"'Børn \"&U117&\"'!$c$200\",TRUE),\"\"))","v":{"$error":"#REF!"}},{"$f":"IF(INDIRECT(\"'Børn \"&U117&\"'!$c$221\")=\"\",\"\",IFERROR(INDIRECT(\"'Børn \"&U117&\"'!$c$221\",TRUE),\"\"))","v":{"$error":"#REF!"}},{"$f":"IF(INDIRECT(\"'Børn \"&U117&\"'!$c$244\")=\"\",\"\",IFERROR(INDIRECT(\"'Børn \"&U117&\"'!$c$244\",TRUE),\"\"))","v":{"$error":"#REF!"}}]
["Tilsyn 19","Status:  rød",{"$f":"COUNTIF(IF(ISERROR(INDIRECT(\"'Voksen \"&A118&\"'!$H$31\",TRUE)),\"\",INDIRECT(\"'Voksen \"&A118&\"'!$H$31\",TRUE)),3)","v":{"$error":"#VALUE!"}},{"$f":"COUNTIF(IF(ISERROR(INDIRECT(\"'Voksen \"&A118&\"'!$H$41\",TRUE)),\"\",INDIRECT(\"'Voksen \"&A118&\"'!$H$41\",TRUE)),3)","v":{"$error":"#VALUE!"}},{"$f":"COUNTIF(IF(ISERROR(INDIRECT(\"'Voksen \"&A118&\"'!$H$50\",TRUE)),\"\",INDIRECT(\"'Voksen \"&A118&\"'!$H$50\",TRUE)),3)","v":{"$error":"#VALUE!"}},{"$f":"COUNTIF(IF(ISERROR(INDIRECT(\"'Voksen \"&A118&\"'!$H$58\",TRUE)),\"\",INDIRECT(\"'Voksen \"&A118&\"'!$H$58\",TRUE)),3)","v":{"$error":"#VALUE!"}},{"$f":"COUNTIF(IF(ISERROR(INDIRECT(\"'Voksen \"&A118&\"'!$H$69\",TRUE)),\"\",INDIRECT(\"'Voksen \"&A118&\"'!$H$69\",TRUE)),3)","v":{"$error":"#VALUE!"}},{"$f":"COUNTIF(IF(ISERROR(INDIRECT(\"'Voksen \"&A118&\"'!$H$77\",TRUE)),\"\",INDIRECT(\"'Voksen \"&A118&\"'!$H$77\",TRUE)),3)","v":{"$error":"#VALUE!"}},null,null,{"$f":"COUNTIF(IF(ISERROR(INDIRECT(\"'Børn \"&A118&\"'!$H$31\",TRUE)),\"\",INDIRECT(\"'Børn \"&A118&\"'!$H$31\",TRUE)),3)","v":{"$error":"#VALUE!"}},{"$f":"COUNTIF(IF(ISERROR(INDIRECT(\"'Børn \"&A118&\"'!$H$44\",TRUE)),\"\",INDIRECT(\"'Børn \"&A118&\"'!$H$44\",TRUE)),3)","v":{"$error":"#VALUE!"}},{"$f":"COUNTIF(IF(ISERROR(INDIRECT(\"'Børn \"&A118&\"'!$H$53\",TRUE)),\"\",INDIRECT(\"'Børn \"&A118&\"'!$H$53\",TRUE)),3)","v":{"$error":"#VALUE!"}},{"$f":"COUNTIF(IF(ISERROR(INDIRECT(\"'Børn \"&A118&\"'!$H$61\",TRUE)),\"\",INDIRECT(\"'Børn \"&A118&\"'!$H$61\",TRUE)),3)","v":{"$error":"#VALUE!"}},{"$f":"COUNTIF(IF(ISERROR(INDIRECT(\"'Børn \"&A118&\"'!$H$68\",TRUE)),\"\",INDIRECT(\"'Børn \"&A118&\"'!$H$68\",TRUE)),3)","v":{"$error":"#VALUE!"}},{"$f":"COUNTIF(IF(ISERROR(INDIRECT(\"'Børn \"&A118&\"'!$H$79\",TRUE)),\"\",INDIRECT(\"'Børn \"&A118&\"'!$H$79\",TRUE)),3)","v":{"$error":"#VALUE!"}},{"$f":"COUNTIF(IF(ISERROR(INDIRECT(\"'Børn \"&A118&\"'!$H$87\",TRUE)),\"\",INDIRECT(\"'Børn \"&A118&\"'!$H$87\",TRUE)),3)","v":{"$error":"#VALUE!"}},null,null,null,"Tilsyn 29",{"$f":"IF(INDIRECT(\"'Voksen \"&U118&\"'!$c$112\")=\"\",\"\",IFERROR(INDIRECT(\"'Voksen \"&U118&\"'!$c$112\",TRUE),\"\"))","v":{"$error":"#REF!"}},{"$f":"IF(INDIRECT(\"'Voksen \"&U118&\"'!$c$133\")=\"\",\"\",IFERROR(INDIRECT(\"'Voksen \"&U118&\"'!$c$133\",TRUE),\"\"))","v":{"$error":"#REF!"}},{"$f":"IF(INDIRECT(\"'Voksen \"&U118&\"'!$c$154\")=\"\",\"\",IFERROR(INDIRECT(\"'Voksen \"&U118&\"'!$c$154\",TRUE),\"\"))","v":{"$error":"#REF!"}},{"$f":"IF(INDIRECT(\"'Voksen \"&U118&\"'!$c$169\")=\"\",\"\",IFERROR(INDIRECT(\"'Voksen \"&U118&\"'!$c$169\",TRUE),\"\"))","v":{"$error":"#REF!"}},{"$f":"IF(INDIRECT(\"'Voksen \"&U118&\"'!$c$186\")=\"\",\"\",IFERROR(INDIRECT(\"'Voksen \"&U118&\"'!$c$186\",TRUE),\"\"))","v":{"$error":"#REF!"}},{"$f":"IF(INDIRECT(\"'Voksen \"&U118&\"'!$c$207\")=\"\",\"\",IFERROR(INDIRECT(\"'Voksen \"&U118&\"'!$c$207\",TRUE),\"\"))","v":{"$error":"#REF!"}},{"$f":"IF(INDIRECT(\"'Voksen \"&U118&\"'!$c$229\")=\"\",\"\",IFERROR(INDIRECT(\"'Voksen \"&U118&\"'!$c$229\",TRUE),\"\"))","v":{"$error":"#REF!"}},{"$f":"IF(INDIRECT(\"'Voksen \"&U118&\"'!$c$255\")=\"\",\"\",IFERROR(INDIRECT(\"'Voksen \"&U118&\"'!$c$255\",TRUE),\"\"))","v":{"$error":"#REF!"}},null,{"$f":"IF(INDIRECT(\"'Børn \"&U118&\"'!$c$123\")=\"\",\"\",IFERROR(INDIRECT(\"'Børn \"&U118&\"'!$c$123\",TRUE),\"\"))","v":{"$error":"#REF!"}},{"$f":"IF(INDIRECT(\"'Børn \"&U118&\"'!$c$139\")=\"\",\"\",IFERROR(INDIRECT(\"'Børn \"&U118&\"'!$c$139\",TRUE),\"\"))","v":{"$error":"#REF!"}},{"$f":"IF(INDIRECT(\"'Børn \"&U118&\"'!$c$163\")=\"\",\"\",IFERROR(INDIRECT(\"'Børn \"&U118&\"'!$c$163\",TRUE),\"\"))","v":{"$error":"#REF!"}},{"$f":"IF(INDIRECT(\"'Børn \"&U118&\"'!$c$177\")=\"\",\"\",IFERROR(INDIRECT(\"'Børn \"&U118&\"'!$c$177\",TRUE),\"\"))","v":{"$error":"#REF!"}},{"$f":"IF(INDIRECT(\"'Børn \"&U118&\"'!$c$197\")=\"\",\"\",IFERROR(INDIRECT(\"'Børn \"&U118&\"'!$c$197\",TRUE),\"\"))","v":{"$error":"#REF!"}},{"$f":"IF(INDIRECT(\"'Børn \"&U118&\"'!$c$218\")=\"\",\"\",IFERROR(INDIRECT(\"'Børn \"&U118&\"'!$c$218\",TRUE),\"\"))","v":{"$error":"#REF!"}},{"$f":"IF(INDIRECT(\"'Børn \"&U118&\"'!$c$241\")=\"\",\"\",IFERROR(INDIRECT(\"'Børn \"&U118&\"'!$c$241\",TRUE),\"\"))","v":{"$error":"#REF!"}}]
["Tilsyn 20","Status:  grøn",{"$f":"COUNTIF(IF(ISERROR(INDIRECT(\"'Voksen \"&A119&\"'!$H$31\",TRUE)),\"\",INDIRECT(\"'Voksen \"&A119&\"'!$H$31\",TRUE)),1)","v":{"$error":"#VALUE!"}},{"$f":"COUNTIF(IF(ISERROR(INDIRECT(\"'Voksen \"&A119&\"'!$H$41\",TRUE)),\"\",INDIRECT(\"'Voksen \"&A119&\"'!$H$41\",TRUE)),1)","v":{"$error":"#VALUE!"}},{"$f":"COUNTIF(IF(ISERROR(INDIRECT(\"'Voksen \"&A119&\"'!$H$50\",TRUE)),\"\",INDIRECT(\"'Voksen \"&A119&\"'!$H$50\",TRUE)),1)","v":{"$error":"#VALUE!"}},{"$f":"COUNTIF(IF(ISERROR(INDIRECT(\"'Voksen \"&A119&\"'!$H$58\",TRUE)),\"\",INDIRECT(\"'Voksen \"&A119&\"'!$H$58\",TRUE)),1)","v":{"$error":"#VALUE!"}},{"$f":"COUNTIF(IF(ISERROR(INDIRECT(\"'Voksen \"&A119&\"'!$H$69\",TRUE)),\"\",INDIRECT(\"'Voksen \"&A119&\"'!$H$69\",TRUE)),1)","v":{"$error":"#VALUE!"}},{"$f":"COUNTIF(IF(ISERROR(INDIRECT(\"'Voksen \"&A119&\"'!$H$77\",TRUE)),\"\",INDIRECT(\"'Voksen \"&A119&\"'!$H$77\",TRUE)),1)","v":{"$error":"#VALUE!"}},null,null,{"$f":"COUNTIF(IF(ISERROR(INDIRECT(\"'Børn \"&A119&\"'!$H$31\",TRUE)),\"\",INDIRECT(\"'Børn \"&A119&\"'!$H$31\",TRUE)),1)","v":{"$error":"#VALUE!"}},{"$f":"COUNTIF(IF(ISERROR(INDIRECT(\"'Børn \"&A119&\"'!$H$44\",TRUE)),\"\",INDIRECT(\"'Børn \"&A119&\"'!$H$44\",TRUE)),1)","v":{"$error":"#VALUE!"}},{"$f":"COUNTIF(IF(ISERROR(INDIRECT(\"'Børn \"&A119&\"'!$H$53\",TRUE)),\"\",INDIRECT(\"'Børn \"&A119&\"'!$H$53\",TRUE)),1)","v":{"$error":"#VALUE!"}},{"$f":"COUNTIF(IF(ISERROR(INDIRECT(\"'Børn \"&A119&\"'!$H$61\",TRUE)),\"\",INDIRECT(\"'Børn \"&A119&\"'!$H$61\",TRUE)),1)","v":{"$error":"#VALUE!"}},{"$f":"COUNTIF(IF(ISERROR(INDIRECT(\"'Børn \"&A119&\"'!$H$68\",TRUE)),\"\",INDIRECT(\"'Børn \"&A119&\"'!$H$68\",TRUE)),1)","v":{"$error":"#VALUE!"}},{"$f":"COUNTIF(IF(ISERROR(INDIRECT(\"'Børn \"&A119&\"'!$H$79\",TRUE)),\"\",INDIRECT(\"'Børn \"&A119&\"'!$H$79\",TRUE)),1)","v":{"$error":"#VALUE!"}},{"$f":"COUNTIF(IF(ISERROR(INDIRECT(\"'Børn \"&A119&\"'!$H$87\",TRUE)),\"\",INDIRECT(\"'Børn \"&A119&\"'!$H$87\",TRUE)),1)","v":{"$error":"#VALUE!"}},null,null,null,{"$f":"U118","v":"Tilsyn 29"},{"$f":"IF(INDIRECT(\"'Voksen \"&U119&\"'!$c$115\")=\"\",\"\",IFERROR(INDIRECT(\"'Voksen \"&U119&\"'!$c$115\",TRUE),\"\"))","v":{"$error":"#REF!"}},{"$f":"IF(INDIRECT(\"'Voksen \"&U119&\"'!$c$136\")=\"\",\"\",IFERROR(INDIRECT(\"'Voksen \"&U119&\"'!$c$136\",TRUE),\"\"))","v":{"$error":"#REF!"}},{"$f":"IF(INDIRECT(\"'Voksen \"&U119&\"'!$c$157\")=\"\",\"\",IFERROR(INDIRECT(\"'Voksen \"&U119&\"'!$c$157\",TRUE),\"\"))","v":{"$error":"#REF!"}},{"$f":"IF(INDIRECT(\"'Voksen \"&U119&\"'!$c$172\")=\"\",\"\",IFERROR(INDIRECT(\"'Voksen \"&U119&\"'!$c$172\",TRUE),\"\"))","v":{"$error":"#REF!"}},{"$f":"IF(INDIRECT(\"'Voksen \"&U119&\"'!$c$189\")=\"\",\"\",IFERROR(INDIRECT(\"'Voksen \"&U119&\"'!$c$189\",TRUE),\"\"))","v":{"$error":"#REF!"}},{"$f":"IF(INDIRECT(\"'Voksen \"&U119&\"'!$c$210\")=\"\",\"\",IFERROR(INDIRECT(\"'Voksen \"&U119&\"'!$c$210\",TRUE),\"\"))","v":{"$error":"#REF!"}},{"$f":"IF(INDIRECT(\"'Voksen \"&U119&\"'!$c$232\")=\"\",\"\",IFERROR(INDIRECT(\"'Voksen \"&U119&\"'!$c$232\",TRUE),\"\"))","v":{"$error":"#REF!"}},{"$f":"IF(INDIRECT(\"'Voksen \"&U119&\"'!$c$258\")=\"\",\"\",IFERROR(INDIRECT(\"'Voksen \"&U119&\"'!$c$258\",TRUE),\"\"))","v":{"$error":"#REF!"}},null,{"$f":"IF(INDIRECT(\"'Børn \"&U119&\"'!$c$126\")=\"\",\"\",IFERROR(INDIRECT(\"'Børn \"&U119&\"'!$c$126\",TRUE),\"\"))","v":{"$error":"#REF!"}},{"$f":"IF(INDIRECT(\"'Børn \"&U119&\"'!$c$142\")=\"\",\"\",IFERROR(INDIRECT(\"'Børn \"&U119&\"'!$c$142\",TRUE),\"\"))","v":{"$error":"#REF!"}},{"$f":"IF(INDIRECT(\"'Børn \"&U119&\"'!$c$166\")=\"\",\"\",IFERROR(INDIRECT(\"'Børn \"&U119&\"'!$c$166\",TRUE),\"\"))","v":{"$error":"#REF!"}},{"$f":"IF(INDIRECT(\"'Børn \"&U119&\"'!$c$180\")=\"\",\"\",IFERROR(INDIRECT(\"'Børn \"&U119&\"'!$c$180\",TRUE),\"\"))","v":{"$error":"#REF!"}},{"$f":"IF(INDIRECT(\"'Børn \"&U119&\"'!$c$200\")=\"\",\"\",IFERROR(INDIRECT(\"'Børn \"&U119&\"'!$c$200\",TRUE),\"\"))","v":{"$error":"#REF!"}},{"$f":"IF(INDIRECT(\"'Børn \"&U119&\"'!$c$221\")=\"\",\"\",IFERROR(INDIRECT(\"'Børn \"&U119&\"'!$c$221\",TRUE),\"\"))","v":{"$error":"#REF!"}},{"$f":"IF(INDIRECT(\"'Børn \"&U119&\"'!$c$244\")=\"\",\"\",IFERROR(INDIRECT(\"'Børn \"&U119&\"'!$c$244\",TRUE),\"\"))","v":{"$error":"#REF!"}}]
["Tilsyn 20","Status:  gul",{"$f":"COUNTIF(IF(ISERROR(INDIRECT(\"'Voksen \"&A120&\"'!$H$31\",TRUE)),\"\",INDIRECT(\"'Voksen \"&A120&\"'!$H$31\",TRUE)),2)","v":{"$error":"#VALUE!"}},{"$f":"COUNTIF(IF(ISERROR(INDIRECT(\"'Voksen \"&A120&\"'!$H$41\",TRUE)),\"\",INDIRECT(\"'Voksen \"&A120&\"'!$H$41\",TRUE)),2)","v":{"$error":"#VALUE!"}},{"$f":"COUNTIF(IF(ISERROR(INDIRECT(\"'Voksen \"&A120&\"'!$H$50\",TRUE)),\"\",INDIRECT(\"'Voksen \"&A120&\"'!$H$50\",TRUE)),2)","v":{"$error":"#VALUE!"}},{"$f":"COUNTIF(IF(ISERROR(INDIRECT(\"'Voksen \"&A120&\"'!$H$58\",TRUE)),\"\",INDIRECT(\"'Voksen \"&A120&\"'!$H$58\",TRUE)),2)","v":{"$error":"#VALUE!"}},{"$f":"COUNTIF(IF(ISERROR(INDIRECT(\"'Voksen \"&A120&\"'!$H$69\",TRUE)),\"\",INDIRECT(\"'Voksen \"&A120&\"'!$H$69\",TRUE)),2)","v":{"$error":"#VALUE!"}},{"$f":"COUNTIF(IF(ISERROR(INDIRECT(\"'Voksen \"&A120&\"'!$H$77\",TRUE)),\"\",INDIRECT(\"'Voksen \"&A120&\"'!$H$77\",TRUE)),2)","v":{"$error":"#VALUE!"}},null,null,{"$f":"COUNTIF(IF(ISERROR(INDIRECT(\"'Børn \"&A120&\"'!$H$31\",TRUE)),\"\",INDIRECT(\"'Børn \"&A120&\"'!$H$31\",TRUE)),2)","v":{"$error":"#VALUE!"}},{"$f":"COUNTIF(IF(ISERROR(INDIRECT(\"'Børn \"&A120&\"'!$H$44\",TRUE)),\"\",INDIRECT(\"'Børn \"&A120&\"'!$H$44\",TRUE)),2)","v":{"$error":"#VALUE!"}},{"$f":"COUNTIF(IF(ISERROR(INDIRECT(\"'Børn \"&A120&\"'!$H$53\",TRUE)),\"\",INDIRECT(\"'Børn \"&A120&\"'!$H$53\",TRUE)),2)","v":{"$error":"#VALUE!"}},{"$f":"COUNTIF(IF(ISERROR(INDIRECT(\"'Børn \"&A120&\"'!$H$61\",TRUE)),\"\",INDIRECT(\"'Børn \"&A120&\"'!$H$61\",TRUE)),2)","v":{"$error":"#VALUE!"}},{"$f":"COUNTIF(IF(ISERROR(INDIRECT(\"'Børn \"&A120&\"'!$H$68\",TRUE)),\"\",INDIRECT(\"'Børn \"&A120&\"'!$H$68\",TRUE)),2)","v":{"$error":"#VALUE!"}},{"$f":"COUNTIF(IF(ISERROR(INDIRECT(\"'Børn \"&A120&\"'!$H$79\",TRUE)),\"\",INDIRECT(\"'Børn \"&A120&\"'!$H$79\",TRUE)),2)","v":{"$error":"#VALUE!"}},{"$f":"COUNTIF(IF(ISERROR(INDIRECT(\"'Børn \"&A120&\"'!$H$87\",TRUE)),\"\",INDIRECT(\"'Børn \"&A120&\"'!$H$87\",TRUE)),2)","v":{"$error":"#VALUE!"}},null,null,null,"Tilsyn 30",{"$f":"IF(INDIRECT(\"'Voksen \"&U120&\"'!$c$112\")=\"\",\"\",IFERROR(INDIRECT(\"'Voksen \"&U120&\"'!$c$112\",TRUE),\"\"))","v":{"$error":"#REF!"}},{"$f":"IF(INDIRECT(\"'Voksen \"&U120&\"'!$c$133\")=\"\",\"\",IFERROR(INDIRECT(\"'Voksen \"&U120&\"'!$c$133\",TRUE),\"\"))","v":{"$error":"#REF!"}},{"$f":"IF(INDIRECT(\"'Voksen \"&U120&\"'!$c$154\")=\"\",\"\",IFERROR(INDIRECT(\"'Voksen \"&U120&\"'!$c$154\",TRUE),\"\"))","v":{"$error":"#REF!"}},{"$f":"IF(INDIRECT(\"'Voksen \"&U120&\"'!$c$169\")=\"\",\"\",IFERROR(INDIRECT(\"'Voksen \"&U120&\"'!$c$169\",TRUE),\"\"))","v":{"$error":"#REF!"}},{"$f":"IF(INDIRECT(\"'Voksen \"&U120&\"'!$c$186\")=\"\",\"\",IFERROR(INDIRECT(\"'Voksen \"&U120&\"'!$c$186\",TRUE),\"\"))","v":{"$error":"#REF!"}},{"$f":"IF(INDIRECT(\"'Voksen \"&U120&\"'!$c$207\")=\"\",\"\",IFERROR(INDIRECT(\"'Voksen \"&U120&\"'!$c$207\",TRUE),\"\"))","v":{"$error":"#REF!"}},{"$f":"IF(INDIRECT(\"'Voksen \"&U120&\"'!$c$229\")=\"\",\"\",IFERROR(INDIRECT(\"'Voksen \"&U120&\"'!$c$229\",TRUE),\"\"))","v":{"$error":"#REF!"}},{"$f":"IF(INDIRECT(\"'Voksen \"&U120&\"'!$c$255\")=\"\",\"\",IFERROR(INDIRECT(\"'Voksen \"&U120&\"'!$c$255\",TRUE),\"\"))","v":{"$error":"#REF!"}},null,{"$f":"IF(INDIRECT(\"'Børn \"&U120&\"'!$c$123\")=\"\",\"\",IFERROR(INDIRECT(\"'Børn \"&U120&\"'!$c$123\",TRUE),\"\"))","v":{"$error":"#REF!"}},{"$f":"IF(INDIRECT(\"'Børn \"&U120&\"'!$c$139\")=\"\",\"\",IFERROR(INDIRECT(\"'Børn \"&U120&\"'!$c$139\",TRUE),\"\"))","v":{"$error":"#REF!"}},{"$f":"IF(INDIRECT(\"'Børn \"&U120&\"'!$c$163\")=\"\",\"\",IFERROR(INDIRECT(\"'Børn \"&U120&\"'!$c$163\",TRUE),\"\"))","v":{"$error":"#REF!"}},{"$f":"IF(INDIRECT(\"'Børn \"&U120&\"'!$c$177\")=\"\",\"\",IFERROR(INDIRECT(\"'Børn \"&U120&\"'!$c$177\",TRUE),\"\"))","v":{"$error":"#REF!"}},{"$f":"IF(INDIRECT(\"'Børn \"&U120&\"'!$c$197\")=\"\",\"\",IFERROR(INDIRECT(\"'Børn \"&U120&\"'!$c$197\",TRUE),\"\"))","v":{"$error":"#REF!"}},{"$f":"IF(INDIRECT(\"'Børn \"&U120&\"'!$c$218\")=\"\",\"\",IFERROR(INDIRECT(\"'Børn \"&U120&\"'!$c$218\",TRUE),\"\"))","v":{"$error":"#REF!"}},{"$f":"IF(INDIRECT(\"'Børn \"&U120&\"'!$c$241\")=\"\",\"\",IFERROR(INDIRECT(\"'Børn \"&U120&\"'!$c$241\",TRUE),\"\"))","v":{"$error":"#REF!"}}]
["Tilsyn 20","Status:  rød",{"$f":"COUNTIF(IF(ISERROR(INDIRECT(\"'Voksen \"&A121&\"'!$H$31\",TRUE)),\"\",INDIRECT(\"'Voksen \"&A121&\"'!$H$31\",TRUE)),3)","v":{"$error":"#VALUE!"}},{"$f":"COUNTIF(IF(ISERROR(INDIRECT(\"'Voksen \"&A121&\"'!$H$41\",TRUE)),\"\",INDIRECT(\"'Voksen \"&A121&\"'!$H$41\",TRUE)),3)","v":{"$error":"#VALUE!"}},{"$f":"COUNTIF(IF(ISERROR(INDIRECT(\"'Voksen \"&A121&\"'!$H$50\",TRUE)),\"\",INDIRECT(\"'Voksen \"&A121&\"'!$H$50\",TRUE)),3)","v":{"$error":"#VALUE!"}},{"$f":"COUNTIF(IF(ISERROR(INDIRECT(\"'Voksen \"&A121&\"'!$H$58\",TRUE)),\"\",INDIRECT(\"'Voksen \"&A121&\"'!$H$58\",TRUE)),3)","v":{"$error":"#VALUE!"}},{"$f":"COUNTIF(IF(ISERROR(INDIRECT(\"'Voksen \"&A121&\"'!$H$69\",TRUE)),\"\",INDIRECT(\"'Voksen \"&A121&\"'!$H$69\",TRUE)),3)","v":{"$error":"#VALUE!"}},{"$f":"COUNTIF(IF(ISERROR(INDIRECT(\"'Voksen \"&A121&\"'!$H$77\",TRUE)),\"\",INDIRECT(\"'Voksen \"&A121&\"'!$H$77\",TRUE)),3)","v":{"$error":"#VALUE!"}},null,null,{"$f":"COUNTIF(IF(ISERROR(INDIRECT(\"'Børn \"&A121&\"'!$H$31\",TRUE)),\"\",INDIRECT(\"'Børn \"&A121&\"'!$H$31\",TRUE)),3)","v":{"$error":"#VALUE!"}},{"$f":"COUNTIF(IF(ISERROR(INDIRECT(\"'Børn \"&A121&\"'!$H$44\",TRUE)),\"\",INDIRECT(\"'Børn \"&A121&\"'!$H$44\",TRUE)),3)","v":{"$error":"#VALUE!"}},{"$f":"COUNTIF(IF(ISERROR(INDIRECT(\"'Børn \"&A121&\"'!$H$53\",TRUE)),\"\",INDIRECT(\"'Børn \"&A121&\"'!$H$53\",TRUE)),3)","v":{"$error":"#VALUE!"}},{"$f":"COUNTIF(IF(ISERROR(INDIRECT(\"'Børn \"&A121&\"'!$H$61\",TRUE)),\"\",INDIRECT(\"'Børn \"&A121&\"'!$H$61\",TRUE)),3)","v":{"$error":"#VALUE!"}},{"$f":"COUNTIF(IF(ISERROR(INDIRECT(\"'Børn \"&A121&\"'!$H$68\",TRUE)),\"\",INDIRECT(\"'Børn \"&A121&\"'!$H$68\",TRUE)),3)","v":{"$error":"#VALUE!"}},{"$f":"COUNTIF(IF(ISERROR(INDIRECT(\"'Børn \"&A121&\"'!$H$79\",TRUE)),\"\",INDIRECT(\"'Børn \"&A121&\"'!$H$79\",TRUE)),3)","v":{"$error":"#VALUE!"}},{"$f":"COUNTIF(IF(ISERROR(INDIRECT(\"'Børn \"&A121&\"'!$H$87\",TRUE)),\"\",INDIRECT(\"'Børn \"&A121&\"'!$H$87\",TRUE)),3)","v":{"$error":"#VALUE!"}},null,null,null,{"$f":"U120","v":"Tilsyn 30"},{"$f":"IF(INDIRECT(\"'Voksen \"&U121&\"'!$c$115\")=\"\",\"\",IFERROR(INDIRECT(\"'Voksen \"&U121&\"'!$c$115\",TRUE),\"\"))","v":{"$error":"#REF!"}},{"$f":"IF(INDIRECT(\"'Voksen \"&U121&\"'!$c$136\")=\"\",\"\",IFERROR(INDIRECT(\"'Voksen \"&U121&\"'!$c$136\",TRUE),\"\"))","v":{"$error":"#REF!"}},{"$f":"IF(INDIRECT(\"'Voksen \"&U121&\"'!$c$157\")=\"\",\"\",IFERROR(INDIRECT(\"'Voksen \"&U121&\"'!$c$157\",TRUE),\"\"))","v":{"$error":"#REF!"}},{"$f":"IF(INDIRECT(\"'Voksen \"&U121&\"'!$c$172\")=\"\",\"\",IFERROR(INDIRECT(\"'Voksen \"&U121&\"'!$c$172\",TRUE),\"\"))","v":{"$error":"#REF!"}},{"$f":"IF(INDIRECT(\"'Voksen \"&U121&\"'!$c$189\")=\"\",\"\",IFERROR(INDIRECT(\"'Voksen \"&U121&\"'!$c$189\",TRUE),\"\"))","v":{"$error":"#REF!"}},{"$f":"IF(INDIRECT(\"'Voksen \"&U121&\"'!$c$210\")=\"\",\"\",IFERROR(INDIRECT(\"'Voksen \"&U121&\"'!$c$210\",TRUE),\"\"))","v":{"$error":"#REF!"}},{"$f":"IF(INDIRECT(\"'Voksen \"&U121&\"'!$c$232\")=\"\",\"\",IFERROR(INDIRECT(\"'Voksen \"&U121&\"'!$c$232\",TRUE),\"\"))","v":{"$error":"#REF!"}},{"$f":"IF(INDIRECT(\"'Voksen \"&U121&\"'!$c$258\")=\"\",\"\",IFERROR(INDIRECT(\"'Voksen \"&U121&\"'!$c$258\",TRUE),\"\"))","v":{"$error":"#REF!"}},null,{"$f":"IF(INDIRECT(\"'Børn \"&U121&\"'!$c$126\")=\"\",\"\",IFERROR(INDIRECT(\"'Børn \"&U121&\"'!$c$126\",TRUE),\"\"))","v":{"$error":"#REF!"}},{"$f":"IF(INDIRECT(\"'Børn \"&U121&\"'!$c$142\")=\"\",\"\",IFERROR(INDIRECT(\"'Børn \"&U121&\"'!$c$142\",TRUE),\"\"))","v":{"$error":"#REF!"}},{"$f":"IF(INDIRECT(\"'Børn \"&U121&\"'!$c$166\")=\"\",\"\",IFERROR(INDIRECT(\"'Børn \"&U121&\"'!$c$166\",TRUE),\"\"))","v":{"$error":"#REF!"}},{"$f":"IF(INDIRECT(\"'Børn \"&U121&\"'!$c$180\")=\"\",\"\",IFERROR(INDIRECT(\"'Børn \"&U121&\"'!$c$180\",TRUE),\"\"))","v":{"$error":"#REF!"}},{"$f":"IF(INDIRECT(\"'Børn \"&U121&\"'!$c$200\")=\"\",\"\",IFERROR(INDIRECT(\"'Børn \"&U121&\"'!$c$200\",TRUE),\"\"))","v":{"$error":"#REF!"}},{"$f":"IF(INDIRECT(\"'Børn \"&U121&\"'!$c$221\")=\"\",\"\",IFERROR(INDIRECT(\"'Børn \"&U121&\"'!$c$221\",TRUE),\"\"))","v":{"$error":"#REF!"}},{"$f":"IF(INDIRECT(\"'Børn \"&U121&\"'!$c$244\")=\"\",\"\",IFERROR(INDIRECT(\"'Børn \"&U121&\"'!$c$244\",TRUE),\"\"))","v":{"$error":"#REF!"}}]
["Tilsyn 21","Status:  grøn",{"$f":"COUNTIF(IF(ISERROR(INDIRECT(\"'Voksen \"&A122&\"'!$H$31\",TRUE)),\"\",INDIRECT(\"'Voksen \"&A122&\"'!$H$31\",TRUE)),1)","v":{"$error":"#VALUE!"}},{"$f":"COUNTIF(IF(ISERROR(INDIRECT(\"'Voksen \"&A122&\"'!$H$41\",TRUE)),\"\",INDIRECT(\"'Voksen \"&A122&\"'!$H$41\",TRUE)),1)","v":{"$error":"#VALUE!"}},{"$f":"COUNTIF(IF(ISERROR(INDIRECT(\"'Voksen \"&A122&\"'!$H$50\",TRUE)),\"\",INDIRECT(\"'Voksen \"&A122&\"'!$H$50\",TRUE)),1)","v":{"$error":"#VALUE!"}},{"$f":"COUNTIF(IF(ISERROR(INDIRECT(\"'Voksen \"&A122&\"'!$H$58\",TRUE)),\"\",INDIRECT(\"'Voksen \"&A122&\"'!$H$58\",TRUE)),1)","v":{"$error":"#VALUE!"}},{"$f":"COUNTIF(IF(ISERROR(INDIRECT(\"'Voksen \"&A122&\"'!$H$69\",TRUE)),\"\",INDIRECT(\"'Voksen \"&A122&\"'!$H$69\",TRUE)),1)","v":{"$error":"#VALUE!"}},{"$f":"COUNTIF(IF(ISERROR(INDIRECT(\"'Voksen \"&A122&\"'!$H$77\",TRUE)),\"\",INDIRECT(\"'Voksen \"&A122&\"'!$H$77\",TRUE)),1)","v":{"$error":"#VALUE!"}},null,null,{"$f":"COUNTIF(IF(ISERROR(INDIRECT(\"'Børn \"&A122&\"'!$H$31\",TRUE)),\"\",INDIRECT(\"'Børn \"&A122&\"'!$H$31\",TRUE)),1)","v":{"$error":"#VALUE!"}},{"$f":"COUNTIF(IF(ISERROR(INDIRECT(\"'Børn \"&A122&\"'!$H$44\",TRUE)),\"\",INDIRECT(\"'Børn \"&A122&\"'!$H$44\",TRUE)),1)","v":{"$error":"#VALUE!"}},{"$f":"COUNTIF(IF(ISERROR(INDIRECT(\"'Børn \"&A122&\"'!$H$53\",TRUE)),\"\",INDIRECT(\"'Børn \"&A122&\"'!$H$53\",TRUE)),1)","v":{"$error":"#VALUE!"}},{"$f":"COUNTIF(IF(ISERROR(INDIRECT(\"'Børn \"&A122&\"'!$H$61\",TRUE)),\"\",INDIRECT(\"'Børn \"&A122&\"'!$H$61\",TRUE)),1)","v":{"$error":"#VALUE!"}},{"$f":"COUNTIF(IF(ISERROR(INDIRECT(\"'Børn \"&A122&\"'!$H$68\",TRUE)),\"\",INDIRECT(\"'Børn \"&A122&\"'!$H$68\",TRUE)),1)","v":{"$error":"#VALUE!"}},{"$f":"COUNTIF(IF(ISERROR(INDIRECT(\"'Børn \"&A122&\"'!$H$79\",TRUE)),\"\",INDIRECT(\"'Børn \"&A122&\"'!$H$79\",TRUE)),1)","v":{"$error":"#VALUE!"}},{"$f":"COUNTIF(IF(ISERROR(INDIRECT(\"'Børn \"&A122&\"'!$H$87\",TRUE)),\"\",INDIRECT(\"'Børn \"&A122&\"'!$H$87\",TRUE)),1)","v":{"$error":"#VALUE!"}},null,null,null,"Tilsyn 31",{"$f":"IF(INDIRECT(\"'Voksen \"&U122&\"'!$c$112\")=\"\",\"\",IFERROR(INDIRECT(\"'Voksen \"&U122&\"'!$c$112\",TRUE),\"\"))","v":{"$error":"#REF!"}},{"$f":"IF(INDIRECT(\"'Voksen \"&U122&\"'!$c$133\")=\"\",\"\",IFERROR(INDIRECT(\"'Voksen \"&U122&\"'!$c$133\",TRUE),\"\"))","v":{"$error":"#REF!"}},{"$f":"IF(INDIRECT(\"'Voksen \"&U122&\"'!$c$154\")=\"\",\"\",IFERROR(INDIRECT(\"'Voksen \"&U122&\"'!$c$154\",TRUE),\"\"))","v":{"$error":"#REF!"}},{"$f":"IF(INDIRECT(\"'Voksen \"&U122&\"'!$c$169\")=\"\",\"\",IFERROR(INDIRECT(\"'Voksen \"&U122&\"'!$c$169\",TRUE),\"\"))","v":{"$error":"#REF!"}},{"$f":"IF(INDIRECT(\"'Voksen \"&U122&\"'!$c$186\")=\"\",\"\",IFERROR(INDIRECT(\"'Voksen \"&U122&\"'!$c$186\",TRUE),\"\"))","v":{"$error":"#REF!"}},{"$f":"IF(INDIRECT(\"'Voksen \"&U122&\"'!$c$207\")=\"\",\"\",IFERROR(INDIRECT(\"'Voksen \"&U122&\"'!$c$207\",TRUE),\"\"))","v":{"$error":"#REF!"}},{"$f":"IF(INDIRECT(\"'Voksen \"&U122&\"'!$c$229\")=\"\",\"\",IFERROR(INDIRECT(\"'Voksen \"&U122&\"'!$c$229\",TRUE),\"\"))","v":{"$error":"#REF!"}},{"$f":"IF(INDIRECT(\"'Voksen \"&U122&\"'!$c$255\")=\"\",\"\",IFERROR(INDIRECT(\"'Voksen \"&U122&\"'!$c$255\",TRUE),\"\"))","v":{"$error":"#REF!"}},null,{"$f":"IF(INDIRECT(\"'Børn \"&U122&\"'!$c$123\")=\"\",\"\",IFERROR(INDIRECT(\"'Børn \"&U122&\"'!$c$123\",TRUE),\"\"))","v":{"$error":"#REF!"}},{"$f":"IF(INDIRECT(\"'Børn \"&U122&\"'!$c$139\")=\"\",\"\",IFERROR(INDIRECT(\"'Børn \"&U122&\"'!$c$139\",TRUE),\"\"))","v":{"$error":"#REF!"}},{"$f":"IF(INDIRECT(\"'Børn \"&U122&\"'!$c$163\")=\"\",\"\",IFERROR(INDIRECT(\"'Børn \"&U122&\"'!$c$163\",TRUE),\"\"))","v":{"$error":"#REF!"}},{"$f":"IF(INDIRECT(\"'Børn \"&U122&\"'!$c$177\")=\"\",\"\",IFERROR(INDIRECT(\"'Børn \"&U122&\"'!$c$177\",TRUE),\"\"))","v":{"$error":"#REF!"}},{"$f":"IF(INDIRECT(\"'Børn \"&U122&\"'!$c$197\")=\"\",\"\",IFERROR(INDIRECT(\"'Børn \"&U122&\"'!$c$197\",TRUE),\"\"))","v":{"$error":"#REF!"}},{"$f":"IF(INDIRECT(\"'Børn \"&U122&\"'!$c$218\")=\"\",\"\",IFERROR(INDIRECT(\"'Børn \"&U122&\"'!$c$218\",TRUE),\"\"))","v":{"$error":"#REF!"}},{"$f":"IF(INDIRECT(\"'Børn \"&U122&\"'!$c$241\")=\"\",\"\",IFERROR(INDIRECT(\"'Børn \"&U122&\"'!$c$241\",TRUE),\"\"))","v":{"$error":"#REF!"}}]
["Tilsyn 21","Status:  gul",{"$f":"COUNTIF(IF(ISERROR(INDIRECT(\"'Voksen \"&A123&\"'!$H$31\",TRUE)),\"\",INDIRECT(\"'Voksen \"&A123&\"'!$H$31\",TRUE)),2)","v":{"$error":"#VALUE!"}},{"$f":"COUNTIF(IF(ISERROR(INDIRECT(\"'Voksen \"&A123&\"'!$H$41\",TRUE)),\"\",INDIRECT(\"'Voksen \"&A123&\"'!$H$41\",TRUE)),2)","v":{"$error":"#VALUE!"}},{"$f":"COUNTIF(IF(ISERROR(INDIRECT(\"'Voksen \"&A123&\"'!$H$50\",TRUE)),\"\",INDIRECT(\"'Voksen \"&A123&\"'!$H$50\",TRUE)),2)","v":{"$error":"#VALUE!"}},{"$f":"COUNTIF(IF(ISERROR(INDIRECT(\"'Voksen \"&A123&\"'!$H$58\",TRUE)),\"\",INDIRECT(\"'Voksen \"&A123&\"'!$H$58\",TRUE)),2)","v":{"$error":"#VALUE!"}},{"$f":"COUNTIF(IF(ISERROR(INDIRECT(\"'Voksen \"&A123&\"'!$H$69\",TRUE)),\"\",INDIRECT(\"'Voksen \"&A123&\"'!$H$69\",TRUE)),2)","v":{"$error":"#VALUE!"}},{"$f":"COUNTIF(IF(ISERROR(INDIRECT(\"'Voksen \"&A123&\"'!$H$77\",TRUE)),\"\",INDIRECT(\"'Voksen \"&A123&\"'!$H$77\",TRUE)),2)","v":{"$error":"#VALUE!"}},null,null,{"$f":"COUNTIF(IF(ISERROR(INDIRECT(\"'Børn \"&A123&\"'!$H$31\",TRUE)),\"\",INDIRECT(\"'Børn \"&A123&\"'!$H$31\",TRUE)),2)","v":{"$error":"#VALUE!"}},{"$f":"COUNTIF(IF(ISERROR(INDIRECT(\"'Børn \"&A123&\"'!$H$44\",TRUE)),\"\",INDIRECT(\"'Børn \"&A123&\"'!$H$44\",TRUE)),2)","v":{"$error":"#VALUE!"}},{"$f":"COUNTIF(IF(ISERROR(INDIRECT(\"'Børn \"&A123&\"'!$H$53\",TRUE)),\"\",INDIRECT(\"'Børn \"&A123&\"'!$H$53\",TRUE)),2)","v":{"$error":"#VALUE!"}},{"$f":"COUNTIF(IF(ISERROR(INDIRECT(\"'Børn \"&A123&\"'!$H$61\",TRUE)),\"\",INDIRECT(\"'Børn \"&A123&\"'!$H$61\",TRUE)),2)","v":{"$error":"#VALUE!"}},{"$f":"COUNTIF(IF(ISERROR(INDIRECT(\"'Børn \"&A123&\"'!$H$68\",TRUE)),\"\",INDIRECT(\"'Børn \"&A123&\"'!$H$68\",TRUE)),2)","v":{"$error":"#VALUE!"}},{"$f":"COUNTIF(IF(ISERROR(INDIRECT(\"'Børn \"&A123&\"'!$H$79\",TRUE)),\"\",INDIRECT(\"'Børn \"&A123&\"'!$H$79\",TRUE)),2)","v":{"$error":"#VALUE!"}},{"$f":"COUNTIF(IF(ISERROR(INDIRECT(\"'Børn \"&A123&\"'!$H$87\",TRUE)),\"\",INDIRECT(\"'Børn \"&A123&\"'!$H$87\",TRUE)),2)","v":{"$error":"#VALUE!"}},null,null,null,{"$f":"U122","v":"Tilsyn 31"},{"$f":"IF(INDIRECT(\"'Voksen \"&U123&\"'!$c$115\")=\"\",\"\",IFERROR(INDIRECT(\"'Voksen \"&U123&\"'!$c$115\",TRUE),\"\"))","v":{"$error":"#REF!"}},{"$f":"IF(INDIRECT(\"'Voksen \"&U123&\"'!$c$136\")=\"\",\"\",IFERROR(INDIRECT(\"'Voksen \"&U123&\"'!$c$136\",TRUE),\"\"))","v":{"$error":"#REF!"}},{"$f":"IF(INDIRECT(\"'Voksen \"&U123&\"'!$c$157\")=\"\",\"\",IFERROR(INDIRECT(\"'Voksen \"&U123&\"'!$c$157\",TRUE),\"\"))","v":{"$error":"#REF!"}},{"$f":"IF(INDIRECT(\"'Voksen \"&U123&\"'!$c$172\")=\"\",\"\",IFERROR(INDIRECT(\"'Voksen \"&U123&\"'!$c$172\",TRUE),\"\"))","v":{"$error":"#REF!"}},{"$f":"IF(INDIRECT(\"'Voksen \"&U123&\"'!$c$189\")=\"\",\"\",IFERROR(INDIRECT(\"'Voksen \"&U123&\"'!$c$189\",TRUE),\"\"))","v":{"$error":"#REF!"}},{"$f":"IF(INDIRECT(\"'Voksen \"&U123&\"'!$c$210\")=\"\",\"\",IFERROR(INDIRECT(\"'Voksen \"&U123&\"'!$c$210\",TRUE),\"\"))","v":{"$error":"#REF!"}},{"$f":"IF(INDIRECT(\"'Voksen \"&U123&\"'!$c$232\")=\"\",\"\",IFERROR(INDIRECT(\"'Voksen \"&U123&\"'!$c$232\",TRUE),\"\"))","v":{"$error":"#REF!"}},{"$f":"IF(INDIRECT(\"'Voksen \"&U123&\"'!$c$258\")=\"\",\"\",IFERROR(INDIRECT(\"'Voksen \"&U123&\"'!$c$258\",TRUE),\"\"))","v":{"$error":"#REF!"}},null,{"$f":"IF(INDIRECT(\"'Børn \"&U123&\"'!$c$126\")=\"\",\"\",IFERROR(INDIRECT(\"'Børn \"&U123&\"'!$c$126\",TRUE),\"\"))","v":{"$error":"#REF!"}},{"$f":"IF(INDIRECT(\"'Børn \"&U123&\"'!$c$142\")=\"\",\"\",IFERROR(INDIRECT(\"'Børn \"&U123&\"'!$c$142\",TRUE),\"\"))","v":{"$error":"#REF!"}},{"$f":"IF(INDIRECT(\"'Børn \"&U123&\"'!$c$166\")=\"\",\"\",IFERROR(INDIRECT(\"'Børn \"&U123&\"'!$c$166\",TRUE),\"\"))","v":{"$error":"#REF!"}},{"$f":"IF(INDIRECT(\"'Børn \"&U123&\"'!$c$180\")=\"\",\"\",IFERROR(INDIRECT(\"'Børn \"&U123&\"'!$c$180\",TRUE),\"\"))","v":{"$error":"#REF!"}},{"$f":"IF(INDIRECT(\"'Børn \"&U123&\"'!$c$200\")=\"\",\"\",IFERROR(INDIRECT(\"'Børn \"&U123&\"'!$c$200\",TRUE),\"\"))","v":{"$error":"#REF!"}},{"$f":"IF(INDIRECT(\"'Børn \"&U123&\"'!$c$221\")=\"\",\"\",IFERROR(INDIRECT(\"'Børn \"&U123&\"'!$c$221\",TRUE),\"\"))","v":{"$error":"#REF!"}},{"$f":"IF(INDIRECT(\"'Børn \"&U123&\"'!$c$244\")=\"\",\"\",IFERROR(INDIRECT(\"'Børn \"&U123&\"'!$c$244\",TRUE),\"\"))","v":{"$error":"#REF!"}}]
["Tilsyn 21","Status:  rød",{"$f":"COUNTIF(IF(ISERROR(INDIRECT(\"'Voksen \"&A124&\"'!$H$31\",TRUE)),\"\",INDIRECT(\"'Voksen \"&A124&\"'!$H$31\",TRUE)),3)","v":{"$error":"#VALUE!"}},{"$f":"COUNTIF(IF(ISERROR(INDIRECT(\"'Voksen \"&A124&\"'!$H$41\",TRUE)),\"\",INDIRECT(\"'Voksen \"&A124&\"'!$H$41\",TRUE)),3)","v":{"$error":"#VALUE!"}},{"$f":"COUNTIF(IF(ISERROR(INDIRECT(\"'Voksen \"&A124&\"'!$H$50\",TRUE)),\"\",INDIRECT(\"'Voksen \"&A124&\"'!$H$50\",TRUE)),3)","v":{"$error":"#VALUE!"}},{"$f":"COUNTIF(IF(ISERROR(INDIRECT(\"'Voksen \"&A124&\"'!$H$58\",TRUE)),\"\",INDIRECT(\"'Voksen \"&A124&\"'!$H$58\",TRUE)),3)","v":{"$error":"#VALUE!"}},{"$f":"COUNTIF(IF(ISERROR(INDIRECT(\"'Voksen \"&A124&\"'!$H$69\",TRUE)),\"\",INDIRECT(\"'Voksen \"&A124&\"'!$H$69\",TRUE)),3)","v":{"$error":"#VALUE!"}},{"$f":"COUNTIF(IF(ISERROR(INDIRECT(\"'Voksen \"&A124&\"'!$H$77\",TRUE)),\"\",INDIRECT(\"'Voksen \"&A124&\"'!$H$77\",TRUE)),3)","v":{"$error":"#VALUE!"}},null,null,{"$f":"COUNTIF(IF(ISERROR(INDIRECT(\"'Børn \"&A124&\"'!$H$31\",TRUE)),\"\",INDIRECT(\"'Børn \"&A124&\"'!$H$31\",TRUE)),3)","v":{"$error":"#VALUE!"}},{"$f":"COUNTIF(IF(ISERROR(INDIRECT(\"'Børn \"&A124&\"'!$H$44\",TRUE)),\"\",INDIRECT(\"'Børn \"&A124&\"'!$H$44\",TRUE)),3)","v":{"$error":"#VALUE!"}},{"$f":"COUNTIF(IF(ISERROR(INDIRECT(\"'Børn \"&A124&\"'!$H$53\",TRUE)),\"\",INDIRECT(\"'Børn \"&A124&\"'!$H$53\",TRUE)),3)","v":{"$error":"#VALUE!"}},{"$f":"COUNTIF(IF(ISERROR(INDIRECT(\"'Børn \"&A124&\"'!$H$61\",TRUE)),\"\",INDIRECT(\"'Børn \"&A124&\"'!$H$61\",TRUE)),3)","v":{"$error":"#VALUE!"}},{"$f":"COUNTIF(IF(ISERROR(INDIRECT(\"'Børn \"&A124&\"'!$H$68\",TRUE)),\"\",INDIRECT(\"'Børn \"&A124&\"'!$H$68\",TRUE)),3)","v":{"$error":"#VALUE!"}},{"$f":"COUNTIF(IF(ISERROR(INDIRECT(\"'Børn \"&A124&\"'!$H$79\",TRUE)),\"\",INDIRECT(\"'Børn \"&A124&\"'!$H$79\",TRUE)),3)","v":{"$error":"#VALUE!"}},{"$f":"COUNTIF(IF(ISERROR(INDIRECT(\"'Børn \"&A124&\"'!$H$87\",TRUE)),\"\",INDIRECT(\"'Børn \"&A124&\"'!$H$87\",TRUE)),3)","v":{"$error":"#VALUE!"}},null,null,null,"Tilsyn 32",{"$f":"IF(INDIRECT(\"'Voksen \"&U124&\"'!$c$112\")=\"\",\"\",IFERROR(INDIRECT(\"'Voksen \"&U124&\"'!$c$112\",TRUE),\"\"))","v":{"$error":"#REF!"}},{"$f":"IF(INDIRECT(\"'Voksen \"&U124&\"'!$c$133\")=\"\",\"\",IFERROR(INDIRECT(\"'Voksen \"&U124&\"'!$c$133\",TRUE),\"\"))","v":{"$error":"#REF!"}},{"$f":"IF(INDIRECT(\"'Voksen \"&U124&\"'!$c$154\")=\"\",\"\",IFERROR(INDIRECT(\"'Voksen \"&U124&\"'!$c$154\",TRUE),\"\"))","v":{"$error":"#REF!"}},{"$f":"IF(INDIRECT(\"'Voksen \"&U124&\"'!$c$169\")=\"\",\"\",IFERROR(INDIRECT(\"'Voksen \"&U124&\"'!$c$169\",TRUE),\"\"))","v":{"$error":"#REF!"}},{"$f":"IF(INDIRECT(\"'Voksen \"&U124&\"'!$c$186\")=\"\",\"\",IFERROR(INDIRECT(\"'Voksen \"&U124&\"'!$c$186\",TRUE),\"\"))","v":{"$error":"#REF!"}},{"$f":"IF(INDIRECT(\"'Voksen \"&U124&\"'!$c$207\")=\"\",\"\",IFERROR(INDIRECT(\"'Voksen \"&U124&\"'!$c$207\",TRUE),\"\"))","v":{"$error":"#REF!"}},{"$f":"IF(INDIRECT(\"'Voksen \"&U124&\"'!$c$229\")=\"\",\"\",IFERROR(INDIRECT(\"'Voksen \"&U124&\"'!$c$229\",TRUE),\"\"))","v":{"$error":"#REF!"}},{"$f":"IF(INDIRECT(\"'Voksen \"&U124&\"'!$c$255\")=\"\",\"\",IFERROR(INDIRECT(\"'Voksen \"&U124&\"'!$c$255\",TRUE),\"\"))","v":{"$error":"#REF!"}},null,{"$f":"IF(INDIRECT(\"'Børn \"&U124&\"'!$c$123\")=\"\",\"\",IFERROR(INDIRECT(\"'Børn \"&U124&\"'!$c$123\",TRUE),\"\"))","v":{"$error":"#REF!"}},{"$f":"IF(INDIRECT(\"'Børn \"&U124&\"'!$c$139\")=\"\",\"\",IFERROR(INDIRECT(\"'Børn \"&U124&\"'!$c$139\",TRUE),\"\"))","v":{"$error":"#REF!"}},{"$f":"IF(INDIRECT(\"'Børn \"&U124&\"'!$c$163\")=\"\",\"\",IFERROR(INDIRECT(\"'Børn \"&U124&\"'!$c$163\",TRUE),\"\"))","v":{"$error":"#REF!"}},{"$f":"IF(INDIRECT(\"'Børn \"&U124&\"'!$c$177\")=\"\",\"\",IFERROR(INDIRECT(\"'Børn \"&U124&\"'!$c$177\",TRUE),\"\"))","v":{"$error":"#REF!"}},{"$f":"IF(INDIRECT(\"'Børn \"&U124&\"'!$c$197\")=\"\",\"\",IFERROR(INDIRECT(\"'Børn \"&U124&\"'!$c$197\",TRUE),\"\"))","v":{"$error":"#REF!"}},{"$f":"IF(INDIRECT(\"'Børn \"&U124&\"'!$c$218\")=\"\",\"\",IFERROR(INDIRECT(\"'Børn \"&U124&\"'!$c$218\",TRUE),\"\"))","v":{"$error":"#REF!"}},{"$f":"IF(INDIRECT(\"'Børn \"&U124&\"'!$c$241\")=\"\",\"\",IFERROR(INDIRECT(\"'Børn \"&U124&\"'!$c$241\",TRUE),\"\"))","v":{"$error":"#REF!"}}]
["Tilsyn 22","Status:  grøn",{"$f":"COUNTIF(IF(ISERROR(INDIRECT(\"'Voksen \"&A125&\"'!$H$31\",TRUE)),\"\",INDIRECT(\"'Voksen \"&A125&\"'!$H$31\",TRUE)),1)","v":{"$error":"#VALUE!"}},{"$f":"COUNTIF(IF(ISERROR(INDIRECT(\"'Voksen \"&A125&\"'!$H$41\",TRUE)),\"\",INDIRECT(\"'Voksen \"&A125&\"'!$H$41\",TRUE)),1)","v":{"$error":"#VALUE!"}},{"$f":"COUNTIF(IF(ISERROR(INDIRECT(\"'Voksen \"&A125&\"'!$H$50\",TRUE)),\"\",INDIRECT(\"'Voksen \"&A125&\"'!$H$50\",TRUE)),1)","v":{"$error":"#VALUE!"}},{"$f":"COUNTIF(IF(ISERROR(INDIRECT(\"'Voksen \"&A125&\"'!$H$58\",TRUE)),\"\",INDIRECT(\"'Voksen \"&A125&\"'!$H$58\",TRUE)),1)","v":{"$error":"#VALUE!"}},{"$f":"COUNTIF(IF(ISERROR(INDIRECT(\"'Voksen \"&A125&\"'!$H$69\",TRUE)),\"\",INDIRECT(\"'Voksen \"&A125&\"'!$H$69\",TRUE)),1)","v":{"$error":"#VALUE!"}},{"$f":"COUNTIF(IF(ISERROR(INDIRECT(\"'Voksen \"&A125&\"'!$H$77\",TRUE)),\"\",INDIRECT(\"'Voksen \"&A125&\"'!$H$77\",TRUE)),1)","v":{"$error":"#VALUE!"}},null,null,{"$f":"COUNTIF(IF(ISERROR(INDIRECT(\"'Børn \"&A125&\"'!$H$31\",TRUE)),\"\",INDIRECT(\"'Børn \"&A125&\"'!$H$31\",TRUE)),1)","v":{"$error":"#VALUE!"}},{"$f":"COUNTIF(IF(ISERROR(INDIRECT(\"'Børn \"&A125&\"'!$H$44\",TRUE)),\"\",INDIRECT(\"'Børn \"&A125&\"'!$H$44\",TRUE)),1)","v":{"$error":"#VALUE!"}},{"$f":"COUNTIF(IF(ISERROR(INDIRECT(\"'Børn \"&A125&\"'!$H$53\",TRUE)),\"\",INDIRECT(\"'Børn \"&A125&\"'!$H$53\",TRUE)),1)","v":{"$error":"#VALUE!"}},{"$f":"COUNTIF(IF(ISERROR(INDIRECT(\"'Børn \"&A125&\"'!$H$61\",TRUE)),\"\",INDIRECT(\"'Børn \"&A125&\"'!$H$61\",TRUE)),1)","v":{"$error":"#VALUE!"}},{"$f":"COUNTIF(IF(ISERROR(INDIRECT(\"'Børn \"&A125&\"'!$H$68\",TRUE)),\"\",INDIRECT(\"'Børn \"&A125&\"'!$H$68\",TRUE)),1)","v":{"$error":"#VALUE!"}},{"$f":"COUNTIF(IF(ISERROR(INDIRECT(\"'Børn \"&A125&\"'!$H$79\",TRUE)),\"\",INDIRECT(\"'Børn \"&A125&\"'!$H$79\",TRUE)),1)","v":{"$error":"#VALUE!"}},{"$f":"COUNTIF(IF(ISERROR(INDIRECT(\"'Børn \"&A125&\"'!$H$87\",TRUE)),\"\",INDIRECT(\"'Børn \"&A125&\"'!$H$87\",TRUE)),1)","v":{"$error":"#VALUE!"}},null,null,null,{"$f":"U124","v":"Tilsyn 32"},{"$f":"IF(INDIRECT(\"'Voksen \"&U125&\"'!$c$115\")=\"\",\"\",IFERROR(INDIRECT(\"'Voksen \"&U125&\"'!$c$115\",TRUE),\"\"))","v":{"$error":"#REF!"}},{"$f":"IF(INDIRECT(\"'Voksen \"&U125&\"'!$c$136\")=\"\",\"\",IFERROR(INDIRECT(\"'Voksen \"&U125&\"'!$c$136\",TRUE),\"\"))","v":{"$error":"#REF!"}},{"$f":"IF(INDIRECT(\"'Voksen \"&U125&\"'!$c$157\")=\"\",\"\",IFERROR(INDIRECT(\"'Voksen \"&U125&\"'!$c$157\",TRUE),\"\"))","v":{"$error":"#REF!"}},{"$f":"IF(INDIRECT(\"'Voksen \"&U125&\"'!$c$172\")=\"\",\"\",IFERROR(INDIRECT(\"'Voksen \"&U125&\"'!$c$172\",TRUE),\"\"))","v":{"$error":"#REF!"}},{"$f":"IF(INDIRECT(\"'Voksen \"&U125&\"'!$c$189\")=\"\",\"\",IFERROR(INDIRECT(\"'Voksen \"&U125&\"'!$c$189\",TRUE),\"\"))","v":{"$error":"#REF!"}},{"$f":"IF(INDIRECT(\"'Voksen \"&U125&\"'!$c$210\")=\"\",\"\",IFERROR(INDIRECT(\"'Voksen \"&U125&\"'!$c$210\",TRUE),\"\"))","v":{"$error":"#REF!"}},{"$f":"IF(INDIRECT(\"'Voksen \"&U125&\"'!$c$232\")=\"\",\"\",IFERROR(INDIRECT(\"'Voksen \"&U125&\"'!$c$232\",TRUE),\"\"))","v":{"$error":"#REF!"}},{"$f":"IF(INDIRECT(\"'Voksen \"&U125&\"'!$c$258\")=\"\",\"\",IFERROR(INDIRECT(\"'Voksen \"&U125&\"'!$c$258\",TRUE),\"\"))","v":{"$error":"#REF!"}},null,{"$f":"IF(INDIRECT(\"'Børn \"&U125&\"'!$c$126\")=\"\",\"\",IFERROR(INDIRECT(\"'Børn \"&U125&\"'!$c$126\",TRUE),\"\"))","v":{"$error":"#REF!"}},{"$f":"IF(INDIRECT(\"'Børn \"&U125&\"'!$c$142\")=\"\",\"\",IFERROR(INDIRECT(\"'Børn \"&U125&\"'!$c$142\",TRUE),\"\"))","v":{"$error":"#REF!"}},{"$f":"IF(INDIRECT(\"'Børn \"&U125&\"'!$c$166\")=\"\",\"\",IFERROR(INDIRECT(\"'Børn \"&U125&\"'!$c$166\",TRUE),\"\"))","v":{"$error":"#REF!"}},{"$f":"IF(INDIRECT(\"'Børn \"&U125&\"'!$c$180\")=\"\",\"\",IFERROR(INDIRECT(\"'Børn \"&U125&\"'!$c$180\",TRUE),\"\"))","v":{"$error":"#REF!"}},{"$f":"IF(INDIRECT(\"'Børn \"&U125&\"'!$c$200\")=\"\",\"\",IFERROR(INDIRECT(\"'Børn \"&U125&\"'!$c$200\",TRUE),\"\"))","v":{"$error":"#REF!"}},{"$f":"IF(INDIRECT(\"'Børn \"&U125&\"'!$c$221\")=\"\",\"\",IFERROR(INDIRECT(\"'Børn \"&U125&\"'!$c$221\",TRUE),\"\"))","v":{"$error":"#REF!"}},{"$f":"IF(INDIRECT(\"'Børn \"&U125&\"'!$c$244\")=\"\",\"\",IFERROR(INDIRECT(\"'Børn \"&U125&\"'!$c$244\",TRUE),\"\"))","v":{"$error":"#REF!"}}]
["Tilsyn 22","Status:  gul",{"$f":"COUNTIF(IF(ISERROR(INDIRECT(\"'Voksen \"&A126&\"'!$H$31\",TRUE)),\"\",INDIRECT(\"'Voksen \"&A126&\"'!$H$31\",TRUE)),2)","v":{"$error":"#VALUE!"}},{"$f":"COUNTIF(IF(ISERROR(INDIRECT(\"'Voksen \"&A126&\"'!$H$41\",TRUE)),\"\",INDIRECT(\"'Voksen \"&A126&\"'!$H$41\",TRUE)),2)","v":{"$error":"#VALUE!"}},{"$f":"COUNTIF(IF(ISERROR(INDIRECT(\"'Voksen \"&A126&\"'!$H$50\",TRUE)),\"\",INDIRECT(\"'Voksen \"&A126&\"'!$H$50\",TRUE)),2)","v":{"$error":"#VALUE!"}},{"$f":"COUNTIF(IF(ISERROR(INDIRECT(\"'Voksen \"&A126&\"'!$H$58\",TRUE)),\"\",INDIRECT(\"'Voksen \"&A126&\"'!$H$58\",TRUE)),2)","v":{"$error":"#VALUE!"}},{"$f":"COUNTIF(IF(ISERROR(INDIRECT(\"'Voksen \"&A126&\"'!$H$69\",TRUE)),\"\",INDIRECT(\"'Voksen \"&A126&\"'!$H$69\",TRUE)),2)","v":{"$error":"#VALUE!"}},{"$f":"COUNTIF(IF(ISERROR(INDIRECT(\"'Voksen \"&A126&\"'!$H$77\",TRUE)),\"\",INDIRECT(\"'Voksen \"&A126&\"'!$H$77\",TRUE)),2)","v":{"$error":"#VALUE!"}},null,null,{"$f":"COUNTIF(IF(ISERROR(INDIRECT(\"'Børn \"&A126&\"'!$H$31\",TRUE)),\"\",INDIRECT(\"'Børn \"&A126&\"'!$H$31\",TRUE)),2)","v":{"$error":"#VALUE!"}},{"$f":"COUNTIF(IF(ISERROR(INDIRECT(\"'Børn \"&A126&\"'!$H$44\",TRUE)),\"\",INDIRECT(\"'Børn \"&A126&\"'!$H$44\",TRUE)),2)","v":{"$error":"#VALUE!"}},{"$f":"COUNTIF(IF(ISERROR(INDIRECT(\"'Børn \"&A126&\"'!$H$53\",TRUE)),\"\",INDIRECT(\"'Børn \"&A126&\"'!$H$53\",TRUE)),2)","v":{"$error":"#VALUE!"}},{"$f":"COUNTIF(IF(ISERROR(INDIRECT(\"'Børn \"&A126&\"'!$H$61\",TRUE)),\"\",INDIRECT(\"'Børn \"&A126&\"'!$H$61\",TRUE)),2)","v":{"$error":"#VALUE!"}},{"$f":"COUNTIF(IF(ISERROR(INDIRECT(\"'Børn \"&A126&\"'!$H$68\",TRUE)),\"\",INDIRECT(\"'Børn \"&A126&\"'!$H$68\",TRUE)),2)","v":{"$error":"#VALUE!"}},{"$f":"COUNTIF(IF(ISERROR(INDIRECT(\"'Børn \"&A126&\"'!$H$79\",TRUE)),\"\",INDIRECT(\"'Børn \"&A126&\"'!$H$79\",TRUE)),2)","v":{"$error":"#VALUE!"}},{"$f":"COUNTIF(IF(ISERROR(INDIRECT(\"'Børn \"&A126&\"'!$H$87\",TRUE)),\"\",INDIRECT(\"'Børn \"&A126&\"'!$H$87\",TRUE)),2)","v":{"$error":"#VALUE!"}},null,null,null,"Tilsyn 33",{"$f":"IF(INDIRECT(\"'Voksen \"&U126&\"'!$c$112\")=\"\",\"\",IFERROR(INDIRECT(\"'Voksen \"&U126&\"'!$c$112\",TRUE),\"\"))","v":{"$error":"#REF!"}},{"$f":"IF(INDIRECT(\"'Voksen \"&U126&\"'!$c$133\")=\"\",\"\",IFERROR(INDIRECT(\"'Voksen \"&U126&\"'!$c$133\",TRUE),\"\"))","v":{"$error":"#REF!"}},{"$f":"IF(INDIRECT(\"'Voksen \"&U126&\"'!$c$154\")=\"\",\"\",IFERROR(INDIRECT(\"'Voksen \"&U126&\"'!$c$154\",TRUE),\"\"))","v":{"$error":"#REF!"}},{"$f":"IF(INDIRECT(\"'Voksen \"&U126&\"'!$c$169\")=\"\",\"\",IFERROR(INDIRECT(\"'Voksen \"&U126&\"'!$c$169\",TRUE),\"\"))","v":{"$error":"#REF!"}},{"$f":"IF(INDIRECT(\"'Voksen \"&U126&\"'!$c$186\")=\"\",\"\",IFERROR(INDIRECT(\"'Voksen \"&U126&\"'!$c$186\",TRUE),\"\"))","v":{"$error":"#REF!"}},{"$f":"IF(INDIRECT(\"'Voksen \"&U126&\"'!$c$207\")=\"\",\"\",IFERROR(INDIRECT(\"'Voksen \"&U126&\"'!$c$207\",TRUE),\"\"))","v":{"$error":"#REF!"}},{"$f":"IF(INDIRECT(\"'Voksen \"&U126&\"'!$c$229\")=\"\",\"\",IFERROR(INDIRECT(\"'Voksen \"&U126&\"'!$c$229\",TRUE),\"\"))","v":{"$error":"#REF!"}},{"$f":"IF(INDIRECT(\"'Voksen \"&U126&\"'!$c$255\")=\"\",\"\",IFERROR(INDIRECT(\"'Voksen \"&U126&\"'!$c$255\",TRUE),\"\"))","v":{"$error":"#REF!"}},null,{"$f":"IF(INDIRECT(\"'Børn \"&U126&\"'!$c$123\")=\"\",\"\",IFERROR(INDIRECT(\"'Børn \"&U126&\"'!$c$123\",TRUE),\"\"))","v":{"$error":"#REF!"}},{"$f":"IF(INDIRECT(\"'Børn \"&U126&\"'!$c$139\")=\"\",\"\",IFERROR(INDIRECT(\"'Børn \"&U126&\"'!$c$139\",TRUE),\"\"))","v":{"$error":"#REF!"}},{"$f":"IF(INDIRECT(\"'Børn \"&U126&\"'!$c$163\")=\"\",\"\",IFERROR(INDIRECT(\"'Børn \"&U126&\"'!$c$163\",TRUE),\"\"))","v":{"$error":"#REF!"}},{"$f":"IF(INDIRECT(\"'Børn \"&U126&\"'!$c$177\")=\"\",\"\",IFERROR(INDIRECT(\"'Børn \"&U126&\"'!$c$177\",TRUE),\"\"))","v":{"$error":"#REF!"}},{"$f":"IF(INDIRECT(\"'Børn \"&U126&\"'!$c$197\")=\"\",\"\",IFERROR(INDIRECT(\"'Børn \"&U126&\"'!$c$197\",TRUE),\"\"))","v":{"$error":"#REF!"}},{"$f":"IF(INDIRECT(\"'Børn \"&U126&\"'!$c$218\")=\"\",\"\",IFERROR(INDIRECT(\"'Børn \"&U126&\"'!$c$218\",TRUE),\"\"))","v":{"$error":"#REF!"}},{"$f":"IF(INDIRECT(\"'Børn \"&U126&\"'!$c$241\")=\"\",\"\",IFERROR(INDIRECT(\"'Børn \"&U126&\"'!$c$241\",TRUE),\"\"))","v":{"$error":"#REF!"}}]
["Tilsyn 22","Status:  rød",{"$f":"COUNTIF(IF(ISERROR(INDIRECT(\"'Voksen \"&A127&\"'!$H$31\",TRUE)),\"\",INDIRECT(\"'Voksen \"&A127&\"'!$H$31\",TRUE)),3)","v":{"$error":"#VALUE!"}},{"$f":"COUNTIF(IF(ISERROR(INDIRECT(\"'Voksen \"&A127&\"'!$H$41\",TRUE)),\"\",INDIRECT(\"'Voksen \"&A127&\"'!$H$41\",TRUE)),3)","v":{"$error":"#VALUE!"}},{"$f":"COUNTIF(IF(ISERROR(INDIRECT(\"'Voksen \"&A127&\"'!$H$50\",TRUE)),\"\",INDIRECT(\"'Voksen \"&A127&\"'!$H$50\",TRUE)),3)","v":{"$error":"#VALUE!"}},{"$f":"COUNTIF(IF(ISERROR(INDIRECT(\"'Voksen \"&A127&\"'!$H$58\",TRUE)),\"\",INDIRECT(\"'Voksen \"&A127&\"'!$H$58\",TRUE)),3)","v":{"$error":"#VALUE!"}},{"$f":"COUNTIF(IF(ISERROR(INDIRECT(\"'Voksen \"&A127&\"'!$H$69\",TRUE)),\"\",INDIRECT(\"'Voksen \"&A127&\"'!$H$69\",TRUE)),3)","v":{"$error":"#VALUE!"}},{"$f":"COUNTIF(IF(ISERROR(INDIRECT(\"'Voksen \"&A127&\"'!$H$77\",TRUE)),\"\",INDIRECT(\"'Voksen \"&A127&\"'!$H$77\",TRUE)),3)","v":{"$error":"#VALUE!"}},null,null,{"$f":"COUNTIF(IF(ISERROR(INDIRECT(\"'Børn \"&A127&\"'!$H$31\",TRUE)),\"\",INDIRECT(\"'Børn \"&A127&\"'!$H$31\",TRUE)),3)","v":{"$error":"#VALUE!"}},{"$f":"COUNTIF(IF(ISERROR(INDIRECT(\"'Børn \"&A127&\"'!$H$44\",TRUE)),\"\",INDIRECT(\"'Børn \"&A127&\"'!$H$44\",TRUE)),3)","v":{"$error":"#VALUE!"}},{"$f":"COUNTIF(IF(ISERROR(INDIRECT(\"'Børn \"&A127&\"'!$H$53\",TRUE)),\"\",INDIRECT(\"'Børn \"&A127&\"'!$H$53\",TRUE)),3)","v":{"$error":"#VALUE!"}},{"$f":"COUNTIF(IF(ISERROR(INDIRECT(\"'Børn \"&A127&\"'!$H$61\",TRUE)),\"\",INDIRECT(\"'Børn \"&A127&\"'!$H$61\",TRUE)),3)","v":{"$error":"#VALUE!"}},{"$f":"COUNTIF(IF(ISERROR(INDIRECT(\"'Børn \"&A127&\"'!$H$68\",TRUE)),\"\",INDIRECT(\"'Børn \"&A127&\"'!$H$68\",TRUE)),3)","v":{"$error":"#VALUE!"}},{"$f":"COUNTIF(IF(ISERROR(INDIRECT(\"'Børn \"&A127&\"'!$H$79\",TRUE)),\"\",INDIRECT(\"'Børn \"&A127&\"'!$H$79\",TRUE)),3)","v":{"$error":"#VALUE!"}},{"$f":"COUNTIF(IF(ISERROR(INDIRECT(\"'Børn \"&A127&\"'!$H$87\",TRUE)),\"\",INDIRECT(\"'Børn \"&A127&\"'!$H$87\",TRUE)),3)","v":{"$error":"#VALUE!"}},null,null,null,{"$f":"U126","v":"Tilsyn 33"},{"$f":"IF(INDIRECT(\"'Voksen \"&U127&\"'!$c$115\")=\"\",\"\",IFERROR(INDIRECT(\"'Voksen \"&U127&\"'!$c$115\",TRUE),\"\"))","v":{"$error":"#REF!"}},{"$f":"IF(INDIRECT(\"'Voksen \"&U127&\"'!$c$136\")=\"\",\"\",IFERROR(INDIRECT(\"'Voksen \"&U127&\"'!$c$136\",TRUE),\"\"))","v":{"$error":"#REF!"}},{"$f":"IF(INDIRECT(\"'Voksen \"&U127&\"'!$c$157\")=\"\",\"\",IFERROR(INDIRECT(\"'Voksen \"&U127&\"'!$c$157\",TRUE),\"\"))","v":{"$error":"#REF!"}},{"$f":"IF(INDIRECT(\"'Voksen \"&U127&\"'!$c$172\")=\"\",\"\",IFERROR(INDIRECT(\"'Voksen \"&U127&\"'!$c$172\",TRUE),\"\"))","v":{"$error":"#REF!"}},{"$f":"IF(INDIRECT(\"'Voksen \"&U127&\"'!$c$189\")=\"\",\"\",IFERROR(INDIRECT(\"'Voksen \"&U127&\"'!$c$189\",TRUE),\"\"))","v":{"$error":"#REF!"}},{"$f":"IF(INDIRECT(\"'Voksen \"&U127&\"'!$c$210\")=\"\",\"\",IFERROR(INDIRECT(\"'Voksen \"&U127&\"'!$c$210\",TRUE),\"\"))","v":{"$error":"#REF!"}},{"$f":"IF(INDIRECT(\"'Voksen \"&U127&\"'!$c$232\")=\"\",\"\",IFERROR(INDIRECT(\"'Voksen \"&U127&\"'!$c$232\",TRUE),\"\"))","v":{"$error":"#REF!"}},{"$f":"IF(INDIRECT(\"'Voksen \"&U127&\"'!$c$258\")=\"\",\"\",IFERROR(INDIRECT(\"'Voksen \"&U127&\"'!$c$258\",TRUE),\"\"))","v":{"$error":"#REF!"}},null,{"$f":"IF(INDIRECT(\"'Børn \"&U127&\"'!$c$126\")=\"\",\"\",IFERROR(INDIRECT(\"'Børn \"&U127&\"'!$c$126\",TRUE),\"\"))","v":{"$error":"#REF!"}},{"$f":"IF(INDIRECT(\"'Børn \"&U127&\"'!$c$142\")=\"\",\"\",IFERROR(INDIRECT(\"'Børn \"&U127&\"'!$c$142\",TRUE),\"\"))","v":{"$error":"#REF!"}},{"$f":"IF(INDIRECT(\"'Børn \"&U127&\"'!$c$166\")=\"\",\"\",IFERROR(INDIRECT(\"'Børn \"&U127&\"'!$c$166\",TRUE),\"\"))","v":{"$error":"#REF!"}},{"$f":"IF(INDIRECT(\"'Børn \"&U127&\"'!$c$180\")=\"\",\"\",IFERROR(INDIRECT(\"'Børn \"&U127&\"'!$c$180\",TRUE),\"\"))","v":{"$error":"#REF!"}},{"$f":"IF(INDIRECT(\"'Børn \"&U127&\"'!$c$200\")=\"\",\"\",IFERROR(INDIRECT(\"'Børn \"&U127&\"'!$c$200\",TRUE),\"\"))","v":{"$error":"#REF!"}},{"$f":"IF(INDIRECT(\"'Børn \"&U127&\"'!$c$221\")=\"\",\"\",IFERROR(INDIRECT(\"'Børn \"&U127&\"'!$c$221\",TRUE),\"\"))","v":{"$error":"#REF!"}},{"$f":"IF(INDIRECT(\"'Børn \"&U127&\"'!$c$244\")=\"\",\"\",IFERROR(INDIRECT(\"'Børn \"&U127&\"'!$c$244\",TRUE),\"\"))","v":{"$error":"#REF!"}}]
["Tilsyn 23","Status:  grøn",{"$f":"COUNTIF(IF(ISERROR(INDIRECT(\"'Voksen \"&A128&\"'!$H$31\",TRUE)),\"\",INDIRECT(\"'Voksen \"&A128&\"'!$H$31\",TRUE)),1)","v":{"$error":"#VALUE!"}},{"$f":"COUNTIF(IF(ISERROR(INDIRECT(\"'Voksen \"&A128&\"'!$H$41\",TRUE)),\"\",INDIRECT(\"'Voksen \"&A128&\"'!$H$41\",TRUE)),1)","v":{"$error":"#VALUE!"}},{"$f":"COUNTIF(IF(ISERROR(INDIRECT(\"'Voksen \"&A128&\"'!$H$50\",TRUE)),\"\",INDIRECT(\"'Voksen \"&A128&\"'!$H$50\",TRUE)),1)","v":{"$error":"#VALUE!"}},{"$f":"COUNTIF(IF(ISERROR(INDIRECT(\"'Voksen \"&A128&\"'!$H$58\",TRUE)),\"\",INDIRECT(\"'Voksen \"&A128&\"'!$H$58\",TRUE)),1)","v":{"$error":"#VALUE!"}},{"$f":"COUNTIF(IF(ISERROR(INDIRECT(\"'Voksen \"&A128&\"'!$H$69\",TRUE)),\"\",INDIRECT(\"'Voksen \"&A128&\"'!$H$69\",TRUE)),1)","v":{"$error":"#VALUE!"}},{"$f":"COUNTIF(IF(ISERROR(INDIRECT(\"'Voksen \"&A128&\"'!$H$77\",TRUE)),\"\",INDIRECT(\"'Voksen \"&A128&\"'!$H$77\",TRUE)),1)","v":{"$error":"#VALUE!"}},null,null,{"$f":"COUNTIF(IF(ISERROR(INDIRECT(\"'Børn \"&A128&\"'!$H$31\",TRUE)),\"\",INDIRECT(\"'Børn \"&A128&\"'!$H$31\",TRUE)),1)","v":{"$error":"#VALUE!"}},{"$f":"COUNTIF(IF(ISERROR(INDIRECT(\"'Børn \"&A128&\"'!$H$44\",TRUE)),\"\",INDIRECT(\"'Børn \"&A128&\"'!$H$44\",TRUE)),1)","v":{"$error":"#VALUE!"}},{"$f":"COUNTIF(IF(ISERROR(INDIRECT(\"'Børn \"&A128&\"'!$H$53\",TRUE)),\"\",INDIRECT(\"'Børn \"&A128&\"'!$H$53\",TRUE)),1)","v":{"$error":"#VALUE!"}},{"$f":"COUNTIF(IF(ISERROR(INDIRECT(\"'Børn \"&A128&\"'!$H$61\",TRUE)),\"\",INDIRECT(\"'Børn \"&A128&\"'!$H$61\",TRUE)),1)","v":{"$error":"#VALUE!"}},{"$f":"COUNTIF(IF(ISERROR(INDIRECT(\"'Børn \"&A128&\"'!$H$68\",TRUE)),\"\",INDIRECT(\"'Børn \"&A128&\"'!$H$68\",TRUE)),1)","v":{"$error":"#VALUE!"}},{"$f":"COUNTIF(IF(ISERROR(INDIRECT(\"'Børn \"&A128&\"'!$H$79\",TRUE)),\"\",INDIRECT(\"'Børn \"&A128&\"'!$H$79\",TRUE)),1)","v":{"$error":"#VALUE!"}},{"$f":"COUNTIF(IF(ISERROR(INDIRECT(\"'Børn \"&A128&\"'!$H$87\",TRUE)),\"\",INDIRECT(\"'Børn \"&A128&\"'!$H$87\",TRUE)),1)","v":{"$error":"#VALUE!"}},null,null,null,"Tilsyn 34",{"$f":"IF(INDIRECT(\"'Voksen \"&U128&\"'!$c$112\")=\"\",\"\",IFERROR(INDIRECT(\"'Voksen \"&U128&\"'!$c$112\",TRUE),\"\"))","v":{"$error":"#REF!"}},{"$f":"IF(INDIRECT(\"'Voksen \"&U128&\"'!$c$133\")=\"\",\"\",IFERROR(INDIRECT(\"'Voksen \"&U128&\"'!$c$133\",TRUE),\"\"))","v":{"$error":"#REF!"}},{"$f":"IF(INDIRECT(\"'Voksen \"&U128&\"'!$c$154\")=\"\",\"\",IFERROR(INDIRECT(\"'Voksen \"&U128&\"'!$c$154\",TRUE),\"\"))","v":{"$error":"#REF!"}},{"$f":"IF(INDIRECT(\"'Voksen \"&U128&\"'!$c$169\")=\"\",\"\",IFERROR(INDIRECT(\"'Voksen \"&U128&\"'!$c$169\",TRUE),\"\"))","v":{"$error":"#REF!"}},{"$f":"IF(INDIRECT(\"'Voksen \"&U128&\"'!$c$186\")=\"\",\"\",IFERROR(INDIRECT(\"'Voksen \"&U128&\"'!$c$186\",TRUE),\"\"))","v":{"$error":"#REF!"}},{"$f":"IF(INDIRECT(\"'Voksen \"&U128&\"'!$c$207\")=\"\",\"\",IFERROR(INDIRECT(\"'Voksen \"&U128&\"'!$c$207\",TRUE),\"\"))","v":{"$error":"#REF!"}},{"$f":"IF(INDIRECT(\"'Voksen \"&U128&\"'!$c$229\")=\"\",\"\",IFERROR(INDIRECT(\"'Voksen \"&U128&\"'!$c$229\",TRUE),\"\"))","v":{"$error":"#REF!"}},{"$f":"IF(INDIRECT(\"'Voksen \"&U128&\"'!$c$255\")=\"\",\"\",IFERROR(INDIRECT(\"'Voksen \"&U128&\"'!$c$255\",TRUE),\"\"))","v":{"$error":"#REF!"}},null,{"$f":"IF(INDIRECT(\"'Børn \"&U128&\"'!$c$123\")=\"\",\"\",IFERROR(INDIRECT(\"'Børn \"&U128&\"'!$c$123\",TRUE),\"\"))","v":{"$error":"#REF!"}},{"$f":"IF(INDIRECT(\"'Børn \"&U128&\"'!$c$139\")=\"\",\"\",IFERROR(INDIRECT(\"'Børn \"&U128&\"'!$c$139\",TRUE),\"\"))","v":{"$error":"#REF!"}},{"$f":"IF(INDIRECT(\"'Børn \"&U128&\"'!$c$163\")=\"\",\"\",IFERROR(INDIRECT(\"'Børn \"&U128&\"'!$c$163\",TRUE),\"\"))","v":{"$error":"#REF!"}},{"$f":"IF(INDIRECT(\"'Børn \"&U128&\"'!$c$177\")=\"\",\"\",IFERROR(INDIRECT(\"'Børn \"&U128&\"'!$c$177\",TRUE),\"\"))","v":{"$error":"#REF!"}},{"$f":"IF(INDIRECT(\"'Børn \"&U128&\"'!$c$197\")=\"\",\"\",IFERROR(INDIRECT(\"'Børn \"&U128&\"'!$c$197\",TRUE),\"\"))","v":{"$error":"#REF!"}},{"$f":"IF(INDIRECT(\"'Børn \"&U128&\"'!$c$218\")=\"\",\"\",IFERROR(INDIRECT(\"'Børn \"&U128&\"'!$c$218\",TRUE),\"\"))","v":{"$error":"#REF!"}},{"$f":"IF(INDIRECT(\"'Børn \"&U128&\"'!$c$241\")=\"\",\"\",IFERROR(INDIRECT(\"'Børn \"&U128&\"'!$c$241\",TRUE),\"\"))","v":{"$error":"#REF!"}}]
["Tilsyn 23","Status:  gul",{"$f":"COUNTIF(IF(ISERROR(INDIRECT(\"'Voksen \"&A129&\"'!$H$31\",TRUE)),\"\",INDIRECT(\"'Voksen \"&A129&\"'!$H$31\",TRUE)),2)","v":{"$error":"#VALUE!"}},{"$f":"COUNTIF(IF(ISERROR(INDIRECT(\"'Voksen \"&A129&\"'!$H$41\",TRUE)),\"\",INDIRECT(\"'Voksen \"&A129&\"'!$H$41\",TRUE)),2)","v":{"$error":"#VALUE!"}},{"$f":"COUNTIF(IF(ISERROR(INDIRECT(\"'Voksen \"&A129&\"'!$H$50\",TRUE)),\"\",INDIRECT(\"'Voksen \"&A129&\"'!$H$50\",TRUE)),2)","v":{"$error":"#VALUE!"}},{"$f":"COUNTIF(IF(ISERROR(INDIRECT(\"'Voksen \"&A129&\"'!$H$58\",TRUE)),\"\",INDIRECT(\"'Voksen \"&A129&\"'!$H$58\",TRUE)),2)","v":{"$error":"#VALUE!"}},{"$f":"COUNTIF(IF(ISERROR(INDIRECT(\"'Voksen \"&A129&\"'!$H$69\",TRUE)),\"\",INDIRECT(\"'Voksen \"&A129&\"'!$H$69\",TRUE)),2)","v":{"$error":"#VALUE!"}},{"$f":"COUNTIF(IF(ISERROR(INDIRECT(\"'Voksen \"&A129&\"'!$H$77\",TRUE)),\"\",INDIRECT(\"'Voksen \"&A129&\"'!$H$77\",TRUE)),2)","v":{"$error":"#VALUE!"}},null,null,{"$f":"COUNTIF(IF(ISERROR(INDIRECT(\"'Børn \"&A129&\"'!$H$31\",TRUE)),\"\",INDIRECT(\"'Børn \"&A129&\"'!$H$31\",TRUE)),2)","v":{"$error":"#VALUE!"}},{"$f":"COUNTIF(IF(ISERROR(INDIRECT(\"'Børn \"&A129&\"'!$H$44\",TRUE)),\"\",INDIRECT(\"'Børn \"&A129&\"'!$H$44\",TRUE)),2)","v":{"$error":"#VALUE!"}},{"$f":"COUNTIF(IF(ISERROR(INDIRECT(\"'Børn \"&A129&\"'!$H$53\",TRUE)),\"\",INDIRECT(\"'Børn \"&A129&\"'!$H$53\",TRUE)),2)","v":{"$error":"#VALUE!"}},{"$f":"COUNTIF(IF(ISERROR(INDIRECT(\"'Børn \"&A129&\"'!$H$61\",TRUE)),\"\",INDIRECT(\"'Børn \"&A129&\"'!$H$61\",TRUE)),2)","v":{"$error":"#VALUE!"}},{"$f":"COUNTIF(IF(ISERROR(INDIRECT(\"'Børn \"&A129&\"'!$H$68\",TRUE)),\"\",INDIRECT(\"'Børn \"&A129&\"'!$H$68\",TRUE)),2)","v":{"$error":"#VALUE!"}},{"$f":"COUNTIF(IF(ISERROR(INDIRECT(\"'Børn \"&A129&\"'!$H$79\",TRUE)),\"\",INDIRECT(\"'Børn \"&A129&\"'!$H$79\",TRUE)),2)","v":{"$error":"#VALUE!"}},{"$f":"COUNTIF(IF(ISERROR(INDIRECT(\"'Børn \"&A129&\"'!$H$87\",TRUE)),\"\",INDIRECT(\"'Børn \"&A129&\"'!$H$87\",TRUE)),2)","v":{"$error":"#VALUE!"}},null,null,null,{"$f":"U128","v":"Tilsyn 34"},{"$f":"IF(INDIRECT(\"'Voksen \"&U129&\"'!$c$115\")=\"\",\"\",IFERROR(INDIRECT(\"'Voksen \"&U129&\"'!$c$115\",TRUE),\"\"))","v":{"$error":"#REF!"}},{"$f":"IF(INDIRECT(\"'Voksen \"&U129&\"'!$c$136\")=\"\",\"\",IFERROR(INDIRECT(\"'Voksen \"&U129&\"'!$c$136\",TRUE),\"\"))","v":{"$error":"#REF!"}},{"$f":"IF(INDIRECT(\"'Voksen \"&U129&\"'!$c$157\")=\"\",\"\",IFERROR(INDIRECT(\"'Voksen \"&U129&\"'!$c$157\",TRUE),\"\"))","v":{"$error":"#REF!"}},{"$f":"IF(INDIRECT(\"'Voksen \"&U129&\"'!$c$172\")=\"\",\"\",IFERROR(INDIRECT(\"'Voksen \"&U129&\"'!$c$172\",TRUE),\"\"))","v":{"$error":"#REF!"}},{"$f":"IF(INDIRECT(\"'Voksen \"&U129&\"'!$c$189\")=\"\",\"\",IFERROR(INDIRECT(\"'Voksen \"&U129&\"'!$c$189\",TRUE),\"\"))","v":{"$error":"#REF!"}},{"$f":"IF(INDIRECT(\"'Voksen \"&U129&\"'!$c$210\")=\"\",\"\",IFERROR(INDIRECT(\"'Voksen \"&U129&\"'!$c$210\",TRUE),\"\"))","v":{"$error":"#REF!"}},{"$f":"IF(INDIRECT(\"'Voksen \"&U129&\"'!$c$232\")=\"\",\"\",IFERROR(INDIRECT(\"'Voksen \"&U129&\"'!$c$232\",TRUE),\"\"))","v":{"$error":"#REF!"}},{"$f":"IF(INDIRECT(\"'Voksen \"&U129&\"'!$c$258\")=\"\",\"\",IFERROR(INDIRECT(\"'Voksen \"&U129&\"'!$c$258\",TRUE),\"\"))","v":{"$error":"#REF!"}},null,{"$f":"IF(INDIRECT(\"'Børn \"&U129&\"'!$c$126\")=\"\",\"\",IFERROR(INDIRECT(\"'Børn \"&U129&\"'!$c$126\",TRUE),\"\"))","v":{"$error":"#REF!"}},{"$f":"IF(INDIRECT(\"'Børn \"&U129&\"'!$c$142\")=\"\",\"\",IFERROR(INDIRECT(\"'Børn \"&U129&\"'!$c$142\",TRUE),\"\"))","v":{"$error":"#REF!"}},{"$f":"IF(INDIRECT(\"'Børn \"&U129&\"'!$c$166\")=\"\",\"\",IFERROR(INDIRECT(\"'Børn \"&U129&\"'!$c$166\",TRUE),\"\"))","v":{"$error":"#REF!"}},{"$f":"IF(INDIRECT(\"'Børn \"&U129&\"'!$c$180\")=\"\",\"\",IFERROR(INDIRECT(\"'Børn \"&U129&\"'!$c$180\",TRUE),\"\"))","v":{"$error":"#REF!"}},{"$f":"IF(INDIRECT(\"'Børn \"&U129&\"'!$c$200\")=\"\",\"\",IFERROR(INDIRECT(\"'Børn \"&U129&\"'!$c$200\",TRUE),\"\"))","v":{"$error":"#REF!"}},{"$f":"IF(INDIRECT(\"'Børn \"&U129&\"'!$c$221\")=\"\",\"\",IFERROR(INDIRECT(\"'Børn \"&U129&\"'!$c$221\",TRUE),\"\"))","v":{"$error":"#REF!"}},{"$f":"IF(INDIRECT(\"'Børn \"&U129&\"'!$c$244\")=\"\",\"\",IFERROR(INDIRECT(\"'Børn \"&U129&\"'!$c$244\",TRUE),\"\"))","v":{"$error":"#REF!"}}]
["Tilsyn 23","Status:  rød",{"$f":"COUNTIF(IF(ISERROR(INDIRECT(\"'Voksen \"&A130&\"'!$H$31\",TRUE)),\"\",INDIRECT(\"'Voksen \"&A130&\"'!$H$31\",TRUE)),3)","v":{"$error":"#VALUE!"}},{"$f":"COUNTIF(IF(ISERROR(INDIRECT(\"'Voksen \"&A130&\"'!$H$41\",TRUE)),\"\",INDIRECT(\"'Voksen \"&A130&\"'!$H$41\",TRUE)),3)","v":{"$error":"#VALUE!"}},{"$f":"COUNTIF(IF(ISERROR(INDIRECT(\"'Voksen \"&A130&\"'!$H$50\",TRUE)),\"\",INDIRECT(\"'Voksen \"&A130&\"'!$H$50\",TRUE)),3)","v":{"$error":"#VALUE!"}},{"$f":"COUNTIF(IF(ISERROR(INDIRECT(\"'Voksen \"&A130&\"'!$H$58\",TRUE)),\"\",INDIRECT(\"'Voksen \"&A130&\"'!$H$58\",TRUE)),3)","v":{"$error":"#VALUE!"}},{"$f":"COUNTIF(IF(ISERROR(INDIRECT(\"'Voksen \"&A130&\"'!$H$69\",TRUE)),\"\",INDIRECT(\"'Voksen \"&A130&\"'!$H$69\",TRUE)),3)","v":{"$error":"#VALUE!"}},{"$f":"COUNTIF(IF(ISERROR(INDIRECT(\"'Voksen \"&A130&\"'!$H$77\",TRUE)),\"\",INDIRECT(\"'Voksen \"&A130&\"'!$H$77\",TRUE)),3)","v":{"$error":"#VALUE!"}},null,null,{"$f":"COUNTIF(IF(ISERROR(INDIRECT(\"'Børn \"&A130&\"'!$H$31\",TRUE)),\"\",INDIRECT(\"'Børn \"&A130&\"'!$H$31\",TRUE)),3)","v":{"$error":"#VALUE!"}},{"$f":"COUNTIF(IF(ISERROR(INDIRECT(\"'Børn \"&A130&\"'!$H$44\",TRUE)),\"\",INDIRECT(\"'Børn \"&A130&\"'!$H$44\",TRUE)),3)","v":{"$error":"#VALUE!"}},{"$f":"COUNTIF(IF(ISERROR(INDIRECT(\"'Børn \"&A130&\"'!$H$53\",TRUE)),\"\",INDIRECT(\"'Børn \"&A130&\"'!$H$53\",TRUE)),3)","v":{"$error":"#VALUE!"}},{"$f":"COUNTIF(IF(ISERROR(INDIRECT(\"'Børn \"&A130&\"'!$H$61\",TRUE)),\"\",INDIRECT(\"'Børn \"&A130&\"'!$H$61\",TRUE)),3)","v":{"$error":"#VALUE!"}},{"$f":"COUNTIF(IF(ISERROR(INDIRECT(\"'Børn \"&A130&\"'!$H$68\",TRUE)),\"\",INDIRECT(\"'Børn \"&A130&\"'!$H$68\",TRUE)),3)","v":{"$error":"#VALUE!"}},{"$f":"COUNTIF(IF(ISERROR(INDIRECT(\"'Børn \"&A130&\"'!$H$79\",TRUE)),\"\",INDIRECT(\"'Børn \"&A130&\"'!$H$79\",TRUE)),3)","v":{"$error":"#VALUE!"}},{"$f":"COUNTIF(IF(ISERROR(INDIRECT(\"'Børn \"&A130&\"'!$H$87\",TRUE)),\"\",INDIRECT(\"'Børn \"&A130&\"'!$H$87\",TRUE)),3)","v":{"$error":"#VALUE!"}},null,null,null,"Tilsyn 35",{"$f":"IF(INDIRECT(\"'Voksen \"&U130&\"'!$c$112\")=\"\",\"\",IFERROR(INDIRECT(\"'Voksen \"&U130&\"'!$c$112\",TRUE),\"\"))","v":{"$error":"#REF!"}},{"$f":"IF(INDIRECT(\"'Voksen \"&U130&\"'!$c$133\")=\"\",\"\",IFERROR(INDIRECT(\"'Voksen \"&U130&\"'!$c$133\",TRUE),\"\"))","v":{"$error":"#REF!"}},{"$f":"IF(INDIRECT(\"'Voksen \"&U130&\"'!$c$154\")=\"\",\"\",IFERROR(INDIRECT(\"'Voksen \"&U130&\"'!$c$154\",TRUE),\"\"))","v":{"$error":"#REF!"}},{"$f":"IF(INDIRECT(\"'Voksen \"&U130&\"'!$c$169\")=\"\",\"\",IFERROR(INDIRECT(\"'Voksen \"&U130&\"'!$c$169\",TRUE),\"\"))","v":{"$error":"#REF!"}},{"$f":"IF(INDIRECT(\"'Voksen \"&U130&\"'!$c$186\")=\"\",\"\",IFERROR(INDIRECT(\"'Voksen \"&U130&\"'!$c$186\",TRUE),\"\"))","v":{"$error":"#REF!"}},{"$f":"IF(INDIRECT(\"'Voksen \"&U130&\"'!$c$207\")=\"\",\"\",IFERROR(INDIRECT(\"'Voksen \"&U130&\"'!$c$207\",TRUE),\"\"))","v":{"$error":"#REF!"}},{"$f":"IF(INDIRECT(\"'Voksen \"&U130&\"'!$c$229\")=\"\",\"\",IFERROR(INDIRECT(\"'Voksen \"&U130&\"'!$c$229\",TRUE),\"\"))","v":{"$error":"#REF!"}},{"$f":"IF(INDIRECT(\"'Voksen \"&U130&\"'!$c$255\")=\"\",\"\",IFERROR(INDIRECT(\"'Voksen \"&U130&\"'!$c$255\",TRUE),\"\"))","v":{"$error":"#REF!"}},null,{"$f":"IF(INDIRECT(\"'Børn \"&U130&\"'!$c$123\")=\"\",\"\",IFERROR(INDIRECT(\"'Børn \"&U130&\"'!$c$123\",TRUE),\"\"))","v":{"$error":"#REF!"}},{"$f":"IF(INDIRECT(\"'Børn \"&U130&\"'!$c$139\")=\"\",\"\",IFERROR(INDIRECT(\"'Børn \"&U130&\"'!$c$139\",TRUE),\"\"))","v":{"$error":"#REF!"}},{"$f":"IF(INDIRECT(\"'Børn \"&U130&\"'!$c$163\")=\"\",\"\",IFERROR(INDIRECT(\"'Børn \"&U130&\"'!$c$163\",TRUE),\"\"))","v":{"$error":"#REF!"}},{"$f":"IF(INDIRECT(\"'Børn \"&U130&\"'!$c$177\")=\"\",\"\",IFERROR(INDIRECT(\"'Børn \"&U130&\"'!$c$177\",TRUE),\"\"))","v":{"$error":"#REF!"}},{"$f":"IF(INDIRECT(\"'Børn \"&U130&\"'!$c$197\")=\"\",\"\",IFERROR(INDIRECT(\"'Børn \"&U130&\"'!$c$197\",TRUE),\"\"))","v":{"$error":"#REF!"}},{"$f":"IF(INDIRECT(\"'Børn \"&U130&\"'!$c$218\")=\"\",\"\",IFERROR(INDIRECT(\"'Børn \"&U130&\"'!$c$218\",TRUE),\"\"))","v":{"$error":"#REF!"}},{"$f":"IF(INDIRECT(\"'Børn \"&U130&\"'!$c$241\")=\"\",\"\",IFERROR(INDIRECT(\"'Børn \"&U130&\"'!$c$241\",TRUE),\"\"))","v":{"$error":"#REF!"}}]
["Tilsyn 24","Status:  grøn",{"$f":"COUNTIF(IF(ISERROR(INDIRECT(\"'Voksen \"&A131&\"'!$H$31\",TRUE)),\"\",INDIRECT(\"'Voksen \"&A131&\"'!$H$31\",TRUE)),1)","v":{"$error":"#VALUE!"}},{"$f":"COUNTIF(IF(ISERROR(INDIRECT(\"'Voksen \"&A131&\"'!$H$41\",TRUE)),\"\",INDIRECT(\"'Voksen \"&A131&\"'!$H$41\",TRUE)),1)","v":{"$error":"#VALUE!"}},{"$f":"COUNTIF(IF(ISERROR(INDIRECT(\"'Voksen \"&A131&\"'!$H$50\",TRUE)),\"\",INDIRECT(\"'Voksen \"&A131&\"'!$H$50\",TRUE)),1)","v":{"$error":"#VALUE!"}},{"$f":"COUNTIF(IF(ISERROR(INDIRECT(\"'Voksen \"&A131&\"'!$H$58\",TRUE)),\"\",INDIRECT(\"'Voksen \"&A131&\"'!$H$58\",TRUE)),1)","v":{"$error":"#VALUE!"}},{"$f":"COUNTIF(IF(ISERROR(INDIRECT(\"'Voksen \"&A131&\"'!$H$69\",TRUE)),\"\",INDIRECT(\"'Voksen \"&A131&\"'!$H$69\",TRUE)),1)","v":{"$error":"#VALUE!"}},{"$f":"COUNTIF(IF(ISERROR(INDIRECT(\"'Voksen \"&A131&\"'!$H$77\",TRUE)),\"\",INDIRECT(\"'Voksen \"&A131&\"'!$H$77\",TRUE)),1)","v":{"$error":"#VALUE!"}},null,null,{"$f":"COUNTIF(IF(ISERROR(INDIRECT(\"'Børn \"&A131&\"'!$H$31\",TRUE)),\"\",INDIRECT(\"'Børn \"&A131&\"'!$H$31\",TRUE)),1)","v":{"$error":"#VALUE!"}},{"$f":"COUNTIF(IF(ISERROR(INDIRECT(\"'Børn \"&A131&\"'!$H$44\",TRUE)),\"\",INDIRECT(\"'Børn \"&A131&\"'!$H$44\",TRUE)),1)","v":{"$error":"#VALUE!"}},{"$f":"COUNTIF(IF(ISERROR(INDIRECT(\"'Børn \"&A131&\"'!$H$53\",TRUE)),\"\",INDIRECT(\"'Børn \"&A131&\"'!$H$53\",TRUE)),1)","v":{"$error":"#VALUE!"}},{"$f":"COUNTIF(IF(ISERROR(INDIRECT(\"'Børn \"&A131&\"'!$H$61\",TRUE)),\"\",INDIRECT(\"'Børn \"&A131&\"'!$H$61\",TRUE)),1)","v":{"$error":"#VALUE!"}},{"$f":"COUNTIF(IF(ISERROR(INDIRECT(\"'Børn \"&A131&\"'!$H$68\",TRUE)),\"\",INDIRECT(\"'Børn \"&A131&\"'!$H$68\",TRUE)),1)","v":{"$error":"#VALUE!"}},{"$f":"COUNTIF(IF(ISERROR(INDIRECT(\"'Børn \"&A131&\"'!$H$79\",TRUE)),\"\",INDIRECT(\"'Børn \"&A131&\"'!$H$79\",TRUE)),1)","v":{"$error":"#VALUE!"}},{"$f":"COUNTIF(IF(ISERROR(INDIRECT(\"'Børn \"&A131&\"'!$H$87\",TRUE)),\"\",INDIRECT(\"'Børn \"&A131&\"'!$H$87\",TRUE)),1)","v":{"$error":"#VALUE!"}},null,null,null,{"$f":"U130","v":"Tilsyn 35"},{"$f":"IF(INDIRECT(\"'Voksen \"&U131&\"'!$c$115\")=\"\",\"\",IFERROR(INDIRECT(\"'Voksen \"&U131&\"'!$c$115\",TRUE),\"\"))","v":{"$error":"#REF!"}},{"$f":"IF(INDIRECT(\"'Voksen \"&U131&\"'!$c$136\")=\"\",\"\",IFERROR(INDIRECT(\"'Voksen \"&U131&\"'!$c$136\",TRUE),\"\"))","v":{"$error":"#REF!"}},{"$f":"IF(INDIRECT(\"'Voksen \"&U131&\"'!$c$157\")=\"\",\"\",IFERROR(INDIRECT(\"'Voksen \"&U131&\"'!$c$157\",TRUE),\"\"))","v":{"$error":"#REF!"}},{"$f":"IF(INDIRECT(\"'Voksen \"&U131&\"'!$c$172\")=\"\",\"\",IFERROR(INDIRECT(\"'Voksen \"&U131&\"'!$c$172\",TRUE),\"\"))","v":{"$error":"#REF!"}},{"$f":"IF(INDIRECT(\"'Voksen \"&U131&\"'!$c$189\")=\"\",\"\",IFERROR(INDIRECT(\"'Voksen \"&U131&\"'!$c$189\",TRUE),\"\"))","v":{"$error":"#REF!"}},{"$f":"IF(INDIRECT(\"'Voksen \"&U131&\"'!$c$210\")=\"\",\"\",IFERROR(INDIRECT(\"'Voksen \"&U131&\"'!$c$210\",TRUE),\"\"))","v":{"$error":"#REF!"}},{"$f":"IF(INDIRECT(\"'Voksen \"&U131&\"'!$c$232\")=\"\",\"\",IFERROR(INDIRECT(\"'Voksen \"&U131&\"'!$c$232\",TRUE),\"\"))","v":{"$error":"#REF!"}},{"$f":"IF(INDIRECT(\"'Voksen \"&U131&\"'!$c$258\")=\"\",\"\",IFERROR(INDIRECT(\"'Voksen \"&U131&\"'!$c$258\",TRUE),\"\"))","v":{"$error":"#REF!"}},null,{"$f":"IF(INDIRECT(\"'Børn \"&U131&\"'!$c$126\")=\"\",\"\",IFERROR(INDIRECT(\"'Børn \"&U131&\"'!$c$126\",TRUE),\"\"))","v":{"$error":"#REF!"}},{"$f":"IF(INDIRECT(\"'Børn \"&U131&\"'!$c$142\")=\"\",\"\",IFERROR(INDIRECT(\"'Børn \"&U131&\"'!$c$142\",TRUE),\"\"))","v":{"$error":"#REF!"}},{"$f":"IF(INDIRECT(\"'Børn \"&U131&\"'!$c$166\")=\"\",\"\",IFERROR(INDIRECT(\"'Børn \"&U131&\"'!$c$166\",TRUE),\"\"))","v":{"$error":"#REF!"}},{"$f":"IF(INDIRECT(\"'Børn \"&U131&\"'!$c$180\")=\"\",\"\",IFERROR(INDIRECT(\"'Børn \"&U131&\"'!$c$180\",TRUE),\"\"))","v":{"$error":"#REF!"}},{"$f":"IF(INDIRECT(\"'Børn \"&U131&\"'!$c$200\")=\"\",\"\",IFERROR(INDIRECT(\"'Børn \"&U131&\"'!$c$200\",TRUE),\"\"))","v":{"$error":"#REF!"}},{"$f":"IF(INDIRECT(\"'Børn \"&U131&\"'!$c$221\")=\"\",\"\",IFERROR(INDIRECT(\"'Børn \"&U131&\"'!$c$221\",TRUE),\"\"))","v":{"$error":"#REF!"}},{"$f":"IF(INDIRECT(\"'Børn \"&U131&\"'!$c$244\")=\"\",\"\",IFERROR(INDIRECT(\"'Børn \"&U131&\"'!$c$244\",TRUE),\"\"))","v":{"$error":"#REF!"}}]
["Tilsyn 24","Status:  gul",{"$f":"COUNTIF(IF(ISERROR(INDIRECT(\"'Voksen \"&A132&\"'!$H$31\",TRUE)),\"\",INDIRECT(\"'Voksen \"&A132&\"'!$H$31\",TRUE)),2)","v":{"$error":"#VALUE!"}},{"$f":"COUNTIF(IF(ISERROR(INDIRECT(\"'Voksen \"&A132&\"'!$H$41\",TRUE)),\"\",INDIRECT(\"'Voksen \"&A132&\"'!$H$41\",TRUE)),2)","v":{"$error":"#VALUE!"}},{"$f":"COUNTIF(IF(ISERROR(INDIRECT(\"'Voksen \"&A132&\"'!$H$50\",TRUE)),\"\",INDIRECT(\"'Voksen \"&A132&\"'!$H$50\",TRUE)),2)","v":{"$error":"#VALUE!"}},{"$f":"COUNTIF(IF(ISERROR(INDIRECT(\"'Voksen \"&A132&\"'!$H$58\",TRUE)),\"\",INDIRECT(\"'Voksen \"&A132&\"'!$H$58\",TRUE)),2)","v":{"$error":"#VALUE!"}},{"$f":"COUNTIF(IF(ISERROR(INDIRECT(\"'Voksen \"&A132&\"'!$H$69\",TRUE)),\"\",INDIRECT(\"'Voksen \"&A132&\"'!$H$69\",TRUE)),2)","v":{"$error":"#VALUE!"}},{"$f":"COUNTIF(IF(ISERROR(INDIRECT(\"'Voksen \"&A132&\"'!$H$77\",TRUE)),\"\",INDIRECT(\"'Voksen \"&A132&\"'!$H$77\",TRUE)),2)","v":{"$error":"#VALUE!"}},null,null,{"$f":"COUNTIF(IF(ISERROR(INDIRECT(\"'Børn \"&A132&\"'!$H$31\",TRUE)),\"\",INDIRECT(\"'Børn \"&A132&\"'!$H$31\",TRUE)),2)","v":{"$error":"#VALUE!"}},{"$f":"COUNTIF(IF(ISERROR(INDIRECT(\"'Børn \"&A132&\"'!$H$44\",TRUE)),\"\",INDIRECT(\"'Børn \"&A132&\"'!$H$44\",TRUE)),2)","v":{"$error":"#VALUE!"}},{"$f":"COUNTIF(IF(ISERROR(INDIRECT(\"'Børn \"&A132&\"'!$H$53\",TRUE)),\"\",INDIRECT(\"'Børn \"&A132&\"'!$H$53\",TRUE)),2)","v":{"$error":"#VALUE!"}},{"$f":"COUNTIF(IF(ISERROR(INDIRECT(\"'Børn \"&A132&\"'!$H$61\",TRUE)),\"\",INDIRECT(\"'Børn \"&A132&\"'!$H$61\",TRUE)),2)","v":{"$error":"#VALUE!"}},{"$f":"COUNTIF(IF(ISERROR(INDIRECT(\"'Børn \"&A132&\"'!$H$68\",TRUE)),\"\",INDIRECT(\"'Børn \"&A132&\"'!$H$68\",TRUE)),2)","v":{"$error":"#VALUE!"}},{"$f":"COUNTIF(IF(ISERROR(INDIRECT(\"'Børn \"&A132&\"'!$H$79\",TRUE)),\"\",INDIRECT(\"'Børn \"&A132&\"'!$H$79\",TRUE)),2)","v":{"$error":"#VALUE!"}},{"$f":"COUNTIF(IF(ISERROR(INDIRECT(\"'Børn \"&A132&\"'!$H$87\",TRUE)),\"\",INDIRECT(\"'Børn \"&A132&\"'!$H$87\",TRUE)),2)","v":{"$error":"#VALUE!"}},null,null,null,"Tilsyn 36",{"$f":"IF(INDIRECT(\"'Voksen \"&U132&\"'!$c$112\")=\"\",\"\",IFERROR(INDIRECT(\"'Voksen \"&U132&\"'!$c$112\",TRUE),\"\"))","v":{"$error":"#REF!"}},{"$f":"IF(INDIRECT(\"'Voksen \"&U132&\"'!$c$133\")=\"\",\"\",IFERROR(INDIRECT(\"'Voksen \"&U132&\"'!$c$133\",TRUE),\"\"))","v":{"$error":"#REF!"}},{"$f":"IF(INDIRECT(\"'Voksen \"&U132&\"'!$c$154\")=\"\",\"\",IFERROR(INDIRECT(\"'Voksen \"&U132&\"'!$c$154\",TRUE),\"\"))","v":{"$error":"#REF!"}},{"$f":"IF(INDIRECT(\"'Voksen \"&U132&\"'!$c$169\")=\"\",\"\",IFERROR(INDIRECT(\"'Voksen \"&U132&\"'!$c$169\",TRUE),\"\"))","v":{"$error":"#REF!"}},{"$f":"IF(INDIRECT(\"'Voksen \"&U132&\"'!$c$186\")=\"\",\"\",IFERROR(INDIRECT(\"'Voksen \"&U132&\"'!$c$186\",TRUE),\"\"))","v":{"$error":"#REF!"}},{"$f":"IF(INDIRECT(\"'Voksen \"&U132&\"'!$c$207\")=\"\",\"\",IFERROR(INDIRECT(\"'Voksen \"&U132&\"'!$c$207\",TRUE),\"\"))","v":{"$error":"#REF!"}},{"$f":"IF(INDIRECT(\"'Voksen \"&U132&\"'!$c$229\")=\"\",\"\",IFERROR(INDIRECT(\"'Voksen \"&U132&\"'!$c$229\",TRUE),\"\"))","v":{"$error":"#REF!"}},{"$f":"IF(INDIRECT(\"'Voksen \"&U132&\"'!$c$255\")=\"\",\"\",IFERROR(INDIRECT(\"'Voksen \"&U132&\"'!$c$255\",TRUE),\"\"))","v":{"$error":"#REF!"}},null,{"$f":"IF(INDIRECT(\"'Børn \"&U132&\"'!$c$123\")=\"\",\"\",IFERROR(INDIRECT(\"'Børn \"&U132&\"'!$c$123\",TRUE),\"\"))","v":{"$error":"#REF!"}},{"$f":"IF(INDIRECT(\"'Børn \"&U132&\"'!$c$139\")=\"\",\"\",IFERROR(INDIRECT(\"'Børn \"&U132&\"'!$c$139\",TRUE),\"\"))","v":{"$error":"#REF!"}},{"$f":"IF(INDIRECT(\"'Børn \"&U132&\"'!$c$163\")=\"\",\"\",IFERROR(INDIRECT(\"'Børn \"&U132&\"'!$c$163\",TRUE),\"\"))","v":{"$error":"#REF!"}},{"$f":"IF(INDIRECT(\"'Børn \"&U132&\"'!$c$177\")=\"\",\"\",IFERROR(INDIRECT(\"'Børn \"&U132&\"'!$c$177\",TRUE),\"\"))","v":{"$error":"#REF!"}},{"$f":"IF(INDIRECT(\"'Børn \"&U132&\"'!$c$197\")=\"\",\"\",IFERROR(INDIRECT(\"'Børn \"&U132&\"'!$c$197\",TRUE),\"\"))","v":{"$error":"#REF!"}},{"$f":"IF(INDIRECT(\"'Børn \"&U132&\"'!$c$218\")=\"\",\"\",IFERROR(INDIRECT(\"'Børn \"&U132&\"'!$c$218\",TRUE),\"\"))","v":{"$error":"#REF!"}},{"$f":"IF(INDIRECT(\"'Børn \"&U132&\"'!$c$241\")=\"\",\"\",IFERROR(INDIRECT(\"'Børn \"&U132&\"'!$c$241\",TRUE),\"\"))","v":{"$error":"#REF!"}}]
["Tilsyn 24","Status:  rød",{"$f":"COUNTIF(IF(ISERROR(INDIRECT(\"'Voksen \"&A133&\"'!$H$31\",TRUE)),\"\",INDIRECT(\"'Voksen \"&A133&\"'!$H$31\",TRUE)),3)","v":{"$error":"#VALUE!"}},{"$f":"COUNTIF(IF(ISERROR(INDIRECT(\"'Voksen \"&A133&\"'!$H$41\",TRUE)),\"\",INDIRECT(\"'Voksen \"&A133&\"'!$H$41\",TRUE)),3)","v":{"$error":"#VALUE!"}},{"$f":"COUNTIF(IF(ISERROR(INDIRECT(\"'Voksen \"&A133&\"'!$H$50\",TRUE)),\"\",INDIRECT(\"'Voksen \"&A133&\"'!$H$50\",TRUE)),3)","v":{"$error":"#VALUE!"}},{"$f":"COUNTIF(IF(ISERROR(INDIRECT(\"'Voksen \"&A133&\"'!$H$58\",TRUE)),\"\",INDIRECT(\"'Voksen \"&A133&\"'!$H$58\",TRUE)),3)","v":{"$error":"#VALUE!"}},{"$f":"COUNTIF(IF(ISERROR(INDIRECT(\"'Voksen \"&A133&\"'!$H$69\",TRUE)),\"\",INDIRECT(\"'Voksen \"&A133&\"'!$H$69\",TRUE)),3)","v":{"$error":"#VALUE!"}},{"$f":"COUNTIF(IF(ISERROR(INDIRECT(\"'Voksen \"&A133&\"'!$H$77\",TRUE)),\"\",INDIRECT(\"'Voksen \"&A133&\"'!$H$77\",TRUE)),3)","v":{"$error":"#VALUE!"}},null,null,{"$f":"COUNTIF(IF(ISERROR(INDIRECT(\"'Børn \"&A133&\"'!$H$31\",TRUE)),\"\",INDIRECT(\"'Børn \"&A133&\"'!$H$31\",TRUE)),3)","v":{"$error":"#VALUE!"}},{"$f":"COUNTIF(IF(ISERROR(INDIRECT(\"'Børn \"&A133&\"'!$H$44\",TRUE)),\"\",INDIRECT(\"'Børn \"&A133&\"'!$H$44\",TRUE)),3)","v":{"$error":"#VALUE!"}},{"$f":"COUNTIF(IF(ISERROR(INDIRECT(\"'Børn \"&A133&\"'!$H$53\",TRUE)),\"\",INDIRECT(\"'Børn \"&A133&\"'!$H$53\",TRUE)),3)","v":{"$error":"#VALUE!"}},{"$f":"COUNTIF(IF(ISERROR(INDIRECT(\"'Børn \"&A133&\"'!$H$61\",TRUE)),\"\",INDIRECT(\"'Børn \"&A133&\"'!$H$61\",TRUE)),3)","v":{"$error":"#VALUE!"}},{"$f":"COUNTIF(IF(ISERROR(INDIRECT(\"'Børn \"&A133&\"'!$H$68\",TRUE)),\"\",INDIRECT(\"'Børn \"&A133&\"'!$H$68\",TRUE)),3)","v":{"$error":"#VALUE!"}},{"$f":"COUNTIF(IF(ISERROR(INDIRECT(\"'Børn \"&A133&\"'!$H$79\",TRUE)),\"\",INDIRECT(\"'Børn \"&A133&\"'!$H$79\",TRUE)),3)","v":{"$error":"#VALUE!"}},{"$f":"COUNTIF(IF(ISERROR(INDIRECT(\"'Børn \"&A133&\"'!$H$87\",TRUE)),\"\",INDIRECT(\"'Børn \"&A133&\"'!$H$87\",TRUE)),3)","v":{"$error":"#VALUE!"}},null,null,null,{"$f":"U132","v":"Tilsyn 36"},{"$f":"IF(INDIRECT(\"'Voksen \"&U133&\"'!$c$115\")=\"\",\"\",IFERROR(INDIRECT(\"'Voksen \"&U133&\"'!$c$115\",TRUE),\"\"))","v":{"$error":"#REF!"}},{"$f":"IF(INDIRECT(\"'Voksen \"&U133&\"'!$c$136\")=\"\",\"\",IFERROR(INDIRECT(\"'Voksen \"&U133&\"'!$c$136\",TRUE),\"\"))","v":{"$error":"#REF!"}},{"$f":"IF(INDIRECT(\"'Voksen \"&U133&\"'!$c$157\")=\"\",\"\",IFERROR(INDIRECT(\"'Voksen \"&U133&\"'!$c$157\",TRUE),\"\"))","v":{"$error":"#REF!"}},{"$f":"IF(INDIRECT(\"'Voksen \"&U133&\"'!$c$172\")=\"\",\"\",IFERROR(INDIRECT(\"'Voksen \"&U133&\"'!$c$172\",TRUE),\"\"))","v":{"$error":"#REF!"}},{"$f":"IF(INDIRECT(\"'Voksen \"&U133&\"'!$c$189\")=\"\",\"\",IFERROR(INDIRECT(\"'Voksen \"&U133&\"'!$c$189\",TRUE),\"\"))","v":{"$error":"#REF!"}},{"$f":"IF(INDIRECT(\"'Voksen \"&U133&\"'!$c$210\")=\"\",\"\",IFERROR(INDIRECT(\"'Voksen \"&U133&\"'!$c$210\",TRUE),\"\"))","v":{"$error":"#REF!"}},{"$f":"IF(INDIRECT(\"'Voksen \"&U133&\"'!$c$232\")=\"\",\"\",IFERROR(INDIRECT(\"'Voksen \"&U133&\"'!$c$232\",TRUE),\"\"))","v":{"$error":"#REF!"}},{"$f":"IF(INDIRECT(\"'Voksen \"&U133&\"'!$c$258\")=\"\",\"\",IFERROR(INDIRECT(\"'Voksen \"&U133&\"'!$c$258\",TRUE),\"\"))","v":{"$error":"#REF!"}},null,{"$f":"IF(INDIRECT(\"'Børn \"&U133&\"'!$c$126\")=\"\",\"\",IFERROR(INDIRECT(\"'Børn \"&U133&\"'!$c$126\",TRUE),\"\"))","v":{"$error":"#REF!"}},{"$f":"IF(INDIRECT(\"'Børn \"&U133&\"'!$c$142\")=\"\",\"\",IFERROR(INDIRECT(\"'Børn \"&U133&\"'!$c$142\",TRUE),\"\"))","v":{"$error":"#REF!"}},{"$f":"IF(INDIRECT(\"'Børn \"&U133&\"'!$c$166\")=\"\",\"\",IFERROR(INDIRECT(\"'Børn \"&U133&\"'!$c$166\",TRUE),\"\"))","v":{"$error":"#REF!"}},{"$f":"IF(INDIRECT(\"'Børn \"&U133&\"'!$c$180\")=\"\",\"\",IFERROR(INDIRECT(\"'Børn \"&U133&\"'!$c$180\",TRUE),\"\"))","v":{"$error":"#REF!"}},{"$f":"IF(INDIRECT(\"'Børn \"&U133&\"'!$c$200\")=\"\",\"\",IFERROR(INDIRECT(\"'Børn \"&U133&\"'!$c$200\",TRUE),\"\"))","v":{"$error":"#REF!"}},{"$f":"IF(INDIRECT(\"'Børn \"&U133&\"'!$c$221\")=\"\",\"\",IFERROR(INDIRECT(\"'Børn \"&U133&\"'!$c$221\",TRUE),\"\"))","v":{"$error":"#REF!"}},{"$f":"IF(INDIRECT(\"'Børn \"&U133&\"'!$c$244\")=\"\",\"\",IFERROR(INDIRECT(\"'Børn \"&U133&\"'!$c$244\",TRUE),\"\"))","v":{"$error":"#REF!"}}]
["Tilsyn 25","Status:  grøn",{"$f":"COUNTIF(IF(ISERROR(INDIRECT(\"'Voksen \"&A134&\"'!$H$31\",TRUE)),\"\",INDIRECT(\"'Voksen \"&A134&\"'!$H$31\",TRUE)),1)","v":{"$error":"#VALUE!"}},{"$f":"COUNTIF(IF(ISERROR(INDIRECT(\"'Voksen \"&A134&\"'!$H$41\",TRUE)),\"\",INDIRECT(\"'Voksen \"&A134&\"'!$H$41\",TRUE)),1)","v":{"$error":"#VALUE!"}},{"$f":"COUNTIF(IF(ISERROR(INDIRECT(\"'Voksen \"&A134&\"'!$H$50\",TRUE)),\"\",INDIRECT(\"'Voksen \"&A134&\"'!$H$50\",TRUE)),1)","v":{"$error":"#VALUE!"}},{"$f":"COUNTIF(IF(ISERROR(INDIRECT(\"'Voksen \"&A134&\"'!$H$58\",TRUE)),\"\",INDIRECT(\"'Voksen \"&A134&\"'!$H$58\",TRUE)),1)","v":{"$error":"#VALUE!"}},{"$f":"COUNTIF(IF(ISERROR(INDIRECT(\"'Voksen \"&A134&\"'!$H$69\",TRUE)),\"\",INDIRECT(\"'Voksen \"&A134&\"'!$H$69\",TRUE)),1)","v":{"$error":"#VALUE!"}},{"$f":"COUNTIF(IF(ISERROR(INDIRECT(\"'Voksen \"&A134&\"'!$H$77\",TRUE)),\"\",INDIRECT(\"'Voksen \"&A134&\"'!$H$77\",TRUE)),1)","v":{"$error":"#VALUE!"}},null,null,{"$f":"COUNTIF(IF(ISERROR(INDIRECT(\"'Børn \"&A134&\"'!$H$31\",TRUE)),\"\",INDIRECT(\"'Børn \"&A134&\"'!$H$31\",TRUE)),1)","v":{"$error":"#VALUE!"}},{"$f":"COUNTIF(IF(ISERROR(INDIRECT(\"'Børn \"&A134&\"'!$H$44\",TRUE)),\"\",INDIRECT(\"'Børn \"&A134&\"'!$H$44\",TRUE)),1)","v":{"$error":"#VALUE!"}},{"$f":"COUNTIF(IF(ISERROR(INDIRECT(\"'Børn \"&A134&\"'!$H$53\",TRUE)),\"\",INDIRECT(\"'Børn \"&A134&\"'!$H$53\",TRUE)),1)","v":{"$error":"#VALUE!"}},{"$f":"COUNTIF(IF(ISERROR(INDIRECT(\"'Børn \"&A134&\"'!$H$61\",TRUE)),\"\",INDIRECT(\"'Børn \"&A134&\"'!$H$61\",TRUE)),1)","v":{"$error":"#VALUE!"}},{"$f":"COUNTIF(IF(ISERROR(INDIRECT(\"'Børn \"&A134&\"'!$H$68\",TRUE)),\"\",INDIRECT(\"'Børn \"&A134&\"'!$H$68\",TRUE)),1)","v":{"$error":"#VALUE!"}},{"$f":"COUNTIF(IF(ISERROR(INDIRECT(\"'Børn \"&A134&\"'!$H$79\",TRUE)),\"\",INDIRECT(\"'Børn \"&A134&\"'!$H$79\",TRUE)),1)","v":{"$error":"#VALUE!"}},{"$f":"COUNTIF(IF(ISERROR(INDIRECT(\"'Børn \"&A134&\"'!$H$87\",TRUE)),\"\",INDIRECT(\"'Børn \"&A134&\"'!$H$87\",TRUE)),1)","v":{"$error":"#VALUE!"}},null,null,null,"Tilsyn 37",{"$f":"IF(INDIRECT(\"'Voksen \"&U134&\"'!$c$112\")=\"\",\"\",IFERROR(INDIRECT(\"'Voksen \"&U134&\"'!$c$112\",TRUE),\"\"))","v":{"$error":"#REF!"}},{"$f":"IF(INDIRECT(\"'Voksen \"&U134&\"'!$c$133\")=\"\",\"\",IFERROR(INDIRECT(\"'Voksen \"&U134&\"'!$c$133\",TRUE),\"\"))","v":{"$error":"#REF!"}},{"$f":"IF(INDIRECT(\"'Voksen \"&U134&\"'!$c$154\")=\"\",\"\",IFERROR(INDIRECT(\"'Voksen \"&U134&\"'!$c$154\",TRUE),\"\"))","v":{"$error":"#REF!"}},{"$f":"IF(INDIRECT(\"'Voksen \"&U134&\"'!$c$169\")=\"\",\"\",IFERROR(INDIRECT(\"'Voksen \"&U134&\"'!$c$169\",TRUE),\"\"))","v":{"$error":"#REF!"}},{"$f":"IF(INDIRECT(\"'Voksen \"&U134&\"'!$c$186\")=\"\",\"\",IFERROR(INDIRECT(\"'Voksen \"&U134&\"'!$c$186\",TRUE),\"\"))","v":{"$error":"#REF!"}},{"$f":"IF(INDIRECT(\"'Voksen \"&U134&\"'!$c$207\")=\"\",\"\",IFERROR(INDIRECT(\"'Voksen \"&U134&\"'!$c$207\",TRUE),\"\"))","v":{"$error":"#REF!"}},{"$f":"IF(INDIRECT(\"'Voksen \"&U134&\"'!$c$229\")=\"\",\"\",IFERROR(INDIRECT(\"'Voksen \"&U134&\"'!$c$229\",TRUE),\"\"))","v":{"$error":"#REF!"}},{"$f":"IF(INDIRECT(\"'Voksen \"&U134&\"'!$c$255\")=\"\",\"\",IFERROR(INDIRECT(\"'Voksen \"&U134&\"'!$c$255\",TRUE),\"\"))","v":{"$error":"#REF!"}},null,{"$f":"IF(INDIRECT(\"'Børn \"&U134&\"'!$c$123\")=\"\",\"\",IFERROR(INDIRECT(\"'Børn \"&U134&\"'!$c$123\",TRUE),\"\"))","v":{"$error":"#REF!"}},{"$f":"IF(INDIRECT(\"'Børn \"&U134&\"'!$c$139\")=\"\",\"\",IFERROR(INDIRECT(\"'Børn \"&U134&\"'!$c$139\",TRUE),\"\"))","v":{"$error":"#REF!"}},{"$f":"IF(INDIRECT(\"'Børn \"&U134&\"'!$c$163\")=\"\",\"\",IFERROR(INDIRECT(\"'Børn \"&U134&\"'!$c$163\",TRUE),\"\"))","v":{"$error":"#REF!"}},{"$f":"IF(INDIRECT(\"'Børn \"&U134&\"'!$c$177\")=\"\",\"\",IFERROR(INDIRECT(\"'Børn \"&U134&\"'!$c$177\",TRUE),\"\"))","v":{"$error":"#REF!"}},{"$f":"IF(INDIRECT(\"'Børn \"&U134&\"'!$c$197\")=\"\",\"\",IFERROR(INDIRECT(\"'Børn \"&U134&\"'!$c$197\",TRUE),\"\"))","v":{"$error":"#REF!"}},{"$f":"IF(INDIRECT(\"'Børn \"&U134&\"'!$c$218\")=\"\",\"\",IFERROR(INDIRECT(\"'Børn \"&U134&\"'!$c$218\",TRUE),\"\"))","v":{"$error":"#REF!"}},{"$f":"IF(INDIRECT(\"'Børn \"&U134&\"'!$c$241\")=\"\",\"\",IFERROR(INDIRECT(\"'Børn \"&U134&\"'!$c$241\",TRUE),\"\"))","v":{"$error":"#REF!"}}]
["Tilsyn 25","Status:  gul",{"$f":"COUNTIF(IF(ISERROR(INDIRECT(\"'Voksen \"&A135&\"'!$H$31\",TRUE)),\"\",INDIRECT(\"'Voksen \"&A135&\"'!$H$31\",TRUE)),2)","v":{"$error":"#VALUE!"}},{"$f":"COUNTIF(IF(ISERROR(INDIRECT(\"'Voksen \"&A135&\"'!$H$41\",TRUE)),\"\",INDIRECT(\"'Voksen \"&A135&\"'!$H$41\",TRUE)),2)","v":{"$error":"#VALUE!"}},{"$f":"COUNTIF(IF(ISERROR(INDIRECT(\"'Voksen \"&A135&\"'!$H$50\",TRUE)),\"\",INDIRECT(\"'Voksen \"&A135&\"'!$H$50\",TRUE)),2)","v":{"$error":"#VALUE!"}},{"$f":"COUNTIF(IF(ISERROR(INDIRECT(\"'Voksen \"&A135&\"'!$H$58\",TRUE)),\"\",INDIRECT(\"'Voksen \"&A135&\"'!$H$58\",TRUE)),2)","v":{"$error":"#VALUE!"}},{"$f":"COUNTIF(IF(ISERROR(INDIRECT(\"'Voksen \"&A135&\"'!$H$69\",TRUE)),\"\",INDIRECT(\"'Voksen \"&A135&\"'!$H$69\",TRUE)),2)","v":{"$error":"#VALUE!"}},{"$f":"COUNTIF(IF(ISERROR(INDIRECT(\"'Voksen \"&A135&\"'!$H$77\",TRUE)),\"\",INDIRECT(\"'Voksen \"&A135&\"'!$H$77\",TRUE)),2)","v":{"$error":"#VALUE!"}},null,null,{"$f":"COUNTIF(IF(ISERROR(INDIRECT(\"'Børn \"&A135&\"'!$H$31\",TRUE)),\"\",INDIRECT(\"'Børn \"&A135&\"'!$H$31\",TRUE)),2)","v":{"$error":"#VALUE!"}},{"$f":"COUNTIF(IF(ISERROR(INDIRECT(\"'Børn \"&A135&\"'!$H$44\",TRUE)),\"\",INDIRECT(\"'Børn \"&A135&\"'!$H$44\",TRUE)),2)","v":{"$error":"#VALUE!"}},{"$f":"COUNTIF(IF(ISERROR(INDIRECT(\"'Børn \"&A135&\"'!$H$53\",TRUE)),\"\",INDIRECT(\"'Børn \"&A135&\"'!$H$53\",TRUE)),2)","v":{"$error":"#VALUE!"}},{"$f":"COUNTIF(IF(ISERROR(INDIRECT(\"'Børn \"&A135&\"'!$H$61\",TRUE)),\"\",INDIRECT(\"'Børn \"&A135&\"'!$H$61\",TRUE)),2)","v":{"$error":"#VALUE!"}},{"$f":"COUNTIF(IF(ISERROR(INDIRECT(\"'Børn \"&A135&\"'!$H$68\",TRUE)),\"\",INDIRECT(\"'Børn \"&A135&\"'!$H$68\",TRUE)),2)","v":{"$error":"#VALUE!"}},{"$f":"COUNTIF(IF(ISERROR(INDIRECT(\"'Børn \"&A135&\"'!$H$79\",TRUE)),\"\",INDIRECT(\"'Børn \"&A135&\"'!$H$79\",TRUE)),2)","v":{"$error":"#VALUE!"}},{"$f":"COUNTIF(IF(ISERROR(INDIRECT(\"'Børn \"&A135&\"'!$H$87\",TRUE)),\"\",INDIRECT(\"'Børn \"&A135&\"'!$H$87\",TRUE)),2)","v":{"$error":"#VALUE!"}},null,null,null,{"$f":"U134","v":"Tilsyn 37"},{"$f":"IF(INDIRECT(\"'Voksen \"&U135&\"'!$c$115\")=\"\",\"\",IFERROR(INDIRECT(\"'Voksen \"&U135&\"'!$c$115\",TRUE),\"\"))","v":{"$error":"#REF!"}},{"$f":"IF(INDIRECT(\"'Voksen \"&U135&\"'!$c$136\")=\"\",\"\",IFERROR(INDIRECT(\"'Voksen \"&U135&\"'!$c$136\",TRUE),\"\"))","v":{"$error":"#REF!"}},{"$f":"IF(INDIRECT(\"'Voksen \"&U135&\"'!$c$157\")=\"\",\"\",IFERROR(INDIRECT(\"'Voksen \"&U135&\"'!$c$157\",TRUE),\"\"))","v":{"$error":"#REF!"}},{"$f":"IF(INDIRECT(\"'Voksen \"&U135&\"'!$c$172\")=\"\",\"\",IFERROR(INDIRECT(\"'Voksen \"&U135&\"'!$c$172\",TRUE),\"\"))","v":{"$error":"#REF!"}},{"$f":"IF(INDIRECT(\"'Voksen \"&U135&\"'!$c$189\")=\"\",\"\",IFERROR(INDIRECT(\"'Voksen \"&U135&\"'!$c$189\",TRUE),\"\"))","v":{"$error":"#REF!"}},{"$f":"IF(INDIRECT(\"'Voksen \"&U135&\"'!$c$210\")=\"\",\"\",IFERROR(INDIRECT(\"'Voksen \"&U135&\"'!$c$210\",TRUE),\"\"))","v":{"$error":"#REF!"}},{"$f":"IF(INDIRECT(\"'Voksen \"&U135&\"'!$c$232\")=\"\",\"\",IFERROR(INDIRECT(\"'Voksen \"&U135&\"'!$c$232\",TRUE),\"\"))","v":{"$error":"#REF!"}},{"$f":"IF(INDIRECT(\"'Voksen \"&U135&\"'!$c$258\")=\"\",\"\",IFERROR(INDIRECT(\"'Voksen \"&U135&\"'!$c$258\",TRUE),\"\"))","v":{"$error":"#REF!"}},null,{"$f":"IF(INDIRECT(\"'Børn \"&U135&\"'!$c$126\")=\"\",\"\",IFERROR(INDIRECT(\"'Børn \"&U135&\"'!$c$126\",TRUE),\"\"))","v":{"$error":"#REF!"}},{"$f":"IF(INDIRECT(\"'Børn \"&U135&\"'!$c$142\")=\"\",\"\",IFERROR(INDIRECT(\"'Børn \"&U135&\"'!$c$142\",TRUE),\"\"))","v":{"$error":"#REF!"}},{"$f":"IF(INDIRECT(\"'Børn \"&U135&\"'!$c$166\")=\"\",\"\",IFERROR(INDIRECT(\"'Børn \"&U135&\"'!$c$166\",TRUE),\"\"))","v":{"$error":"#REF!"}},{"$f":"IF(INDIRECT(\"'Børn \"&U135&\"'!$c$180\")=\"\",\"\",IFERROR(INDIRECT(\"'Børn \"&U135&\"'!$c$180\",TRUE),\"\"))","v":{"$error":"#REF!"}},{"$f":"IF(INDIRECT(\"'Børn \"&U135&\"'!$c$200\")=\"\",\"\",IFERROR(INDIRECT(\"'Børn \"&U135&\"'!$c$200\",TRUE),\"\"))","v":{"$error":"#REF!"}},{"$f":"IF(INDIRECT(\"'Børn \"&U135&\"'!$c$221\")=\"\",\"\",IFERROR(INDIRECT(\"'Børn \"&U135&\"'!$c$221\",TRUE),\"\"))","v":{"$error":"#REF!"}},{"$f":"IF(INDIRECT(\"'Børn \"&U135&\"'!$c$244\")=\"\",\"\",IFERROR(INDIRECT(\"'Børn \"&U135&\"'!$c$244\",TRUE),\"\"))","v":{"$error":"#REF!"}}]
["Tilsyn 25","Status:  rød",{"$f":"COUNTIF(IF(ISERROR(INDIRECT(\"'Voksen \"&A136&\"'!$H$31\",TRUE)),\"\",INDIRECT(\"'Voksen \"&A136&\"'!$H$31\",TRUE)),3)","v":{"$error":"#VALUE!"}},{"$f":"COUNTIF(IF(ISERROR(INDIRECT(\"'Voksen \"&A136&\"'!$H$41\",TRUE)),\"\",INDIRECT(\"'Voksen \"&A136&\"'!$H$41\",TRUE)),3)","v":{"$error":"#VALUE!"}},{"$f":"COUNTIF(IF(ISERROR(INDIRECT(\"'Voksen \"&A136&\"'!$H$50\",TRUE)),\"\",INDIRECT(\"'Voksen \"&A136&\"'!$H$50\",TRUE)),3)","v":{"$error":"#VALUE!"}},{"$f":"COUNTIF(IF(ISERROR(INDIRECT(\"'Voksen \"&A136&\"'!$H$58\",TRUE)),\"\",INDIRECT(\"'Voksen \"&A136&\"'!$H$58\",TRUE)),3)","v":{"$error":"#VALUE!"}},{"$f":"COUNTIF(IF(ISERROR(INDIRECT(\"'Voksen \"&A136&\"'!$H$69\",TRUE)),\"\",INDIRECT(\"'Voksen \"&A136&\"'!$H$69\",TRUE)),3)","v":{"$error":"#VALUE!"}},{"$f":"COUNTIF(IF(ISERROR(INDIRECT(\"'Voksen \"&A136&\"'!$H$77\",TRUE)),\"\",INDIRECT(\"'Voksen \"&A136&\"'!$H$77\",TRUE)),3)","v":{"$error":"#VALUE!"}},null,null,{"$f":"COUNTIF(IF(ISERROR(INDIRECT(\"'Børn \"&A136&\"'!$H$31\",TRUE)),\"\",INDIRECT(\"'Børn \"&A136&\"'!$H$31\",TRUE)),3)","v":{"$error":"#VALUE!"}},{"$f":"COUNTIF(IF(ISERROR(INDIRECT(\"'Børn \"&A136&\"'!$H$44\",TRUE)),\"\",INDIRECT(\"'Børn \"&A136&\"'!$H$44\",TRUE)),3)","v":{"$error":"#VALUE!"}},{"$f":"COUNTIF(IF(ISERROR(INDIRECT(\"'Børn \"&A136&\"'!$H$53\",TRUE)),\"\",INDIRECT(\"'Børn \"&A136&\"'!$H$53\",TRUE)),3)","v":{"$error":"#VALUE!"}},{"$f":"COUNTIF(IF(ISERROR(INDIRECT(\"'Børn \"&A136&\"'!$H$61\",TRUE)),\"\",INDIRECT(\"'Børn \"&A136&\"'!$H$61\",TRUE)),3)","v":{"$error":"#VALUE!"}},{"$f":"COUNTIF(IF(ISERROR(INDIRECT(\"'Børn \"&A136&\"'!$H$68\",TRUE)),\"\",INDIRECT(\"'Børn \"&A136&\"'!$H$68\",TRUE)),3)","v":{"$error":"#VALUE!"}},{"$f":"COUNTIF(IF(ISERROR(INDIRECT(\"'Børn \"&A136&\"'!$H$79\",TRUE)),\"\",INDIRECT(\"'Børn \"&A136&\"'!$H$79\",TRUE)),3)","v":{"$error":"#VALUE!"}},{"$f":"COUNTIF(IF(ISERROR(INDIRECT(\"'Børn \"&A136&\"'!$H$87\",TRUE)),\"\",INDIRECT(\"'Børn \"&A136&\"'!$H$87\",TRUE)),3)","v":{"$error":"#VALUE!"}},null,null,null,"Tilsyn 38",{"$f":"IF(INDIRECT(\"'Voksen \"&U136&\"'!$c$112\")=\"\",\"\",IFERROR(INDIRECT(\"'Voksen \"&U136&\"'!$c$112\",TRUE),\"\"))","v":{"$error":"#REF!"}},{"$f":"IF(INDIRECT(\"'Voksen \"&U136&\"'!$c$133\")=\"\",\"\",IFERROR(INDIRECT(\"'Voksen \"&U136&\"'!$c$133\",TRUE),\"\"))","v":{"$error":"#REF!"}},{"$f":"IF(INDIRECT(\"'Voksen \"&U136&\"'!$c$154\")=\"\",\"\",IFERROR(INDIRECT(\"'Voksen \"&U136&\"'!$c$154\",TRUE),\"\"))","v":{"$error":"#REF!"}},{"$f":"IF(INDIRECT(\"'Voksen \"&U136&\"'!$c$169\")=\"\",\"\",IFERROR(INDIRECT(\"'Voksen \"&U136&\"'!$c$169\",TRUE),\"\"))","v":{"$error":"#REF!"}},{"$f":"IF(INDIRECT(\"'Voksen \"&U136&\"'!$c$186\")=\"\",\"\",IFERROR(INDIRECT(\"'Voksen \"&U136&\"'!$c$186\",TRUE),\"\"))","v":{"$error":"#REF!"}},{"$f":"IF(INDIRECT(\"'Voksen \"&U136&\"'!$c$207\")=\"\",\"\",IFERROR(INDIRECT(\"'Voksen \"&U136&\"'!$c$207\",TRUE),\"\"))","v":{"$error":"#REF!"}},{"$f":"IF(INDIRECT(\"'Voksen \"&U136&\"'!$c$229\")=\"\",\"\",IFERROR(INDIRECT(\"'Voksen \"&U136&\"'!$c$229\",TRUE),\"\"))","v":{"$error":"#REF!"}},{"$f":"IF(INDIRECT(\"'Voksen \"&U136&\"'!$c$255\")=\"\",\"\",IFERROR(INDIRECT(\"'Voksen \"&U136&\"'!$c$255\",TRUE),\"\"))","v":{"$error":"#REF!"}},null,{"$f":"IF(INDIRECT(\"'Børn \"&U136&\"'!$c$123\")=\"\",\"\",IFERROR(INDIRECT(\"'Børn \"&U136&\"'!$c$123\",TRUE),\"\"))","v":{"$error":"#REF!"}},{"$f":"IF(INDIRECT(\"'Børn \"&U136&\"'!$c$139\")=\"\",\"\",IFERROR(INDIRECT(\"'Børn \"&U136&\"'!$c$139\",TRUE),\"\"))","v":{"$error":"#REF!"}},{"$f":"IF(INDIRECT(\"'Børn \"&U136&\"'!$c$163\")=\"\",\"\",IFERROR(INDIRECT(\"'Børn \"&U136&\"'!$c$163\",TRUE),\"\"))","v":{"$error":"#REF!"}},{"$f":"IF(INDIRECT(\"'Børn \"&U136&\"'!$c$177\")=\"\",\"\",IFERROR(INDIRECT(\"'Børn \"&U136&\"'!$c$177\",TRUE),\"\"))","v":{"$error":"#REF!"}},{"$f":"IF(INDIRECT(\"'Børn \"&U136&\"'!$c$197\")=\"\",\"\",IFERROR(INDIRECT(\"'Børn \"&U136&\"'!$c$197\",TRUE),\"\"))","v":{"$error":"#REF!"}},{"$f":"IF(INDIRECT(\"'Børn \"&U136&\"'!$c$218\")=\"\",\"\",IFERROR(INDIRECT(\"'Børn \"&U136&\"'!$c$218\",TRUE),\"\"))","v":{"$error":"#REF!"}},{"$f":"IF(INDIRECT(\"'Børn \"&U136&\"'!$c$241\")=\"\",\"\",IFERROR(INDIRECT(\"'Børn \"&U136&\"'!$c$241\",TRUE),\"\"))","v":{"$error":"#REF!"}}]
["Tilsyn 26","Status:  grøn",{"$f":"COUNTIF(IF(ISERROR(INDIRECT(\"'Voksen \"&A137&\"'!$H$31\",TRUE)),\"\",INDIRECT(\"'Voksen \"&A137&\"'!$H$31\",TRUE)),1)","v":{"$error":"#VALUE!"}},{"$f":"COUNTIF(IF(ISERROR(INDIRECT(\"'Voksen \"&A137&\"'!$H$41\",TRUE)),\"\",INDIRECT(\"'Voksen \"&A137&\"'!$H$41\",TRUE)),1)","v":{"$error":"#VALUE!"}},{"$f":"COUNTIF(IF(ISERROR(INDIRECT(\"'Voksen \"&A137&\"'!$H$50\",TRUE)),\"\",INDIRECT(\"'Voksen \"&A137&\"'!$H$50\",TRUE)),1)","v":{"$error":"#VALUE!"}},{"$f":"COUNTIF(IF(ISERROR(INDIRECT(\"'Voksen \"&A137&\"'!$H$58\",TRUE)),\"\",INDIRECT(\"'Voksen \"&A137&\"'!$H$58\",TRUE)),1)","v":{"$error":"#VALUE!"}},{"$f":"COUNTIF(IF(ISERROR(INDIRECT(\"'Voksen \"&A137&\"'!$H$69\",TRUE)),\"\",INDIRECT(\"'Voksen \"&A137&\"'!$H$69\",TRUE)),1)","v":{"$error":"#VALUE!"}},{"$f":"COUNTIF(IF(ISERROR(INDIRECT(\"'Voksen \"&A137&\"'!$H$77\",TRUE)),\"\",INDIRECT(\"'Voksen \"&A137&\"'!$H$77\",TRUE)),1)","v":{"$error":"#VALUE!"}},null,null,{"$f":"COUNTIF(IF(ISERROR(INDIRECT(\"'Børn \"&A137&\"'!$H$31\",TRUE)),\"\",INDIRECT(\"'Børn \"&A137&\"'!$H$31\",TRUE)),1)","v":{"$error":"#VALUE!"}},{"$f":"COUNTIF(IF(ISERROR(INDIRECT(\"'Børn \"&A137&\"'!$H$44\",TRUE)),\"\",INDIRECT(\"'Børn \"&A137&\"'!$H$44\",TRUE)),1)","v":{"$error":"#VALUE!"}},{"$f":"COUNTIF(IF(ISERROR(INDIRECT(\"'Børn \"&A137&\"'!$H$53\",TRUE)),\"\",INDIRECT(\"'Børn \"&A137&\"'!$H$53\",TRUE)),1)","v":{"$error":"#VALUE!"}},{"$f":"COUNTIF(IF(ISERROR(INDIRECT(\"'Børn \"&A137&\"'!$H$61\",TRUE)),\"\",INDIRECT(\"'Børn \"&A137&\"'!$H$61\",TRUE)),1)","v":{"$error":"#VALUE!"}},{"$f":"COUNTIF(IF(ISERROR(INDIRECT(\"'Børn \"&A137&\"'!$H$68\",TRUE)),\"\",INDIRECT(\"'Børn \"&A137&\"'!$H$68\",TRUE)),1)","v":{"$error":"#VALUE!"}},{"$f":"COUNTIF(IF(ISERROR(INDIRECT(\"'Børn \"&A137&\"'!$H$79\",TRUE)),\"\",INDIRECT(\"'Børn \"&A137&\"'!$H$79\",TRUE)),1)","v":{"$error":"#VALUE!"}},{"$f":"COUNTIF(IF(ISERROR(INDIRECT(\"'Børn \"&A137&\"'!$H$87\",TRUE)),\"\",INDIRECT(\"'Børn \"&A137&\"'!$H$87\",TRUE)),1)","v":{"$error":"#VALUE!"}},null,null,null,{"$f":"U136","v":"Tilsyn 38"},{"$f":"IF(INDIRECT(\"'Voksen \"&U137&\"'!$c$115\")=\"\",\"\",IFERROR(INDIRECT(\"'Voksen \"&U137&\"'!$c$115\",TRUE),\"\"))","v":{"$error":"#REF!"}},{"$f":"IF(INDIRECT(\"'Voksen \"&U137&\"'!$c$136\")=\"\",\"\",IFERROR(INDIRECT(\"'Voksen \"&U137&\"'!$c$136\",TRUE),\"\"))","v":{"$error":"#REF!"}},{"$f":"IF(INDIRECT(\"'Voksen \"&U137&\"'!$c$157\")=\"\",\"\",IFERROR(INDIRECT(\"'Voksen \"&U137&\"'!$c$157\",TRUE),\"\"))","v":{"$error":"#REF!"}},{"$f":"IF(INDIRECT(\"'Voksen \"&U137&\"'!$c$172\")=\"\",\"\",IFERROR(INDIRECT(\"'Voksen \"&U137&\"'!$c$172\",TRUE),\"\"))","v":{"$error":"#REF!"}},{"$f":"IF(INDIRECT(\"'Voksen \"&U137&\"'!$c$189\")=\"\",\"\",IFERROR(INDIRECT(\"'Voksen \"&U137&\"'!$c$189\",TRUE),\"\"))","v":{"$error":"#REF!"}},{"$f":"IF(INDIRECT(\"'Voksen \"&U137&\"'!$c$210\")=\"\",\"\",IFERROR(INDIRECT(\"'Voksen \"&U137&\"'!$c$210\",TRUE),\"\"))","v":{"$error":"#REF!"}},{"$f":"IF(INDIRECT(\"'Voksen \"&U137&\"'!$c$232\")=\"\",\"\",IFERROR(INDIRECT(\"'Voksen \"&U137&\"'!$c$232\",TRUE),\"\"))","v":{"$error":"#REF!"}},{"$f":"IF(INDIRECT(\"'Voksen \"&U137&\"'!$c$258\")=\"\",\"\",IFERROR(INDIRECT(\"'Voksen \"&U137&\"'!$c$258\",TRUE),\"\"))","v":{"$error":"#REF!"}},null,{"$f":"IF(INDIRECT(\"'Børn \"&U137&\"'!$c$126\")=\"\",\"\",IFERROR(INDIRECT(\"'Børn \"&U137&\"'!$c$126\",TRUE),\"\"))","v":{"$error":"#REF!"}},{"$f":"IF(INDIRECT(\"'Børn \"&U137&\"'!$c$142\")=\"\",\"\",IFERROR(INDIRECT(\"'Børn \"&U137&\"'!$c$142\",TRUE),\"\"))","v":{"$error":"#REF!"}},{"$f":"IF(INDIRECT(\"'Børn \"&U137&\"'!$c$166\")=\"\",\"\",IFERROR(INDIRECT(\"'Børn \"&U137&\"'!$c$166\",TRUE),\"\"))","v":{"$error":"#REF!"}},{"$f":"IF(INDIRECT(\"'Børn \"&U137&\"'!$c$180\")=\"\",\"\",IFERROR(INDIRECT(\"'Børn \"&U137&\"'!$c$180\",TRUE),\"\"))","v":{"$error":"#REF!"}},{"$f":"IF(INDIRECT(\"'Børn \"&U137&\"'!$c$200\")=\"\",\"\",IFERROR(INDIRECT(\"'Børn \"&U137&\"'!$c$200\",TRUE),\"\"))","v":{"$error":"#REF!"}},{"$f":"IF(INDIRECT(\"'Børn \"&U137&\"'!$c$221\")=\"\",\"\",IFERROR(INDIRECT(\"'Børn \"&U137&\"'!$c$221\",TRUE),\"\"))","v":{"$error":"#REF!"}},{"$f":"IF(INDIRECT(\"'Børn \"&U137&\"'!$c$244\")=\"\",\"\",IFERROR(INDIRECT(\"'Børn \"&U137&\"'!$c$244\",TRUE),\"\"))","v":{"$error":"#REF!"}}]
["Tilsyn 26","Status:  gul",{"$f":"COUNTIF(IF(ISERROR(INDIRECT(\"'Voksen \"&A138&\"'!$H$31\",TRUE)),\"\",INDIRECT(\"'Voksen \"&A138&\"'!$H$31\",TRUE)),2)","v":{"$error":"#VALUE!"}},{"$f":"COUNTIF(IF(ISERROR(INDIRECT(\"'Voksen \"&A138&\"'!$H$41\",TRUE)),\"\",INDIRECT(\"'Voksen \"&A138&\"'!$H$41\",TRUE)),2)","v":{"$error":"#VALUE!"}},{"$f":"COUNTIF(IF(ISERROR(INDIRECT(\"'Voksen \"&A138&\"'!$H$50\",TRUE)),\"\",INDIRECT(\"'Voksen \"&A138&\"'!$H$50\",TRUE)),2)","v":{"$error":"#VALUE!"}},{"$f":"COUNTIF(IF(ISERROR(INDIRECT(\"'Voksen \"&A138&\"'!$H$58\",TRUE)),\"\",INDIRECT(\"'Voksen \"&A138&\"'!$H$58\",TRUE)),2)","v":{"$error":"#VALUE!"}},{"$f":"COUNTIF(IF(ISERROR(INDIRECT(\"'Voksen \"&A138&\"'!$H$69\",TRUE)),\"\",INDIRECT(\"'Voksen \"&A138&\"'!$H$69\",TRUE)),2)","v":{"$error":"#VALUE!"}},{"$f":"COUNTIF(IF(ISERROR(INDIRECT(\"'Voksen \"&A138&\"'!$H$77\",TRUE)),\"\",INDIRECT(\"'Voksen \"&A138&\"'!$H$77\",TRUE)),2)","v":{"$error":"#VALUE!"}},null,null,{"$f":"COUNTIF(IF(ISERROR(INDIRECT(\"'Børn \"&A138&\"'!$H$31\",TRUE)),\"\",INDIRECT(\"'Børn \"&A138&\"'!$H$31\",TRUE)),2)","v":{"$error":"#VALUE!"}},{"$f":"COUNTIF(IF(ISERROR(INDIRECT(\"'Børn \"&A138&\"'!$H$44\",TRUE)),\"\",INDIRECT(\"'Børn \"&A138&\"'!$H$44\",TRUE)),2)","v":{"$error":"#VALUE!"}},{"$f":"COUNTIF(IF(ISERROR(INDIRECT(\"'Børn \"&A138&\"'!$H$53\",TRUE)),\"\",INDIRECT(\"'Børn \"&A138&\"'!$H$53\",TRUE)),2)","v":{"$error":"#VALUE!"}},{"$f":"COUNTIF(IF(ISERROR(INDIRECT(\"'Børn \"&A138&\"'!$H$61\",TRUE)),\"\",INDIRECT(\"'Børn \"&A138&\"'!$H$61\",TRUE)),2)","v":{"$error":"#VALUE!"}},{"$f":"COUNTIF(IF(ISERROR(INDIRECT(\"'Børn \"&A138&\"'!$H$68\",TRUE)),\"\",INDIRECT(\"'Børn \"&A138&\"'!$H$68\",TRUE)),2)","v":{"$error":"#VALUE!"}},{"$f":"COUNTIF(IF(ISERROR(INDIRECT(\"'Børn \"&A138&\"'!$H$79\",TRUE)),\"\",INDIRECT(\"'Børn \"&A138&\"'!$H$79\",TRUE)),2)","v":{"$error":"#VALUE!"}},{"$f":"COUNTIF(IF(ISERROR(INDIRECT(\"'Børn \"&A138&\"'!$H$87\",TRUE)),\"\",INDIRECT(\"'Børn \"&A138&\"'!$H$87\",TRUE)),2)","v":{"$error":"#VALUE!"}},null,null,null,"Tilsyn 39",{"$f":"IF(INDIRECT(\"'Voksen \"&U138&\"'!$c$112\")=\"\",\"\",IFERROR(INDIRECT(\"'Voksen \"&U138&\"'!$c$112\",TRUE),\"\"))","v":{"$error":"#REF!"}},{"$f":"IF(INDIRECT(\"'Voksen \"&U138&\"'!$c$133\")=\"\",\"\",IFERROR(INDIRECT(\"'Voksen \"&U138&\"'!$c$133\",TRUE),\"\"))","v":{"$error":"#REF!"}},{"$f":"IF(INDIRECT(\"'Voksen \"&U138&\"'!$c$154\")=\"\",\"\",IFERROR(INDIRECT(\"'Voksen \"&U138&\"'!$c$154\",TRUE),\"\"))","v":{"$error":"#REF!"}},{"$f":"IF(INDIRECT(\"'Voksen \"&U138&\"'!$c$169\")=\"\",\"\",IFERROR(INDIRECT(\"'Voksen \"&U138&\"'!$c$169\",TRUE),\"\"))","v":{"$error":"#REF!"}},{"$f":"IF(INDIRECT(\"'Voksen \"&U138&\"'!$c$186\")=\"\",\"\",IFERROR(INDIRECT(\"'Voksen \"&U138&\"'!$c$186\",TRUE),\"\"))","v":{"$error":"#REF!"}},{"$f":"IF(INDIRECT(\"'Voksen \"&U138&\"'!$c$207\")=\"\",\"\",IFERROR(INDIRECT(\"'Voksen \"&U138&\"'!$c$207\",TRUE),\"\"))","v":{"$error":"#REF!"}},{"$f":"IF(INDIRECT(\"'Voksen \"&U138&\"'!$c$229\")=\"\",\"\",IFERROR(INDIRECT(\"'Voksen \"&U138&\"'!$c$229\",TRUE),\"\"))","v":{"$error":"#REF!"}},{"$f":"IF(INDIRECT(\"'Voksen \"&U138&\"'!$c$255\")=\"\",\"\",IFERROR(INDIRECT(\"'Voksen \"&U138&\"'!$c$255\",TRUE),\"\"))","v":{"$error":"#REF!"}},null,{"$f":"IF(INDIRECT(\"'Børn \"&U138&\"'!$c$123\")=\"\",\"\",IFERROR(INDIRECT(\"'Børn \"&U138&\"'!$c$123\",TRUE),\"\"))","v":{"$error":"#REF!"}},{"$f":"IF(INDIRECT(\"'Børn \"&U138&\"'!$c$139\")=\"\",\"\",IFERROR(INDIRECT(\"'Børn \"&U138&\"'!$c$139\",TRUE),\"\"))","v":{"$error":"#REF!"}},{"$f":"IF(INDIRECT(\"'Børn \"&U138&\"'!$c$163\")=\"\",\"\",IFERROR(INDIRECT(\"'Børn \"&U138&\"'!$c$163\",TRUE),\"\"))","v":{"$error":"#REF!"}},{"$f":"IF(INDIRECT(\"'Børn \"&U138&\"'!$c$177\")=\"\",\"\",IFERROR(INDIRECT(\"'Børn \"&U138&\"'!$c$177\",TRUE),\"\"))","v":{"$error":"#REF!"}},{"$f":"IF(INDIRECT(\"'Børn \"&U138&\"'!$c$197\")=\"\",\"\",IFERROR(INDIRECT(\"'Børn \"&U138&\"'!$c$197\",TRUE),\"\"))","v":{"$error":"#REF!"}},{"$f":"IF(INDIRECT(\"'Børn \"&U138&\"'!$c$218\")=\"\",\"\",IFERROR(INDIRECT(\"'Børn \"&U138&\"'!$c$218\",TRUE),\"\"))","v":{"$error":"#REF!"}},{"$f":"IF(INDIRECT(\"'Børn \"&U138&\"'!$c$241\")=\"\",\"\",IFERROR(INDIRECT(\"'Børn \"&U138&\"'!$c$241\",TRUE),\"\"))","v":{"$error":"#REF!"}}]
["Tilsyn 26","Status:  rød",{"$f":"COUNTIF(IF(ISERROR(INDIRECT(\"'Voksen \"&A139&\"'!$H$31\",TRUE)),\"\",INDIRECT(\"'Voksen \"&A139&\"'!$H$31\",TRUE)),3)","v":{"$error":"#VALUE!"}},{"$f":"COUNTIF(IF(ISERROR(INDIRECT(\"'Voksen \"&A139&\"'!$H$41\",TRUE)),\"\",INDIRECT(\"'Voksen \"&A139&\"'!$H$41\",TRUE)),3)","v":{"$error":"#VALUE!"}},{"$f":"COUNTIF(IF(ISERROR(INDIRECT(\"'Voksen \"&A139&\"'!$H$50\",TRUE)),\"\",INDIRECT(\"'Voksen \"&A139&\"'!$H$50\",TRUE)),3)","v":{"$error":"#VALUE!"}},{"$f":"COUNTIF(IF(ISERROR(INDIRECT(\"'Voksen \"&A139&\"'!$H$58\",TRUE)),\"\",INDIRECT(\"'Voksen \"&A139&\"'!$H$58\",TRUE)),3)","v":{"$error":"#VALUE!"}},{"$f":"COUNTIF(IF(ISERROR(INDIRECT(\"'Voksen \"&A139&\"'!$H$69\",TRUE)),\"\",INDIRECT(\"'Voksen \"&A139&\"'!$H$69\",TRUE)),3)","v":{"$error":"#VALUE!"}},{"$f":"COUNTIF(IF(ISERROR(INDIRECT(\"'Voksen \"&A139&\"'!$H$77\",TRUE)),\"\",INDIRECT(\"'Voksen \"&A139&\"'!$H$77\",TRUE)),3)","v":{"$error":"#VALUE!"}},null,null,{"$f":"COUNTIF(IF(ISERROR(INDIRECT(\"'Børn \"&A139&\"'!$H$31\",TRUE)),\"\",INDIRECT(\"'Børn \"&A139&\"'!$H$31\",TRUE)),3)","v":{"$error":"#VALUE!"}},{"$f":"COUNTIF(IF(ISERROR(INDIRECT(\"'Børn \"&A139&\"'!$H$44\",TRUE)),\"\",INDIRECT(\"'Børn \"&A139&\"'!$H$44\",TRUE)),3)","v":{"$error":"#VALUE!"}},{"$f":"COUNTIF(IF(ISERROR(INDIRECT(\"'Børn \"&A139&\"'!$H$53\",TRUE)),\"\",INDIRECT(\"'Børn \"&A139&\"'!$H$53\",TRUE)),3)","v":{"$error":"#VALUE!"}},{"$f":"COUNTIF(IF(ISERROR(INDIRECT(\"'Børn \"&A139&\"'!$H$61\",TRUE)),\"\",INDIRECT(\"'Børn \"&A139&\"'!$H$61\",TRUE)),3)","v":{"$error":"#VALUE!"}},{"$f":"COUNTIF(IF(ISERROR(INDIRECT(\"'Børn \"&A139&\"'!$H$68\",TRUE)),\"\",INDIRECT(\"'Børn \"&A139&\"'!$H$68\",TRUE)),3)","v":{"$error":"#VALUE!"}},{"$f":"COUNTIF(IF(ISERROR(INDIRECT(\"'Børn \"&A139&\"'!$H$79\",TRUE)),\"\",INDIRECT(\"'Børn \"&A139&\"'!$H$79\",TRUE)),3)","v":{"$error":"#VALUE!"}},{"$f":"COUNTIF(IF(ISERROR(INDIRECT(\"'Børn \"&A139&\"'!$H$87\",TRUE)),\"\",INDIRECT(\"'Børn \"&A139&\"'!$H$87\",TRUE)),3)","v":{"$error":"#VALUE!"}},null,null,null,{"$f":"U138","v":"Tilsyn 39"},{"$f":"IF(INDIRECT(\"'Voksen \"&U139&\"'!$c$115\")=\"\",\"\",IFERROR(INDIRECT(\"'Voksen \"&U139&\"'!$c$115\",TRUE),\"\"))","v":{"$error":"#REF!"}},{"$f":"IF(INDIRECT(\"'Voksen \"&U139&\"'!$c$136\")=\"\",\"\",IFERROR(INDIRECT(\"'Voksen \"&U139&\"'!$c$136\",TRUE),\"\"))","v":{"$error":"#REF!"}},{"$f":"IF(INDIRECT(\"'Voksen \"&U139&\"'!$c$157\")=\"\",\"\",IFERROR(INDIRECT(\"'Voksen \"&U139&\"'!$c$157\",TRUE),\"\"))","v":{"$error":"#REF!"}},{"$f":"IF(INDIRECT(\"'Voksen \"&U139&\"'!$c$172\")=\"\",\"\",IFERROR(INDIRECT(\"'Voksen \"&U139&\"'!$c$172\",TRUE),\"\"))","v":{"$error":"#REF!"}},{"$f":"IF(INDIRECT(\"'Voksen \"&U139&\"'!$c$189\")=\"\",\"\",IFERROR(INDIRECT(\"'Voksen \"&U139&\"'!$c$189\",TRUE),\"\"))","v":{"$error":"#REF!"}},{"$f":"IF(INDIRECT(\"'Voksen \"&U139&\"'!$c$210\")=\"\",\"\",IFERROR(INDIRECT(\"'Voksen \"&U139&\"'!$c$210\",TRUE),\"\"))","v":{"$error":"#REF!"}},{"$f":"IF(INDIRECT(\"'Voksen \"&U139&\"'!$c$232\")=\"\",\"\",IFERROR(INDIRECT(\"'Voksen \"&U139&\"'!$c$232\",TRUE),\"\"))","v":{"$error":"#REF!"}},{"$f":"IF(INDIRECT(\"'Voksen \"&U139&\"'!$c$258\")=\"\",\"\",IFERROR(INDIRECT(\"'Voksen \"&U139&\"'!$c$258\",TRUE),\"\"))","v":{"$error":"#REF!"}},null,{"$f":"IF(INDIRECT(\"'Børn \"&U139&\"'!$c$126\")=\"\",\"\",IFERROR(INDIRECT(\"'Børn \"&U139&\"'!$c$126\",TRUE),\"\"))","v":{"$error":"#REF!"}},{"$f":"IF(INDIRECT(\"'Børn \"&U139&\"'!$c$142\")=\"\",\"\",IFERROR(INDIRECT(\"'Børn \"&U139&\"'!$c$142\",TRUE),\"\"))","v":{"$error":"#REF!"}},{"$f":"IF(INDIRECT(\"'Børn \"&U139&\"'!$c$166\")=\"\",\"\",IFERROR(INDIRECT(\"'Børn \"&U139&\"'!$c$166\",TRUE),\"\"))","v":{"$error":"#REF!"}},{"$f":"IF(INDIRECT(\"'Børn \"&U139&\"'!$c$180\")=\"\",\"\",IFERROR(INDIRECT(\"'Børn \"&U139&\"'!$c$180\",TRUE),\"\"))","v":{"$error":"#REF!"}},{"$f":"IF(INDIRECT(\"'Børn \"&U139&\"'!$c$200\")=\"\",\"\",IFERROR(INDIRECT(\"'Børn \"&U139&\"'!$c$200\",TRUE),\"\"))","v":{"$error":"#REF!"}},{"$f":"IF(INDIRECT(\"'Børn \"&U139&\"'!$c$221\")=\"\",\"\",IFERROR(INDIRECT(\"'Børn \"&U139&\"'!$c$221\",TRUE),\"\"))","v":{"$error":"#REF!"}},{"$f":"IF(INDIRECT(\"'Børn \"&U139&\"'!$c$244\")=\"\",\"\",IFERROR(INDIRECT(\"'Børn \"&U139&\"'!$c$244\",TRUE),\"\"))","v":{"$error":"#REF!"}}]
["Tilsyn 27","Status:  grøn",{"$f":"COUNTIF(IF(ISERROR(INDIRECT(\"'Voksen \"&A140&\"'!$H$31\",TRUE)),\"\",INDIRECT(\"'Voksen \"&A140&\"'!$H$31\",TRUE)),1)","v":{"$error":"#VALUE!"}},{"$f":"COUNTIF(IF(ISERROR(INDIRECT(\"'Voksen \"&A140&\"'!$H$41\",TRUE)),\"\",INDIRECT(\"'Voksen \"&A140&\"'!$H$41\",TRUE)),1)","v":{"$error":"#VALUE!"}},{"$f":"COUNTIF(IF(ISERROR(INDIRECT(\"'Voksen \"&A140&\"'!$H$50\",TRUE)),\"\",INDIRECT(\"'Voksen \"&A140&\"'!$H$50\",TRUE)),1)","v":{"$error":"#VALUE!"}},{"$f":"COUNTIF(IF(ISERROR(INDIRECT(\"'Voksen \"&A140&\"'!$H$58\",TRUE)),\"\",INDIRECT(\"'Voksen \"&A140&\"'!$H$58\",TRUE)),1)","v":{"$error":"#VALUE!"}},{"$f":"COUNTIF(IF(ISERROR(INDIRECT(\"'Voksen \"&A140&\"'!$H$69\",TRUE)),\"\",INDIRECT(\"'Voksen \"&A140&\"'!$H$69\",TRUE)),1)","v":{"$error":"#VALUE!"}},{"$f":"COUNTIF(IF(ISERROR(INDIRECT(\"'Voksen \"&A140&\"'!$H$77\",TRUE)),\"\",INDIRECT(\"'Voksen \"&A140&\"'!$H$77\",TRUE)),1)","v":{"$error":"#VALUE!"}},null,null,{"$f":"COUNTIF(IF(ISERROR(INDIRECT(\"'Børn \"&A140&\"'!$H$31\",TRUE)),\"\",INDIRECT(\"'Børn \"&A140&\"'!$H$31\",TRUE)),1)","v":{"$error":"#VALUE!"}},{"$f":"COUNTIF(IF(ISERROR(INDIRECT(\"'Børn \"&A140&\"'!$H$44\",TRUE)),\"\",INDIRECT(\"'Børn \"&A140&\"'!$H$44\",TRUE)),1)","v":{"$error":"#VALUE!"}},{"$f":"COUNTIF(IF(ISERROR(INDIRECT(\"'Børn \"&A140&\"'!$H$53\",TRUE)),\"\",INDIRECT(\"'Børn \"&A140&\"'!$H$53\",TRUE)),1)","v":{"$error":"#VALUE!"}},{"$f":"COUNTIF(IF(ISERROR(INDIRECT(\"'Børn \"&A140&\"'!$H$61\",TRUE)),\"\",INDIRECT(\"'Børn \"&A140&\"'!$H$61\",TRUE)),1)","v":{"$error":"#VALUE!"}},{"$f":"COUNTIF(IF(ISERROR(INDIRECT(\"'Børn \"&A140&\"'!$H$68\",TRUE)),\"\",INDIRECT(\"'Børn \"&A140&\"'!$H$68\",TRUE)),1)","v":{"$error":"#VALUE!"}},{"$f":"COUNTIF(IF(ISERROR(INDIRECT(\"'Børn \"&A140&\"'!$H$79\",TRUE)),\"\",INDIRECT(\"'Børn \"&A140&\"'!$H$79\",TRUE)),1)","v":{"$error":"#VALUE!"}},{"$f":"COUNTIF(IF(ISERROR(INDIRECT(\"'Børn \"&A140&\"'!$H$87\",TRUE)),\"\",INDIRECT(\"'Børn \"&A140&\"'!$H$87\",TRUE)),1)","v":{"$error":"#VALUE!"}},null,null,null,"Tilsyn 40",{"$f":"IF(INDIRECT(\"'Voksen \"&U140&\"'!$c$112\")=\"\",\"\",IFERROR(INDIRECT(\"'Voksen \"&U140&\"'!$c$112\",TRUE),\"\"))","v":{"$error":"#REF!"}},{"$f":"IF(INDIRECT(\"'Voksen \"&U140&\"'!$c$133\")=\"\",\"\",IFERROR(INDIRECT(\"'Voksen \"&U140&\"'!$c$133\",TRUE),\"\"))","v":{"$error":"#REF!"}},{"$f":"IF(INDIRECT(\"'Voksen \"&U140&\"'!$c$154\")=\"\",\"\",IFERROR(INDIRECT(\"'Voksen \"&U140&\"'!$c$154\",TRUE),\"\"))","v":{"$error":"#REF!"}},{"$f":"IF(INDIRECT(\"'Voksen \"&U140&\"'!$c$169\")=\"\",\"\",IFERROR(INDIRECT(\"'Voksen \"&U140&\"'!$c$169\",TRUE),\"\"))","v":{"$error":"#REF!"}},{"$f":"IF(INDIRECT(\"'Voksen \"&U140&\"'!$c$186\")=\"\",\"\",IFERROR(INDIRECT(\"'Voksen \"&U140&\"'!$c$186\",TRUE),\"\"))","v":{"$error":"#REF!"}},{"$f":"IF(INDIRECT(\"'Voksen \"&U140&\"'!$c$207\")=\"\",\"\",IFERROR(INDIRECT(\"'Voksen \"&U140&\"'!$c$207\",TRUE),\"\"))","v":{"$error":"#REF!"}},{"$f":"IF(INDIRECT(\"'Voksen \"&U140&\"'!$c$229\")=\"\",\"\",IFERROR(INDIRECT(\"'Voksen \"&U140&\"'!$c$229\",TRUE),\"\"))","v":{"$error":"#REF!"}},{"$f":"IF(INDIRECT(\"'Voksen \"&U140&\"'!$c$255\")=\"\",\"\",IFERROR(INDIRECT(\"'Voksen \"&U140&\"'!$c$255\",TRUE),\"\"))","v":{"$error":"#REF!"}},null,{"$f":"IF(INDIRECT(\"'Børn \"&U140&\"'!$c$123\")=\"\",\"\",IFERROR(INDIRECT(\"'Børn \"&U140&\"'!$c$123\",TRUE),\"\"))","v":{"$error":"#REF!"}},{"$f":"IF(INDIRECT(\"'Børn \"&U140&\"'!$c$139\")=\"\",\"\",IFERROR(INDIRECT(\"'Børn \"&U140&\"'!$c$139\",TRUE),\"\"))","v":{"$error":"#REF!"}},{"$f":"IF(INDIRECT(\"'Børn \"&U140&\"'!$c$163\")=\"\",\"\",IFERROR(INDIRECT(\"'Børn \"&U140&\"'!$c$163\",TRUE),\"\"))","v":{"$error":"#REF!"}},{"$f":"IF(INDIRECT(\"'Børn \"&U140&\"'!$c$177\")=\"\",\"\",IFERROR(INDIRECT(\"'Børn \"&U140&\"'!$c$177\",TRUE),\"\"))","v":{"$error":"#REF!"}},{"$f":"IF(INDIRECT(\"'Børn \"&U140&\"'!$c$197\")=\"\",\"\",IFERROR(INDIRECT(\"'Børn \"&U140&\"'!$c$197\",TRUE),\"\"))","v":{"$error":"#REF!"}},{"$f":"IF(INDIRECT(\"'Børn \"&U140&\"'!$c$218\")=\"\",\"\",IFERROR(INDIRECT(\"'Børn \"&U140&\"'!$c$218\",TRUE),\"\"))","v":{"$error":"#REF!"}},{"$f":"IF(INDIRECT(\"'Børn \"&U140&\"'!$c$241\")=\"\",\"\",IFERROR(INDIRECT(\"'Børn \"&U140&\"'!$c$241\",TRUE),\"\"))","v":{"$error":"#REF!"}}]
["Tilsyn 27","Status:  gul",{"$f":"COUNTIF(IF(ISERROR(INDIRECT(\"'Voksen \"&A141&\"'!$H$31\",TRUE)),\"\",INDIRECT(\"'Voksen \"&A141&\"'!$H$31\",TRUE)),2)","v":{"$error":"#VALUE!"}},{"$f":"COUNTIF(IF(ISERROR(INDIRECT(\"'Voksen \"&A141&\"'!$H$41\",TRUE)),\"\",INDIRECT(\"'Voksen \"&A141&\"'!$H$41\",TRUE)),2)","v":{"$error":"#VALUE!"}},{"$f":"COUNTIF(IF(ISERROR(INDIRECT(\"'Voksen \"&A141&\"'!$H$50\",TRUE)),\"\",INDIRECT(\"'Voksen \"&A141&\"'!$H$50\",TRUE)),2)","v":{"$error":"#VALUE!"}},{"$f":"COUNTIF(IF(ISERROR(INDIRECT(\"'Voksen \"&A141&\"'!$H$58\",TRUE)),\"\",INDIRECT(\"'Voksen \"&A141&\"'!$H$58\",TRUE)),2)","v":{"$error":"#VALUE!"}},{"$f":"COUNTIF(IF(ISERROR(INDIRECT(\"'Voksen \"&A141&\"'!$H$69\",TRUE)),\"\",INDIRECT(\"'Voksen \"&A141&\"'!$H$69\",TRUE)),2)","v":{"$error":"#VALUE!"}},{"$f":"COUNTIF(IF(ISERROR(INDIRECT(\"'Voksen \"&A141&\"'!$H$77\",TRUE)),\"\",INDIRECT(\"'Voksen \"&A141&\"'!$H$77\",TRUE)),2)","v":{"$error":"#VALUE!"}},null,null,{"$f":"COUNTIF(IF(ISERROR(INDIRECT(\"'Børn \"&A141&\"'!$H$31\",TRUE)),\"\",INDIRECT(\"'Børn \"&A141&\"'!$H$31\",TRUE)),2)","v":{"$error":"#VALUE!"}},{"$f":"COUNTIF(IF(ISERROR(INDIRECT(\"'Børn \"&A141&\"'!$H$44\",TRUE)),\"\",INDIRECT(\"'Børn \"&A141&\"'!$H$44\",TRUE)),2)","v":{"$error":"#VALUE!"}},{"$f":"COUNTIF(IF(ISERROR(INDIRECT(\"'Børn \"&A141&\"'!$H$53\",TRUE)),\"\",INDIRECT(\"'Børn \"&A141&\"'!$H$53\",TRUE)),2)","v":{"$error":"#VALUE!"}},{"$f":"COUNTIF(IF(ISERROR(INDIRECT(\"'Børn \"&A141&\"'!$H$61\",TRUE)),\"\",INDIRECT(\"'Børn \"&A141&\"'!$H$61\",TRUE)),2)","v":{"$error":"#VALUE!"}},{"$f":"COUNTIF(IF(ISERROR(INDIRECT(\"'Børn \"&A141&\"'!$H$68\",TRUE)),\"\",INDIRECT(\"'Børn \"&A141&\"'!$H$68\",TRUE)),2)","v":{"$error":"#VALUE!"}},{"$f":"COUNTIF(IF(ISERROR(INDIRECT(\"'Børn \"&A141&\"'!$H$79\",TRUE)),\"\",INDIRECT(\"'Børn \"&A141&\"'!$H$79\",TRUE)),2)","v":{"$error":"#VALUE!"}},{"$f":"COUNTIF(IF(ISERROR(INDIRECT(\"'Børn \"&A141&\"'!$H$87\",TRUE)),\"\",INDIRECT(\"'Børn \"&A141&\"'!$H$87\",TRUE)),2)","v":{"$error":"#VALUE!"}},null,null,null,{"$f":"U140","v":"Tilsyn 40"},{"$f":"IF(INDIRECT(\"'Voksen \"&U141&\"'!$c$115\")=\"\",\"\",IFERROR(INDIRECT(\"'Voksen \"&U141&\"'!$c$115\",TRUE),\"\"))","v":{"$error":"#REF!"}},{"$f":"IF(INDIRECT(\"'Voksen \"&U141&\"'!$c$136\")=\"\",\"\",IFERROR(INDIRECT(\"'Voksen \"&U141&\"'!$c$136\",TRUE),\"\"))","v":{"$error":"#REF!"}},{"$f":"IF(INDIRECT(\"'Voksen \"&U141&\"'!$c$157\")=\"\",\"\",IFERROR(INDIRECT(\"'Voksen \"&U141&\"'!$c$157\",TRUE),\"\"))","v":{"$error":"#REF!"}},{"$f":"IF(INDIRECT(\"'Voksen \"&U141&\"'!$c$172\")=\"\",\"\",IFERROR(INDIRECT(\"'Voksen \"&U141&\"'!$c$172\",TRUE),\"\"))","v":{"$error":"#REF!"}},{"$f":"IF(INDIRECT(\"'Voksen \"&U141&\"'!$c$189\")=\"\",\"\",IFERROR(INDIRECT(\"'Voksen \"&U141&\"'!$c$189\",TRUE),\"\"))","v":{"$error":"#REF!"}},{"$f":"IF(INDIRECT(\"'Voksen \"&U141&\"'!$c$210\")=\"\",\"\",IFERROR(INDIRECT(\"'Voksen \"&U141&\"'!$c$210\",TRUE),\"\"))","v":{"$error":"#REF!"}},{"$f":"IF(INDIRECT(\"'Voksen \"&U141&\"'!$c$232\")=\"\",\"\",IFERROR(INDIRECT(\"'Voksen \"&U141&\"'!$c$232\",TRUE),\"\"))","v":{"$error":"#REF!"}},{"$f":"IF(INDIRECT(\"'Voksen \"&U141&\"'!$c$258\")=\"\",\"\",IFERROR(INDIRECT(\"'Voksen \"&U141&\"'!$c$258\",TRUE),\"\"))","v":{"$error":"#REF!"}},null,{"$f":"IF(INDIRECT(\"'Børn \"&U141&\"'!$c$126\")=\"\",\"\",IFERROR(INDIRECT(\"'Børn \"&U141&\"'!$c$126\",TRUE),\"\"))","v":{"$error":"#REF!"}},{"$f":"IF(INDIRECT(\"'Børn \"&U141&\"'!$c$142\")=\"\",\"\",IFERROR(INDIRECT(\"'Børn \"&U141&\"'!$c$142\",TRUE),\"\"))","v":{"$error":"#REF!"}},{"$f":"IF(INDIRECT(\"'Børn \"&U141&\"'!$c$166\")=\"\",\"\",IFERROR(INDIRECT(\"'Børn \"&U141&\"'!$c$166\",TRUE),\"\"))","v":{"$error":"#REF!"}},{"$f":"IF(INDIRECT(\"'Børn \"&U141&\"'!$c$180\")=\"\",\"\",IFERROR(INDIRECT(\"'Børn \"&U141&\"'!$c$180\",TRUE),\"\"))","v":{"$error":"#REF!"}},{"$f":"IF(INDIRECT(\"'Børn \"&U141&\"'!$c$200\")=\"\",\"\",IFERROR(INDIRECT(\"'Børn \"&U141&\"'!$c$200\",TRUE),\"\"))","v":{"$error":"#REF!"}},{"$f":"IF(INDIRECT(\"'Børn \"&U141&\"'!$c$221\")=\"\",\"\",IFERROR(INDIRECT(\"'Børn \"&U141&\"'!$c$221\",TRUE),\"\"))","v":{"$error":"#REF!"}},{"$f":"IF(INDIRECT(\"'Børn \"&U141&\"'!$c$244\")=\"\",\"\",IFERROR(INDIRECT(\"'Børn \"&U141&\"'!$c$244\",TRUE),\"\"))","v":{"$error":"#REF!"}}]
["Tilsyn 27","Status:  rød",{"$f":"COUNTIF(IF(ISERROR(INDIRECT(\"'Voksen \"&A142&\"'!$H$31\",TRUE)),\"\",INDIRECT(\"'Voksen \"&A142&\"'!$H$31\",TRUE)),3)","v":{"$error":"#VALUE!"}},{"$f":"COUNTIF(IF(ISERROR(INDIRECT(\"'Voksen \"&A142&\"'!$H$41\",TRUE)),\"\",INDIRECT(\"'Voksen \"&A142&\"'!$H$41\",TRUE)),3)","v":{"$error":"#VALUE!"}},{"$f":"COUNTIF(IF(ISERROR(INDIRECT(\"'Voksen \"&A142&\"'!$H$50\",TRUE)),\"\",INDIRECT(\"'Voksen \"&A142&\"'!$H$50\",TRUE)),3)","v":{"$error":"#VALUE!"}},{"$f":"COUNTIF(IF(ISERROR(INDIRECT(\"'Voksen \"&A142&\"'!$H$58\",TRUE)),\"\",INDIRECT(\"'Voksen \"&A142&\"'!$H$58\",TRUE)),3)","v":{"$error":"#VALUE!"}},{"$f":"COUNTIF(IF(ISERROR(INDIRECT(\"'Voksen \"&A142&\"'!$H$69\",TRUE)),\"\",INDIRECT(\"'Voksen \"&A142&\"'!$H$69\",TRUE)),3)","v":{"$error":"#VALUE!"}},{"$f":"COUNTIF(IF(ISERROR(INDIRECT(\"'Voksen \"&A142&\"'!$H$77\",TRUE)),\"\",INDIRECT(\"'Voksen \"&A142&\"'!$H$77\",TRUE)),3)","v":{"$error":"#VALUE!"}},null,null,{"$f":"COUNTIF(IF(ISERROR(INDIRECT(\"'Børn \"&A142&\"'!$H$31\",TRUE)),\"\",INDIRECT(\"'Børn \"&A142&\"'!$H$31\",TRUE)),3)","v":{"$error":"#VALUE!"}},{"$f":"COUNTIF(IF(ISERROR(INDIRECT(\"'Børn \"&A142&\"'!$H$44\",TRUE)),\"\",INDIRECT(\"'Børn \"&A142&\"'!$H$44\",TRUE)),3)","v":{"$error":"#VALUE!"}},{"$f":"COUNTIF(IF(ISERROR(INDIRECT(\"'Børn \"&A142&\"'!$H$53\",TRUE)),\"\",INDIRECT(\"'Børn \"&A142&\"'!$H$53\",TRUE)),3)","v":{"$error":"#VALUE!"}},{"$f":"COUNTIF(IF(ISERROR(INDIRECT(\"'Børn \"&A142&\"'!$H$61\",TRUE)),\"\",INDIRECT(\"'Børn \"&A142&\"'!$H$61\",TRUE)),3)","v":{"$error":"#VALUE!"}},{"$f":"COUNTIF(IF(ISERROR(INDIRECT(\"'Børn \"&A142&\"'!$H$68\",TRUE)),\"\",INDIRECT(\"'Børn \"&A142&\"'!$H$68\",TRUE)),3)","v":{"$error":"#VALUE!"}},{"$f":"COUNTIF(IF(ISERROR(INDIRECT(\"'Børn \"&A142&\"'!$H$79\",TRUE)),\"\",INDIRECT(\"'Børn \"&A142&\"'!$H$79\",TRUE)),3)","v":{"$error":"#VALUE!"}},{"$f":"COUNTIF(IF(ISERROR(INDIRECT(\"'Børn \"&A142&\"'!$H$87\",TRUE)),\"\",INDIRECT(\"'Børn \"&A142&\"'!$H$87\",TRUE)),3)","v":{"$error":"#VALUE!"}},null,null,null,"Tilsyn 41",{"$f":"IF(INDIRECT(\"'Voksen \"&U142&\"'!$c$112\")=\"\",\"\",IFERROR(INDIRECT(\"'Voksen \"&U142&\"'!$c$112\",TRUE),\"\"))","v":{"$error":"#REF!"}},{"$f":"IF(INDIRECT(\"'Voksen \"&U142&\"'!$c$133\")=\"\",\"\",IFERROR(INDIRECT(\"'Voksen \"&U142&\"'!$c$133\",TRUE),\"\"))","v":{"$error":"#REF!"}},{"$f":"IF(INDIRECT(\"'Voksen \"&U142&\"'!$c$154\")=\"\",\"\",IFERROR(INDIRECT(\"'Voksen \"&U142&\"'!$c$154\",TRUE),\"\"))","v":{"$error":"#REF!"}},{"$f":"IF(INDIRECT(\"'Voksen \"&U142&\"'!$c$169\")=\"\",\"\",IFERROR(INDIRECT(\"'Voksen \"&U142&\"'!$c$169\",TRUE),\"\"))","v":{"$error":"#REF!"}},{"$f":"IF(INDIRECT(\"'Voksen \"&U142&\"'!$c$186\")=\"\",\"\",IFERROR(INDIRECT(\"'Voksen \"&U142&\"'!$c$186\",TRUE),\"\"))","v":{"$error":"#REF!"}},{"$f":"IF(INDIRECT(\"'Voksen \"&U142&\"'!$c$207\")=\"\",\"\",IFERROR(INDIRECT(\"'Voksen \"&U142&\"'!$c$207\",TRUE),\"\"))","v":{"$error":"#REF!"}},{"$f":"IF(INDIRECT(\"'Voksen \"&U142&\"'!$c$229\")=\"\",\"\",IFERROR(INDIRECT(\"'Voksen \"&U142&\"'!$c$229\",TRUE),\"\"))","v":{"$error":"#REF!"}},{"$f":"IF(INDIRECT(\"'Voksen \"&U142&\"'!$c$255\")=\"\",\"\",IFERROR(INDIRECT(\"'Voksen \"&U142&\"'!$c$255\",TRUE),\"\"))","v":{"$error":"#REF!"}},null,{"$f":"IF(INDIRECT(\"'Børn \"&U142&\"'!$c$123\")=\"\",\"\",IFERROR(INDIRECT(\"'Børn \"&U142&\"'!$c$123\",TRUE),\"\"))","v":{"$error":"#REF!"}},{"$f":"IF(INDIRECT(\"'Børn \"&U142&\"'!$c$139\")=\"\",\"\",IFERROR(INDIRECT(\"'Børn \"&U142&\"'!$c$139\",TRUE),\"\"))","v":{"$error":"#REF!"}},{"$f":"IF(INDIRECT(\"'Børn \"&U142&\"'!$c$163\")=\"\",\"\",IFERROR(INDIRECT(\"'Børn \"&U142&\"'!$c$163\",TRUE),\"\"))","v":{"$error":"#REF!"}},{"$f":"IF(INDIRECT(\"'Børn \"&U142&\"'!$c$177\")=\"\",\"\",IFERROR(INDIRECT(\"'Børn \"&U142&\"'!$c$177\",TRUE),\"\"))","v":{"$error":"#REF!"}},{"$f":"IF(INDIRECT(\"'Børn \"&U142&\"'!$c$197\")=\"\",\"\",IFERROR(INDIRECT(\"'Børn \"&U142&\"'!$c$197\",TRUE),\"\"))","v":{"$error":"#REF!"}},{"$f":"IF(INDIRECT(\"'Børn \"&U142&\"'!$c$218\")=\"\",\"\",IFERROR(INDIRECT(\"'Børn \"&U142&\"'!$c$218\",TRUE),\"\"))","v":{"$error":"#REF!"}},{"$f":"IF(INDIRECT(\"'Børn \"&U142&\"'!$c$241\")=\"\",\"\",IFERROR(INDIRECT(\"'Børn \"&U142&\"'!$c$241\",TRUE),\"\"))","v":{"$error":"#REF!"}}]
["Tilsyn 28","Status:  grøn",{"$f":"COUNTIF(IF(ISERROR(INDIRECT(\"'Voksen \"&A143&\"'!$H$31\",TRUE)),\"\",INDIRECT(\"'Voksen \"&A143&\"'!$H$31\",TRUE)),1)","v":{"$error":"#VALUE!"}},{"$f":"COUNTIF(IF(ISERROR(INDIRECT(\"'Voksen \"&A143&\"'!$H$41\",TRUE)),\"\",INDIRECT(\"'Voksen \"&A143&\"'!$H$41\",TRUE)),1)","v":{"$error":"#VALUE!"}},{"$f":"COUNTIF(IF(ISERROR(INDIRECT(\"'Voksen \"&A143&\"'!$H$50\",TRUE)),\"\",INDIRECT(\"'Voksen \"&A143&\"'!$H$50\",TRUE)),1)","v":{"$error":"#VALUE!"}},{"$f":"COUNTIF(IF(ISERROR(INDIRECT(\"'Voksen \"&A143&\"'!$H$58\",TRUE)),\"\",INDIRECT(\"'Voksen \"&A143&\"'!$H$58\",TRUE)),1)","v":{"$error":"#VALUE!"}},{"$f":"COUNTIF(IF(ISERROR(INDIRECT(\"'Voksen \"&A143&\"'!$H$69\",TRUE)),\"\",INDIRECT(\"'Voksen \"&A143&\"'!$H$69\",TRUE)),1)","v":{"$error":"#VALUE!"}},{"$f":"COUNTIF(IF(ISERROR(INDIRECT(\"'Voksen \"&A143&\"'!$H$77\",TRUE)),\"\",INDIRECT(\"'Voksen \"&A143&\"'!$H$77\",TRUE)),1)","v":{"$error":"#VALUE!"}},null,null,{"$f":"COUNTIF(IF(ISERROR(INDIRECT(\"'Børn \"&A143&\"'!$H$31\",TRUE)),\"\",INDIRECT(\"'Børn \"&A143&\"'!$H$31\",TRUE)),1)","v":{"$error":"#VALUE!"}},{"$f":"COUNTIF(IF(ISERROR(INDIRECT(\"'Børn \"&A143&\"'!$H$44\",TRUE)),\"\",INDIRECT(\"'Børn \"&A143&\"'!$H$44\",TRUE)),1)","v":{"$error":"#VALUE!"}},{"$f":"COUNTIF(IF(ISERROR(INDIRECT(\"'Børn \"&A143&\"'!$H$53\",TRUE)),\"\",INDIRECT(\"'Børn \"&A143&\"'!$H$53\",TRUE)),1)","v":{"$error":"#VALUE!"}},{"$f":"COUNTIF(IF(ISERROR(INDIRECT(\"'Børn \"&A143&\"'!$H$61\",TRUE)),\"\",INDIRECT(\"'Børn \"&A143&\"'!$H$61\",TRUE)),1)","v":{"$error":"#VALUE!"}},{"$f":"COUNTIF(IF(ISERROR(INDIRECT(\"'Børn \"&A143&\"'!$H$68\",TRUE)),\"\",INDIRECT(\"'Børn \"&A143&\"'!$H$68\",TRUE)),1)","v":{"$error":"#VALUE!"}},{"$f":"COUNTIF(IF(ISERROR(INDIRECT(\"'Børn \"&A143&\"'!$H$79\",TRUE)),\"\",INDIRECT(\"'Børn \"&A143&\"'!$H$79\",TRUE)),1)","v":{"$error":"#VALUE!"}},{"$f":"COUNTIF(IF(ISERROR(INDIRECT(\"'Børn \"&A143&\"'!$H$87\",TRUE)),\"\",INDIRECT(\"'Børn \"&A143&\"'!$H$87\",TRUE)),1)","v":{"$error":"#VALUE!"}},null,null,null,{"$f":"U142","v":"Tilsyn 41"},{"$f":"IF(INDIRECT(\"'Voksen \"&U143&\"'!$c$115\")=\"\",\"\",IFERROR(INDIRECT(\"'Voksen \"&U143&\"'!$c$115\",TRUE),\"\"))","v":{"$error":"#REF!"}},{"$f":"IF(INDIRECT(\"'Voksen \"&U143&\"'!$c$136\")=\"\",\"\",IFERROR(INDIRECT(\"'Voksen \"&U143&\"'!$c$136\",TRUE),\"\"))","v":{"$error":"#REF!"}},{"$f":"IF(INDIRECT(\"'Voksen \"&U143&\"'!$c$157\")=\"\",\"\",IFERROR(INDIRECT(\"'Voksen \"&U143&\"'!$c$157\",TRUE),\"\"))","v":{"$error":"#REF!"}},{"$f":"IF(INDIRECT(\"'Voksen \"&U143&\"'!$c$172\")=\"\",\"\",IFERROR(INDIRECT(\"'Voksen \"&U143&\"'!$c$172\",TRUE),\"\"))","v":{"$error":"#REF!"}},{"$f":"IF(INDIRECT(\"'Voksen \"&U143&\"'!$c$189\")=\"\",\"\",IFERROR(INDIRECT(\"'Voksen \"&U143&\"'!$c$189\",TRUE),\"\"))","v":{"$error":"#REF!"}},{"$f":"IF(INDIRECT(\"'Voksen \"&U143&\"'!$c$210\")=\"\",\"\",IFERROR(INDIRECT(\"'Voksen \"&U143&\"'!$c$210\",TRUE),\"\"))","v":{"$error":"#REF!"}},{"$f":"IF(INDIRECT(\"'Voksen \"&U143&\"'!$c$232\")=\"\",\"\",IFERROR(INDIRECT(\"'Voksen \"&U143&\"'!$c$232\",TRUE),\"\"))","v":{"$error":"#REF!"}},{"$f":"IF(INDIRECT(\"'Voksen \"&U143&\"'!$c$258\")=\"\",\"\",IFERROR(INDIRECT(\"'Voksen \"&U143&\"'!$c$258\",TRUE),\"\"))","v":{"$error":"#REF!"}},null,{"$f":"IF(INDIRECT(\"'Børn \"&U143&\"'!$c$126\")=\"\",\"\",IFERROR(INDIRECT(\"'Børn \"&U143&\"'!$c$126\",TRUE),\"\"))","v":{"$error":"#REF!"}},{"$f":"IF(INDIRECT(\"'Børn \"&U143&\"'!$c$142\")=\"\",\"\",IFERROR(INDIRECT(\"'Børn \"&U143&\"'!$c$142\",TRUE),\"\"))","v":{"$error":"#REF!"}},{"$f":"IF(INDIRECT(\"'Børn \"&U143&\"'!$c$166\")=\"\",\"\",IFERROR(INDIRECT(\"'Børn \"&U143&\"'!$c$166\",TRUE),\"\"))","v":{"$error":"#REF!"}},{"$f":"IF(INDIRECT(\"'Børn \"&U143&\"'!$c$180\")=\"\",\"\",IFERROR(INDIRECT(\"'Børn \"&U143&\"'!$c$180\",TRUE),\"\"))","v":{"$error":"#REF!"}},{"$f":"IF(INDIRECT(\"'Børn \"&U143&\"'!$c$200\")=\"\",\"\",IFERROR(INDIRECT(\"'Børn \"&U143&\"'!$c$200\",TRUE),\"\"))","v":{"$error":"#REF!"}},{"$f":"IF(INDIRECT(\"'Børn \"&U143&\"'!$c$221\")=\"\",\"\",IFERROR(INDIRECT(\"'Børn \"&U143&\"'!$c$221\",TRUE),\"\"))","v":{"$error":"#REF!"}},{"$f":"IF(INDIRECT(\"'Børn \"&U143&\"'!$c$244\")=\"\",\"\",IFERROR(INDIRECT(\"'Børn \"&U143&\"'!$c$244\",TRUE),\"\"))","v":{"$error":"#REF!"}}]
["Tilsyn 28","Status:  gul",{"$f":"COUNTIF(IF(ISERROR(INDIRECT(\"'Voksen \"&A144&\"'!$H$31\",TRUE)),\"\",INDIRECT(\"'Voksen \"&A144&\"'!$H$31\",TRUE)),2)","v":{"$error":"#VALUE!"}},{"$f":"COUNTIF(IF(ISERROR(INDIRECT(\"'Voksen \"&A144&\"'!$H$41\",TRUE)),\"\",INDIRECT(\"'Voksen \"&A144&\"'!$H$41\",TRUE)),2)","v":{"$error":"#VALUE!"}},{"$f":"COUNTIF(IF(ISERROR(INDIRECT(\"'Voksen \"&A144&\"'!$H$50\",TRUE)),\"\",INDIRECT(\"'Voksen \"&A144&\"'!$H$50\",TRUE)),2)","v":{"$error":"#VALUE!"}},{"$f":"COUNTIF(IF(ISERROR(INDIRECT(\"'Voksen \"&A144&\"'!$H$58\",TRUE)),\"\",INDIRECT(\"'Voksen \"&A144&\"'!$H$58\",TRUE)),2)","v":{"$error":"#VALUE!"}},{"$f":"COUNTIF(IF(ISERROR(INDIRECT(\"'Voksen \"&A144&\"'!$H$69\",TRUE)),\"\",INDIRECT(\"'Voksen \"&A144&\"'!$H$69\",TRUE)),2)","v":{"$error":"#VALUE!"}},{"$f":"COUNTIF(IF(ISERROR(INDIRECT(\"'Voksen \"&A144&\"'!$H$77\",TRUE)),\"\",INDIRECT(\"'Voksen \"&A144&\"'!$H$77\",TRUE)),2)","v":{"$error":"#VALUE!"}},null,null,{"$f":"COUNTIF(IF(ISERROR(INDIRECT(\"'Børn \"&A144&\"'!$H$31\",TRUE)),\"\",INDIRECT(\"'Børn \"&A144&\"'!$H$31\",TRUE)),2)","v":{"$error":"#VALUE!"}},{"$f":"COUNTIF(IF(ISERROR(INDIRECT(\"'Børn \"&A144&\"'!$H$44\",TRUE)),\"\",INDIRECT(\"'Børn \"&A144&\"'!$H$44\",TRUE)),2)","v":{"$error":"#VALUE!"}},{"$f":"COUNTIF(IF(ISERROR(INDIRECT(\"'Børn \"&A144&\"'!$H$53\",TRUE)),\"\",INDIRECT(\"'Børn \"&A144&\"'!$H$53\",TRUE)),2)","v":{"$error":"#VALUE!"}},{"$f":"COUNTIF(IF(ISERROR(INDIRECT(\"'Børn \"&A144&\"'!$H$61\",TRUE)),\"\",INDIRECT(\"'Børn \"&A144&\"'!$H$61\",TRUE)),2)","v":{"$error":"#VALUE!"}},{"$f":"COUNTIF(IF(ISERROR(INDIRECT(\"'Børn \"&A144&\"'!$H$68\",TRUE)),\"\",INDIRECT(\"'Børn \"&A144&\"'!$H$68\",TRUE)),2)","v":{"$error":"#VALUE!"}},{"$f":"COUNTIF(IF(ISERROR(INDIRECT(\"'Børn \"&A144&\"'!$H$79\",TRUE)),\"\",INDIRECT(\"'Børn \"&A144&\"'!$H$79\",TRUE)),2)","v":{"$error":"#VALUE!"}},{"$f":"COUNTIF(IF(ISERROR(INDIRECT(\"'Børn \"&A144&\"'!$H$87\",TRUE)),\"\",INDIRECT(\"'Børn \"&A144&\"'!$H$87\",TRUE)),2)","v":{"$error":"#VALUE!"}},null,null,null,"Tilsyn 42",{"$f":"IF(INDIRECT(\"'Voksen \"&U144&\"'!$c$112\")=\"\",\"\",IFERROR(INDIRECT(\"'Voksen \"&U144&\"'!$c$112\",TRUE),\"\"))","v":{"$error":"#REF!"}},{"$f":"IF(INDIRECT(\"'Voksen \"&U144&\"'!$c$133\")=\"\",\"\",IFERROR(INDIRECT(\"'Voksen \"&U144&\"'!$c$133\",TRUE),\"\"))","v":{"$error":"#REF!"}},{"$f":"IF(INDIRECT(\"'Voksen \"&U144&\"'!$c$154\")=\"\",\"\",IFERROR(INDIRECT(\"'Voksen \"&U144&\"'!$c$154\",TRUE),\"\"))","v":{"$error":"#REF!"}},{"$f":"IF(INDIRECT(\"'Voksen \"&U144&\"'!$c$169\")=\"\",\"\",IFERROR(INDIRECT(\"'Voksen \"&U144&\"'!$c$169\",TRUE),\"\"))","v":{"$error":"#REF!"}},{"$f":"IF(INDIRECT(\"'Voksen \"&U144&\"'!$c$186\")=\"\",\"\",IFERROR(INDIRECT(\"'Voksen \"&U144&\"'!$c$186\",TRUE),\"\"))","v":{"$error":"#REF!"}},{"$f":"IF(INDIRECT(\"'Voksen \"&U144&\"'!$c$207\")=\"\",\"\",IFERROR(INDIRECT(\"'Voksen \"&U144&\"'!$c$207\",TRUE),\"\"))","v":{"$error":"#REF!"}},{"$f":"IF(INDIRECT(\"'Voksen \"&U144&\"'!$c$229\")=\"\",\"\",IFERROR(INDIRECT(\"'Voksen \"&U144&\"'!$c$229\",TRUE),\"\"))","v":{"$error":"#REF!"}},{"$f":"IF(INDIRECT(\"'Voksen \"&U144&\"'!$c$255\")=\"\",\"\",IFERROR(INDIRECT(\"'Voksen \"&U144&\"'!$c$255\",TRUE),\"\"))","v":{"$error":"#REF!"}},null,{"$f":"IF(INDIRECT(\"'Børn \"&U144&\"'!$c$123\")=\"\",\"\",IFERROR(INDIRECT(\"'Børn \"&U144&\"'!$c$123\",TRUE),\"\"))","v":{"$error":"#REF!"}},{"$f":"IF(INDIRECT(\"'Børn \"&U144&\"'!$c$139\")=\"\",\"\",IFERROR(INDIRECT(\"'Børn \"&U144&\"'!$c$139\",TRUE),\"\"))","v":{"$error":"#REF!"}},{"$f":"IF(INDIRECT(\"'Børn \"&U144&\"'!$c$163\")=\"\",\"\",IFERROR(INDIRECT(\"'Børn \"&U144&\"'!$c$163\",TRUE),\"\"))","v":{"$error":"#REF!"}},{"$f":"IF(INDIRECT(\"'Børn \"&U144&\"'!$c$177\")=\"\",\"\",IFERROR(INDIRECT(\"'Børn \"&U144&\"'!$c$177\",TRUE),\"\"))","v":{"$error":"#REF!"}},{"$f":"IF(INDIRECT(\"'Børn \"&U144&\"'!$c$197\")=\"\",\"\",IFERROR(INDIRECT(\"'Børn \"&U144&\"'!$c$197\",TRUE),\"\"))","v":{"$error":"#REF!"}},{"$f":"IF(INDIRECT(\"'Børn \"&U144&\"'!$c$218\")=\"\",\"\",IFERROR(INDIRECT(\"'Børn \"&U144&\"'!$c$218\",TRUE),\"\"))","v":{"$error":"#REF!"}},{"$f":"IF(INDIRECT(\"'Børn \"&U144&\"'!$c$241\")=\"\",\"\",IFERROR(INDIRECT(\"'Børn \"&U144&\"'!$c$241\",TRUE),\"\"))","v":{"$error":"#REF!"}}]
["Tilsyn 28","Status:  rød",{"$f":"COUNTIF(IF(ISERROR(INDIRECT(\"'Voksen \"&A145&\"'!$H$31\",TRUE)),\"\",INDIRECT(\"'Voksen \"&A145&\"'!$H$31\",TRUE)),3)","v":{"$error":"#VALUE!"}},{"$f":"COUNTIF(IF(ISERROR(INDIRECT(\"'Voksen \"&A145&\"'!$H$41\",TRUE)),\"\",INDIRECT(\"'Voksen \"&A145&\"'!$H$41\",TRUE)),3)","v":{"$error":"#VALUE!"}},{"$f":"COUNTIF(IF(ISERROR(INDIRECT(\"'Voksen \"&A145&\"'!$H$50\",TRUE)),\"\",INDIRECT(\"'Voksen \"&A145&\"'!$H$50\",TRUE)),3)","v":{"$error":"#VALUE!"}},{"$f":"COUNTIF(IF(ISERROR(INDIRECT(\"'Voksen \"&A145&\"'!$H$58\",TRUE)),\"\",INDIRECT(\"'Voksen \"&A145&\"'!$H$58\",TRUE)),3)","v":{"$error":"#VALUE!"}},{"$f":"COUNTIF(IF(ISERROR(INDIRECT(\"'Voksen \"&A145&\"'!$H$69\",TRUE)),\"\",INDIRECT(\"'Voksen \"&A145&\"'!$H$69\",TRUE)),3)","v":{"$error":"#VALUE!"}},{"$f":"COUNTIF(IF(ISERROR(INDIRECT(\"'Voksen \"&A145&\"'!$H$77\",TRUE)),\"\",INDIRECT(\"'Voksen \"&A145&\"'!$H$77\",TRUE)),3)","v":{"$error":"#VALUE!"}},null,null,{"$f":"COUNTIF(IF(ISERROR(INDIRECT(\"'Børn \"&A145&\"'!$H$31\",TRUE)),\"\",INDIRECT(\"'Børn \"&A145&\"'!$H$31\",TRUE)),3)","v":{"$error":"#VALUE!"}},{"$f":"COUNTIF(IF(ISERROR(INDIRECT(\"'Børn \"&A145&\"'!$H$44\",TRUE)),\"\",INDIRECT(\"'Børn \"&A145&\"'!$H$44\",TRUE)),3)","v":{"$error":"#VALUE!"}},{"$f":"COUNTIF(IF(ISERROR(INDIRECT(\"'Børn \"&A145&\"'!$H$53\",TRUE)),\"\",INDIRECT(\"'Børn \"&A145&\"'!$H$53\",TRUE)),3)","v":{"$error":"#VALUE!"}},{"$f":"COUNTIF(IF(ISERROR(INDIRECT(\"'Børn \"&A145&\"'!$H$61\",TRUE)),\"\",INDIRECT(\"'Børn \"&A145&\"'!$H$61\",TRUE)),3)","v":{"$error":"#VALUE!"}},{"$f":"COUNTIF(IF(ISERROR(INDIRECT(\"'Børn \"&A145&\"'!$H$68\",TRUE)),\"\",INDIRECT(\"'Børn \"&A145&\"'!$H$68\",TRUE)),3)","v":{"$error":"#VALUE!"}},{"$f":"COUNTIF(IF(ISERROR(INDIRECT(\"'Børn \"&A145&\"'!$H$79\",TRUE)),\"\",INDIRECT(\"'Børn \"&A145&\"'!$H$79\",TRUE)),3)","v":{"$error":"#VALUE!"}},{"$f":"COUNTIF(IF(ISERROR(INDIRECT(\"'Børn \"&A145&\"'!$H$87\",TRUE)),\"\",INDIRECT(\"'Børn \"&A145&\"'!$H$87\",TRUE)),3)","v":{"$error":"#VALUE!"}},null,null,null,{"$f":"U144","v":"Tilsyn 42"},{"$f":"IF(INDIRECT(\"'Voksen \"&U145&\"'!$c$115\")=\"\",\"\",IFERROR(INDIRECT(\"'Voksen \"&U145&\"'!$c$115\",TRUE),\"\"))","v":{"$error":"#REF!"}},{"$f":"IF(INDIRECT(\"'Voksen \"&U145&\"'!$c$136\")=\"\",\"\",IFERROR(INDIRECT(\"'Voksen \"&U145&\"'!$c$136\",TRUE),\"\"))","v":{"$error":"#REF!"}},{"$f":"IF(INDIRECT(\"'Voksen \"&U145&\"'!$c$157\")=\"\",\"\",IFERROR(INDIRECT(\"'Voksen \"&U145&\"'!$c$157\",TRUE),\"\"))","v":{"$error":"#REF!"}},{"$f":"IF(INDIRECT(\"'Voksen \"&U145&\"'!$c$172\")=\"\",\"\",IFERROR(INDIRECT(\"'Voksen \"&U145&\"'!$c$172\",TRUE),\"\"))","v":{"$error":"#REF!"}},{"$f":"IF(INDIRECT(\"'Voksen \"&U145&\"'!$c$189\")=\"\",\"\",IFERROR(INDIRECT(\"'Voksen \"&U145&\"'!$c$189\",TRUE),\"\"))","v":{"$error":"#REF!"}},{"$f":"IF(INDIRECT(\"'Voksen \"&U145&\"'!$c$210\")=\"\",\"\",IFERROR(INDIRECT(\"'Voksen \"&U145&\"'!$c$210\",TRUE),\"\"))","v":{"$error":"#REF!"}},{"$f":"IF(INDIRECT(\"'Voksen \"&U145&\"'!$c$232\")=\"\",\"\",IFERROR(INDIRECT(\"'Voksen \"&U145&\"'!$c$232\",TRUE),\"\"))","v":{"$error":"#REF!"}},{"$f":"IF(INDIRECT(\"'Voksen \"&U145&\"'!$c$258\")=\"\",\"\",IFERROR(INDIRECT(\"'Voksen \"&U145&\"'!$c$258\",TRUE),\"\"))","v":{"$error":"#REF!"}},null,{"$f":"IF(INDIRECT(\"'Børn \"&U145&\"'!$c$126\")=\"\",\"\",IFERROR(INDIRECT(\"'Børn \"&U145&\"'!$c$126\",TRUE),\"\"))","v":{"$error":"#REF!"}},{"$f":"IF(INDIRECT(\"'Børn \"&U145&\"'!$c$142\")=\"\",\"\",IFERROR(INDIRECT(\"'Børn \"&U145&\"'!$c$142\",TRUE),\"\"))","v":{"$error":"#REF!"}},{"$f":"IF(INDIRECT(\"'Børn \"&U145&\"'!$c$166\")=\"\",\"\",IFERROR(INDIRECT(\"'Børn \"&U145&\"'!$c$166\",TRUE),\"\"))","v":{"$error":"#REF!"}},{"$f":"IF(INDIRECT(\"'Børn \"&U145&\"'!$c$180\")=\"\",\"\",IFERROR(INDIRECT(\"'Børn \"&U145&\"'!$c$180\",TRUE),\"\"))","v":{"$error":"#REF!"}},{"$f":"IF(INDIRECT(\"'Børn \"&U145&\"'!$c$200\")=\"\",\"\",IFERROR(INDIRECT(\"'Børn \"&U145&\"'!$c$200\",TRUE),\"\"))","v":{"$error":"#REF!"}},{"$f":"IF(INDIRECT(\"'Børn \"&U145&\"'!$c$221\")=\"\",\"\",IFERROR(INDIRECT(\"'Børn \"&U145&\"'!$c$221\",TRUE),\"\"))","v":{"$error":"#REF!"}},{"$f":"IF(INDIRECT(\"'Børn \"&U145&\"'!$c$244\")=\"\",\"\",IFERROR(INDIRECT(\"'Børn \"&U145&\"'!$c$244\",TRUE),\"\"))","v":{"$error":"#REF!"}}]
["Tilsyn 29","Status:  grøn",{"$f":"COUNTIF(IF(ISERROR(INDIRECT(\"'Voksen \"&A146&\"'!$H$31\",TRUE)),\"\",INDIRECT(\"'Voksen \"&A146&\"'!$H$31\",TRUE)),1)","v":{"$error":"#VALUE!"}},{"$f":"COUNTIF(IF(ISERROR(INDIRECT(\"'Voksen \"&A146&\"'!$H$41\",TRUE)),\"\",INDIRECT(\"'Voksen \"&A146&\"'!$H$41\",TRUE)),1)","v":{"$error":"#VALUE!"}},{"$f":"COUNTIF(IF(ISERROR(INDIRECT(\"'Voksen \"&A146&\"'!$H$50\",TRUE)),\"\",INDIRECT(\"'Voksen \"&A146&\"'!$H$50\",TRUE)),1)","v":{"$error":"#VALUE!"}},{"$f":"COUNTIF(IF(ISERROR(INDIRECT(\"'Voksen \"&A146&\"'!$H$58\",TRUE)),\"\",INDIRECT(\"'Voksen \"&A146&\"'!$H$58\",TRUE)),1)","v":{"$error":"#VALUE!"}},{"$f":"COUNTIF(IF(ISERROR(INDIRECT(\"'Voksen \"&A146&\"'!$H$69\",TRUE)),\"\",INDIRECT(\"'Voksen \"&A146&\"'!$H$69\",TRUE)),1)","v":{"$error":"#VALUE!"}},{"$f":"COUNTIF(IF(ISERROR(INDIRECT(\"'Voksen \"&A146&\"'!$H$77\",TRUE)),\"\",INDIRECT(\"'Voksen \"&A146&\"'!$H$77\",TRUE)),1)","v":{"$error":"#VALUE!"}},null,null,{"$f":"COUNTIF(IF(ISERROR(INDIRECT(\"'Børn \"&A146&\"'!$H$31\",TRUE)),\"\",INDIRECT(\"'Børn \"&A146&\"'!$H$31\",TRUE)),1)","v":{"$error":"#VALUE!"}},{"$f":"COUNTIF(IF(ISERROR(INDIRECT(\"'Børn \"&A146&\"'!$H$44\",TRUE)),\"\",INDIRECT(\"'Børn \"&A146&\"'!$H$44\",TRUE)),1)","v":{"$error":"#VALUE!"}},{"$f":"COUNTIF(IF(ISERROR(INDIRECT(\"'Børn \"&A146&\"'!$H$53\",TRUE)),\"\",INDIRECT(\"'Børn \"&A146&\"'!$H$53\",TRUE)),1)","v":{"$error":"#VALUE!"}},{"$f":"COUNTIF(IF(ISERROR(INDIRECT(\"'Børn \"&A146&\"'!$H$61\",TRUE)),\"\",INDIRECT(\"'Børn \"&A146&\"'!$H$61\",TRUE)),1)","v":{"$error":"#VALUE!"}},{"$f":"COUNTIF(IF(ISERROR(INDIRECT(\"'Børn \"&A146&\"'!$H$68\",TRUE)),\"\",INDIRECT(\"'Børn \"&A146&\"'!$H$68\",TRUE)),1)","v":{"$error":"#VALUE!"}},{"$f":"COUNTIF(IF(ISERROR(INDIRECT(\"'Børn \"&A146&\"'!$H$79\",TRUE)),\"\",INDIRECT(\"'Børn \"&A146&\"'!$H$79\",TRUE)),1)","v":{"$error":"#VALUE!"}},{"$f":"COUNTIF(IF(ISERROR(INDIRECT(\"'Børn \"&A146&\"'!$H$87\",TRUE)),\"\",INDIRECT(\"'Børn \"&A146&\"'!$H$87\",TRUE)),1)","v":{"$error":"#VALUE!"}},null,null,null,"Tilsyn 43",{"$f":"IF(INDIRECT(\"'Voksen \"&U146&\"'!$c$112\")=\"\",\"\",IFERROR(INDIRECT(\"'Voksen \"&U146&\"'!$c$112\",TRUE),\"\"))","v":{"$error":"#REF!"}},{"$f":"IF(INDIRECT(\"'Voksen \"&U146&\"'!$c$133\")=\"\",\"\",IFERROR(INDIRECT(\"'Voksen \"&U146&\"'!$c$133\",TRUE),\"\"))","v":{"$error":"#REF!"}},{"$f":"IF(INDIRECT(\"'Voksen \"&U146&\"'!$c$154\")=\"\",\"\",IFERROR(INDIRECT(\"'Voksen \"&U146&\"'!$c$154\",TRUE),\"\"))","v":{"$error":"#REF!"}},{"$f":"IF(INDIRECT(\"'Voksen \"&U146&\"'!$c$169\")=\"\",\"\",IFERROR(INDIRECT(\"'Voksen \"&U146&\"'!$c$169\",TRUE),\"\"))","v":{"$error":"#REF!"}},{"$f":"IF(INDIRECT(\"'Voksen \"&U146&\"'!$c$186\")=\"\",\"\",IFERROR(INDIRECT(\"'Voksen \"&U146&\"'!$c$186\",TRUE),\"\"))","v":{"$error":"#REF!"}},{"$f":"IF(INDIRECT(\"'Voksen \"&U146&\"'!$c$207\")=\"\",\"\",IFERROR(INDIRECT(\"'Voksen \"&U146&\"'!$c$207\",TRUE),\"\"))","v":{"$error":"#REF!"}},{"$f":"IF(INDIRECT(\"'Voksen \"&U146&\"'!$c$229\")=\"\",\"\",IFERROR(INDIRECT(\"'Voksen \"&U146&\"'!$c$229\",TRUE),\"\"))","v":{"$error":"#REF!"}},{"$f":"IF(INDIRECT(\"'Voksen \"&U146&\"'!$c$255\")=\"\",\"\",IFERROR(INDIRECT(\"'Voksen \"&U146&\"'!$c$255\",TRUE),\"\"))","v":{"$error":"#REF!"}},null,{"$f":"IF(INDIRECT(\"'Børn \"&U146&\"'!$c$123\")=\"\",\"\",IFERROR(INDIRECT(\"'Børn \"&U146&\"'!$c$123\",TRUE),\"\"))","v":{"$error":"#REF!"}},{"$f":"IF(INDIRECT(\"'Børn \"&U146&\"'!$c$139\")=\"\",\"\",IFERROR(INDIRECT(\"'Børn \"&U146&\"'!$c$139\",TRUE),\"\"))","v":{"$error":"#REF!"}},{"$f":"IF(INDIRECT(\"'Børn \"&U146&\"'!$c$163\")=\"\",\"\",IFERROR(INDIRECT(\"'Børn \"&U146&\"'!$c$163\",TRUE),\"\"))","v":{"$error":"#REF!"}},{"$f":"IF(INDIRECT(\"'Børn \"&U146&\"'!$c$177\")=\"\",\"\",IFERROR(INDIRECT(\"'Børn \"&U146&\"'!$c$177\",TRUE),\"\"))","v":{"$error":"#REF!"}},{"$f":"IF(INDIRECT(\"'Børn \"&U146&\"'!$c$197\")=\"\",\"\",IFERROR(INDIRECT(\"'Børn \"&U146&\"'!$c$197\",TRUE),\"\"))","v":{"$error":"#REF!"}},{"$f":"IF(INDIRECT(\"'Børn \"&U146&\"'!$c$218\")=\"\",\"\",IFERROR(INDIRECT(\"'Børn \"&U146&\"'!$c$218\",TRUE),\"\"))","v":{"$error":"#REF!"}},{"$f":"IF(INDIRECT(\"'Børn \"&U146&\"'!$c$241\")=\"\",\"\",IFERROR(INDIRECT(\"'Børn \"&U146&\"'!$c$241\",TRUE),\"\"))","v":{"$error":"#REF!"}}]
["Tilsyn 29","Status:  gul",{"$f":"COUNTIF(IF(ISERROR(INDIRECT(\"'Voksen \"&A147&\"'!$H$31\",TRUE)),\"\",INDIRECT(\"'Voksen \"&A147&\"'!$H$31\",TRUE)),2)","v":{"$error":"#VALUE!"}},{"$f":"COUNTIF(IF(ISERROR(INDIRECT(\"'Voksen \"&A147&\"'!$H$41\",TRUE)),\"\",INDIRECT(\"'Voksen \"&A147&\"'!$H$41\",TRUE)),2)","v":{"$error":"#VALUE!"}},{"$f":"COUNTIF(IF(ISERROR(INDIRECT(\"'Voksen \"&A147&\"'!$H$50\",TRUE)),\"\",INDIRECT(\"'Voksen \"&A147&\"'!$H$50\",TRUE)),2)","v":{"$error":"#VALUE!"}},{"$f":"COUNTIF(IF(ISERROR(INDIRECT(\"'Voksen \"&A147&\"'!$H$58\",TRUE)),\"\",INDIRECT(\"'Voksen \"&A147&\"'!$H$58\",TRUE)),2)","v":{"$error":"#VALUE!"}},{"$f":"COUNTIF(IF(ISERROR(INDIRECT(\"'Voksen \"&A147&\"'!$H$69\",TRUE)),\"\",INDIRECT(\"'Voksen \"&A147&\"'!$H$69\",TRUE)),2)","v":{"$error":"#VALUE!"}},{"$f":"COUNTIF(IF(ISERROR(INDIRECT(\"'Voksen \"&A147&\"'!$H$77\",TRUE)),\"\",INDIRECT(\"'Voksen \"&A147&\"'!$H$77\",TRUE)),2)","v":{"$error":"#VALUE!"}},null,null,{"$f":"COUNTIF(IF(ISERROR(INDIRECT(\"'Børn \"&A147&\"'!$H$31\",TRUE)),\"\",INDIRECT(\"'Børn \"&A147&\"'!$H$31\",TRUE)),2)","v":{"$error":"#VALUE!"}},{"$f":"COUNTIF(IF(ISERROR(INDIRECT(\"'Børn \"&A147&\"'!$H$44\",TRUE)),\"\",INDIRECT(\"'Børn \"&A147&\"'!$H$44\",TRUE)),2)","v":{"$error":"#VALUE!"}},{"$f":"COUNTIF(IF(ISERROR(INDIRECT(\"'Børn \"&A147&\"'!$H$53\",TRUE)),\"\",INDIRECT(\"'Børn \"&A147&\"'!$H$53\",TRUE)),2)","v":{"$error":"#VALUE!"}},{"$f":"COUNTIF(IF(ISERROR(INDIRECT(\"'Børn \"&A147&\"'!$H$61\",TRUE)),\"\",INDIRECT(\"'Børn \"&A147&\"'!$H$61\",TRUE)),2)","v":{"$error":"#VALUE!"}},{"$f":"COUNTIF(IF(ISERROR(INDIRECT(\"'Børn \"&A147&\"'!$H$68\",TRUE)),\"\",INDIRECT(\"'Børn \"&A147&\"'!$H$68\",TRUE)),2)","v":{"$error":"#VALUE!"}},{"$f":"COUNTIF(IF(ISERROR(INDIRECT(\"'Børn \"&A147&\"'!$H$79\",TRUE)),\"\",INDIRECT(\"'Børn \"&A147&\"'!$H$79\",TRUE)),2)","v":{"$error":"#VALUE!"}},{"$f":"COUNTIF(IF(ISERROR(INDIRECT(\"'Børn \"&A147&\"'!$H$87\",TRUE)),\"\",INDIRECT(\"'Børn \"&A147&\"'!$H$87\",TRUE)),2)","v":{"$error":"#VALUE!"}},null,null,null,{"$f":"U146","v":"Tilsyn 43"},{"$f":"IF(INDIRECT(\"'Voksen \"&U147&\"'!$c$115\")=\"\",\"\",IFERROR(INDIRECT(\"'Voksen \"&U147&\"'!$c$115\",TRUE),\"\"))","v":{"$error":"#REF!"}},{"$f":"IF(INDIRECT(\"'Voksen \"&U147&\"'!$c$136\")=\"\",\"\",IFERROR(INDIRECT(\"'Voksen \"&U147&\"'!$c$136\",TRUE),\"\"))","v":{"$error":"#REF!"}},{"$f":"IF(INDIRECT(\"'Voksen \"&U147&\"'!$c$157\")=\"\",\"\",IFERROR(INDIRECT(\"'Voksen \"&U147&\"'!$c$157\",TRUE),\"\"))","v":{"$error":"#REF!"}},{"$f":"IF(INDIRECT(\"'Voksen \"&U147&\"'!$c$172\")=\"\",\"\",IFERROR(INDIRECT(\"'Voksen \"&U147&\"'!$c$172\",TRUE),\"\"))","v":{"$error":"#REF!"}},{"$f":"IF(INDIRECT(\"'Voksen \"&U147&\"'!$c$189\")=\"\",\"\",IFERROR(INDIRECT(\"'Voksen \"&U147&\"'!$c$189\",TRUE),\"\"))","v":{"$error":"#REF!"}},{"$f":"IF(INDIRECT(\"'Voksen \"&U147&\"'!$c$210\")=\"\",\"\",IFERROR(INDIRECT(\"'Voksen \"&U147&\"'!$c$210\",TRUE),\"\"))","v":{"$error":"#REF!"}},{"$f":"IF(INDIRECT(\"'Voksen \"&U147&\"'!$c$232\")=\"\",\"\",IFERROR(INDIRECT(\"'Voksen \"&U147&\"'!$c$232\",TRUE),\"\"))","v":{"$error":"#REF!"}},{"$f":"IF(INDIRECT(\"'Voksen \"&U147&\"'!$c$258\")=\"\",\"\",IFERROR(INDIRECT(\"'Voksen \"&U147&\"'!$c$258\",TRUE),\"\"))","v":{"$error":"#REF!"}},null,{"$f":"IF(INDIRECT(\"'Børn \"&U147&\"'!$c$126\")=\"\",\"\",IFERROR(INDIRECT(\"'Børn \"&U147&\"'!$c$126\",TRUE),\"\"))","v":{"$error":"#REF!"}},{"$f":"IF(INDIRECT(\"'Børn \"&U147&\"'!$c$142\")=\"\",\"\",IFERROR(INDIRECT(\"'Børn \"&U147&\"'!$c$142\",TRUE),\"\"))","v":{"$error":"#REF!"}},{"$f":"IF(INDIRECT(\"'Børn \"&U147&\"'!$c$166\")=\"\",\"\",IFERROR(INDIRECT(\"'Børn \"&U147&\"'!$c$166\",TRUE),\"\"))","v":{"$error":"#REF!"}},{"$f":"IF(INDIRECT(\"'Børn \"&U147&\"'!$c$180\")=\"\",\"\",IFERROR(INDIRECT(\"'Børn \"&U147&\"'!$c$180\",TRUE),\"\"))","v":{"$error":"#REF!"}},{"$f":"IF(INDIRECT(\"'Børn \"&U147&\"'!$c$200\")=\"\",\"\",IFERROR(INDIRECT(\"'Børn \"&U147&\"'!$c$200\",TRUE),\"\"))","v":{"$error":"#REF!"}},{"$f":"IF(INDIRECT(\"'Børn \"&U147&\"'!$c$221\")=\"\",\"\",IFERROR(INDIRECT(\"'Børn \"&U147&\"'!$c$221\",TRUE),\"\"))","v":{"$error":"#REF!"}},{"$f":"IF(INDIRECT(\"'Børn \"&U147&\"'!$c$244\")=\"\",\"\",IFERROR(INDIRECT(\"'Børn \"&U147&\"'!$c$244\",TRUE),\"\"))","v":{"$error":"#REF!"}}]
["Tilsyn 29","Status:  rød",{"$f":"COUNTIF(IF(ISERROR(INDIRECT(\"'Voksen \"&A148&\"'!$H$31\",TRUE)),\"\",INDIRECT(\"'Voksen \"&A148&\"'!$H$31\",TRUE)),3)","v":{"$error":"#VALUE!"}},{"$f":"COUNTIF(IF(ISERROR(INDIRECT(\"'Voksen \"&A148&\"'!$H$41\",TRUE)),\"\",INDIRECT(\"'Voksen \"&A148&\"'!$H$41\",TRUE)),3)","v":{"$error":"#VALUE!"}},{"$f":"COUNTIF(IF(ISERROR(INDIRECT(\"'Voksen \"&A148&\"'!$H$50\",TRUE)),\"\",INDIRECT(\"'Voksen \"&A148&\"'!$H$50\",TRUE)),3)","v":{"$error":"#VALUE!"}},{"$f":"COUNTIF(IF(ISERROR(INDIRECT(\"'Voksen \"&A148&\"'!$H$58\",TRUE)),\"\",INDIRECT(\"'Voksen \"&A148&\"'!$H$58\",TRUE)),3)","v":{"$error":"#VALUE!"}},{"$f":"COUNTIF(IF(ISERROR(INDIRECT(\"'Voksen \"&A148&\"'!$H$69\",TRUE)),\"\",INDIRECT(\"'Voksen \"&A148&\"'!$H$69\",TRUE)),3)","v":{"$error":"#VALUE!"}},{"$f":"COUNTIF(IF(ISERROR(INDIRECT(\"'Voksen \"&A148&\"'!$H$77\",TRUE)),\"\",INDIRECT(\"'Voksen \"&A148&\"'!$H$77\",TRUE)),3)","v":{"$error":"#VALUE!"}},null,null,{"$f":"COUNTIF(IF(ISERROR(INDIRECT(\"'Børn \"&A148&\"'!$H$31\",TRUE)),\"\",INDIRECT(\"'Børn \"&A148&\"'!$H$31\",TRUE)),3)","v":{"$error":"#VALUE!"}},{"$f":"COUNTIF(IF(ISERROR(INDIRECT(\"'Børn \"&A148&\"'!$H$44\",TRUE)),\"\",INDIRECT(\"'Børn \"&A148&\"'!$H$44\",TRUE)),3)","v":{"$error":"#VALUE!"}},{"$f":"COUNTIF(IF(ISERROR(INDIRECT(\"'Børn \"&A148&\"'!$H$53\",TRUE)),\"\",INDIRECT(\"'Børn \"&A148&\"'!$H$53\",TRUE)),3)","v":{"$error":"#VALUE!"}},{"$f":"COUNTIF(IF(ISERROR(INDIRECT(\"'Børn \"&A148&\"'!$H$61\",TRUE)),\"\",INDIRECT(\"'Børn \"&A148&\"'!$H$61\",TRUE)),3)","v":{"$error":"#VALUE!"}},{"$f":"COUNTIF(IF(ISERROR(INDIRECT(\"'Børn \"&A148&\"'!$H$68\",TRUE)),\"\",INDIRECT(\"'Børn \"&A148&\"'!$H$68\",TRUE)),3)","v":{"$error":"#VALUE!"}},{"$f":"COUNTIF(IF(ISERROR(INDIRECT(\"'Børn \"&A148&\"'!$H$79\",TRUE)),\"\",INDIRECT(\"'Børn \"&A148&\"'!$H$79\",TRUE)),3)","v":{"$error":"#VALUE!"}},{"$f":"COUNTIF(IF(ISERROR(INDIRECT(\"'Børn \"&A148&\"'!$H$87\",TRUE)),\"\",INDIRECT(\"'Børn \"&A148&\"'!$H$87\",TRUE)),3)","v":{"$error":"#VALUE!"}},null,null,null,"Tilsyn 44",{"$f":"IF(INDIRECT(\"'Voksen \"&U148&\"'!$c$112\")=\"\",\"\",IFERROR(INDIRECT(\"'Voksen \"&U148&\"'!$c$112\",TRUE),\"\"))","v":{"$error":"#REF!"}},{"$f":"IF(INDIRECT(\"'Voksen \"&U148&\"'!$c$133\")=\"\",\"\",IFERROR(INDIRECT(\"'Voksen \"&U148&\"'!$c$133\",TRUE),\"\"))","v":{"$error":"#REF!"}},{"$f":"IF(INDIRECT(\"'Voksen \"&U148&\"'!$c$154\")=\"\",\"\",IFERROR(INDIRECT(\"'Voksen \"&U148&\"'!$c$154\",TRUE),\"\"))","v":{"$error":"#REF!"}},{"$f":"IF(INDIRECT(\"'Voksen \"&U148&\"'!$c$169\")=\"\",\"\",IFERROR(INDIRECT(\"'Voksen \"&U148&\"'!$c$169\",TRUE),\"\"))","v":{"$error":"#REF!"}},{"$f":"IF(INDIRECT(\"'Voksen \"&U148&\"'!$c$186\")=\"\",\"\",IFERROR(INDIRECT(\"'Voksen \"&U148&\"'!$c$186\",TRUE),\"\"))","v":{"$error":"#REF!"}},{"$f":"IF(INDIRECT(\"'Voksen \"&U148&\"'!$c$207\")=\"\",\"\",IFERROR(INDIRECT(\"'Voksen \"&U148&\"'!$c$207\",TRUE),\"\"))","v":{"$error":"#REF!"}},{"$f":"IF(INDIRECT(\"'Voksen \"&U148&\"'!$c$229\")=\"\",\"\",IFERROR(INDIRECT(\"'Voksen \"&U148&\"'!$c$229\",TRUE),\"\"))","v":{"$error":"#REF!"}},{"$f":"IF(INDIRECT(\"'Voksen \"&U148&\"'!$c$255\")=\"\",\"\",IFERROR(INDIRECT(\"'Voksen \"&U148&\"'!$c$255\",TRUE),\"\"))","v":{"$error":"#REF!"}},null,{"$f":"IF(INDIRECT(\"'Børn \"&U148&\"'!$c$123\")=\"\",\"\",IFERROR(INDIRECT(\"'Børn \"&U148&\"'!$c$123\",TRUE),\"\"))","v":{"$error":"#REF!"}},{"$f":"IF(INDIRECT(\"'Børn \"&U148&\"'!$c$139\")=\"\",\"\",IFERROR(INDIRECT(\"'Børn \"&U148&\"'!$c$139\",TRUE),\"\"))","v":{"$error":"#REF!"}},{"$f":"IF(INDIRECT(\"'Børn \"&U148&\"'!$c$163\")=\"\",\"\",IFERROR(INDIRECT(\"'Børn \"&U148&\"'!$c$163\",TRUE),\"\"))","v":{"$error":"#REF!"}},{"$f":"IF(INDIRECT(\"'Børn \"&U148&\"'!$c$177\")=\"\",\"\",IFERROR(INDIRECT(\"'Børn \"&U148&\"'!$c$177\",TRUE),\"\"))","v":{"$error":"#REF!"}},{"$f":"IF(INDIRECT(\"'Børn \"&U148&\"'!$c$197\")=\"\",\"\",IFERROR(INDIRECT(\"'Børn \"&U148&\"'!$c$197\",TRUE),\"\"))","v":{"$error":"#REF!"}},{"$f":"IF(INDIRECT(\"'Børn \"&U148&\"'!$c$218\")=\"\",\"\",IFERROR(INDIRECT(\"'Børn \"&U148&\"'!$c$218\",TRUE),\"\"))","v":{"$error":"#REF!"}},{"$f":"IF(INDIRECT(\"'Børn \"&U148&\"'!$c$241\")=\"\",\"\",IFERROR(INDIRECT(\"'Børn \"&U148&\"'!$c$241\",TRUE),\"\"))","v":{"$error":"#REF!"}}]
["Tilsyn 30","Status:  grøn",{"$f":"COUNTIF(IF(ISERROR(INDIRECT(\"'Voksen \"&A149&\"'!$H$31\",TRUE)),\"\",INDIRECT(\"'Voksen \"&A149&\"'!$H$31\",TRUE)),1)","v":{"$error":"#VALUE!"}},{"$f":"COUNTIF(IF(ISERROR(INDIRECT(\"'Voksen \"&A149&\"'!$H$41\",TRUE)),\"\",INDIRECT(\"'Voksen \"&A149&\"'!$H$41\",TRUE)),1)","v":{"$error":"#VALUE!"}},{"$f":"COUNTIF(IF(ISERROR(INDIRECT(\"'Voksen \"&A149&\"'!$H$50\",TRUE)),\"\",INDIRECT(\"'Voksen \"&A149&\"'!$H$50\",TRUE)),1)","v":{"$error":"#VALUE!"}},{"$f":"COUNTIF(IF(ISERROR(INDIRECT(\"'Voksen \"&A149&\"'!$H$58\",TRUE)),\"\",INDIRECT(\"'Voksen \"&A149&\"'!$H$58\",TRUE)),1)","v":{"$error":"#VALUE!"}},{"$f":"COUNTIF(IF(ISERROR(INDIRECT(\"'Voksen \"&A149&\"'!$H$69\",TRUE)),\"\",INDIRECT(\"'Voksen \"&A149&\"'!$H$69\",TRUE)),1)","v":{"$error":"#VALUE!"}},{"$f":"COUNTIF(IF(ISERROR(INDIRECT(\"'Voksen \"&A149&\"'!$H$77\",TRUE)),\"\",INDIRECT(\"'Voksen \"&A149&\"'!$H$77\",TRUE)),1)","v":{"$error":"#VALUE!"}},null,null,{"$f":"COUNTIF(IF(ISERROR(INDIRECT(\"'Børn \"&A149&\"'!$H$31\",TRUE)),\"\",INDIRECT(\"'Børn \"&A149&\"'!$H$31\",TRUE)),1)","v":{"$error":"#VALUE!"}},{"$f":"COUNTIF(IF(ISERROR(INDIRECT(\"'Børn \"&A149&\"'!$H$44\",TRUE)),\"\",INDIRECT(\"'Børn \"&A149&\"'!$H$44\",TRUE)),1)","v":{"$error":"#VALUE!"}},{"$f":"COUNTIF(IF(ISERROR(INDIRECT(\"'Børn \"&A149&\"'!$H$53\",TRUE)),\"\",INDIRECT(\"'Børn \"&A149&\"'!$H$53\",TRUE)),1)","v":{"$error":"#VALUE!"}},{"$f":"COUNTIF(IF(ISERROR(INDIRECT(\"'Børn \"&A149&\"'!$H$61\",TRUE)),\"\",INDIRECT(\"'Børn \"&A149&\"'!$H$61\",TRUE)),1)","v":{"$error":"#VALUE!"}},{"$f":"COUNTIF(IF(ISERROR(INDIRECT(\"'Børn \"&A149&\"'!$H$68\",TRUE)),\"\",INDIRECT(\"'Børn \"&A149&\"'!$H$68\",TRUE)),1)","v":{"$error":"#VALUE!"}},{"$f":"COUNTIF(IF(ISERROR(INDIRECT(\"'Børn \"&A149&\"'!$H$79\",TRUE)),\"\",INDIRECT(\"'Børn \"&A149&\"'!$H$79\",TRUE)),1)","v":{"$error":"#VALUE!"}},{"$f":"COUNTIF(IF(ISERROR(INDIRECT(\"'Børn \"&A149&\"'!$H$87\",TRUE)),\"\",INDIRECT(\"'Børn \"&A149&\"'!$H$87\",TRUE)),1)","v":{"$error":"#VALUE!"}},null,null,null,{"$f":"U148","v":"Tilsyn 44"},{"$f":"IF(INDIRECT(\"'Voksen \"&U149&\"'!$c$115\")=\"\",\"\",IFERROR(INDIRECT(\"'Voksen \"&U149&\"'!$c$115\",TRUE),\"\"))","v":{"$error":"#REF!"}},{"$f":"IF(INDIRECT(\"'Voksen \"&U149&\"'!$c$136\")=\"\",\"\",IFERROR(INDIRECT(\"'Voksen \"&U149&\"'!$c$136\",TRUE),\"\"))","v":{"$error":"#REF!"}},{"$f":"IF(INDIRECT(\"'Voksen \"&U149&\"'!$c$157\")=\"\",\"\",IFERROR(INDIRECT(\"'Voksen \"&U149&\"'!$c$157\",TRUE),\"\"))","v":{"$error":"#REF!"}},{"$f":"IF(INDIRECT(\"'Voksen \"&U149&\"'!$c$172\")=\"\",\"\",IFERROR(INDIRECT(\"'Voksen \"&U149&\"'!$c$172\",TRUE),\"\"))","v":{"$error":"#REF!"}},{"$f":"IF(INDIRECT(\"'Voksen \"&U149&\"'!$c$189\")=\"\",\"\",IFERROR(INDIRECT(\"'Voksen \"&U149&\"'!$c$189\",TRUE),\"\"))","v":{"$error":"#REF!"}},{"$f":"IF(INDIRECT(\"'Voksen \"&U149&\"'!$c$210\")=\"\",\"\",IFERROR(INDIRECT(\"'Voksen \"&U149&\"'!$c$210\",TRUE),\"\"))","v":{"$error":"#REF!"}},{"$f":"IF(INDIRECT(\"'Voksen \"&U149&\"'!$c$232\")=\"\",\"\",IFERROR(INDIRECT(\"'Voksen \"&U149&\"'!$c$232\",TRUE),\"\"))","v":{"$error":"#REF!"}},{"$f":"IF(INDIRECT(\"'Voksen \"&U149&\"'!$c$258\")=\"\",\"\",IFERROR(INDIRECT(\"'Voksen \"&U149&\"'!$c$258\",TRUE),\"\"))","v":{"$error":"#REF!"}},null,{"$f":"IF(INDIRECT(\"'Børn \"&U149&\"'!$c$126\")=\"\",\"\",IFERROR(INDIRECT(\"'Børn \"&U149&\"'!$c$126\",TRUE),\"\"))","v":{"$error":"#REF!"}},{"$f":"IF(INDIRECT(\"'Børn \"&U149&\"'!$c$142\")=\"\",\"\",IFERROR(INDIRECT(\"'Børn \"&U149&\"'!$c$142\",TRUE),\"\"))","v":{"$error":"#REF!"}},{"$f":"IF(INDIRECT(\"'Børn \"&U149&\"'!$c$166\")=\"\",\"\",IFERROR(INDIRECT(\"'Børn \"&U149&\"'!$c$166\",TRUE),\"\"))","v":{"$error":"#REF!"}},{"$f":"IF(INDIRECT(\"'Børn \"&U149&\"'!$c$180\")=\"\",\"\",IFERROR(INDIRECT(\"'Børn \"&U149&\"'!$c$180\",TRUE),\"\"))","v":{"$error":"#REF!"}},{"$f":"IF(INDIRECT(\"'Børn \"&U149&\"'!$c$200\")=\"\",\"\",IFERROR(INDIRECT(\"'Børn \"&U149&\"'!$c$200\",TRUE),\"\"))","v":{"$error":"#REF!"}},{"$f":"IF(INDIRECT(\"'Børn \"&U149&\"'!$c$221\")=\"\",\"\",IFERROR(INDIRECT(\"'Børn \"&U149&\"'!$c$221\",TRUE),\"\"))","v":{"$error":"#REF!"}},{"$f":"IF(INDIRECT(\"'Børn \"&U149&\"'!$c$244\")=\"\",\"\",IFERROR(INDIRECT(\"'Børn \"&U149&\"'!$c$244\",TRUE),\"\"))","v":{"$error":"#REF!"}}]
["Tilsyn 30","Status:  gul",{"$f":"COUNTIF(IF(ISERROR(INDIRECT(\"'Voksen \"&A150&\"'!$H$31\",TRUE)),\"\",INDIRECT(\"'Voksen \"&A150&\"'!$H$31\",TRUE)),2)","v":{"$error":"#VALUE!"}},{"$f":"COUNTIF(IF(ISERROR(INDIRECT(\"'Voksen \"&A150&\"'!$H$41\",TRUE)),\"\",INDIRECT(\"'Voksen \"&A150&\"'!$H$41\",TRUE)),2)","v":{"$error":"#VALUE!"}},{"$f":"COUNTIF(IF(ISERROR(INDIRECT(\"'Voksen \"&A150&\"'!$H$50\",TRUE)),\"\",INDIRECT(\"'Voksen \"&A150&\"'!$H$50\",TRUE)),2)","v":{"$error":"#VALUE!"}},{"$f":"COUNTIF(IF(ISERROR(INDIRECT(\"'Voksen \"&A150&\"'!$H$58\",TRUE)),\"\",INDIRECT(\"'Voksen \"&A150&\"'!$H$58\",TRUE)),2)","v":{"$error":"#VALUE!"}},{"$f":"COUNTIF(IF(ISERROR(INDIRECT(\"'Voksen \"&A150&\"'!$H$69\",TRUE)),\"\",INDIRECT(\"'Voksen \"&A150&\"'!$H$69\",TRUE)),2)","v":{"$error":"#VALUE!"}},{"$f":"COUNTIF(IF(ISERROR(INDIRECT(\"'Voksen \"&A150&\"'!$H$77\",TRUE)),\"\",INDIRECT(\"'Voksen \"&A150&\"'!$H$77\",TRUE)),2)","v":{"$error":"#VALUE!"}},null,null,{"$f":"COUNTIF(IF(ISERROR(INDIRECT(\"'Børn \"&A150&\"'!$H$31\",TRUE)),\"\",INDIRECT(\"'Børn \"&A150&\"'!$H$31\",TRUE)),2)","v":{"$error":"#VALUE!"}},{"$f":"COUNTIF(IF(ISERROR(INDIRECT(\"'Børn \"&A150&\"'!$H$44\",TRUE)),\"\",INDIRECT(\"'Børn \"&A150&\"'!$H$44\",TRUE)),2)","v":{"$error":"#VALUE!"}},{"$f":"COUNTIF(IF(ISERROR(INDIRECT(\"'Børn \"&A150&\"'!$H$53\",TRUE)),\"\",INDIRECT(\"'Børn \"&A150&\"'!$H$53\",TRUE)),2)","v":{"$error":"#VALUE!"}},{"$f":"COUNTIF(IF(ISERROR(INDIRECT(\"'Børn \"&A150&\"'!$H$61\",TRUE)),\"\",INDIRECT(\"'Børn \"&A150&\"'!$H$61\",TRUE)),2)","v":{"$error":"#VALUE!"}},{"$f":"COUNTIF(IF(ISERROR(INDIRECT(\"'Børn \"&A150&\"'!$H$68\",TRUE)),\"\",INDIRECT(\"'Børn \"&A150&\"'!$H$68\",TRUE)),2)","v":{"$error":"#VALUE!"}},{"$f":"COUNTIF(IF(ISERROR(INDIRECT(\"'Børn \"&A150&\"'!$H$79\",TRUE)),\"\",INDIRECT(\"'Børn \"&A150&\"'!$H$79\",TRUE)),2)","v":{"$error":"#VALUE!"}},{"$f":"COUNTIF(IF(ISERROR(INDIRECT(\"'Børn \"&A150&\"'!$H$87\",TRUE)),\"\",INDIRECT(\"'Børn \"&A150&\"'!$H$87\",TRUE)),2)","v":{"$error":"#VALUE!"}},null,null,null,"Tilsyn 45",{"$f":"IF(INDIRECT(\"'Voksen \"&U150&\"'!$c$112\")=\"\",\"\",IFERROR(INDIRECT(\"'Voksen \"&U150&\"'!$c$112\",TRUE),\"\"))","v":{"$error":"#REF!"}},{"$f":"IF(INDIRECT(\"'Voksen \"&U150&\"'!$c$133\")=\"\",\"\",IFERROR(INDIRECT(\"'Voksen \"&U150&\"'!$c$133\",TRUE),\"\"))","v":{"$error":"#REF!"}},{"$f":"IF(INDIRECT(\"'Voksen \"&U150&\"'!$c$154\")=\"\",\"\",IFERROR(INDIRECT(\"'Voksen \"&U150&\"'!$c$154\",TRUE),\"\"))","v":{"$error":"#REF!"}},{"$f":"IF(INDIRECT(\"'Voksen \"&U150&\"'!$c$169\")=\"\",\"\",IFERROR(INDIRECT(\"'Voksen \"&U150&\"'!$c$169\",TRUE),\"\"))","v":{"$error":"#REF!"}},{"$f":"IF(INDIRECT(\"'Voksen \"&U150&\"'!$c$186\")=\"\",\"\",IFERROR(INDIRECT(\"'Voksen \"&U150&\"'!$c$186\",TRUE),\"\"))","v":{"$error":"#REF!"}},{"$f":"IF(INDIRECT(\"'Voksen \"&U150&\"'!$c$207\")=\"\",\"\",IFERROR(INDIRECT(\"'Voksen \"&U150&\"'!$c$207\",TRUE),\"\"))","v":{"$error":"#REF!"}},{"$f":"IF(INDIRECT(\"'Voksen \"&U150&\"'!$c$229\")=\"\",\"\",IFERROR(INDIRECT(\"'Voksen \"&U150&\"'!$c$229\",TRUE),\"\"))","v":{"$error":"#REF!"}},{"$f":"IF(INDIRECT(\"'Voksen \"&U150&\"'!$c$255\")=\"\",\"\",IFERROR(INDIRECT(\"'Voksen \"&U150&\"'!$c$255\",TRUE),\"\"))","v":{"$error":"#REF!"}},null,{"$f":"IF(INDIRECT(\"'Børn \"&U150&\"'!$c$123\")=\"\",\"\",IFERROR(INDIRECT(\"'Børn \"&U150&\"'!$c$123\",TRUE),\"\"))","v":{"$error":"#REF!"}},{"$f":"IF(INDIRECT(\"'Børn \"&U150&\"'!$c$139\")=\"\",\"\",IFERROR(INDIRECT(\"'Børn \"&U150&\"'!$c$139\",TRUE),\"\"))","v":{"$error":"#REF!"}},{"$f":"IF(INDIRECT(\"'Børn \"&U150&\"'!$c$163\")=\"\",\"\",IFERROR(INDIRECT(\"'Børn \"&U150&\"'!$c$163\",TRUE),\"\"))","v":{"$error":"#REF!"}},{"$f":"IF(INDIRECT(\"'Børn \"&U150&\"'!$c$177\")=\"\",\"\",IFERROR(INDIRECT(\"'Børn \"&U150&\"'!$c$177\",TRUE),\"\"))","v":{"$error":"#REF!"}},{"$f":"IF(INDIRECT(\"'Børn \"&U150&\"'!$c$197\")=\"\",\"\",IFERROR(INDIRECT(\"'Børn \"&U150&\"'!$c$197\",TRUE),\"\"))","v":{"$error":"#REF!"}},{"$f":"IF(INDIRECT(\"'Børn \"&U150&\"'!$c$218\")=\"\",\"\",IFERROR(INDIRECT(\"'Børn \"&U150&\"'!$c$218\",TRUE),\"\"))","v":{"$error":"#REF!"}},{"$f":"IF(INDIRECT(\"'Børn \"&U150&\"'!$c$241\")=\"\",\"\",IFERROR(INDIRECT(\"'Børn \"&U150&\"'!$c$241\",TRUE),\"\"))","v":{"$error":"#REF!"}}]
["Tilsyn 30","Status:  rød",{"$f":"COUNTIF(IF(ISERROR(INDIRECT(\"'Voksen \"&A151&\"'!$H$31\",TRUE)),\"\",INDIRECT(\"'Voksen \"&A151&\"'!$H$31\",TRUE)),3)","v":{"$error":"#VALUE!"}},{"$f":"COUNTIF(IF(ISERROR(INDIRECT(\"'Voksen \"&A151&\"'!$H$41\",TRUE)),\"\",INDIRECT(\"'Voksen \"&A151&\"'!$H$41\",TRUE)),3)","v":{"$error":"#VALUE!"}},{"$f":"COUNTIF(IF(ISERROR(INDIRECT(\"'Voksen \"&A151&\"'!$H$50\",TRUE)),\"\",INDIRECT(\"'Voksen \"&A151&\"'!$H$50\",TRUE)),3)","v":{"$error":"#VALUE!"}},{"$f":"COUNTIF(IF(ISERROR(INDIRECT(\"'Voksen \"&A151&\"'!$H$58\",TRUE)),\"\",INDIRECT(\"'Voksen \"&A151&\"'!$H$58\",TRUE)),3)","v":{"$error":"#VALUE!"}},{"$f":"COUNTIF(IF(ISERROR(INDIRECT(\"'Voksen \"&A151&\"'!$H$69\",TRUE)),\"\",INDIRECT(\"'Voksen \"&A151&\"'!$H$69\",TRUE)),3)","v":{"$error":"#VALUE!"}},{"$f":"COUNTIF(IF(ISERROR(INDIRECT(\"'Voksen \"&A151&\"'!$H$77\",TRUE)),\"\",INDIRECT(\"'Voksen \"&A151&\"'!$H$77\",TRUE)),3)","v":{"$error":"#VALUE!"}},null,null,{"$f":"COUNTIF(IF(ISERROR(INDIRECT(\"'Børn \"&A151&\"'!$H$31\",TRUE)),\"\",INDIRECT(\"'Børn \"&A151&\"'!$H$31\",TRUE)),3)","v":{"$error":"#VALUE!"}},{"$f":"COUNTIF(IF(ISERROR(INDIRECT(\"'Børn \"&A151&\"'!$H$44\",TRUE)),\"\",INDIRECT(\"'Børn \"&A151&\"'!$H$44\",TRUE)),3)","v":{"$error":"#VALUE!"}},{"$f":"COUNTIF(IF(ISERROR(INDIRECT(\"'Børn \"&A151&\"'!$H$53\",TRUE)),\"\",INDIRECT(\"'Børn \"&A151&\"'!$H$53\",TRUE)),3)","v":{"$error":"#VALUE!"}},{"$f":"COUNTIF(IF(ISERROR(INDIRECT(\"'Børn \"&A151&\"'!$H$61\",TRUE)),\"\",INDIRECT(\"'Børn \"&A151&\"'!$H$61\",TRUE)),3)","v":{"$error":"#VALUE!"}},{"$f":"COUNTIF(IF(ISERROR(INDIRECT(\"'Børn \"&A151&\"'!$H$68\",TRUE)),\"\",INDIRECT(\"'Børn \"&A151&\"'!$H$68\",TRUE)),3)","v":{"$error":"#VALUE!"}},{"$f":"COUNTIF(IF(ISERROR(INDIRECT(\"'Børn \"&A151&\"'!$H$79\",TRUE)),\"\",INDIRECT(\"'Børn \"&A151&\"'!$H$79\",TRUE)),3)","v":{"$error":"#VALUE!"}},{"$f":"COUNTIF(IF(ISERROR(INDIRECT(\"'Børn \"&A151&\"'!$H$87\",TRUE)),\"\",INDIRECT(\"'Børn \"&A151&\"'!$H$87\",TRUE)),3)","v":{"$error":"#VALUE!"}},null,null,null,{"$f":"U150","v":"Tilsyn 45"},{"$f":"IF(INDIRECT(\"'Voksen \"&U151&\"'!$c$115\")=\"\",\"\",IFERROR(INDIRECT(\"'Voksen \"&U151&\"'!$c$115\",TRUE),\"\"))","v":{"$error":"#REF!"}},{"$f":"IF(INDIRECT(\"'Voksen \"&U151&\"'!$c$136\")=\"\",\"\",IFERROR(INDIRECT(\"'Voksen \"&U151&\"'!$c$136\",TRUE),\"\"))","v":{"$error":"#REF!"}},{"$f":"IF(INDIRECT(\"'Voksen \"&U151&\"'!$c$157\")=\"\",\"\",IFERROR(INDIRECT(\"'Voksen \"&U151&\"'!$c$157\",TRUE),\"\"))","v":{"$error":"#REF!"}},{"$f":"IF(INDIRECT(\"'Voksen \"&U151&\"'!$c$172\")=\"\",\"\",IFERROR(INDIRECT(\"'Voksen \"&U151&\"'!$c$172\",TRUE),\"\"))","v":{"$error":"#REF!"}},{"$f":"IF(INDIRECT(\"'Voksen \"&U151&\"'!$c$189\")=\"\",\"\",IFERROR(INDIRECT(\"'Voksen \"&U151&\"'!$c$189\",TRUE),\"\"))","v":{"$error":"#REF!"}},{"$f":"IF(INDIRECT(\"'Voksen \"&U151&\"'!$c$210\")=\"\",\"\",IFERROR(INDIRECT(\"'Voksen \"&U151&\"'!$c$210\",TRUE),\"\"))","v":{"$error":"#REF!"}},{"$f":"IF(INDIRECT(\"'Voksen \"&U151&\"'!$c$232\")=\"\",\"\",IFERROR(INDIRECT(\"'Voksen \"&U151&\"'!$c$232\",TRUE),\"\"))","v":{"$error":"#REF!"}},{"$f":"IF(INDIRECT(\"'Voksen \"&U151&\"'!$c$258\")=\"\",\"\",IFERROR(INDIRECT(\"'Voksen \"&U151&\"'!$c$258\",TRUE),\"\"))","v":{"$error":"#REF!"}},null,{"$f":"IF(INDIRECT(\"'Børn \"&U151&\"'!$c$126\")=\"\",\"\",IFERROR(INDIRECT(\"'Børn \"&U151&\"'!$c$126\",TRUE),\"\"))","v":{"$error":"#REF!"}},{"$f":"IF(INDIRECT(\"'Børn \"&U151&\"'!$c$142\")=\"\",\"\",IFERROR(INDIRECT(\"'Børn \"&U151&\"'!$c$142\",TRUE),\"\"))","v":{"$error":"#REF!"}},{"$f":"IF(INDIRECT(\"'Børn \"&U151&\"'!$c$166\")=\"\",\"\",IFERROR(INDIRECT(\"'Børn \"&U151&\"'!$c$166\",TRUE),\"\"))","v":{"$error":"#REF!"}},{"$f":"IF(INDIRECT(\"'Børn \"&U151&\"'!$c$180\")=\"\",\"\",IFERROR(INDIRECT(\"'Børn \"&U151&\"'!$c$180\",TRUE),\"\"))","v":{"$error":"#REF!"}},{"$f":"IF(INDIRECT(\"'Børn \"&U151&\"'!$c$200\")=\"\",\"\",IFERROR(INDIRECT(\"'Børn \"&U151&\"'!$c$200\",TRUE),\"\"))","v":{"$error":"#REF!"}},{"$f":"IF(INDIRECT(\"'Børn \"&U151&\"'!$c$221\")=\"\",\"\",IFERROR(INDIRECT(\"'Børn \"&U151&\"'!$c$221\",TRUE),\"\"))","v":{"$error":"#REF!"}},{"$f":"IF(INDIRECT(\"'Børn \"&U151&\"'!$c$244\")=\"\",\"\",IFERROR(INDIRECT(\"'Børn \"&U151&\"'!$c$244\",TRUE),\"\"))","v":{"$error":"#REF!"}}]
["Tilsyn 31","Status:  grøn",{"$f":"COUNTIF(IF(ISERROR(INDIRECT(\"'Voksen \"&A152&\"'!$H$31\",TRUE)),\"\",INDIRECT(\"'Voksen \"&A152&\"'!$H$31\",TRUE)),1)","v":{"$error":"#VALUE!"}},{"$f":"COUNTIF(IF(ISERROR(INDIRECT(\"'Voksen \"&A152&\"'!$H$41\",TRUE)),\"\",INDIRECT(\"'Voksen \"&A152&\"'!$H$41\",TRUE)),1)","v":{"$error":"#VALUE!"}},{"$f":"COUNTIF(IF(ISERROR(INDIRECT(\"'Voksen \"&A152&\"'!$H$50\",TRUE)),\"\",INDIRECT(\"'Voksen \"&A152&\"'!$H$50\",TRUE)),1)","v":{"$error":"#VALUE!"}},{"$f":"COUNTIF(IF(ISERROR(INDIRECT(\"'Voksen \"&A152&\"'!$H$58\",TRUE)),\"\",INDIRECT(\"'Voksen \"&A152&\"'!$H$58\",TRUE)),1)","v":{"$error":"#VALUE!"}},{"$f":"COUNTIF(IF(ISERROR(INDIRECT(\"'Voksen \"&A152&\"'!$H$69\",TRUE)),\"\",INDIRECT(\"'Voksen \"&A152&\"'!$H$69\",TRUE)),1)","v":{"$error":"#VALUE!"}},{"$f":"COUNTIF(IF(ISERROR(INDIRECT(\"'Voksen \"&A152&\"'!$H$77\",TRUE)),\"\",INDIRECT(\"'Voksen \"&A152&\"'!$H$77\",TRUE)),1)","v":{"$error":"#VALUE!"}},null,null,{"$f":"COUNTIF(IF(ISERROR(INDIRECT(\"'Børn \"&A152&\"'!$H$31\",TRUE)),\"\",INDIRECT(\"'Børn \"&A152&\"'!$H$31\",TRUE)),1)","v":{"$error":"#VALUE!"}},{"$f":"COUNTIF(IF(ISERROR(INDIRECT(\"'Børn \"&A152&\"'!$H$44\",TRUE)),\"\",INDIRECT(\"'Børn \"&A152&\"'!$H$44\",TRUE)),1)","v":{"$error":"#VALUE!"}},{"$f":"COUNTIF(IF(ISERROR(INDIRECT(\"'Børn \"&A152&\"'!$H$53\",TRUE)),\"\",INDIRECT(\"'Børn \"&A152&\"'!$H$53\",TRUE)),1)","v":{"$error":"#VALUE!"}},{"$f":"COUNTIF(IF(ISERROR(INDIRECT(\"'Børn \"&A152&\"'!$H$61\",TRUE)),\"\",INDIRECT(\"'Børn \"&A152&\"'!$H$61\",TRUE)),1)","v":{"$error":"#VALUE!"}},{"$f":"COUNTIF(IF(ISERROR(INDIRECT(\"'Børn \"&A152&\"'!$H$68\",TRUE)),\"\",INDIRECT(\"'Børn \"&A152&\"'!$H$68\",TRUE)),1)","v":{"$error":"#VALUE!"}},{"$f":"COUNTIF(IF(ISERROR(INDIRECT(\"'Børn \"&A152&\"'!$H$79\",TRUE)),\"\",INDIRECT(\"'Børn \"&A152&\"'!$H$79\",TRUE)),1)","v":{"$error":"#VALUE!"}},{"$f":"COUNTIF(IF(ISERROR(INDIRECT(\"'Børn \"&A152&\"'!$H$87\",TRUE)),\"\",INDIRECT(\"'Børn \"&A152&\"'!$H$87\",TRUE)),1)","v":{"$error":"#VALUE!"}},null,null,null,"Tilsyn 46",{"$f":"IF(INDIRECT(\"'Voksen \"&U152&\"'!$c$112\")=\"\",\"\",IFERROR(INDIRECT(\"'Voksen \"&U152&\"'!$c$112\",TRUE),\"\"))","v":{"$error":"#REF!"}},{"$f":"IF(INDIRECT(\"'Voksen \"&U152&\"'!$c$133\")=\"\",\"\",IFERROR(INDIRECT(\"'Voksen \"&U152&\"'!$c$133\",TRUE),\"\"))","v":{"$error":"#REF!"}},{"$f":"IF(INDIRECT(\"'Voksen \"&U152&\"'!$c$154\")=\"\",\"\",IFERROR(INDIRECT(\"'Voksen \"&U152&\"'!$c$154\",TRUE),\"\"))","v":{"$error":"#REF!"}},{"$f":"IF(INDIRECT(\"'Voksen \"&U152&\"'!$c$169\")=\"\",\"\",IFERROR(INDIRECT(\"'Voksen \"&U152&\"'!$c$169\",TRUE),\"\"))","v":{"$error":"#REF!"}},{"$f":"IF(INDIRECT(\"'Voksen \"&U152&\"'!$c$186\")=\"\",\"\",IFERROR(INDIRECT(\"'Voksen \"&U152&\"'!$c$186\",TRUE),\"\"))","v":{"$error":"#REF!"}},{"$f":"IF(INDIRECT(\"'Voksen \"&U152&\"'!$c$207\")=\"\",\"\",IFERROR(INDIRECT(\"'Voksen \"&U152&\"'!$c$207\",TRUE),\"\"))","v":{"$error":"#REF!"}},{"$f":"IF(INDIRECT(\"'Voksen \"&U152&\"'!$c$229\")=\"\",\"\",IFERROR(INDIRECT(\"'Voksen \"&U152&\"'!$c$229\",TRUE),\"\"))","v":{"$error":"#REF!"}},{"$f":"IF(INDIRECT(\"'Voksen \"&U152&\"'!$c$255\")=\"\",\"\",IFERROR(INDIRECT(\"'Voksen \"&U152&\"'!$c$255\",TRUE),\"\"))","v":{"$error":"#REF!"}},null,{"$f":"IF(INDIRECT(\"'Børn \"&U152&\"'!$c$123\")=\"\",\"\",IFERROR(INDIRECT(\"'Børn \"&U152&\"'!$c$123\",TRUE),\"\"))","v":{"$error":"#REF!"}},{"$f":"IF(INDIRECT(\"'Børn \"&U152&\"'!$c$139\")=\"\",\"\",IFERROR(INDIRECT(\"'Børn \"&U152&\"'!$c$139\",TRUE),\"\"))","v":{"$error":"#REF!"}},{"$f":"IF(INDIRECT(\"'Børn \"&U152&\"'!$c$163\")=\"\",\"\",IFERROR(INDIRECT(\"'Børn \"&U152&\"'!$c$163\",TRUE),\"\"))","v":{"$error":"#REF!"}},{"$f":"IF(INDIRECT(\"'Børn \"&U152&\"'!$c$177\")=\"\",\"\",IFERROR(INDIRECT(\"'Børn \"&U152&\"'!$c$177\",TRUE),\"\"))","v":{"$error":"#REF!"}},{"$f":"IF(INDIRECT(\"'Børn \"&U152&\"'!$c$197\")=\"\",\"\",IFERROR(INDIRECT(\"'Børn \"&U152&\"'!$c$197\",TRUE),\"\"))","v":{"$error":"#REF!"}},{"$f":"IF(INDIRECT(\"'Børn \"&U152&\"'!$c$218\")=\"\",\"\",IFERROR(INDIRECT(\"'Børn \"&U152&\"'!$c$218\",TRUE),\"\"))","v":{"$error":"#REF!"}},{"$f":"IF(INDIRECT(\"'Børn \"&U152&\"'!$c$241\")=\"\",\"\",IFERROR(INDIRECT(\"'Børn \"&U152&\"'!$c$241\",TRUE),\"\"))","v":{"$error":"#REF!"}}]
["Tilsyn 31","Status:  gul",{"$f":"COUNTIF(IF(ISERROR(INDIRECT(\"'Voksen \"&A153&\"'!$H$31\",TRUE)),\"\",INDIRECT(\"'Voksen \"&A153&\"'!$H$31\",TRUE)),2)","v":{"$error":"#VALUE!"}},{"$f":"COUNTIF(IF(ISERROR(INDIRECT(\"'Voksen \"&A153&\"'!$H$41\",TRUE)),\"\",INDIRECT(\"'Voksen \"&A153&\"'!$H$41\",TRUE)),2)","v":{"$error":"#VALUE!"}},{"$f":"COUNTIF(IF(ISERROR(INDIRECT(\"'Voksen \"&A153&\"'!$H$50\",TRUE)),\"\",INDIRECT(\"'Voksen \"&A153&\"'!$H$50\",TRUE)),2)","v":{"$error":"#VALUE!"}},{"$f":"COUNTIF(IF(ISERROR(INDIRECT(\"'Voksen \"&A153&\"'!$H$58\",TRUE)),\"\",INDIRECT(\"'Voksen \"&A153&\"'!$H$58\",TRUE)),2)","v":{"$error":"#VALUE!"}},{"$f":"COUNTIF(IF(ISERROR(INDIRECT(\"'Voksen \"&A153&\"'!$H$69\",TRUE)),\"\",INDIRECT(\"'Voksen \"&A153&\"'!$H$69\",TRUE)),2)","v":{"$error":"#VALUE!"}},{"$f":"COUNTIF(IF(ISERROR(INDIRECT(\"'Voksen \"&A153&\"'!$H$77\",TRUE)),\"\",INDIRECT(\"'Voksen \"&A153&\"'!$H$77\",TRUE)),2)","v":{"$error":"#VALUE!"}},null,null,{"$f":"COUNTIF(IF(ISERROR(INDIRECT(\"'Børn \"&A153&\"'!$H$31\",TRUE)),\"\",INDIRECT(\"'Børn \"&A153&\"'!$H$31\",TRUE)),2)","v":{"$error":"#VALUE!"}},{"$f":"COUNTIF(IF(ISERROR(INDIRECT(\"'Børn \"&A153&\"'!$H$44\",TRUE)),\"\",INDIRECT(\"'Børn \"&A153&\"'!$H$44\",TRUE)),2)","v":{"$error":"#VALUE!"}},{"$f":"COUNTIF(IF(ISERROR(INDIRECT(\"'Børn \"&A153&\"'!$H$53\",TRUE)),\"\",INDIRECT(\"'Børn \"&A153&\"'!$H$53\",TRUE)),2)","v":{"$error":"#VALUE!"}},{"$f":"COUNTIF(IF(ISERROR(INDIRECT(\"'Børn \"&A153&\"'!$H$61\",TRUE)),\"\",INDIRECT(\"'Børn \"&A153&\"'!$H$61\",TRUE)),2)","v":{"$error":"#VALUE!"}},{"$f":"COUNTIF(IF(ISERROR(INDIRECT(\"'Børn \"&A153&\"'!$H$68\",TRUE)),\"\",INDIRECT(\"'Børn \"&A153&\"'!$H$68\",TRUE)),2)","v":{"$error":"#VALUE!"}},{"$f":"COUNTIF(IF(ISERROR(INDIRECT(\"'Børn \"&A153&\"'!$H$79\",TRUE)),\"\",INDIRECT(\"'Børn \"&A153&\"'!$H$79\",TRUE)),2)","v":{"$error":"#VALUE!"}},{"$f":"COUNTIF(IF(ISERROR(INDIRECT(\"'Børn \"&A153&\"'!$H$87\",TRUE)),\"\",INDIRECT(\"'Børn \"&A153&\"'!$H$87\",TRUE)),2)","v":{"$error":"#VALUE!"}},null,null,null,{"$f":"U152","v":"Tilsyn 46"},{"$f":"IF(INDIRECT(\"'Voksen \"&U153&\"'!$c$115\")=\"\",\"\",IFERROR(INDIRECT(\"'Voksen \"&U153&\"'!$c$115\",TRUE),\"\"))","v":{"$error":"#REF!"}},{"$f":"IF(INDIRECT(\"'Voksen \"&U153&\"'!$c$136\")=\"\",\"\",IFERROR(INDIRECT(\"'Voksen \"&U153&\"'!$c$136\",TRUE),\"\"))","v":{"$error":"#REF!"}},{"$f":"IF(INDIRECT(\"'Voksen \"&U153&\"'!$c$157\")=\"\",\"\",IFERROR(INDIRECT(\"'Voksen \"&U153&\"'!$c$157\",TRUE),\"\"))","v":{"$error":"#REF!"}},{"$f":"IF(INDIRECT(\"'Voksen \"&U153&\"'!$c$172\")=\"\",\"\",IFERROR(INDIRECT(\"'Voksen \"&U153&\"'!$c$172\",TRUE),\"\"))","v":{"$error":"#REF!"}},{"$f":"IF(INDIRECT(\"'Voksen \"&U153&\"'!$c$189\")=\"\",\"\",IFERROR(INDIRECT(\"'Voksen \"&U153&\"'!$c$189\",TRUE),\"\"))","v":{"$error":"#REF!"}},{"$f":"IF(INDIRECT(\"'Voksen \"&U153&\"'!$c$210\")=\"\",\"\",IFERROR(INDIRECT(\"'Voksen \"&U153&\"'!$c$210\",TRUE),\"\"))","v":{"$error":"#REF!"}},{"$f":"IF(INDIRECT(\"'Voksen \"&U153&\"'!$c$232\")=\"\",\"\",IFERROR(INDIRECT(\"'Voksen \"&U153&\"'!$c$232\",TRUE),\"\"))","v":{"$error":"#REF!"}},{"$f":"IF(INDIRECT(\"'Voksen \"&U153&\"'!$c$258\")=\"\",\"\",IFERROR(INDIRECT(\"'Voksen \"&U153&\"'!$c$258\",TRUE),\"\"))","v":{"$error":"#REF!"}},null,{"$f":"IF(INDIRECT(\"'Børn \"&U153&\"'!$c$126\")=\"\",\"\",IFERROR(INDIRECT(\"'Børn \"&U153&\"'!$c$126\",TRUE),\"\"))","v":{"$error":"#REF!"}},{"$f":"IF(INDIRECT(\"'Børn \"&U153&\"'!$c$142\")=\"\",\"\",IFERROR(INDIRECT(\"'Børn \"&U153&\"'!$c$142\",TRUE),\"\"))","v":{"$error":"#REF!"}},{"$f":"IF(INDIRECT(\"'Børn \"&U153&\"'!$c$166\")=\"\",\"\",IFERROR(INDIRECT(\"'Børn \"&U153&\"'!$c$166\",TRUE),\"\"))","v":{"$error":"#REF!"}},{"$f":"IF(INDIRECT(\"'Børn \"&U153&\"'!$c$180\")=\"\",\"\",IFERROR(INDIRECT(\"'Børn \"&U153&\"'!$c$180\",TRUE),\"\"))","v":{"$error":"#REF!"}},{"$f":"IF(INDIRECT(\"'Børn \"&U153&\"'!$c$200\")=\"\",\"\",IFERROR(INDIRECT(\"'Børn \"&U153&\"'!$c$200\",TRUE),\"\"))","v":{"$error":"#REF!"}},{"$f":"IF(INDIRECT(\"'Børn \"&U153&\"'!$c$221\")=\"\",\"\",IFERROR(INDIRECT(\"'Børn \"&U153&\"'!$c$221\",TRUE),\"\"))","v":{"$error":"#REF!"}},{"$f":"IF(INDIRECT(\"'Børn \"&U153&\"'!$c$244\")=\"\",\"\",IFERROR(INDIRECT(\"'Børn \"&U153&\"'!$c$244\",TRUE),\"\"))","v":{"$error":"#REF!"}}]
["Tilsyn 31","Status:  rød",{"$f":"COUNTIF(IF(ISERROR(INDIRECT(\"'Voksen \"&A154&\"'!$H$31\",TRUE)),\"\",INDIRECT(\"'Voksen \"&A154&\"'!$H$31\",TRUE)),3)","v":{"$error":"#VALUE!"}},{"$f":"COUNTIF(IF(ISERROR(INDIRECT(\"'Voksen \"&A154&\"'!$H$41\",TRUE)),\"\",INDIRECT(\"'Voksen \"&A154&\"'!$H$41\",TRUE)),3)","v":{"$error":"#VALUE!"}},{"$f":"COUNTIF(IF(ISERROR(INDIRECT(\"'Voksen \"&A154&\"'!$H$50\",TRUE)),\"\",INDIRECT(\"'Voksen \"&A154&\"'!$H$50\",TRUE)),3)","v":{"$error":"#VALUE!"}},{"$f":"COUNTIF(IF(ISERROR(INDIRECT(\"'Voksen \"&A154&\"'!$H$58\",TRUE)),\"\",INDIRECT(\"'Voksen \"&A154&\"'!$H$58\",TRUE)),3)","v":{"$error":"#VALUE!"}},{"$f":"COUNTIF(IF(ISERROR(INDIRECT(\"'Voksen \"&A154&\"'!$H$69\",TRUE)),\"\",INDIRECT(\"'Voksen \"&A154&\"'!$H$69\",TRUE)),3)","v":{"$error":"#VALUE!"}},{"$f":"COUNTIF(IF(ISERROR(INDIRECT(\"'Voksen \"&A154&\"'!$H$77\",TRUE)),\"\",INDIRECT(\"'Voksen \"&A154&\"'!$H$77\",TRUE)),3)","v":{"$error":"#VALUE!"}},null,null,{"$f":"COUNTIF(IF(ISERROR(INDIRECT(\"'Børn \"&A154&\"'!$H$31\",TRUE)),\"\",INDIRECT(\"'Børn \"&A154&\"'!$H$31\",TRUE)),3)","v":{"$error":"#VALUE!"}},{"$f":"COUNTIF(IF(ISERROR(INDIRECT(\"'Børn \"&A154&\"'!$H$44\",TRUE)),\"\",INDIRECT(\"'Børn \"&A154&\"'!$H$44\",TRUE)),3)","v":{"$error":"#VALUE!"}},{"$f":"COUNTIF(IF(ISERROR(INDIRECT(\"'Børn \"&A154&\"'!$H$53\",TRUE)),\"\",INDIRECT(\"'Børn \"&A154&\"'!$H$53\",TRUE)),3)","v":{"$error":"#VALUE!"}},{"$f":"COUNTIF(IF(ISERROR(INDIRECT(\"'Børn \"&A154&\"'!$H$61\",TRUE)),\"\",INDIRECT(\"'Børn \"&A154&\"'!$H$61\",TRUE)),3)","v":{"$error":"#VALUE!"}},{"$f":"COUNTIF(IF(ISERROR(INDIRECT(\"'Børn \"&A154&\"'!$H$68\",TRUE)),\"\",INDIRECT(\"'Børn \"&A154&\"'!$H$68\",TRUE)),3)","v":{"$error":"#VALUE!"}},{"$f":"COUNTIF(IF(ISERROR(INDIRECT(\"'Børn \"&A154&\"'!$H$79\",TRUE)),\"\",INDIRECT(\"'Børn \"&A154&\"'!$H$79\",TRUE)),3)","v":{"$error":"#VALUE!"}},{"$f":"COUNTIF(IF(ISERROR(INDIRECT(\"'Børn \"&A154&\"'!$H$87\",TRUE)),\"\",INDIRECT(\"'Børn \"&A154&\"'!$H$87\",TRUE)),3)","v":{"$error":"#VALUE!"}},null,null,null,"Tilsyn 47",{"$f":"IF(INDIRECT(\"'Voksen \"&U154&\"'!$c$112\")=\"\",\"\",IFERROR(INDIRECT(\"'Voksen \"&U154&\"'!$c$112\",TRUE),\"\"))","v":{"$error":"#REF!"}},{"$f":"IF(INDIRECT(\"'Voksen \"&U154&\"'!$c$133\")=\"\",\"\",IFERROR(INDIRECT(\"'Voksen \"&U154&\"'!$c$133\",TRUE),\"\"))","v":{"$error":"#REF!"}},{"$f":"IF(INDIRECT(\"'Voksen \"&U154&\"'!$c$154\")=\"\",\"\",IFERROR(INDIRECT(\"'Voksen \"&U154&\"'!$c$154\",TRUE),\"\"))","v":{"$error":"#REF!"}},{"$f":"IF(INDIRECT(\"'Voksen \"&U154&\"'!$c$169\")=\"\",\"\",IFERROR(INDIRECT(\"'Voksen \"&U154&\"'!$c$169\",TRUE),\"\"))","v":{"$error":"#REF!"}},{"$f":"IF(INDIRECT(\"'Voksen \"&U154&\"'!$c$186\")=\"\",\"\",IFERROR(INDIRECT(\"'Voksen \"&U154&\"'!$c$186\",TRUE),\"\"))","v":{"$error":"#REF!"}},{"$f":"IF(INDIRECT(\"'Voksen \"&U154&\"'!$c$207\")=\"\",\"\",IFERROR(INDIRECT(\"'Voksen \"&U154&\"'!$c$207\",TRUE),\"\"))","v":{"$error":"#REF!"}},{"$f":"IF(INDIRECT(\"'Voksen \"&U154&\"'!$c$229\")=\"\",\"\",IFERROR(INDIRECT(\"'Voksen \"&U154&\"'!$c$229\",TRUE),\"\"))","v":{"$error":"#REF!"}},{"$f":"IF(INDIRECT(\"'Voksen \"&U154&\"'!$c$255\")=\"\",\"\",IFERROR(INDIRECT(\"'Voksen \"&U154&\"'!$c$255\",TRUE),\"\"))","v":{"$error":"#REF!"}},null,{"$f":"IF(INDIRECT(\"'Børn \"&U154&\"'!$c$123\")=\"\",\"\",IFERROR(INDIRECT(\"'Børn \"&U154&\"'!$c$123\",TRUE),\"\"))","v":{"$error":"#REF!"}},{"$f":"IF(INDIRECT(\"'Børn \"&U154&\"'!$c$139\")=\"\",\"\",IFERROR(INDIRECT(\"'Børn \"&U154&\"'!$c$139\",TRUE),\"\"))","v":{"$error":"#REF!"}},{"$f":"IF(INDIRECT(\"'Børn \"&U154&\"'!$c$163\")=\"\",\"\",IFERROR(INDIRECT(\"'Børn \"&U154&\"'!$c$163\",TRUE),\"\"))","v":{"$error":"#REF!"}},{"$f":"IF(INDIRECT(\"'Børn \"&U154&\"'!$c$177\")=\"\",\"\",IFERROR(INDIRECT(\"'Børn \"&U154&\"'!$c$177\",TRUE),\"\"))","v":{"$error":"#REF!"}},{"$f":"IF(INDIRECT(\"'Børn \"&U154&\"'!$c$197\")=\"\",\"\",IFERROR(INDIRECT(\"'Børn \"&U154&\"'!$c$197\",TRUE),\"\"))","v":{"$error":"#REF!"}},{"$f":"IF(INDIRECT(\"'Børn \"&U154&\"'!$c$218\")=\"\",\"\",IFERROR(INDIRECT(\"'Børn \"&U154&\"'!$c$218\",TRUE),\"\"))","v":{"$error":"#REF!"}},{"$f":"IF(INDIRECT(\"'Børn \"&U154&\"'!$c$241\")=\"\",\"\",IFERROR(INDIRECT(\"'Børn \"&U154&\"'!$c$241\",TRUE),\"\"))","v":{"$error":"#REF!"}}]
["Tilsyn 32","Status:  grøn",{"$f":"COUNTIF(IF(ISERROR(INDIRECT(\"'Voksen \"&A155&\"'!$H$31\",TRUE)),\"\",INDIRECT(\"'Voksen \"&A155&\"'!$H$31\",TRUE)),1)","v":{"$error":"#VALUE!"}},{"$f":"COUNTIF(IF(ISERROR(INDIRECT(\"'Voksen \"&A155&\"'!$H$41\",TRUE)),\"\",INDIRECT(\"'Voksen \"&A155&\"'!$H$41\",TRUE)),1)","v":{"$error":"#VALUE!"}},{"$f":"COUNTIF(IF(ISERROR(INDIRECT(\"'Voksen \"&A155&\"'!$H$50\",TRUE)),\"\",INDIRECT(\"'Voksen \"&A155&\"'!$H$50\",TRUE)),1)","v":{"$error":"#VALUE!"}},{"$f":"COUNTIF(IF(ISERROR(INDIRECT(\"'Voksen \"&A155&\"'!$H$58\",TRUE)),\"\",INDIRECT(\"'Voksen \"&A155&\"'!$H$58\",TRUE)),1)","v":{"$error":"#VALUE!"}},{"$f":"COUNTIF(IF(ISERROR(INDIRECT(\"'Voksen \"&A155&\"'!$H$69\",TRUE)),\"\",INDIRECT(\"'Voksen \"&A155&\"'!$H$69\",TRUE)),1)","v":{"$error":"#VALUE!"}},{"$f":"COUNTIF(IF(ISERROR(INDIRECT(\"'Voksen \"&A155&\"'!$H$77\",TRUE)),\"\",INDIRECT(\"'Voksen \"&A155&\"'!$H$77\",TRUE)),1)","v":{"$error":"#VALUE!"}},null,null,{"$f":"COUNTIF(IF(ISERROR(INDIRECT(\"'Børn \"&A155&\"'!$H$31\",TRUE)),\"\",INDIRECT(\"'Børn \"&A155&\"'!$H$31\",TRUE)),1)","v":{"$error":"#VALUE!"}},{"$f":"COUNTIF(IF(ISERROR(INDIRECT(\"'Børn \"&A155&\"'!$H$44\",TRUE)),\"\",INDIRECT(\"'Børn \"&A155&\"'!$H$44\",TRUE)),1)","v":{"$error":"#VALUE!"}},{"$f":"COUNTIF(IF(ISERROR(INDIRECT(\"'Børn \"&A155&\"'!$H$53\",TRUE)),\"\",INDIRECT(\"'Børn \"&A155&\"'!$H$53\",TRUE)),1)","v":{"$error":"#VALUE!"}},{"$f":"COUNTIF(IF(ISERROR(INDIRECT(\"'Børn \"&A155&\"'!$H$61\",TRUE)),\"\",INDIRECT(\"'Børn \"&A155&\"'!$H$61\",TRUE)),1)","v":{"$error":"#VALUE!"}},{"$f":"COUNTIF(IF(ISERROR(INDIRECT(\"'Børn \"&A155&\"'!$H$68\",TRUE)),\"\",INDIRECT(\"'Børn \"&A155&\"'!$H$68\",TRUE)),1)","v":{"$error":"#VALUE!"}},{"$f":"COUNTIF(IF(ISERROR(INDIRECT(\"'Børn \"&A155&\"'!$H$79\",TRUE)),\"\",INDIRECT(\"'Børn \"&A155&\"'!$H$79\",TRUE)),1)","v":{"$error":"#VALUE!"}},{"$f":"COUNTIF(IF(ISERROR(INDIRECT(\"'Børn \"&A155&\"'!$H$87\",TRUE)),\"\",INDIRECT(\"'Børn \"&A155&\"'!$H$87\",TRUE)),1)","v":{"$error":"#VALUE!"}},null,null,null,{"$f":"U154","v":"Tilsyn 47"},{"$f":"IF(INDIRECT(\"'Voksen \"&U155&\"'!$c$115\")=\"\",\"\",IFERROR(INDIRECT(\"'Voksen \"&U155&\"'!$c$115\",TRUE),\"\"))","v":{"$error":"#REF!"}},{"$f":"IF(INDIRECT(\"'Voksen \"&U155&\"'!$c$136\")=\"\",\"\",IFERROR(INDIRECT(\"'Voksen \"&U155&\"'!$c$136\",TRUE),\"\"))","v":{"$error":"#REF!"}},{"$f":"IF(INDIRECT(\"'Voksen \"&U155&\"'!$c$157\")=\"\",\"\",IFERROR(INDIRECT(\"'Voksen \"&U155&\"'!$c$157\",TRUE),\"\"))","v":{"$error":"#REF!"}},{"$f":"IF(INDIRECT(\"'Voksen \"&U155&\"'!$c$172\")=\"\",\"\",IFERROR(INDIRECT(\"'Voksen \"&U155&\"'!$c$172\",TRUE),\"\"))","v":{"$error":"#REF!"}},{"$f":"IF(INDIRECT(\"'Voksen \"&U155&\"'!$c$189\")=\"\",\"\",IFERROR(INDIRECT(\"'Voksen \"&U155&\"'!$c$189\",TRUE),\"\"))","v":{"$error":"#REF!"}},{"$f":"IF(INDIRECT(\"'Voksen \"&U155&\"'!$c$210\")=\"\",\"\",IFERROR(INDIRECT(\"'Voksen \"&U155&\"'!$c$210\",TRUE),\"\"))","v":{"$error":"#REF!"}},{"$f":"IF(INDIRECT(\"'Voksen \"&U155&\"'!$c$232\")=\"\",\"\",IFERROR(INDIRECT(\"'Voksen \"&U155&\"'!$c$232\",TRUE),\"\"))","v":{"$error":"#REF!"}},{"$f":"IF(INDIRECT(\"'Voksen \"&U155&\"'!$c$258\")=\"\",\"\",IFERROR(INDIRECT(\"'Voksen \"&U155&\"'!$c$258\",TRUE),\"\"))","v":{"$error":"#REF!"}},null,{"$f":"IF(INDIRECT(\"'Børn \"&U155&\"'!$c$126\")=\"\",\"\",IFERROR(INDIRECT(\"'Børn \"&U155&\"'!$c$126\",TRUE),\"\"))","v":{"$error":"#REF!"}},{"$f":"IF(INDIRECT(\"'Børn \"&U155&\"'!$c$142\")=\"\",\"\",IFERROR(INDIRECT(\"'Børn \"&U155&\"'!$c$142\",TRUE),\"\"))","v":{"$error":"#REF!"}},{"$f":"IF(INDIRECT(\"'Børn \"&U155&\"'!$c$166\")=\"\",\"\",IFERROR(INDIRECT(\"'Børn \"&U155&\"'!$c$166\",TRUE),\"\"))","v":{"$error":"#REF!"}},{"$f":"IF(INDIRECT(\"'Børn \"&U155&\"'!$c$180\")=\"\",\"\",IFERROR(INDIRECT(\"'Børn \"&U155&\"'!$c$180\",TRUE),\"\"))","v":{"$error":"#REF!"}},{"$f":"IF(INDIRECT(\"'Børn \"&U155&\"'!$c$200\")=\"\",\"\",IFERROR(INDIRECT(\"'Børn \"&U155&\"'!$c$200\",TRUE),\"\"))","v":{"$error":"#REF!"}},{"$f":"IF(INDIRECT(\"'Børn \"&U155&\"'!$c$221\")=\"\",\"\",IFERROR(INDIRECT(\"'Børn \"&U155&\"'!$c$221\",TRUE),\"\"))","v":{"$error":"#REF!"}},{"$f":"IF(INDIRECT(\"'Børn \"&U155&\"'!$c$244\")=\"\",\"\",IFERROR(INDIRECT(\"'Børn \"&U155&\"'!$c$244\",TRUE),\"\"))","v":{"$error":"#REF!"}}]
["Tilsyn 32","Status:  gul",{"$f":"COUNTIF(IF(ISERROR(INDIRECT(\"'Voksen \"&A156&\"'!$H$31\",TRUE)),\"\",INDIRECT(\"'Voksen \"&A156&\"'!$H$31\",TRUE)),2)","v":{"$error":"#VALUE!"}},{"$f":"COUNTIF(IF(ISERROR(INDIRECT(\"'Voksen \"&A156&\"'!$H$41\",TRUE)),\"\",INDIRECT(\"'Voksen \"&A156&\"'!$H$41\",TRUE)),2)","v":{"$error":"#VALUE!"}},{"$f":"COUNTIF(IF(ISERROR(INDIRECT(\"'Voksen \"&A156&\"'!$H$50\",TRUE)),\"\",INDIRECT(\"'Voksen \"&A156&\"'!$H$50\",TRUE)),2)","v":{"$error":"#VALUE!"}},{"$f":"COUNTIF(IF(ISERROR(INDIRECT(\"'Voksen \"&A156&\"'!$H$58\",TRUE)),\"\",INDIRECT(\"'Voksen \"&A156&\"'!$H$58\",TRUE)),2)","v":{"$error":"#VALUE!"}},{"$f":"COUNTIF(IF(ISERROR(INDIRECT(\"'Voksen \"&A156&\"'!$H$69\",TRUE)),\"\",INDIRECT(\"'Voksen \"&A156&\"'!$H$69\",TRUE)),2)","v":{"$error":"#VALUE!"}},{"$f":"COUNTIF(IF(ISERROR(INDIRECT(\"'Voksen \"&A156&\"'!$H$77\",TRUE)),\"\",INDIRECT(\"'Voksen \"&A156&\"'!$H$77\",TRUE)),2)","v":{"$error":"#VALUE!"}},null,null,{"$f":"COUNTIF(IF(ISERROR(INDIRECT(\"'Børn \"&A156&\"'!$H$31\",TRUE)),\"\",INDIRECT(\"'Børn \"&A156&\"'!$H$31\",TRUE)),2)","v":{"$error":"#VALUE!"}},{"$f":"COUNTIF(IF(ISERROR(INDIRECT(\"'Børn \"&A156&\"'!$H$44\",TRUE)),\"\",INDIRECT(\"'Børn \"&A156&\"'!$H$44\",TRUE)),2)","v":{"$error":"#VALUE!"}},{"$f":"COUNTIF(IF(ISERROR(INDIRECT(\"'Børn \"&A156&\"'!$H$53\",TRUE)),\"\",INDIRECT(\"'Børn \"&A156&\"'!$H$53\",TRUE)),2)","v":{"$error":"#VALUE!"}},{"$f":"COUNTIF(IF(ISERROR(INDIRECT(\"'Børn \"&A156&\"'!$H$61\",TRUE)),\"\",INDIRECT(\"'Børn \"&A156&\"'!$H$61\",TRUE)),2)","v":{"$error":"#VALUE!"}},{"$f":"COUNTIF(IF(ISERROR(INDIRECT(\"'Børn \"&A156&\"'!$H$68\",TRUE)),\"\",INDIRECT(\"'Børn \"&A156&\"'!$H$68\",TRUE)),2)","v":{"$error":"#VALUE!"}},{"$f":"COUNTIF(IF(ISERROR(INDIRECT(\"'Børn \"&A156&\"'!$H$79\",TRUE)),\"\",INDIRECT(\"'Børn \"&A156&\"'!$H$79\",TRUE)),2)","v":{"$error":"#VALUE!"}},{"$f":"COUNTIF(IF(ISERROR(INDIRECT(\"'Børn \"&A156&\"'!$H$87\",TRUE)),\"\",INDIRECT(\"'Børn \"&A156&\"'!$H$87\",TRUE)),2)","v":{"$error":"#VALUE!"}},null,null,null,"Tilsyn 48",{"$f":"IF(INDIRECT(\"'Voksen \"&U156&\"'!$c$112\")=\"\",\"\",IFERROR(INDIRECT(\"'Voksen \"&U156&\"'!$c$112\",TRUE),\"\"))","v":{"$error":"#REF!"}},{"$f":"IF(INDIRECT(\"'Voksen \"&U156&\"'!$c$133\")=\"\",\"\",IFERROR(INDIRECT(\"'Voksen \"&U156&\"'!$c$133\",TRUE),\"\"))","v":{"$error":"#REF!"}},{"$f":"IF(INDIRECT(\"'Voksen \"&U156&\"'!$c$154\")=\"\",\"\",IFERROR(INDIRECT(\"'Voksen \"&U156&\"'!$c$154\",TRUE),\"\"))","v":{"$error":"#REF!"}},{"$f":"IF(INDIRECT(\"'Voksen \"&U156&\"'!$c$169\")=\"\",\"\",IFERROR(INDIRECT(\"'Voksen \"&U156&\"'!$c$169\",TRUE),\"\"))","v":{"$error":"#REF!"}},{"$f":"IF(INDIRECT(\"'Voksen \"&U156&\"'!$c$186\")=\"\",\"\",IFERROR(INDIRECT(\"'Voksen \"&U156&\"'!$c$186\",TRUE),\"\"))","v":{"$error":"#REF!"}},{"$f":"IF(INDIRECT(\"'Voksen \"&U156&\"'!$c$207\")=\"\",\"\",IFERROR(INDIRECT(\"'Voksen \"&U156&\"'!$c$207\",TRUE),\"\"))","v":{"$error":"#REF!"}},{"$f":"IF(INDIRECT(\"'Voksen \"&U156&\"'!$c$229\")=\"\",\"\",IFERROR(INDIRECT(\"'Voksen \"&U156&\"'!$c$229\",TRUE),\"\"))","v":{"$error":"#REF!"}},{"$f":"IF(INDIRECT(\"'Voksen \"&U156&\"'!$c$255\")=\"\",\"\",IFERROR(INDIRECT(\"'Voksen \"&U156&\"'!$c$255\",TRUE),\"\"))","v":{"$error":"#REF!"}},null,{"$f":"IF(INDIRECT(\"'Børn \"&U156&\"'!$c$123\")=\"\",\"\",IFERROR(INDIRECT(\"'Børn \"&U156&\"'!$c$123\",TRUE),\"\"))","v":{"$error":"#REF!"}},{"$f":"IF(INDIRECT(\"'Børn \"&U156&\"'!$c$139\")=\"\",\"\",IFERROR(INDIRECT(\"'Børn \"&U156&\"'!$c$139\",TRUE),\"\"))","v":{"$error":"#REF!"}},{"$f":"IF(INDIRECT(\"'Børn \"&U156&\"'!$c$163\")=\"\",\"\",IFERROR(INDIRECT(\"'Børn \"&U156&\"'!$c$163\",TRUE),\"\"))","v":{"$error":"#REF!"}},{"$f":"IF(INDIRECT(\"'Børn \"&U156&\"'!$c$177\")=\"\",\"\",IFERROR(INDIRECT(\"'Børn \"&U156&\"'!$c$177\",TRUE),\"\"))","v":{"$error":"#REF!"}},{"$f":"IF(INDIRECT(\"'Børn \"&U156&\"'!$c$197\")=\"\",\"\",IFERROR(INDIRECT(\"'Børn \"&U156&\"'!$c$197\",TRUE),\"\"))","v":{"$error":"#REF!"}},{"$f":"IF(INDIRECT(\"'Børn \"&U156&\"'!$c$218\")=\"\",\"\",IFERROR(INDIRECT(\"'Børn \"&U156&\"'!$c$218\",TRUE),\"\"))","v":{"$error":"#REF!"}},{"$f":"IF(INDIRECT(\"'Børn \"&U156&\"'!$c$241\")=\"\",\"\",IFERROR(INDIRECT(\"'Børn \"&U156&\"'!$c$241\",TRUE),\"\"))","v":{"$error":"#REF!"}}]
["Tilsyn 32","Status:  rød",{"$f":"COUNTIF(IF(ISERROR(INDIRECT(\"'Voksen \"&A157&\"'!$H$31\",TRUE)),\"\",INDIRECT(\"'Voksen \"&A157&\"'!$H$31\",TRUE)),3)","v":{"$error":"#VALUE!"}},{"$f":"COUNTIF(IF(ISERROR(INDIRECT(\"'Voksen \"&A157&\"'!$H$41\",TRUE)),\"\",INDIRECT(\"'Voksen \"&A157&\"'!$H$41\",TRUE)),3)","v":{"$error":"#VALUE!"}},{"$f":"COUNTIF(IF(ISERROR(INDIRECT(\"'Voksen \"&A157&\"'!$H$50\",TRUE)),\"\",INDIRECT(\"'Voksen \"&A157&\"'!$H$50\",TRUE)),3)","v":{"$error":"#VALUE!"}},{"$f":"COUNTIF(IF(ISERROR(INDIRECT(\"'Voksen \"&A157&\"'!$H$58\",TRUE)),\"\",INDIRECT(\"'Voksen \"&A157&\"'!$H$58\",TRUE)),3)","v":{"$error":"#VALUE!"}},{"$f":"COUNTIF(IF(ISERROR(INDIRECT(\"'Voksen \"&A157&\"'!$H$69\",TRUE)),\"\",INDIRECT(\"'Voksen \"&A157&\"'!$H$69\",TRUE)),3)","v":{"$error":"#VALUE!"}},{"$f":"COUNTIF(IF(ISERROR(INDIRECT(\"'Voksen \"&A157&\"'!$H$77\",TRUE)),\"\",INDIRECT(\"'Voksen \"&A157&\"'!$H$77\",TRUE)),3)","v":{"$error":"#VALUE!"}},null,null,{"$f":"COUNTIF(IF(ISERROR(INDIRECT(\"'Børn \"&A157&\"'!$H$31\",TRUE)),\"\",INDIRECT(\"'Børn \"&A157&\"'!$H$31\",TRUE)),3)","v":{"$error":"#VALUE!"}},{"$f":"COUNTIF(IF(ISERROR(INDIRECT(\"'Børn \"&A157&\"'!$H$44\",TRUE)),\"\",INDIRECT(\"'Børn \"&A157&\"'!$H$44\",TRUE)),3)","v":{"$error":"#VALUE!"}},{"$f":"COUNTIF(IF(ISERROR(INDIRECT(\"'Børn \"&A157&\"'!$H$53\",TRUE)),\"\",INDIRECT(\"'Børn \"&A157&\"'!$H$53\",TRUE)),3)","v":{"$error":"#VALUE!"}},{"$f":"COUNTIF(IF(ISERROR(INDIRECT(\"'Børn \"&A157&\"'!$H$61\",TRUE)),\"\",INDIRECT(\"'Børn \"&A157&\"'!$H$61\",TRUE)),3)","v":{"$error":"#VALUE!"}},{"$f":"COUNTIF(IF(ISERROR(INDIRECT(\"'Børn \"&A157&\"'!$H$68\",TRUE)),\"\",INDIRECT(\"'Børn \"&A157&\"'!$H$68\",TRUE)),3)","v":{"$error":"#VALUE!"}},{"$f":"COUNTIF(IF(ISERROR(INDIRECT(\"'Børn \"&A157&\"'!$H$79\",TRUE)),\"\",INDIRECT(\"'Børn \"&A157&\"'!$H$79\",TRUE)),3)","v":{"$error":"#VALUE!"}},{"$f":"COUNTIF(IF(ISERROR(INDIRECT(\"'Børn \"&A157&\"'!$H$87\",TRUE)),\"\",INDIRECT(\"'Børn \"&A157&\"'!$H$87\",TRUE)),3)","v":{"$error":"#VALUE!"}},null,null,null,{"$f":"U156","v":"Tilsyn 48"},{"$f":"IF(INDIRECT(\"'Voksen \"&U157&\"'!$c$115\")=\"\",\"\",IFERROR(INDIRECT(\"'Voksen \"&U157&\"'!$c$115\",TRUE),\"\"))","v":{"$error":"#REF!"}},{"$f":"IF(INDIRECT(\"'Voksen \"&U157&\"'!$c$136\")=\"\",\"\",IFERROR(INDIRECT(\"'Voksen \"&U157&\"'!$c$136\",TRUE),\"\"))","v":{"$error":"#REF!"}},{"$f":"IF(INDIRECT(\"'Voksen \"&U157&\"'!$c$157\")=\"\",\"\",IFERROR(INDIRECT(\"'Voksen \"&U157&\"'!$c$157\",TRUE),\"\"))","v":{"$error":"#REF!"}},{"$f":"IF(INDIRECT(\"'Voksen \"&U157&\"'!$c$172\")=\"\",\"\",IFERROR(INDIRECT(\"'Voksen \"&U157&\"'!$c$172\",TRUE),\"\"))","v":{"$error":"#REF!"}},{"$f":"IF(INDIRECT(\"'Voksen \"&U157&\"'!$c$189\")=\"\",\"\",IFERROR(INDIRECT(\"'Voksen \"&U157&\"'!$c$189\",TRUE),\"\"))","v":{"$error":"#REF!"}},{"$f":"IF(INDIRECT(\"'Voksen \"&U157&\"'!$c$210\")=\"\",\"\",IFERROR(INDIRECT(\"'Voksen \"&U157&\"'!$c$210\",TRUE),\"\"))","v":{"$error":"#REF!"}},{"$f":"IF(INDIRECT(\"'Voksen \"&U157&\"'!$c$232\")=\"\",\"\",IFERROR(INDIRECT(\"'Voksen \"&U157&\"'!$c$232\",TRUE),\"\"))","v":{"$error":"#REF!"}},{"$f":"IF(INDIRECT(\"'Voksen \"&U157&\"'!$c$258\")=\"\",\"\",IFERROR(INDIRECT(\"'Voksen \"&U157&\"'!$c$258\",TRUE),\"\"))","v":{"$error":"#REF!"}},null,{"$f":"IF(INDIRECT(\"'Børn \"&U157&\"'!$c$126\")=\"\",\"\",IFERROR(INDIRECT(\"'Børn \"&U157&\"'!$c$126\",TRUE),\"\"))","v":{"$error":"#REF!"}},{"$f":"IF(INDIRECT(\"'Børn \"&U157&\"'!$c$142\")=\"\",\"\",IFERROR(INDIRECT(\"'Børn \"&U157&\"'!$c$142\",TRUE),\"\"))","v":{"$error":"#REF!"}},{"$f":"IF(INDIRECT(\"'Børn \"&U157&\"'!$c$166\")=\"\",\"\",IFERROR(INDIRECT(\"'Børn \"&U157&\"'!$c$166\",TRUE),\"\"))","v":{"$error":"#REF!"}},{"$f":"IF(INDIRECT(\"'Børn \"&U157&\"'!$c$180\")=\"\",\"\",IFERROR(INDIRECT(\"'Børn \"&U157&\"'!$c$180\",TRUE),\"\"))","v":{"$error":"#REF!"}},{"$f":"IF(INDIRECT(\"'Børn \"&U157&\"'!$c$200\")=\"\",\"\",IFERROR(INDIRECT(\"'Børn \"&U157&\"'!$c$200\",TRUE),\"\"))","v":{"$error":"#REF!"}},{"$f":"IF(INDIRECT(\"'Børn \"&U157&\"'!$c$221\")=\"\",\"\",IFERROR(INDIRECT(\"'Børn \"&U157&\"'!$c$221\",TRUE),\"\"))","v":{"$error":"#REF!"}},{"$f":"IF(INDIRECT(\"'Børn \"&U157&\"'!$c$244\")=\"\",\"\",IFERROR(INDIRECT(\"'Børn \"&U157&\"'!$c$244\",TRUE),\"\"))","v":{"$error":"#REF!"}}]
["Tilsyn 33","Status:  grøn",{"$f":"COUNTIF(IF(ISERROR(INDIRECT(\"'Voksen \"&A158&\"'!$H$31\",TRUE)),\"\",INDIRECT(\"'Voksen \"&A158&\"'!$H$31\",TRUE)),1)","v":{"$error":"#VALUE!"}},{"$f":"COUNTIF(IF(ISERROR(INDIRECT(\"'Voksen \"&A158&\"'!$H$41\",TRUE)),\"\",INDIRECT(\"'Voksen \"&A158&\"'!$H$41\",TRUE)),1)","v":{"$error":"#VALUE!"}},{"$f":"COUNTIF(IF(ISERROR(INDIRECT(\"'Voksen \"&A158&\"'!$H$50\",TRUE)),\"\",INDIRECT(\"'Voksen \"&A158&\"'!$H$50\",TRUE)),1)","v":{"$error":"#VALUE!"}},{"$f":"COUNTIF(IF(ISERROR(INDIRECT(\"'Voksen \"&A158&\"'!$H$58\",TRUE)),\"\",INDIRECT(\"'Voksen \"&A158&\"'!$H$58\",TRUE)),1)","v":{"$error":"#VALUE!"}},{"$f":"COUNTIF(IF(ISERROR(INDIRECT(\"'Voksen \"&A158&\"'!$H$69\",TRUE)),\"\",INDIRECT(\"'Voksen \"&A158&\"'!$H$69\",TRUE)),1)","v":{"$error":"#VALUE!"}},{"$f":"COUNTIF(IF(ISERROR(INDIRECT(\"'Voksen \"&A158&\"'!$H$77\",TRUE)),\"\",INDIRECT(\"'Voksen \"&A158&\"'!$H$77\",TRUE)),1)","v":{"$error":"#VALUE!"}},null,null,{"$f":"COUNTIF(IF(ISERROR(INDIRECT(\"'Børn \"&A158&\"'!$H$31\",TRUE)),\"\",INDIRECT(\"'Børn \"&A158&\"'!$H$31\",TRUE)),1)","v":{"$error":"#VALUE!"}},{"$f":"COUNTIF(IF(ISERROR(INDIRECT(\"'Børn \"&A158&\"'!$H$44\",TRUE)),\"\",INDIRECT(\"'Børn \"&A158&\"'!$H$44\",TRUE)),1)","v":{"$error":"#VALUE!"}},{"$f":"COUNTIF(IF(ISERROR(INDIRECT(\"'Børn \"&A158&\"'!$H$53\",TRUE)),\"\",INDIRECT(\"'Børn \"&A158&\"'!$H$53\",TRUE)),1)","v":{"$error":"#VALUE!"}},{"$f":"COUNTIF(IF(ISERROR(INDIRECT(\"'Børn \"&A158&\"'!$H$61\",TRUE)),\"\",INDIRECT(\"'Børn \"&A158&\"'!$H$61\",TRUE)),1)","v":{"$error":"#VALUE!"}},{"$f":"COUNTIF(IF(ISERROR(INDIRECT(\"'Børn \"&A158&\"'!$H$68\",TRUE)),\"\",INDIRECT(\"'Børn \"&A158&\"'!$H$68\",TRUE)),1)","v":{"$error":"#VALUE!"}},{"$f":"COUNTIF(IF(ISERROR(INDIRECT(\"'Børn \"&A158&\"'!$H$79\",TRUE)),\"\",INDIRECT(\"'Børn \"&A158&\"'!$H$79\",TRUE)),1)","v":{"$error":"#VALUE!"}},{"$f":"COUNTIF(IF(ISERROR(INDIRECT(\"'Børn \"&A158&\"'!$H$87\",TRUE)),\"\",INDIRECT(\"'Børn \"&A158&\"'!$H$87\",TRUE)),1)","v":{"$error":"#VALUE!"}},null,null,null,"Tilsyn 49",{"$f":"IF(INDIRECT(\"'Voksen \"&U158&\"'!$c$112\")=\"\",\"\",IFERROR(INDIRECT(\"'Voksen \"&U158&\"'!$c$112\",TRUE),\"\"))","v":{"$error":"#REF!"}},{"$f":"IF(INDIRECT(\"'Voksen \"&U158&\"'!$c$133\")=\"\",\"\",IFERROR(INDIRECT(\"'Voksen \"&U158&\"'!$c$133\",TRUE),\"\"))","v":{"$error":"#REF!"}},{"$f":"IF(INDIRECT(\"'Voksen \"&U158&\"'!$c$154\")=\"\",\"\",IFERROR(INDIRECT(\"'Voksen \"&U158&\"'!$c$154\",TRUE),\"\"))","v":{"$error":"#REF!"}},{"$f":"IF(INDIRECT(\"'Voksen \"&U158&\"'!$c$169\")=\"\",\"\",IFERROR(INDIRECT(\"'Voksen \"&U158&\"'!$c$169\",TRUE),\"\"))","v":{"$error":"#REF!"}},{"$f":"IF(INDIRECT(\"'Voksen \"&U158&\"'!$c$186\")=\"\",\"\",IFERROR(INDIRECT(\"'Voksen \"&U158&\"'!$c$186\",TRUE),\"\"))","v":{"$error":"#REF!"}},{"$f":"IF(INDIRECT(\"'Voksen \"&U158&\"'!$c$207\")=\"\",\"\",IFERROR(INDIRECT(\"'Voksen \"&U158&\"'!$c$207\",TRUE),\"\"))","v":{"$error":"#REF!"}},{"$f":"IF(INDIRECT(\"'Voksen \"&U158&\"'!$c$229\")=\"\",\"\",IFERROR(INDIRECT(\"'Voksen \"&U158&\"'!$c$229\",TRUE),\"\"))","v":{"$error":"#REF!"}},{"$f":"IF(INDIRECT(\"'Voksen \"&U158&\"'!$c$255\")=\"\",\"\",IFERROR(INDIRECT(\"'Voksen \"&U158&\"'!$c$255\",TRUE),\"\"))","v":{"$error":"#REF!"}},null,{"$f":"IF(INDIRECT(\"'Børn \"&U158&\"'!$c$123\")=\"\",\"\",IFERROR(INDIRECT(\"'Børn \"&U158&\"'!$c$123\",TRUE),\"\"))","v":{"$error":"#REF!"}},{"$f":"IF(INDIRECT(\"'Børn \"&U158&\"'!$c$139\")=\"\",\"\",IFERROR(INDIRECT(\"'Børn \"&U158&\"'!$c$139\",TRUE),\"\"))","v":{"$error":"#REF!"}},{"$f":"IF(INDIRECT(\"'Børn \"&U158&\"'!$c$163\")=\"\",\"\",IFERROR(INDIRECT(\"'Børn \"&U158&\"'!$c$163\",TRUE),\"\"))","v":{"$error":"#REF!"}},{"$f":"IF(INDIRECT(\"'Børn \"&U158&\"'!$c$177\")=\"\",\"\",IFERROR(INDIRECT(\"'Børn \"&U158&\"'!$c$177\",TRUE),\"\"))","v":{"$error":"#REF!"}},{"$f":"IF(INDIRECT(\"'Børn \"&U158&\"'!$c$197\")=\"\",\"\",IFERROR(INDIRECT(\"'Børn \"&U158&\"'!$c$197\",TRUE),\"\"))","v":{"$error":"#REF!"}},{"$f":"IF(INDIRECT(\"'Børn \"&U158&\"'!$c$218\")=\"\",\"\",IFERROR(INDIRECT(\"'Børn \"&U158&\"'!$c$218\",TRUE),\"\"))","v":{"$error":"#REF!"}},{"$f":"IF(INDIRECT(\"'Børn \"&U158&\"'!$c$241\")=\"\",\"\",IFERROR(INDIRECT(\"'Børn \"&U158&\"'!$c$241\",TRUE),\"\"))","v":{"$error":"#REF!"}}]
["Tilsyn 33","Status:  gul",{"$f":"COUNTIF(IF(ISERROR(INDIRECT(\"'Voksen \"&A159&\"'!$H$31\",TRUE)),\"\",INDIRECT(\"'Voksen \"&A159&\"'!$H$31\",TRUE)),2)","v":{"$error":"#VALUE!"}},{"$f":"COUNTIF(IF(ISERROR(INDIRECT(\"'Voksen \"&A159&\"'!$H$41\",TRUE)),\"\",INDIRECT(\"'Voksen \"&A159&\"'!$H$41\",TRUE)),2)","v":{"$error":"#VALUE!"}},{"$f":"COUNTIF(IF(ISERROR(INDIRECT(\"'Voksen \"&A159&\"'!$H$50\",TRUE)),\"\",INDIRECT(\"'Voksen \"&A159&\"'!$H$50\",TRUE)),2)","v":{"$error":"#VALUE!"}},{"$f":"COUNTIF(IF(ISERROR(INDIRECT(\"'Voksen \"&A159&\"'!$H$58\",TRUE)),\"\",INDIRECT(\"'Voksen \"&A159&\"'!$H$58\",TRUE)),2)","v":{"$error":"#VALUE!"}},{"$f":"COUNTIF(IF(ISERROR(INDIRECT(\"'Voksen \"&A159&\"'!$H$69\",TRUE)),\"\",INDIRECT(\"'Voksen \"&A159&\"'!$H$69\",TRUE)),2)","v":{"$error":"#VALUE!"}},{"$f":"COUNTIF(IF(ISERROR(INDIRECT(\"'Voksen \"&A159&\"'!$H$77\",TRUE)),\"\",INDIRECT(\"'Voksen \"&A159&\"'!$H$77\",TRUE)),2)","v":{"$error":"#VALUE!"}},null,null,{"$f":"COUNTIF(IF(ISERROR(INDIRECT(\"'Børn \"&A159&\"'!$H$31\",TRUE)),\"\",INDIRECT(\"'Børn \"&A159&\"'!$H$31\",TRUE)),2)","v":{"$error":"#VALUE!"}},{"$f":"COUNTIF(IF(ISERROR(INDIRECT(\"'Børn \"&A159&\"'!$H$44\",TRUE)),\"\",INDIRECT(\"'Børn \"&A159&\"'!$H$44\",TRUE)),2)","v":{"$error":"#VALUE!"}},{"$f":"COUNTIF(IF(ISERROR(INDIRECT(\"'Børn \"&A159&\"'!$H$53\",TRUE)),\"\",INDIRECT(\"'Børn \"&A159&\"'!$H$53\",TRUE)),2)","v":{"$error":"#VALUE!"}},{"$f":"COUNTIF(IF(ISERROR(INDIRECT(\"'Børn \"&A159&\"'!$H$61\",TRUE)),\"\",INDIRECT(\"'Børn \"&A159&\"'!$H$61\",TRUE)),2)","v":{"$error":"#VALUE!"}},{"$f":"COUNTIF(IF(ISERROR(INDIRECT(\"'Børn \"&A159&\"'!$H$68\",TRUE)),\"\",INDIRECT(\"'Børn \"&A159&\"'!$H$68\",TRUE)),2)","v":{"$error":"#VALUE!"}},{"$f":"COUNTIF(IF(ISERROR(INDIRECT(\"'Børn \"&A159&\"'!$H$79\",TRUE)),\"\",INDIRECT(\"'Børn \"&A159&\"'!$H$79\",TRUE)),2)","v":{"$error":"#VALUE!"}},{"$f":"COUNTIF(IF(ISERROR(INDIRECT(\"'Børn \"&A159&\"'!$H$87\",TRUE)),\"\",INDIRECT(\"'Børn \"&A159&\"'!$H$87\",TRUE)),2)","v":{"$error":"#VALUE!"}},null,null,null,{"$f":"U158","v":"Tilsyn 49"},{"$f":"IF(INDIRECT(\"'Voksen \"&U159&\"'!$c$115\")=\"\",\"\",IFERROR(INDIRECT(\"'Voksen \"&U159&\"'!$c$115\",TRUE),\"\"))","v":{"$error":"#REF!"}},{"$f":"IF(INDIRECT(\"'Voksen \"&U159&\"'!$c$136\")=\"\",\"\",IFERROR(INDIRECT(\"'Voksen \"&U159&\"'!$c$136\",TRUE),\"\"))","v":{"$error":"#REF!"}},{"$f":"IF(INDIRECT(\"'Voksen \"&U159&\"'!$c$157\")=\"\",\"\",IFERROR(INDIRECT(\"'Voksen \"&U159&\"'!$c$157\",TRUE),\"\"))","v":{"$error":"#REF!"}},{"$f":"IF(INDIRECT(\"'Voksen \"&U159&\"'!$c$172\")=\"\",\"\",IFERROR(INDIRECT(\"'Voksen \"&U159&\"'!$c$172\",TRUE),\"\"))","v":{"$error":"#REF!"}},{"$f":"IF(INDIRECT(\"'Voksen \"&U159&\"'!$c$189\")=\"\",\"\",IFERROR(INDIRECT(\"'Voksen \"&U159&\"'!$c$189\",TRUE),\"\"))","v":{"$error":"#REF!"}},{"$f":"IF(INDIRECT(\"'Voksen \"&U159&\"'!$c$210\")=\"\",\"\",IFERROR(INDIRECT(\"'Voksen \"&U159&\"'!$c$210\",TRUE),\"\"))","v":{"$error":"#REF!"}},{"$f":"IF(INDIRECT(\"'Voksen \"&U159&\"'!$c$232\")=\"\",\"\",IFERROR(INDIRECT(\"'Voksen \"&U159&\"'!$c$232\",TRUE),\"\"))","v":{"$error":"#REF!"}},{"$f":"IF(INDIRECT(\"'Voksen \"&U159&\"'!$c$258\")=\"\",\"\",IFERROR(INDIRECT(\"'Voksen \"&U159&\"'!$c$258\",TRUE),\"\"))","v":{"$error":"#REF!"}},null,{"$f":"IF(INDIRECT(\"'Børn \"&U159&\"'!$c$126\")=\"\",\"\",IFERROR(INDIRECT(\"'Børn \"&U159&\"'!$c$126\",TRUE),\"\"))","v":{"$error":"#REF!"}},{"$f":"IF(INDIRECT(\"'Børn \"&U159&\"'!$c$142\")=\"\",\"\",IFERROR(INDIRECT(\"'Børn \"&U159&\"'!$c$142\",TRUE),\"\"))","v":{"$error":"#REF!"}},{"$f":"IF(INDIRECT(\"'Børn \"&U159&\"'!$c$166\")=\"\",\"\",IFERROR(INDIRECT(\"'Børn \"&U159&\"'!$c$166\",TRUE),\"\"))","v":{"$error":"#REF!"}},{"$f":"IF(INDIRECT(\"'Børn \"&U159&\"'!$c$180\")=\"\",\"\",IFERROR(INDIRECT(\"'Børn \"&U159&\"'!$c$180\",TRUE),\"\"))","v":{"$error":"#REF!"}},{"$f":"IF(INDIRECT(\"'Børn \"&U159&\"'!$c$200\")=\"\",\"\",IFERROR(INDIRECT(\"'Børn \"&U159&\"'!$c$200\",TRUE),\"\"))","v":{"$error":"#REF!"}},{"$f":"IF(INDIRECT(\"'Børn \"&U159&\"'!$c$221\")=\"\",\"\",IFERROR(INDIRECT(\"'Børn \"&U159&\"'!$c$221\",TRUE),\"\"))","v":{"$error":"#REF!"}},{"$f":"IF(INDIRECT(\"'Børn \"&U159&\"'!$c$244\")=\"\",\"\",IFERROR(INDIRECT(\"'Børn \"&U159&\"'!$c$244\",TRUE),\"\"))","v":{"$error":"#REF!"}}]
["Tilsyn 33","Status:  rød",{"$f":"COUNTIF(IF(ISERROR(INDIRECT(\"'Voksen \"&A160&\"'!$H$31\",TRUE)),\"\",INDIRECT(\"'Voksen \"&A160&\"'!$H$31\",TRUE)),3)","v":{"$error":"#VALUE!"}},{"$f":"COUNTIF(IF(ISERROR(INDIRECT(\"'Voksen \"&A160&\"'!$H$41\",TRUE)),\"\",INDIRECT(\"'Voksen \"&A160&\"'!$H$41\",TRUE)),3)","v":{"$error":"#VALUE!"}},{"$f":"COUNTIF(IF(ISERROR(INDIRECT(\"'Voksen \"&A160&\"'!$H$50\",TRUE)),\"\",INDIRECT(\"'Voksen \"&A160&\"'!$H$50\",TRUE)),3)","v":{"$error":"#VALUE!"}},{"$f":"COUNTIF(IF(ISERROR(INDIRECT(\"'Voksen \"&A160&\"'!$H$58\",TRUE)),\"\",INDIRECT(\"'Voksen \"&A160&\"'!$H$58\",TRUE)),3)","v":{"$error":"#VALUE!"}},{"$f":"COUNTIF(IF(ISERROR(INDIRECT(\"'Voksen \"&A160&\"'!$H$69\",TRUE)),\"\",INDIRECT(\"'Voksen \"&A160&\"'!$H$69\",TRUE)),3)","v":{"$error":"#VALUE!"}},{"$f":"COUNTIF(IF(ISERROR(INDIRECT(\"'Voksen \"&A160&\"'!$H$77\",TRUE)),\"\",INDIRECT(\"'Voksen \"&A160&\"'!$H$77\",TRUE)),3)","v":{"$error":"#VALUE!"}},null,null,{"$f":"COUNTIF(IF(ISERROR(INDIRECT(\"'Børn \"&A160&\"'!$H$31\",TRUE)),\"\",INDIRECT(\"'Børn \"&A160&\"'!$H$31\",TRUE)),3)","v":{"$error":"#VALUE!"}},{"$f":"COUNTIF(IF(ISERROR(INDIRECT(\"'Børn \"&A160&\"'!$H$44\",TRUE)),\"\",INDIRECT(\"'Børn \"&A160&\"'!$H$44\",TRUE)),3)","v":{"$error":"#VALUE!"}},{"$f":"COUNTIF(IF(ISERROR(INDIRECT(\"'Børn \"&A160&\"'!$H$53\",TRUE)),\"\",INDIRECT(\"'Børn \"&A160&\"'!$H$53\",TRUE)),3)","v":{"$error":"#VALUE!"}},{"$f":"COUNTIF(IF(ISERROR(INDIRECT(\"'Børn \"&A160&\"'!$H$61\",TRUE)),\"\",INDIRECT(\"'Børn \"&A160&\"'!$H$61\",TRUE)),3)","v":{"$error":"#VALUE!"}},{"$f":"COUNTIF(IF(ISERROR(INDIRECT(\"'Børn \"&A160&\"'!$H$68\",TRUE)),\"\",INDIRECT(\"'Børn \"&A160&\"'!$H$68\",TRUE)),3)","v":{"$error":"#VALUE!"}},{"$f":"COUNTIF(IF(ISERROR(INDIRECT(\"'Børn \"&A160&\"'!$H$79\",TRUE)),\"\",INDIRECT(\"'Børn \"&A160&\"'!$H$79\",TRUE)),3)","v":{"$error":"#VALUE!"}},{"$f":"COUNTIF(IF(ISERROR(INDIRECT(\"'Børn \"&A160&\"'!$H$87\",TRUE)),\"\",INDIRECT(\"'Børn \"&A160&\"'!$H$87\",TRUE)),3)","v":{"$error":"#VALUE!"}},null,null,null,"Tilsyn 50",{"$f":"IF(INDIRECT(\"'Voksen \"&U160&\"'!$c$112\")=\"\",\"\",IFERROR(INDIRECT(\"'Voksen \"&U160&\"'!$c$112\",TRUE),\"\"))","v":{"$error":"#REF!"}},{"$f":"IF(INDIRECT(\"'Voksen \"&U160&\"'!$c$133\")=\"\",\"\",IFERROR(INDIRECT(\"'Voksen \"&U160&\"'!$c$133\",TRUE),\"\"))","v":{"$error":"#REF!"}},{"$f":"IF(INDIRECT(\"'Voksen \"&U160&\"'!$c$154\")=\"\",\"\",IFERROR(INDIRECT(\"'Voksen \"&U160&\"'!$c$154\",TRUE),\"\"))","v":{"$error":"#REF!"}},{"$f":"IF(INDIRECT(\"'Voksen \"&U160&\"'!$c$169\")=\"\",\"\",IFERROR(INDIRECT(\"'Voksen \"&U160&\"'!$c$169\",TRUE),\"\"))","v":{"$error":"#REF!"}},{"$f":"IF(INDIRECT(\"'Voksen \"&U160&\"'!$c$186\")=\"\",\"\",IFERROR(INDIRECT(\"'Voksen \"&U160&\"'!$c$186\",TRUE),\"\"))","v":{"$error":"#REF!"}},{"$f":"IF(INDIRECT(\"'Voksen \"&U160&\"'!$c$207\")=\"\",\"\",IFERROR(INDIRECT(\"'Voksen \"&U160&\"'!$c$207\",TRUE),\"\"))","v":{"$error":"#REF!"}},{"$f":"IF(INDIRECT(\"'Voksen \"&U160&\"'!$c$229\")=\"\",\"\",IFERROR(INDIRECT(\"'Voksen \"&U160&\"'!$c$229\",TRUE),\"\"))","v":{"$error":"#REF!"}},{"$f":"IF(INDIRECT(\"'Voksen \"&U160&\"'!$c$255\")=\"\",\"\",IFERROR(INDIRECT(\"'Voksen \"&U160&\"'!$c$255\",TRUE),\"\"))","v":{"$error":"#REF!"}},null,{"$f":"IF(INDIRECT(\"'Børn \"&U160&\"'!$c$123\")=\"\",\"\",IFERROR(INDIRECT(\"'Børn \"&U160&\"'!$c$123\",TRUE),\"\"))","v":{"$error":"#REF!"}},{"$f":"IF(INDIRECT(\"'Børn \"&U160&\"'!$c$139\")=\"\",\"\",IFERROR(INDIRECT(\"'Børn \"&U160&\"'!$c$139\",TRUE),\"\"))","v":{"$error":"#REF!"}},{"$f":"IF(INDIRECT(\"'Børn \"&U160&\"'!$c$163\")=\"\",\"\",IFERROR(INDIRECT(\"'Børn \"&U160&\"'!$c$163\",TRUE),\"\"))","v":{"$error":"#REF!"}},{"$f":"IF(INDIRECT(\"'Børn \"&U160&\"'!$c$177\")=\"\",\"\",IFERROR(INDIRECT(\"'Børn \"&U160&\"'!$c$177\",TRUE),\"\"))","v":{"$error":"#REF!"}},{"$f":"IF(INDIRECT(\"'Børn \"&U160&\"'!$c$197\")=\"\",\"\",IFERROR(INDIRECT(\"'Børn \"&U160&\"'!$c$197\",TRUE),\"\"))","v":{"$error":"#REF!"}},{"$f":"IF(INDIRECT(\"'Børn \"&U160&\"'!$c$218\")=\"\",\"\",IFERROR(INDIRECT(\"'Børn \"&U160&\"'!$c$218\",TRUE),\"\"))","v":{"$error":"#REF!"}},{"$f":"IF(INDIRECT(\"'Børn \"&U160&\"'!$c$241\")=\"\",\"\",IFERROR(INDIRECT(\"'Børn \"&U160&\"'!$c$241\",TRUE),\"\"))","v":{"$error":"#REF!"}}]
["Tilsyn 34","Status:  grøn",{"$f":"COUNTIF(IF(ISERROR(INDIRECT(\"'Voksen \"&A161&\"'!$H$31\",TRUE)),\"\",INDIRECT(\"'Voksen \"&A161&\"'!$H$31\",TRUE)),1)","v":{"$error":"#VALUE!"}},{"$f":"COUNTIF(IF(ISERROR(INDIRECT(\"'Voksen \"&A161&\"'!$H$41\",TRUE)),\"\",INDIRECT(\"'Voksen \"&A161&\"'!$H$41\",TRUE)),1)","v":{"$error":"#VALUE!"}},{"$f":"COUNTIF(IF(ISERROR(INDIRECT(\"'Voksen \"&A161&\"'!$H$50\",TRUE)),\"\",INDIRECT(\"'Voksen \"&A161&\"'!$H$50\",TRUE)),1)","v":{"$error":"#VALUE!"}},{"$f":"COUNTIF(IF(ISERROR(INDIRECT(\"'Voksen \"&A161&\"'!$H$58\",TRUE)),\"\",INDIRECT(\"'Voksen \"&A161&\"'!$H$58\",TRUE)),1)","v":{"$error":"#VALUE!"}},{"$f":"COUNTIF(IF(ISERROR(INDIRECT(\"'Voksen \"&A161&\"'!$H$69\",TRUE)),\"\",INDIRECT(\"'Voksen \"&A161&\"'!$H$69\",TRUE)),1)","v":{"$error":"#VALUE!"}},{"$f":"COUNTIF(IF(ISERROR(INDIRECT(\"'Voksen \"&A161&\"'!$H$77\",TRUE)),\"\",INDIRECT(\"'Voksen \"&A161&\"'!$H$77\",TRUE)),1)","v":{"$error":"#VALUE!"}},null,null,{"$f":"COUNTIF(IF(ISERROR(INDIRECT(\"'Børn \"&A161&\"'!$H$31\",TRUE)),\"\",INDIRECT(\"'Børn \"&A161&\"'!$H$31\",TRUE)),1)","v":{"$error":"#VALUE!"}},{"$f":"COUNTIF(IF(ISERROR(INDIRECT(\"'Børn \"&A161&\"'!$H$44\",TRUE)),\"\",INDIRECT(\"'Børn \"&A161&\"'!$H$44\",TRUE)),1)","v":{"$error":"#VALUE!"}},{"$f":"COUNTIF(IF(ISERROR(INDIRECT(\"'Børn \"&A161&\"'!$H$53\",TRUE)),\"\",INDIRECT(\"'Børn \"&A161&\"'!$H$53\",TRUE)),1)","v":{"$error":"#VALUE!"}},{"$f":"COUNTIF(IF(ISERROR(INDIRECT(\"'Børn \"&A161&\"'!$H$61\",TRUE)),\"\",INDIRECT(\"'Børn \"&A161&\"'!$H$61\",TRUE)),1)","v":{"$error":"#VALUE!"}},{"$f":"COUNTIF(IF(ISERROR(INDIRECT(\"'Børn \"&A161&\"'!$H$68\",TRUE)),\"\",INDIRECT(\"'Børn \"&A161&\"'!$H$68\",TRUE)),1)","v":{"$error":"#VALUE!"}},{"$f":"COUNTIF(IF(ISERROR(INDIRECT(\"'Børn \"&A161&\"'!$H$79\",TRUE)),\"\",INDIRECT(\"'Børn \"&A161&\"'!$H$79\",TRUE)),1)","v":{"$error":"#VALUE!"}},{"$f":"COUNTIF(IF(ISERROR(INDIRECT(\"'Børn \"&A161&\"'!$H$87\",TRUE)),\"\",INDIRECT(\"'Børn \"&A161&\"'!$H$87\",TRUE)),1)","v":{"$error":"#VALUE!"}},null,null,null,{"$f":"U160","v":"Tilsyn 50"},{"$f":"IF(INDIRECT(\"'Voksen \"&U161&\"'!$c$115\")=\"\",\"\",IFERROR(INDIRECT(\"'Voksen \"&U161&\"'!$c$115\",TRUE),\"\"))","v":{"$error":"#REF!"}},{"$f":"IF(INDIRECT(\"'Voksen \"&U161&\"'!$c$136\")=\"\",\"\",IFERROR(INDIRECT(\"'Voksen \"&U161&\"'!$c$136\",TRUE),\"\"))","v":{"$error":"#REF!"}},{"$f":"IF(INDIRECT(\"'Voksen \"&U161&\"'!$c$157\")=\"\",\"\",IFERROR(INDIRECT(\"'Voksen \"&U161&\"'!$c$157\",TRUE),\"\"))","v":{"$error":"#REF!"}},{"$f":"IF(INDIRECT(\"'Voksen \"&U161&\"'!$c$172\")=\"\",\"\",IFERROR(INDIRECT(\"'Voksen \"&U161&\"'!$c$172\",TRUE),\"\"))","v":{"$error":"#REF!"}},{"$f":"IF(INDIRECT(\"'Voksen \"&U161&\"'!$c$189\")=\"\",\"\",IFERROR(INDIRECT(\"'Voksen \"&U161&\"'!$c$189\",TRUE),\"\"))","v":{"$error":"#REF!"}},{"$f":"IF(INDIRECT(\"'Voksen \"&U161&\"'!$c$210\")=\"\",\"\",IFERROR(INDIRECT(\"'Voksen \"&U161&\"'!$c$210\",TRUE),\"\"))","v":{"$error":"#REF!"}},{"$f":"IF(INDIRECT(\"'Voksen \"&U161&\"'!$c$232\")=\"\",\"\",IFERROR(INDIRECT(\"'Voksen \"&U161&\"'!$c$232\",TRUE),\"\"))","v":{"$error":"#REF!"}},{"$f":"IF(INDIRECT(\"'Voksen \"&U161&\"'!$c$258\")=\"\",\"\",IFERROR(INDIRECT(\"'Voksen \"&U161&\"'!$c$258\",TRUE),\"\"))","v":{"$error":"#REF!"}},null,{"$f":"IF(INDIRECT(\"'Børn \"&U161&\"'!$c$126\")=\"\",\"\",IFERROR(INDIRECT(\"'Børn \"&U161&\"'!$c$126\",TRUE),\"\"))","v":{"$error":"#REF!"}},{"$f":"IF(INDIRECT(\"'Børn \"&U161&\"'!$c$142\")=\"\",\"\",IFERROR(INDIRECT(\"'Børn \"&U161&\"'!$c$142\",TRUE),\"\"))","v":{"$error":"#REF!"}},{"$f":"IF(INDIRECT(\"'Børn \"&U161&\"'!$c$166\")=\"\",\"\",IFERROR(INDIRECT(\"'Børn \"&U161&\"'!$c$166\",TRUE),\"\"))","v":{"$error":"#REF!"}},{"$f":"IF(INDIRECT(\"'Børn \"&U161&\"'!$c$180\")=\"\",\"\",IFERROR(INDIRECT(\"'Børn \"&U161&\"'!$c$180\",TRUE),\"\"))","v":{"$error":"#REF!"}},{"$f":"IF(INDIRECT(\"'Børn \"&U161&\"'!$c$200\")=\"\",\"\",IFERROR(INDIRECT(\"'Børn \"&U161&\"'!$c$200\",TRUE),\"\"))","v":{"$error":"#REF!"}},{"$f":"IF(INDIRECT(\"'Børn \"&U161&\"'!$c$221\")=\"\",\"\",IFERROR(INDIRECT(\"'Børn \"&U161&\"'!$c$221\",TRUE),\"\"))","v":{"$error":"#REF!"}},{"$f":"IF(INDIRECT(\"'Børn \"&U161&\"'!$c$244\")=\"\",\"\",IFERROR(INDIRECT(\"'Børn \"&U161&\"'!$c$244\",TRUE),\"\"))","v":{"$error":"#REF!"}}]
["Tilsyn 34","Status:  gul",{"$f":"COUNTIF(IF(ISERROR(INDIRECT(\"'Voksen \"&A162&\"'!$H$31\",TRUE)),\"\",INDIRECT(\"'Voksen \"&A162&\"'!$H$31\",TRUE)),2)","v":{"$error":"#VALUE!"}},{"$f":"COUNTIF(IF(ISERROR(INDIRECT(\"'Voksen \"&A162&\"'!$H$41\",TRUE)),\"\",INDIRECT(\"'Voksen \"&A162&\"'!$H$41\",TRUE)),2)","v":{"$error":"#VALUE!"}},{"$f":"COUNTIF(IF(ISERROR(INDIRECT(\"'Voksen \"&A162&\"'!$H$50\",TRUE)),\"\",INDIRECT(\"'Voksen \"&A162&\"'!$H$50\",TRUE)),2)","v":{"$error":"#VALUE!"}},{"$f":"COUNTIF(IF(ISERROR(INDIRECT(\"'Voksen \"&A162&\"'!$H$58\",TRUE)),\"\",INDIRECT(\"'Voksen \"&A162&\"'!$H$58\",TRUE)),2)","v":{"$error":"#VALUE!"}},{"$f":"COUNTIF(IF(ISERROR(INDIRECT(\"'Voksen \"&A162&\"'!$H$69\",TRUE)),\"\",INDIRECT(\"'Voksen \"&A162&\"'!$H$69\",TRUE)),2)","v":{"$error":"#VALUE!"}},{"$f":"COUNTIF(IF(ISERROR(INDIRECT(\"'Voksen \"&A162&\"'!$H$77\",TRUE)),\"\",INDIRECT(\"'Voksen \"&A162&\"'!$H$77\",TRUE)),2)","v":{"$error":"#VALUE!"}},null,null,{"$f":"COUNTIF(IF(ISERROR(INDIRECT(\"'Børn \"&A162&\"'!$H$31\",TRUE)),\"\",INDIRECT(\"'Børn \"&A162&\"'!$H$31\",TRUE)),2)","v":{"$error":"#VALUE!"}},{"$f":"COUNTIF(IF(ISERROR(INDIRECT(\"'Børn \"&A162&\"'!$H$44\",TRUE)),\"\",INDIRECT(\"'Børn \"&A162&\"'!$H$44\",TRUE)),2)","v":{"$error":"#VALUE!"}},{"$f":"COUNTIF(IF(ISERROR(INDIRECT(\"'Børn \"&A162&\"'!$H$53\",TRUE)),\"\",INDIRECT(\"'Børn \"&A162&\"'!$H$53\",TRUE)),2)","v":{"$error":"#VALUE!"}},{"$f":"COUNTIF(IF(ISERROR(INDIRECT(\"'Børn \"&A162&\"'!$H$61\",TRUE)),\"\",INDIRECT(\"'Børn \"&A162&\"'!$H$61\",TRUE)),2)","v":{"$error":"#VALUE!"}},{"$f":"COUNTIF(IF(ISERROR(INDIRECT(\"'Børn \"&A162&\"'!$H$68\",TRUE)),\"\",INDIRECT(\"'Børn \"&A162&\"'!$H$68\",TRUE)),2)","v":{"$error":"#VALUE!"}},{"$f":"COUNTIF(IF(ISERROR(INDIRECT(\"'Børn \"&A162&\"'!$H$79\",TRUE)),\"\",INDIRECT(\"'Børn \"&A162&\"'!$H$79\",TRUE)),2)","v":{"$error":"#VALUE!"}},{"$f":"COUNTIF(IF(ISERROR(INDIRECT(\"'Børn \"&A162&\"'!$H$87\",TRUE)),\"\",INDIRECT(\"'Børn \"&A162&\"'!$H$87\",TRUE)),2)","v":{"$error":"#VALUE!"}},null,null,null,"Tilsyn 51",{"$f":"IF(INDIRECT(\"'Voksen \"&U162&\"'!$c$112\")=\"\",\"\",IFERROR(INDIRECT(\"'Voksen \"&U162&\"'!$c$112\",TRUE),\"\"))","v":{"$error":"#REF!"}},{"$f":"IF(INDIRECT(\"'Voksen \"&U162&\"'!$c$133\")=\"\",\"\",IFERROR(INDIRECT(\"'Voksen \"&U162&\"'!$c$133\",TRUE),\"\"))","v":{"$error":"#REF!"}},{"$f":"IF(INDIRECT(\"'Voksen \"&U162&\"'!$c$154\")=\"\",\"\",IFERROR(INDIRECT(\"'Voksen \"&U162&\"'!$c$154\",TRUE),\"\"))","v":{"$error":"#REF!"}},{"$f":"IF(INDIRECT(\"'Voksen \"&U162&\"'!$c$169\")=\"\",\"\",IFERROR(INDIRECT(\"'Voksen \"&U162&\"'!$c$169\",TRUE),\"\"))","v":{"$error":"#REF!"}},{"$f":"IF(INDIRECT(\"'Voksen \"&U162&\"'!$c$186\")=\"\",\"\",IFERROR(INDIRECT(\"'Voksen \"&U162&\"'!$c$186\",TRUE),\"\"))","v":{"$error":"#REF!"}},{"$f":"IF(INDIRECT(\"'Voksen \"&U162&\"'!$c$207\")=\"\",\"\",IFERROR(INDIRECT(\"'Voksen \"&U162&\"'!$c$207\",TRUE),\"\"))","v":{"$error":"#REF!"}},{"$f":"IF(INDIRECT(\"'Voksen \"&U162&\"'!$c$229\")=\"\",\"\",IFERROR(INDIRECT(\"'Voksen \"&U162&\"'!$c$229\",TRUE),\"\"))","v":{"$error":"#REF!"}},{"$f":"IF(INDIRECT(\"'Voksen \"&U162&\"'!$c$255\")=\"\",\"\",IFERROR(INDIRECT(\"'Voksen \"&U162&\"'!$c$255\",TRUE),\"\"))","v":{"$error":"#REF!"}},null,{"$f":"IF(INDIRECT(\"'Børn \"&U162&\"'!$c$123\")=\"\",\"\",IFERROR(INDIRECT(\"'Børn \"&U162&\"'!$c$123\",TRUE),\"\"))","v":{"$error":"#REF!"}},{"$f":"IF(INDIRECT(\"'Børn \"&U162&\"'!$c$139\")=\"\",\"\",IFERROR(INDIRECT(\"'Børn \"&U162&\"'!$c$139\",TRUE),\"\"))","v":{"$error":"#REF!"}},{"$f":"IF(INDIRECT(\"'Børn \"&U162&\"'!$c$163\")=\"\",\"\",IFERROR(INDIRECT(\"'Børn \"&U162&\"'!$c$163\",TRUE),\"\"))","v":{"$error":"#REF!"}},{"$f":"IF(INDIRECT(\"'Børn \"&U162&\"'!$c$177\")=\"\",\"\",IFERROR(INDIRECT(\"'Børn \"&U162&\"'!$c$177\",TRUE),\"\"))","v":{"$error":"#REF!"}},{"$f":"IF(INDIRECT(\"'Børn \"&U162&\"'!$c$197\")=\"\",\"\",IFERROR(INDIRECT(\"'Børn \"&U162&\"'!$c$197\",TRUE),\"\"))","v":{"$error":"#REF!"}},{"$f":"IF(INDIRECT(\"'Børn \"&U162&\"'!$c$218\")=\"\",\"\",IFERROR(INDIRECT(\"'Børn \"&U162&\"'!$c$218\",TRUE),\"\"))","v":{"$error":"#REF!"}},{"$f":"IF(INDIRECT(\"'Børn \"&U162&\"'!$c$241\")=\"\",\"\",IFERROR(INDIRECT(\"'Børn \"&U162&\"'!$c$241\",TRUE),\"\"))","v":{"$error":"#REF!"}}]
["Tilsyn 34","Status:  rød",{"$f":"COUNTIF(IF(ISERROR(INDIRECT(\"'Voksen \"&A163&\"'!$H$31\",TRUE)),\"\",INDIRECT(\"'Voksen \"&A163&\"'!$H$31\",TRUE)),3)","v":{"$error":"#VALUE!"}},{"$f":"COUNTIF(IF(ISERROR(INDIRECT(\"'Voksen \"&A163&\"'!$H$41\",TRUE)),\"\",INDIRECT(\"'Voksen \"&A163&\"'!$H$41\",TRUE)),3)","v":{"$error":"#VALUE!"}},{"$f":"COUNTIF(IF(ISERROR(INDIRECT(\"'Voksen \"&A163&\"'!$H$50\",TRUE)),\"\",INDIRECT(\"'Voksen \"&A163&\"'!$H$50\",TRUE)),3)","v":{"$error":"#VALUE!"}},{"$f":"COUNTIF(IF(ISERROR(INDIRECT(\"'Voksen \"&A163&\"'!$H$58\",TRUE)),\"\",INDIRECT(\"'Voksen \"&A163&\"'!$H$58\",TRUE)),3)","v":{"$error":"#VALUE!"}},{"$f":"COUNTIF(IF(ISERROR(INDIRECT(\"'Voksen \"&A163&\"'!$H$69\",TRUE)),\"\",INDIRECT(\"'Voksen \"&A163&\"'!$H$69\",TRUE)),3)","v":{"$error":"#VALUE!"}},{"$f":"COUNTIF(IF(ISERROR(INDIRECT(\"'Voksen \"&A163&\"'!$H$77\",TRUE)),\"\",INDIRECT(\"'Voksen \"&A163&\"'!$H$77\",TRUE)),3)","v":{"$error":"#VALUE!"}},null,null,{"$f":"COUNTIF(IF(ISERROR(INDIRECT(\"'Børn \"&A163&\"'!$H$31\",TRUE)),\"\",INDIRECT(\"'Børn \"&A163&\"'!$H$31\",TRUE)),3)","v":{"$error":"#VALUE!"}},{"$f":"COUNTIF(IF(ISERROR(INDIRECT(\"'Børn \"&A163&\"'!$H$44\",TRUE)),\"\",INDIRECT(\"'Børn \"&A163&\"'!$H$44\",TRUE)),3)","v":{"$error":"#VALUE!"}},{"$f":"COUNTIF(IF(ISERROR(INDIRECT(\"'Børn \"&A163&\"'!$H$53\",TRUE)),\"\",INDIRECT(\"'Børn \"&A163&\"'!$H$53\",TRUE)),3)","v":{"$error":"#VALUE!"}},{"$f":"COUNTIF(IF(ISERROR(INDIRECT(\"'Børn \"&A163&\"'!$H$61\",TRUE)),\"\",INDIRECT(\"'Børn \"&A163&\"'!$H$61\",TRUE)),3)","v":{"$error":"#VALUE!"}},{"$f":"COUNTIF(IF(ISERROR(INDIRECT(\"'Børn \"&A163&\"'!$H$68\",TRUE)),\"\",INDIRECT(\"'Børn \"&A163&\"'!$H$68\",TRUE)),3)","v":{"$error":"#VALUE!"}},{"$f":"COUNTIF(IF(ISERROR(INDIRECT(\"'Børn \"&A163&\"'!$H$79\",TRUE)),\"\",INDIRECT(\"'Børn \"&A163&\"'!$H$79\",TRUE)),3)","v":{"$error":"#VALUE!"}},{"$f":"COUNTIF(IF(ISERROR(INDIRECT(\"'Børn \"&A163&\"'!$H$87\",TRUE)),\"\",INDIRECT(\"'Børn \"&A163&\"'!$H$87\",TRUE)),3)","v":{"$error":"#VALUE!"}},null,null,null,{"$f":"U162","v":"Tilsyn 51"},{"$f":"IF(INDIRECT(\"'Voksen \"&U163&\"'!$c$115\")=\"\",\"\",IFERROR(INDIRECT(\"'Voksen \"&U163&\"'!$c$115\",TRUE),\"\"))","v":{"$error":"#REF!"}},{"$f":"IF(INDIRECT(\"'Voksen \"&U163&\"'!$c$136\")=\"\",\"\",IFERROR(INDIRECT(\"'Voksen \"&U163&\"'!$c$136\",TRUE),\"\"))","v":{"$error":"#REF!"}},{"$f":"IF(INDIRECT(\"'Voksen \"&U163&\"'!$c$157\")=\"\",\"\",IFERROR(INDIRECT(\"'Voksen \"&U163&\"'!$c$157\",TRUE),\"\"))","v":{"$error":"#REF!"}},{"$f":"IF(INDIRECT(\"'Voksen \"&U163&\"'!$c$172\")=\"\",\"\",IFERROR(INDIRECT(\"'Voksen \"&U163&\"'!$c$172\",TRUE),\"\"))","v":{"$error":"#REF!"}},{"$f":"IF(INDIRECT(\"'Voksen \"&U163&\"'!$c$189\")=\"\",\"\",IFERROR(INDIRECT(\"'Voksen \"&U163&\"'!$c$189\",TRUE),\"\"))","v":{"$error":"#REF!"}},{"$f":"IF(INDIRECT(\"'Voksen \"&U163&\"'!$c$210\")=\"\",\"\",IFERROR(INDIRECT(\"'Voksen \"&U163&\"'!$c$210\",TRUE),\"\"))","v":{"$error":"#REF!"}},{"$f":"IF(INDIRECT(\"'Voksen \"&U163&\"'!$c$232\")=\"\",\"\",IFERROR(INDIRECT(\"'Voksen \"&U163&\"'!$c$232\",TRUE),\"\"))","v":{"$error":"#REF!"}},{"$f":"IF(INDIRECT(\"'Voksen \"&U163&\"'!$c$258\")=\"\",\"\",IFERROR(INDIRECT(\"'Voksen \"&U163&\"'!$c$258\",TRUE),\"\"))","v":{"$error":"#REF!"}},null,{"$f":"IF(INDIRECT(\"'Børn \"&U163&\"'!$c$126\")=\"\",\"\",IFERROR(INDIRECT(\"'Børn \"&U163&\"'!$c$126\",TRUE),\"\"))","v":{"$error":"#REF!"}},{"$f":"IF(INDIRECT(\"'Børn \"&U163&\"'!$c$142\")=\"\",\"\",IFERROR(INDIRECT(\"'Børn \"&U163&\"'!$c$142\",TRUE),\"\"))","v":{"$error":"#REF!"}},{"$f":"IF(INDIRECT(\"'Børn \"&U163&\"'!$c$166\")=\"\",\"\",IFERROR(INDIRECT(\"'Børn \"&U163&\"'!$c$166\",TRUE),\"\"))","v":{"$error":"#REF!"}},{"$f":"IF(INDIRECT(\"'Børn \"&U163&\"'!$c$180\")=\"\",\"\",IFERROR(INDIRECT(\"'Børn \"&U163&\"'!$c$180\",TRUE),\"\"))","v":{"$error":"#REF!"}},{"$f":"IF(INDIRECT(\"'Børn \"&U163&\"'!$c$200\")=\"\",\"\",IFERROR(INDIRECT(\"'Børn \"&U163&\"'!$c$200\",TRUE),\"\"))","v":{"$error":"#REF!"}},{"$f":"IF(INDIRECT(\"'Børn \"&U163&\"'!$c$221\")=\"\",\"\",IFERROR(INDIRECT(\"'Børn \"&U163&\"'!$c$221\",TRUE),\"\"))","v":{"$error":"#REF!"}},{"$f":"IF(INDIRECT(\"'Børn \"&U163&\"'!$c$244\")=\"\",\"\",IFERROR(INDIRECT(\"'Børn \"&U163&\"'!$c$244\",TRUE),\"\"))","v":{"$error":"#REF!"}}]
["Tilsyn 35","Status:  grøn",{"$f":"COUNTIF(IF(ISERROR(INDIRECT(\"'Voksen \"&A164&\"'!$H$31\",TRUE)),\"\",INDIRECT(\"'Voksen \"&A164&\"'!$H$31\",TRUE)),1)","v":{"$error":"#VALUE!"}},{"$f":"COUNTIF(IF(ISERROR(INDIRECT(\"'Voksen \"&A164&\"'!$H$41\",TRUE)),\"\",INDIRECT(\"'Voksen \"&A164&\"'!$H$41\",TRUE)),1)","v":{"$error":"#VALUE!"}},{"$f":"COUNTIF(IF(ISERROR(INDIRECT(\"'Voksen \"&A164&\"'!$H$50\",TRUE)),\"\",INDIRECT(\"'Voksen \"&A164&\"'!$H$50\",TRUE)),1)","v":{"$error":"#VALUE!"}},{"$f":"COUNTIF(IF(ISERROR(INDIRECT(\"'Voksen \"&A164&\"'!$H$58\",TRUE)),\"\",INDIRECT(\"'Voksen \"&A164&\"'!$H$58\",TRUE)),1)","v":{"$error":"#VALUE!"}},{"$f":"COUNTIF(IF(ISERROR(INDIRECT(\"'Voksen \"&A164&\"'!$H$69\",TRUE)),\"\",INDIRECT(\"'Voksen \"&A164&\"'!$H$69\",TRUE)),1)","v":{"$error":"#VALUE!"}},{"$f":"COUNTIF(IF(ISERROR(INDIRECT(\"'Voksen \"&A164&\"'!$H$77\",TRUE)),\"\",INDIRECT(\"'Voksen \"&A164&\"'!$H$77\",TRUE)),1)","v":{"$error":"#VALUE!"}},null,null,{"$f":"COUNTIF(IF(ISERROR(INDIRECT(\"'Børn \"&A164&\"'!$H$31\",TRUE)),\"\",INDIRECT(\"'Børn \"&A164&\"'!$H$31\",TRUE)),1)","v":{"$error":"#VALUE!"}},{"$f":"COUNTIF(IF(ISERROR(INDIRECT(\"'Børn \"&A164&\"'!$H$44\",TRUE)),\"\",INDIRECT(\"'Børn \"&A164&\"'!$H$44\",TRUE)),1)","v":{"$error":"#VALUE!"}},{"$f":"COUNTIF(IF(ISERROR(INDIRECT(\"'Børn \"&A164&\"'!$H$53\",TRUE)),\"\",INDIRECT(\"'Børn \"&A164&\"'!$H$53\",TRUE)),1)","v":{"$error":"#VALUE!"}},{"$f":"COUNTIF(IF(ISERROR(INDIRECT(\"'Børn \"&A164&\"'!$H$61\",TRUE)),\"\",INDIRECT(\"'Børn \"&A164&\"'!$H$61\",TRUE)),1)","v":{"$error":"#VALUE!"}},{"$f":"COUNTIF(IF(ISERROR(INDIRECT(\"'Børn \"&A164&\"'!$H$68\",TRUE)),\"\",INDIRECT(\"'Børn \"&A164&\"'!$H$68\",TRUE)),1)","v":{"$error":"#VALUE!"}},{"$f":"COUNTIF(IF(ISERROR(INDIRECT(\"'Børn \"&A164&\"'!$H$79\",TRUE)),\"\",INDIRECT(\"'Børn \"&A164&\"'!$H$79\",TRUE)),1)","v":{"$error":"#VALUE!"}},{"$f":"COUNTIF(IF(ISERROR(INDIRECT(\"'Børn \"&A164&\"'!$H$87\",TRUE)),\"\",INDIRECT(\"'Børn \"&A164&\"'!$H$87\",TRUE)),1)","v":{"$error":"#VALUE!"}},null,null,null,"Tilsyn 52",{"$f":"IF(INDIRECT(\"'Voksen \"&U164&\"'!$c$112\")=\"\",\"\",IFERROR(INDIRECT(\"'Voksen \"&U164&\"'!$c$112\",TRUE),\"\"))","v":{"$error":"#REF!"}},{"$f":"IF(INDIRECT(\"'Voksen \"&U164&\"'!$c$133\")=\"\",\"\",IFERROR(INDIRECT(\"'Voksen \"&U164&\"'!$c$133\",TRUE),\"\"))","v":{"$error":"#REF!"}},{"$f":"IF(INDIRECT(\"'Voksen \"&U164&\"'!$c$154\")=\"\",\"\",IFERROR(INDIRECT(\"'Voksen \"&U164&\"'!$c$154\",TRUE),\"\"))","v":{"$error":"#REF!"}},{"$f":"IF(INDIRECT(\"'Voksen \"&U164&\"'!$c$169\")=\"\",\"\",IFERROR(INDIRECT(\"'Voksen \"&U164&\"'!$c$169\",TRUE),\"\"))","v":{"$error":"#REF!"}},{"$f":"IF(INDIRECT(\"'Voksen \"&U164&\"'!$c$186\")=\"\",\"\",IFERROR(INDIRECT(\"'Voksen \"&U164&\"'!$c$186\",TRUE),\"\"))","v":{"$error":"#REF!"}},{"$f":"IF(INDIRECT(\"'Voksen \"&U164&\"'!$c$207\")=\"\",\"\",IFERROR(INDIRECT(\"'Voksen \"&U164&\"'!$c$207\",TRUE),\"\"))","v":{"$error":"#REF!"}},{"$f":"IF(INDIRECT(\"'Voksen \"&U164&\"'!$c$229\")=\"\",\"\",IFERROR(INDIRECT(\"'Voksen \"&U164&\"'!$c$229\",TRUE),\"\"))","v":{"$error":"#REF!"}},{"$f":"IF(INDIRECT(\"'Voksen \"&U164&\"'!$c$255\")=\"\",\"\",IFERROR(INDIRECT(\"'Voksen \"&U164&\"'!$c$255\",TRUE),\"\"))","v":{"$error":"#REF!"}},null,{"$f":"IF(INDIRECT(\"'Børn \"&U164&\"'!$c$123\")=\"\",\"\",IFERROR(INDIRECT(\"'Børn \"&U164&\"'!$c$123\",TRUE),\"\"))","v":{"$error":"#REF!"}},{"$f":"IF(INDIRECT(\"'Børn \"&U164&\"'!$c$139\")=\"\",\"\",IFERROR(INDIRECT(\"'Børn \"&U164&\"'!$c$139\",TRUE),\"\"))","v":{"$error":"#REF!"}},{"$f":"IF(INDIRECT(\"'Børn \"&U164&\"'!$c$163\")=\"\",\"\",IFERROR(INDIRECT(\"'Børn \"&U164&\"'!$c$163\",TRUE),\"\"))","v":{"$error":"#REF!"}},{"$f":"IF(INDIRECT(\"'Børn \"&U164&\"'!$c$177\")=\"\",\"\",IFERROR(INDIRECT(\"'Børn \"&U164&\"'!$c$177\",TRUE),\"\"))","v":{"$error":"#REF!"}},{"$f":"IF(INDIRECT(\"'Børn \"&U164&\"'!$c$197\")=\"\",\"\",IFERROR(INDIRECT(\"'Børn \"&U164&\"'!$c$197\",TRUE),\"\"))","v":{"$error":"#REF!"}},{"$f":"IF(INDIRECT(\"'Børn \"&U164&\"'!$c$218\")=\"\",\"\",IFERROR(INDIRECT(\"'Børn \"&U164&\"'!$c$218\",TRUE),\"\"))","v":{"$error":"#REF!"}},{"$f":"IF(INDIRECT(\"'Børn \"&U164&\"'!$c$241\")=\"\",\"\",IFERROR(INDIRECT(\"'Børn \"&U164&\"'!$c$241\",TRUE),\"\"))","v":{"$error":"#REF!"}}]
["Tilsyn 35","Status:  gul",{"$f":"COUNTIF(IF(ISERROR(INDIRECT(\"'Voksen \"&A165&\"'!$H$31\",TRUE)),\"\",INDIRECT(\"'Voksen \"&A165&\"'!$H$31\",TRUE)),2)","v":{"$error":"#VALUE!"}},{"$f":"COUNTIF(IF(ISERROR(INDIRECT(\"'Voksen \"&A165&\"'!$H$41\",TRUE)),\"\",INDIRECT(\"'Voksen \"&A165&\"'!$H$41\",TRUE)),2)","v":{"$error":"#VALUE!"}},{"$f":"COUNTIF(IF(ISERROR(INDIRECT(\"'Voksen \"&A165&\"'!$H$50\",TRUE)),\"\",INDIRECT(\"'Voksen \"&A165&\"'!$H$50\",TRUE)),2)","v":{"$error":"#VALUE!"}},{"$f":"COUNTIF(IF(ISERROR(INDIRECT(\"'Voksen \"&A165&\"'!$H$58\",TRUE)),\"\",INDIRECT(\"'Voksen \"&A165&\"'!$H$58\",TRUE)),2)","v":{"$error":"#VALUE!"}},{"$f":"COUNTIF(IF(ISERROR(INDIRECT(\"'Voksen \"&A165&\"'!$H$69\",TRUE)),\"\",INDIRECT(\"'Voksen \"&A165&\"'!$H$69\",TRUE)),2)","v":{"$error":"#VALUE!"}},{"$f":"COUNTIF(IF(ISERROR(INDIRECT(\"'Voksen \"&A165&\"'!$H$77\",TRUE)),\"\",INDIRECT(\"'Voksen \"&A165&\"'!$H$77\",TRUE)),2)","v":{"$error":"#VALUE!"}},null,null,{"$f":"COUNTIF(IF(ISERROR(INDIRECT(\"'Børn \"&A165&\"'!$H$31\",TRUE)),\"\",INDIRECT(\"'Børn \"&A165&\"'!$H$31\",TRUE)),2)","v":{"$error":"#VALUE!"}},{"$f":"COUNTIF(IF(ISERROR(INDIRECT(\"'Børn \"&A165&\"'!$H$44\",TRUE)),\"\",INDIRECT(\"'Børn \"&A165&\"'!$H$44\",TRUE)),2)","v":{"$error":"#VALUE!"}},{"$f":"COUNTIF(IF(ISERROR(INDIRECT(\"'Børn \"&A165&\"'!$H$53\",TRUE)),\"\",INDIRECT(\"'Børn \"&A165&\"'!$H$53\",TRUE)),2)","v":{"$error":"#VALUE!"}},{"$f":"COUNTIF(IF(ISERROR(INDIRECT(\"'Børn \"&A165&\"'!$H$61\",TRUE)),\"\",INDIRECT(\"'Børn \"&A165&\"'!$H$61\",TRUE)),2)","v":{"$error":"#VALUE!"}},{"$f":"COUNTIF(IF(ISERROR(INDIRECT(\"'Børn \"&A165&\"'!$H$68\",TRUE)),\"\",INDIRECT(\"'Børn \"&A165&\"'!$H$68\",TRUE)),2)","v":{"$error":"#VALUE!"}},{"$f":"COUNTIF(IF(ISERROR(INDIRECT(\"'Børn \"&A165&\"'!$H$79\",TRUE)),\"\",INDIRECT(\"'Børn \"&A165&\"'!$H$79\",TRUE)),2)","v":{"$error":"#VALUE!"}},{"$f":"COUNTIF(IF(ISERROR(INDIRECT(\"'Børn \"&A165&\"'!$H$87\",TRUE)),\"\",INDIRECT(\"'Børn \"&A165&\"'!$H$87\",TRUE)),2)","v":{"$error":"#VALUE!"}},null,null,null,{"$f":"U164","v":"Tilsyn 52"},{"$f":"IF(INDIRECT(\"'Voksen \"&U165&\"'!$c$115\")=\"\",\"\",IFERROR(INDIRECT(\"'Voksen \"&U165&\"'!$c$115\",TRUE),\"\"))","v":{"$error":"#REF!"}},{"$f":"IF(INDIRECT(\"'Voksen \"&U165&\"'!$c$136\")=\"\",\"\",IFERROR(INDIRECT(\"'Voksen \"&U165&\"'!$c$136\",TRUE),\"\"))","v":{"$error":"#REF!"}},{"$f":"IF(INDIRECT(\"'Voksen \"&U165&\"'!$c$157\")=\"\",\"\",IFERROR(INDIRECT(\"'Voksen \"&U165&\"'!$c$157\",TRUE),\"\"))","v":{"$error":"#REF!"}},{"$f":"IF(INDIRECT(\"'Voksen \"&U165&\"'!$c$172\")=\"\",\"\",IFERROR(INDIRECT(\"'Voksen \"&U165&\"'!$c$172\",TRUE),\"\"))","v":{"$error":"#REF!"}},{"$f":"IF(INDIRECT(\"'Voksen \"&U165&\"'!$c$189\")=\"\",\"\",IFERROR(INDIRECT(\"'Voksen \"&U165&\"'!$c$189\",TRUE),\"\"))","v":{"$error":"#REF!"}},{"$f":"IF(INDIRECT(\"'Voksen \"&U165&\"'!$c$210\")=\"\",\"\",IFERROR(INDIRECT(\"'Voksen \"&U165&\"'!$c$210\",TRUE),\"\"))","v":{"$error":"#REF!"}},{"$f":"IF(INDIRECT(\"'Voksen \"&U165&\"'!$c$232\")=\"\",\"\",IFERROR(INDIRECT(\"'Voksen \"&U165&\"'!$c$232\",TRUE),\"\"))","v":{"$error":"#REF!"}},{"$f":"IF(INDIRECT(\"'Voksen \"&U165&\"'!$c$258\")=\"\",\"\",IFERROR(INDIRECT(\"'Voksen \"&U165&\"'!$c$258\",TRUE),\"\"))","v":{"$error":"#REF!"}},null,{"$f":"IF(INDIRECT(\"'Børn \"&U165&\"'!$c$126\")=\"\",\"\",IFERROR(INDIRECT(\"'Børn \"&U165&\"'!$c$126\",TRUE),\"\"))","v":{"$error":"#REF!"}},{"$f":"IF(INDIRECT(\"'Børn \"&U165&\"'!$c$142\")=\"\",\"\",IFERROR(INDIRECT(\"'Børn \"&U165&\"'!$c$142\",TRUE),\"\"))","v":{"$error":"#REF!"}},{"$f":"IF(INDIRECT(\"'Børn \"&U165&\"'!$c$166\")=\"\",\"\",IFERROR(INDIRECT(\"'Børn \"&U165&\"'!$c$166\",TRUE),\"\"))","v":{"$error":"#REF!"}},{"$f":"IF(INDIRECT(\"'Børn \"&U165&\"'!$c$180\")=\"\",\"\",IFERROR(INDIRECT(\"'Børn \"&U165&\"'!$c$180\",TRUE),\"\"))","v":{"$error":"#REF!"}},{"$f":"IF(INDIRECT(\"'Børn \"&U165&\"'!$c$200\")=\"\",\"\",IFERROR(INDIRECT(\"'Børn \"&U165&\"'!$c$200\",TRUE),\"\"))","v":{"$error":"#REF!"}},{"$f":"IF(INDIRECT(\"'Børn \"&U165&\"'!$c$221\")=\"\",\"\",IFERROR(INDIRECT(\"'Børn \"&U165&\"'!$c$221\",TRUE),\"\"))","v":{"$error":"#REF!"}},{"$f":"IF(INDIRECT(\"'Børn \"&U165&\"'!$c$244\")=\"\",\"\",IFERROR(INDIRECT(\"'Børn \"&U165&\"'!$c$244\",TRUE),\"\"))","v":{"$error":"#REF!"}}]
["Tilsyn 35","Status:  rød",{"$f":"COUNTIF(IF(ISERROR(INDIRECT(\"'Voksen \"&A166&\"'!$H$31\",TRUE)),\"\",INDIRECT(\"'Voksen \"&A166&\"'!$H$31\",TRUE)),3)","v":{"$error":"#VALUE!"}},{"$f":"COUNTIF(IF(ISERROR(INDIRECT(\"'Voksen \"&A166&\"'!$H$41\",TRUE)),\"\",INDIRECT(\"'Voksen \"&A166&\"'!$H$41\",TRUE)),3)","v":{"$error":"#VALUE!"}},{"$f":"COUNTIF(IF(ISERROR(INDIRECT(\"'Voksen \"&A166&\"'!$H$50\",TRUE)),\"\",INDIRECT(\"'Voksen \"&A166&\"'!$H$50\",TRUE)),3)","v":{"$error":"#VALUE!"}},{"$f":"COUNTIF(IF(ISERROR(INDIRECT(\"'Voksen \"&A166&\"'!$H$58\",TRUE)),\"\",INDIRECT(\"'Voksen \"&A166&\"'!$H$58\",TRUE)),3)","v":{"$error":"#VALUE!"}},{"$f":"COUNTIF(IF(ISERROR(INDIRECT(\"'Voksen \"&A166&\"'!$H$69\",TRUE)),\"\",INDIRECT(\"'Voksen \"&A166&\"'!$H$69\",TRUE)),3)","v":{"$error":"#VALUE!"}},{"$f":"COUNTIF(IF(ISERROR(INDIRECT(\"'Voksen \"&A166&\"'!$H$77\",TRUE)),\"\",INDIRECT(\"'Voksen \"&A166&\"'!$H$77\",TRUE)),3)","v":{"$error":"#VALUE!"}},null,null,{"$f":"COUNTIF(IF(ISERROR(INDIRECT(\"'Børn \"&A166&\"'!$H$31\",TRUE)),\"\",INDIRECT(\"'Børn \"&A166&\"'!$H$31\",TRUE)),3)","v":{"$error":"#VALUE!"}},{"$f":"COUNTIF(IF(ISERROR(INDIRECT(\"'Børn \"&A166&\"'!$H$44\",TRUE)),\"\",INDIRECT(\"'Børn \"&A166&\"'!$H$44\",TRUE)),3)","v":{"$error":"#VALUE!"}},{"$f":"COUNTIF(IF(ISERROR(INDIRECT(\"'Børn \"&A166&\"'!$H$53\",TRUE)),\"\",INDIRECT(\"'Børn \"&A166&\"'!$H$53\",TRUE)),3)","v":{"$error":"#VALUE!"}},{"$f":"COUNTIF(IF(ISERROR(INDIRECT(\"'Børn \"&A166&\"'!$H$61\",TRUE)),\"\",INDIRECT(\"'Børn \"&A166&\"'!$H$61\",TRUE)),3)","v":{"$error":"#VALUE!"}},{"$f":"COUNTIF(IF(ISERROR(INDIRECT(\"'Børn \"&A166&\"'!$H$68\",TRUE)),\"\",INDIRECT(\"'Børn \"&A166&\"'!$H$68\",TRUE)),3)","v":{"$error":"#VALUE!"}},{"$f":"COUNTIF(IF(ISERROR(INDIRECT(\"'Børn \"&A166&\"'!$H$79\",TRUE)),\"\",INDIRECT(\"'Børn \"&A166&\"'!$H$79\",TRUE)),3)","v":{"$error":"#VALUE!"}},{"$f":"COUNTIF(IF(ISERROR(INDIRECT(\"'Børn \"&A166&\"'!$H$87\",TRUE)),\"\",INDIRECT(\"'Børn \"&A166&\"'!$H$87\",TRUE)),3)","v":{"$error":"#VALUE!"}},null,null,null,"Tilsyn 53",{"$f":"IF(INDIRECT(\"'Voksen \"&U166&\"'!$c$112\")=\"\",\"\",IFERROR(INDIRECT(\"'Voksen \"&U166&\"'!$c$112\",TRUE),\"\"))","v":{"$error":"#REF!"}},{"$f":"IF(INDIRECT(\"'Voksen \"&U166&\"'!$c$133\")=\"\",\"\",IFERROR(INDIRECT(\"'Voksen \"&U166&\"'!$c$133\",TRUE),\"\"))","v":{"$error":"#REF!"}},{"$f":"IF(INDIRECT(\"'Voksen \"&U166&\"'!$c$154\")=\"\",\"\",IFERROR(INDIRECT(\"'Voksen \"&U166&\"'!$c$154\",TRUE),\"\"))","v":{"$error":"#REF!"}},{"$f":"IF(INDIRECT(\"'Voksen \"&U166&\"'!$c$169\")=\"\",\"\",IFERROR(INDIRECT(\"'Voksen \"&U166&\"'!$c$169\",TRUE),\"\"))","v":{"$error":"#REF!"}},{"$f":"IF(INDIRECT(\"'Voksen \"&U166&\"'!$c$186\")=\"\",\"\",IFERROR(INDIRECT(\"'Voksen \"&U166&\"'!$c$186\",TRUE),\"\"))","v":{"$error":"#REF!"}},{"$f":"IF(INDIRECT(\"'Voksen \"&U166&\"'!$c$207\")=\"\",\"\",IFERROR(INDIRECT(\"'Voksen \"&U166&\"'!$c$207\",TRUE),\"\"))","v":{"$error":"#REF!"}},{"$f":"IF(INDIRECT(\"'Voksen \"&U166&\"'!$c$229\")=\"\",\"\",IFERROR(INDIRECT(\"'Voksen \"&U166&\"'!$c$229\",TRUE),\"\"))","v":{"$error":"#REF!"}},{"$f":"IF(INDIRECT(\"'Voksen \"&U166&\"'!$c$255\")=\"\",\"\",IFERROR(INDIRECT(\"'Voksen \"&U166&\"'!$c$255\",TRUE),\"\"))","v":{"$error":"#REF!"}},null,{"$f":"IF(INDIRECT(\"'Børn \"&U166&\"'!$c$123\")=\"\",\"\",IFERROR(INDIRECT(\"'Børn \"&U166&\"'!$c$123\",TRUE),\"\"))","v":{"$error":"#REF!"}},{"$f":"IF(INDIRECT(\"'Børn \"&U166&\"'!$c$139\")=\"\",\"\",IFERROR(INDIRECT(\"'Børn \"&U166&\"'!$c$139\",TRUE),\"\"))","v":{"$error":"#REF!"}},{"$f":"IF(INDIRECT(\"'Børn \"&U166&\"'!$c$163\")=\"\",\"\",IFERROR(INDIRECT(\"'Børn \"&U166&\"'!$c$163\",TRUE),\"\"))","v":{"$error":"#REF!"}},{"$f":"IF(INDIRECT(\"'Børn \"&U166&\"'!$c$177\")=\"\",\"\",IFERROR(INDIRECT(\"'Børn \"&U166&\"'!$c$177\",TRUE),\"\"))","v":{"$error":"#REF!"}},{"$f":"IF(INDIRECT(\"'Børn \"&U166&\"'!$c$197\")=\"\",\"\",IFERROR(INDIRECT(\"'Børn \"&U166&\"'!$c$197\",TRUE),\"\"))","v":{"$error":"#REF!"}},{"$f":"IF(INDIRECT(\"'Børn \"&U166&\"'!$c$218\")=\"\",\"\",IFERROR(INDIRECT(\"'Børn \"&U166&\"'!$c$218\",TRUE),\"\"))","v":{"$error":"#REF!"}},{"$f":"IF(INDIRECT(\"'Børn \"&U166&\"'!$c$241\")=\"\",\"\",IFERROR(INDIRECT(\"'Børn \"&U166&\"'!$c$241\",TRUE),\"\"))","v":{"$error":"#REF!"}}]
["Tilsyn 36","Status:  grøn",{"$f":"COUNTIF(IF(ISERROR(INDIRECT(\"'Voksen \"&A167&\"'!$H$31\",TRUE)),\"\",INDIRECT(\"'Voksen \"&A167&\"'!$H$31\",TRUE)),1)","v":{"$error":"#VALUE!"}},{"$f":"COUNTIF(IF(ISERROR(INDIRECT(\"'Voksen \"&A167&\"'!$H$41\",TRUE)),\"\",INDIRECT(\"'Voksen \"&A167&\"'!$H$41\",TRUE)),1)","v":{"$error":"#VALUE!"}},{"$f":"COUNTIF(IF(ISERROR(INDIRECT(\"'Voksen \"&A167&\"'!$H$50\",TRUE)),\"\",INDIRECT(\"'Voksen \"&A167&\"'!$H$50\",TRUE)),1)","v":{"$error":"#VALUE!"}},{"$f":"COUNTIF(IF(ISERROR(INDIRECT(\"'Voksen \"&A167&\"'!$H$58\",TRUE)),\"\",INDIRECT(\"'Voksen \"&A167&\"'!$H$58\",TRUE)),1)","v":{"$error":"#VALUE!"}},{"$f":"COUNTIF(IF(ISERROR(INDIRECT(\"'Voksen \"&A167&\"'!$H$69\",TRUE)),\"\",INDIRECT(\"'Voksen \"&A167&\"'!$H$69\",TRUE)),1)","v":{"$error":"#VALUE!"}},{"$f":"COUNTIF(IF(ISERROR(INDIRECT(\"'Voksen \"&A167&\"'!$H$77\",TRUE)),\"\",INDIRECT(\"'Voksen \"&A167&\"'!$H$77\",TRUE)),1)","v":{"$error":"#VALUE!"}},null,null,{"$f":"COUNTIF(IF(ISERROR(INDIRECT(\"'Børn \"&A167&\"'!$H$31\",TRUE)),\"\",INDIRECT(\"'Børn \"&A167&\"'!$H$31\",TRUE)),1)","v":{"$error":"#VALUE!"}},{"$f":"COUNTIF(IF(ISERROR(INDIRECT(\"'Børn \"&A167&\"'!$H$44\",TRUE)),\"\",INDIRECT(\"'Børn \"&A167&\"'!$H$44\",TRUE)),1)","v":{"$error":"#VALUE!"}},{"$f":"COUNTIF(IF(ISERROR(INDIRECT(\"'Børn \"&A167&\"'!$H$53\",TRUE)),\"\",INDIRECT(\"'Børn \"&A167&\"'!$H$53\",TRUE)),1)","v":{"$error":"#VALUE!"}},{"$f":"COUNTIF(IF(ISERROR(INDIRECT(\"'Børn \"&A167&\"'!$H$61\",TRUE)),\"\",INDIRECT(\"'Børn \"&A167&\"'!$H$61\",TRUE)),1)","v":{"$error":"#VALUE!"}},{"$f":"COUNTIF(IF(ISERROR(INDIRECT(\"'Børn \"&A167&\"'!$H$68\",TRUE)),\"\",INDIRECT(\"'Børn \"&A167&\"'!$H$68\",TRUE)),1)","v":{"$error":"#VALUE!"}},{"$f":"COUNTIF(IF(ISERROR(INDIRECT(\"'Børn \"&A167&\"'!$H$79\",TRUE)),\"\",INDIRECT(\"'Børn \"&A167&\"'!$H$79\",TRUE)),1)","v":{"$error":"#VALUE!"}},{"$f":"COUNTIF(IF(ISERROR(INDIRECT(\"'Børn \"&A167&\"'!$H$87\",TRUE)),\"\",INDIRECT(\"'Børn \"&A167&\"'!$H$87\",TRUE)),1)","v":{"$error":"#VALUE!"}},null,null,null,{"$f":"U166","v":"Tilsyn 53"},{"$f":"IF(INDIRECT(\"'Voksen \"&U167&\"'!$c$115\")=\"\",\"\",IFERROR(INDIRECT(\"'Voksen \"&U167&\"'!$c$115\",TRUE),\"\"))","v":{"$error":"#REF!"}},{"$f":"IF(INDIRECT(\"'Voksen \"&U167&\"'!$c$136\")=\"\",\"\",IFERROR(INDIRECT(\"'Voksen \"&U167&\"'!$c$136\",TRUE),\"\"))","v":{"$error":"#REF!"}},{"$f":"IF(INDIRECT(\"'Voksen \"&U167&\"'!$c$157\")=\"\",\"\",IFERROR(INDIRECT(\"'Voksen \"&U167&\"'!$c$157\",TRUE),\"\"))","v":{"$error":"#REF!"}},{"$f":"IF(INDIRECT(\"'Voksen \"&U167&\"'!$c$172\")=\"\",\"\",IFERROR(INDIRECT(\"'Voksen \"&U167&\"'!$c$172\",TRUE),\"\"))","v":{"$error":"#REF!"}},{"$f":"IF(INDIRECT(\"'Voksen \"&U167&\"'!$c$189\")=\"\",\"\",IFERROR(INDIRECT(\"'Voksen \"&U167&\"'!$c$189\",TRUE),\"\"))","v":{"$error":"#REF!"}},{"$f":"IF(INDIRECT(\"'Voksen \"&U167&\"'!$c$210\")=\"\",\"\",IFERROR(INDIRECT(\"'Voksen \"&U167&\"'!$c$210\",TRUE),\"\"))","v":{"$error":"#REF!"}},{"$f":"IF(INDIRECT(\"'Voksen \"&U167&\"'!$c$232\")=\"\",\"\",IFERROR(INDIRECT(\"'Voksen \"&U167&\"'!$c$232\",TRUE),\"\"))","v":{"$error":"#REF!"}},{"$f":"IF(INDIRECT(\"'Voksen \"&U167&\"'!$c$258\")=\"\",\"\",IFERROR(INDIRECT(\"'Voksen \"&U167&\"'!$c$258\",TRUE),\"\"))","v":{"$error":"#REF!"}},null,{"$f":"IF(INDIRECT(\"'Børn \"&U167&\"'!$c$126\")=\"\",\"\",IFERROR(INDIRECT(\"'Børn \"&U167&\"'!$c$126\",TRUE),\"\"))","v":{"$error":"#REF!"}},{"$f":"IF(INDIRECT(\"'Børn \"&U167&\"'!$c$142\")=\"\",\"\",IFERROR(INDIRECT(\"'Børn \"&U167&\"'!$c$142\",TRUE),\"\"))","v":{"$error":"#REF!"}},{"$f":"IF(INDIRECT(\"'Børn \"&U167&\"'!$c$166\")=\"\",\"\",IFERROR(INDIRECT(\"'Børn \"&U167&\"'!$c$166\",TRUE),\"\"))","v":{"$error":"#REF!"}},{"$f":"IF(INDIRECT(\"'Børn \"&U167&\"'!$c$180\")=\"\",\"\",IFERROR(INDIRECT(\"'Børn \"&U167&\"'!$c$180\",TRUE),\"\"))","v":{"$error":"#REF!"}},{"$f":"IF(INDIRECT(\"'Børn \"&U167&\"'!$c$200\")=\"\",\"\",IFERROR(INDIRECT(\"'Børn \"&U167&\"'!$c$200\",TRUE),\"\"))","v":{"$error":"#REF!"}},{"$f":"IF(INDIRECT(\"'Børn \"&U167&\"'!$c$221\")=\"\",\"\",IFERROR(INDIRECT(\"'Børn \"&U167&\"'!$c$221\",TRUE),\"\"))","v":{"$error":"#REF!"}},{"$f":"IF(INDIRECT(\"'Børn \"&U167&\"'!$c$244\")=\"\",\"\",IFERROR(INDIRECT(\"'Børn \"&U167&\"'!$c$244\",TRUE),\"\"))","v":{"$error":"#REF!"}}]
["Tilsyn 36","Status:  gul",{"$f":"COUNTIF(IF(ISERROR(INDIRECT(\"'Voksen \"&A168&\"'!$H$31\",TRUE)),\"\",INDIRECT(\"'Voksen \"&A168&\"'!$H$31\",TRUE)),2)","v":{"$error":"#VALUE!"}},{"$f":"COUNTIF(IF(ISERROR(INDIRECT(\"'Voksen \"&A168&\"'!$H$41\",TRUE)),\"\",INDIRECT(\"'Voksen \"&A168&\"'!$H$41\",TRUE)),2)","v":{"$error":"#VALUE!"}},{"$f":"COUNTIF(IF(ISERROR(INDIRECT(\"'Voksen \"&A168&\"'!$H$50\",TRUE)),\"\",INDIRECT(\"'Voksen \"&A168&\"'!$H$50\",TRUE)),2)","v":{"$error":"#VALUE!"}},{"$f":"COUNTIF(IF(ISERROR(INDIRECT(\"'Voksen \"&A168&\"'!$H$58\",TRUE)),\"\",INDIRECT(\"'Voksen \"&A168&\"'!$H$58\",TRUE)),2)","v":{"$error":"#VALUE!"}},{"$f":"COUNTIF(IF(ISERROR(INDIRECT(\"'Voksen \"&A168&\"'!$H$69\",TRUE)),\"\",INDIRECT(\"'Voksen \"&A168&\"'!$H$69\",TRUE)),2)","v":{"$error":"#VALUE!"}},{"$f":"COUNTIF(IF(ISERROR(INDIRECT(\"'Voksen \"&A168&\"'!$H$77\",TRUE)),\"\",INDIRECT(\"'Voksen \"&A168&\"'!$H$77\",TRUE)),2)","v":{"$error":"#VALUE!"}},null,null,{"$f":"COUNTIF(IF(ISERROR(INDIRECT(\"'Børn \"&A168&\"'!$H$31\",TRUE)),\"\",INDIRECT(\"'Børn \"&A168&\"'!$H$31\",TRUE)),2)","v":{"$error":"#VALUE!"}},{"$f":"COUNTIF(IF(ISERROR(INDIRECT(\"'Børn \"&A168&\"'!$H$44\",TRUE)),\"\",INDIRECT(\"'Børn \"&A168&\"'!$H$44\",TRUE)),2)","v":{"$error":"#VALUE!"}},{"$f":"COUNTIF(IF(ISERROR(INDIRECT(\"'Børn \"&A168&\"'!$H$53\",TRUE)),\"\",INDIRECT(\"'Børn \"&A168&\"'!$H$53\",TRUE)),2)","v":{"$error":"#VALUE!"}},{"$f":"COUNTIF(IF(ISERROR(INDIRECT(\"'Børn \"&A168&\"'!$H$61\",TRUE)),\"\",INDIRECT(\"'Børn \"&A168&\"'!$H$61\",TRUE)),2)","v":{"$error":"#VALUE!"}},{"$f":"COUNTIF(IF(ISERROR(INDIRECT(\"'Børn \"&A168&\"'!$H$68\",TRUE)),\"\",INDIRECT(\"'Børn \"&A168&\"'!$H$68\",TRUE)),2)","v":{"$error":"#VALUE!"}},{"$f":"COUNTIF(IF(ISERROR(INDIRECT(\"'Børn \"&A168&\"'!$H$79\",TRUE)),\"\",INDIRECT(\"'Børn \"&A168&\"'!$H$79\",TRUE)),2)","v":{"$error":"#VALUE!"}},{"$f":"COUNTIF(IF(ISERROR(INDIRECT(\"'Børn \"&A168&\"'!$H$87\",TRUE)),\"\",INDIRECT(\"'Børn \"&A168&\"'!$H$87\",TRUE)),2)","v":{"$error":"#VALUE!"}},null,null,null,"Tilsyn 54",{"$f":"IF(INDIRECT(\"'Voksen \"&U168&\"'!$c$112\")=\"\",\"\",IFERROR(INDIRECT(\"'Voksen \"&U168&\"'!$c$112\",TRUE),\"\"))","v":{"$error":"#REF!"}},{"$f":"IF(INDIRECT(\"'Voksen \"&U168&\"'!$c$133\")=\"\",\"\",IFERROR(INDIRECT(\"'Voksen \"&U168&\"'!$c$133\",TRUE),\"\"))","v":{"$error":"#REF!"}},{"$f":"IF(INDIRECT(\"'Voksen \"&U168&\"'!$c$154\")=\"\",\"\",IFERROR(INDIRECT(\"'Voksen \"&U168&\"'!$c$154\",TRUE),\"\"))","v":{"$error":"#REF!"}},{"$f":"IF(INDIRECT(\"'Voksen \"&U168&\"'!$c$169\")=\"\",\"\",IFERROR(INDIRECT(\"'Voksen \"&U168&\"'!$c$169\",TRUE),\"\"))","v":{"$error":"#REF!"}},{"$f":"IF(INDIRECT(\"'Voksen \"&U168&\"'!$c$186\")=\"\",\"\",IFERROR(INDIRECT(\"'Voksen \"&U168&\"'!$c$186\",TRUE),\"\"))","v":{"$error":"#REF!"}},{"$f":"IF(INDIRECT(\"'Voksen \"&U168&\"'!$c$207\")=\"\",\"\",IFERROR(INDIRECT(\"'Voksen \"&U168&\"'!$c$207\",TRUE),\"\"))","v":{"$error":"#REF!"}},{"$f":"IF(INDIRECT(\"'Voksen \"&U168&\"'!$c$229\")=\"\",\"\",IFERROR(INDIRECT(\"'Voksen \"&U168&\"'!$c$229\",TRUE),\"\"))","v":{"$error":"#REF!"}},{"$f":"IF(INDIRECT(\"'Voksen \"&U168&\"'!$c$255\")=\"\",\"\",IFERROR(INDIRECT(\"'Voksen \"&U168&\"'!$c$255\",TRUE),\"\"))","v":{"$error":"#REF!"}},null,{"$f":"IF(INDIRECT(\"'Børn \"&U168&\"'!$c$123\")=\"\",\"\",IFERROR(INDIRECT(\"'Børn \"&U168&\"'!$c$123\",TRUE),\"\"))","v":{"$error":"#REF!"}},{"$f":"IF(INDIRECT(\"'Børn \"&U168&\"'!$c$139\")=\"\",\"\",IFERROR(INDIRECT(\"'Børn \"&U168&\"'!$c$139\",TRUE),\"\"))","v":{"$error":"#REF!"}},{"$f":"IF(INDIRECT(\"'Børn \"&U168&\"'!$c$163\")=\"\",\"\",IFERROR(INDIRECT(\"'Børn \"&U168&\"'!$c$163\",TRUE),\"\"))","v":{"$error":"#REF!"}},{"$f":"IF(INDIRECT(\"'Børn \"&U168&\"'!$c$177\")=\"\",\"\",IFERROR(INDIRECT(\"'Børn \"&U168&\"'!$c$177\",TRUE),\"\"))","v":{"$error":"#REF!"}},{"$f":"IF(INDIRECT(\"'Børn \"&U168&\"'!$c$197\")=\"\",\"\",IFERROR(INDIRECT(\"'Børn \"&U168&\"'!$c$197\",TRUE),\"\"))","v":{"$error":"#REF!"}},{"$f":"IF(INDIRECT(\"'Børn \"&U168&\"'!$c$218\")=\"\",\"\",IFERROR(INDIRECT(\"'Børn \"&U168&\"'!$c$218\",TRUE),\"\"))","v":{"$error":"#REF!"}},{"$f":"IF(INDIRECT(\"'Børn \"&U168&\"'!$c$241\")=\"\",\"\",IFERROR(INDIRECT(\"'Børn \"&U168&\"'!$c$241\",TRUE),\"\"))","v":{"$error":"#REF!"}}]
["Tilsyn 36","Status:  rød",{"$f":"COUNTIF(IF(ISERROR(INDIRECT(\"'Voksen \"&A169&\"'!$H$31\",TRUE)),\"\",INDIRECT(\"'Voksen \"&A169&\"'!$H$31\",TRUE)),3)","v":{"$error":"#VALUE!"}},{"$f":"COUNTIF(IF(ISERROR(INDIRECT(\"'Voksen \"&A169&\"'!$H$41\",TRUE)),\"\",INDIRECT(\"'Voksen \"&A169&\"'!$H$41\",TRUE)),3)","v":{"$error":"#VALUE!"}},{"$f":"COUNTIF(IF(ISERROR(INDIRECT(\"'Voksen \"&A169&\"'!$H$50\",TRUE)),\"\",INDIRECT(\"'Voksen \"&A169&\"'!$H$50\",TRUE)),3)","v":{"$error":"#VALUE!"}},{"$f":"COUNTIF(IF(ISERROR(INDIRECT(\"'Voksen \"&A169&\"'!$H$58\",TRUE)),\"\",INDIRECT(\"'Voksen \"&A169&\"'!$H$58\",TRUE)),3)","v":{"$error":"#VALUE!"}},{"$f":"COUNTIF(IF(ISERROR(INDIRECT(\"'Voksen \"&A169&\"'!$H$69\",TRUE)),\"\",INDIRECT(\"'Voksen \"&A169&\"'!$H$69\",TRUE)),3)","v":{"$error":"#VALUE!"}},{"$f":"COUNTIF(IF(ISERROR(INDIRECT(\"'Voksen \"&A169&\"'!$H$77\",TRUE)),\"\",INDIRECT(\"'Voksen \"&A169&\"'!$H$77\",TRUE)),3)","v":{"$error":"#VALUE!"}},null,null,{"$f":"COUNTIF(IF(ISERROR(INDIRECT(\"'Børn \"&A169&\"'!$H$31\",TRUE)),\"\",INDIRECT(\"'Børn \"&A169&\"'!$H$31\",TRUE)),3)","v":{"$error":"#VALUE!"}},{"$f":"COUNTIF(IF(ISERROR(INDIRECT(\"'Børn \"&A169&\"'!$H$44\",TRUE)),\"\",INDIRECT(\"'Børn \"&A169&\"'!$H$44\",TRUE)),3)","v":{"$error":"#VALUE!"}},{"$f":"COUNTIF(IF(ISERROR(INDIRECT(\"'Børn \"&A169&\"'!$H$53\",TRUE)),\"\",INDIRECT(\"'Børn \"&A169&\"'!$H$53\",TRUE)),3)","v":{"$error":"#VALUE!"}},{"$f":"COUNTIF(IF(ISERROR(INDIRECT(\"'Børn \"&A169&\"'!$H$61\",TRUE)),\"\",INDIRECT(\"'Børn \"&A169&\"'!$H$61\",TRUE)),3)","v":{"$error":"#VALUE!"}},{"$f":"COUNTIF(IF(ISERROR(INDIRECT(\"'Børn \"&A169&\"'!$H$68\",TRUE)),\"\",INDIRECT(\"'Børn \"&A169&\"'!$H$68\",TRUE)),3)","v":{"$error":"#VALUE!"}},{"$f":"COUNTIF(IF(ISERROR(INDIRECT(\"'Børn \"&A169&\"'!$H$79\",TRUE)),\"\",INDIRECT(\"'Børn \"&A169&\"'!$H$79\",TRUE)),3)","v":{"$error":"#VALUE!"}},{"$f":"COUNTIF(IF(ISERROR(INDIRECT(\"'Børn \"&A169&\"'!$H$87\",TRUE)),\"\",INDIRECT(\"'Børn \"&A169&\"'!$H$87\",TRUE)),3)","v":{"$error":"#VALUE!"}},null,null,null,{"$f":"U168","v":"Tilsyn 54"},{"$f":"IF(INDIRECT(\"'Voksen \"&U169&\"'!$c$115\")=\"\",\"\",IFERROR(INDIRECT(\"'Voksen \"&U169&\"'!$c$115\",TRUE),\"\"))","v":{"$error":"#REF!"}},{"$f":"IF(INDIRECT(\"'Voksen \"&U169&\"'!$c$136\")=\"\",\"\",IFERROR(INDIRECT(\"'Voksen \"&U169&\"'!$c$136\",TRUE),\"\"))","v":{"$error":"#REF!"}},{"$f":"IF(INDIRECT(\"'Voksen \"&U169&\"'!$c$157\")=\"\",\"\",IFERROR(INDIRECT(\"'Voksen \"&U169&\"'!$c$157\",TRUE),\"\"))","v":{"$error":"#REF!"}},{"$f":"IF(INDIRECT(\"'Voksen \"&U169&\"'!$c$172\")=\"\",\"\",IFERROR(INDIRECT(\"'Voksen \"&U169&\"'!$c$172\",TRUE),\"\"))","v":{"$error":"#REF!"}},{"$f":"IF(INDIRECT(\"'Voksen \"&U169&\"'!$c$189\")=\"\",\"\",IFERROR(INDIRECT(\"'Voksen \"&U169&\"'!$c$189\",TRUE),\"\"))","v":{"$error":"#REF!"}},{"$f":"IF(INDIRECT(\"'Voksen \"&U169&\"'!$c$210\")=\"\",\"\",IFERROR(INDIRECT(\"'Voksen \"&U169&\"'!$c$210\",TRUE),\"\"))","v":{"$error":"#REF!"}},{"$f":"IF(INDIRECT(\"'Voksen \"&U169&\"'!$c$232\")=\"\",\"\",IFERROR(INDIRECT(\"'Voksen \"&U169&\"'!$c$232\",TRUE),\"\"))","v":{"$error":"#REF!"}},{"$f":"IF(INDIRECT(\"'Voksen \"&U169&\"'!$c$258\")=\"\",\"\",IFERROR(INDIRECT(\"'Voksen \"&U169&\"'!$c$258\",TRUE),\"\"))","v":{"$error":"#REF!"}},null,{"$f":"IF(INDIRECT(\"'Børn \"&U169&\"'!$c$126\")=\"\",\"\",IFERROR(INDIRECT(\"'Børn \"&U169&\"'!$c$126\",TRUE),\"\"))","v":{"$error":"#REF!"}},{"$f":"IF(INDIRECT(\"'Børn \"&U169&\"'!$c$142\")=\"\",\"\",IFERROR(INDIRECT(\"'Børn \"&U169&\"'!$c$142\",TRUE),\"\"))","v":{"$error":"#REF!"}},{"$f":"IF(INDIRECT(\"'Børn \"&U169&\"'!$c$166\")=\"\",\"\",IFERROR(INDIRECT(\"'Børn \"&U169&\"'!$c$166\",TRUE),\"\"))","v":{"$error":"#REF!"}},{"$f":"IF(INDIRECT(\"'Børn \"&U169&\"'!$c$180\")=\"\",\"\",IFERROR(INDIRECT(\"'Børn \"&U169&\"'!$c$180\",TRUE),\"\"))","v":{"$error":"#REF!"}},{"$f":"IF(INDIRECT(\"'Børn \"&U169&\"'!$c$200\")=\"\",\"\",IFERROR(INDIRECT(\"'Børn \"&U169&\"'!$c$200\",TRUE),\"\"))","v":{"$error":"#REF!"}},{"$f":"IF(INDIRECT(\"'Børn \"&U169&\"'!$c$221\")=\"\",\"\",IFERROR(INDIRECT(\"'Børn \"&U169&\"'!$c$221\",TRUE),\"\"))","v":{"$error":"#REF!"}},{"$f":"IF(INDIRECT(\"'Børn \"&U169&\"'!$c$244\")=\"\",\"\",IFERROR(INDIRECT(\"'Børn \"&U169&\"'!$c$244\",TRUE),\"\"))","v":{"$error":"#REF!"}}]
["Tilsyn 37","Status:  grøn",{"$f":"COUNTIF(IF(ISERROR(INDIRECT(\"'Voksen \"&A170&\"'!$H$31\",TRUE)),\"\",INDIRECT(\"'Voksen \"&A170&\"'!$H$31\",TRUE)),1)","v":{"$error":"#VALUE!"}},{"$f":"COUNTIF(IF(ISERROR(INDIRECT(\"'Voksen \"&A170&\"'!$H$41\",TRUE)),\"\",INDIRECT(\"'Voksen \"&A170&\"'!$H$41\",TRUE)),1)","v":{"$error":"#VALUE!"}},{"$f":"COUNTIF(IF(ISERROR(INDIRECT(\"'Voksen \"&A170&\"'!$H$50\",TRUE)),\"\",INDIRECT(\"'Voksen \"&A170&\"'!$H$50\",TRUE)),1)","v":{"$error":"#VALUE!"}},{"$f":"COUNTIF(IF(ISERROR(INDIRECT(\"'Voksen \"&A170&\"'!$H$58\",TRUE)),\"\",INDIRECT(\"'Voksen \"&A170&\"'!$H$58\",TRUE)),1)","v":{"$error":"#VALUE!"}},{"$f":"COUNTIF(IF(ISERROR(INDIRECT(\"'Voksen \"&A170&\"'!$H$69\",TRUE)),\"\",INDIRECT(\"'Voksen \"&A170&\"'!$H$69\",TRUE)),1)","v":{"$error":"#VALUE!"}},{"$f":"COUNTIF(IF(ISERROR(INDIRECT(\"'Voksen \"&A170&\"'!$H$77\",TRUE)),\"\",INDIRECT(\"'Voksen \"&A170&\"'!$H$77\",TRUE)),1)","v":{"$error":"#VALUE!"}},null,null,{"$f":"COUNTIF(IF(ISERROR(INDIRECT(\"'Børn \"&A170&\"'!$H$31\",TRUE)),\"\",INDIRECT(\"'Børn \"&A170&\"'!$H$31\",TRUE)),1)","v":{"$error":"#VALUE!"}},{"$f":"COUNTIF(IF(ISERROR(INDIRECT(\"'Børn \"&A170&\"'!$H$44\",TRUE)),\"\",INDIRECT(\"'Børn \"&A170&\"'!$H$44\",TRUE)),1)","v":{"$error":"#VALUE!"}},{"$f":"COUNTIF(IF(ISERROR(INDIRECT(\"'Børn \"&A170&\"'!$H$53\",TRUE)),\"\",INDIRECT(\"'Børn \"&A170&\"'!$H$53\",TRUE)),1)","v":{"$error":"#VALUE!"}},{"$f":"COUNTIF(IF(ISERROR(INDIRECT(\"'Børn \"&A170&\"'!$H$61\",TRUE)),\"\",INDIRECT(\"'Børn \"&A170&\"'!$H$61\",TRUE)),1)","v":{"$error":"#VALUE!"}},{"$f":"COUNTIF(IF(ISERROR(INDIRECT(\"'Børn \"&A170&\"'!$H$68\",TRUE)),\"\",INDIRECT(\"'Børn \"&A170&\"'!$H$68\",TRUE)),1)","v":{"$error":"#VALUE!"}},{"$f":"COUNTIF(IF(ISERROR(INDIRECT(\"'Børn \"&A170&\"'!$H$79\",TRUE)),\"\",INDIRECT(\"'Børn \"&A170&\"'!$H$79\",TRUE)),1)","v":{"$error":"#VALUE!"}},{"$f":"COUNTIF(IF(ISERROR(INDIRECT(\"'Børn \"&A170&\"'!$H$87\",TRUE)),\"\",INDIRECT(\"'Børn \"&A170&\"'!$H$87\",TRUE)),1)","v":{"$error":"#VALUE!"}},null,null,null,"Tilsyn 55",{"$f":"IF(INDIRECT(\"'Voksen \"&U170&\"'!$c$112\")=\"\",\"\",IFERROR(INDIRECT(\"'Voksen \"&U170&\"'!$c$112\",TRUE),\"\"))","v":{"$error":"#REF!"}},{"$f":"IF(INDIRECT(\"'Voksen \"&U170&\"'!$c$133\")=\"\",\"\",IFERROR(INDIRECT(\"'Voksen \"&U170&\"'!$c$133\",TRUE),\"\"))","v":{"$error":"#REF!"}},{"$f":"IF(INDIRECT(\"'Voksen \"&U170&\"'!$c$154\")=\"\",\"\",IFERROR(INDIRECT(\"'Voksen \"&U170&\"'!$c$154\",TRUE),\"\"))","v":{"$error":"#REF!"}},{"$f":"IF(INDIRECT(\"'Voksen \"&U170&\"'!$c$169\")=\"\",\"\",IFERROR(INDIRECT(\"'Voksen \"&U170&\"'!$c$169\",TRUE),\"\"))","v":{"$error":"#REF!"}},{"$f":"IF(INDIRECT(\"'Voksen \"&U170&\"'!$c$186\")=\"\",\"\",IFERROR(INDIRECT(\"'Voksen \"&U170&\"'!$c$186\",TRUE),\"\"))","v":{"$error":"#REF!"}},{"$f":"IF(INDIRECT(\"'Voksen \"&U170&\"'!$c$207\")=\"\",\"\",IFERROR(INDIRECT(\"'Voksen \"&U170&\"'!$c$207\",TRUE),\"\"))","v":{"$error":"#REF!"}},{"$f":"IF(INDIRECT(\"'Voksen \"&U170&\"'!$c$229\")=\"\",\"\",IFERROR(INDIRECT(\"'Voksen \"&U170&\"'!$c$229\",TRUE),\"\"))","v":{"$error":"#REF!"}},{"$f":"IF(INDIRECT(\"'Voksen \"&U170&\"'!$c$255\")=\"\",\"\",IFERROR(INDIRECT(\"'Voksen \"&U170&\"'!$c$255\",TRUE),\"\"))","v":{"$error":"#REF!"}},null,{"$f":"IF(INDIRECT(\"'Børn \"&U170&\"'!$c$123\")=\"\",\"\",IFERROR(INDIRECT(\"'Børn \"&U170&\"'!$c$123\",TRUE),\"\"))","v":{"$error":"#REF!"}},{"$f":"IF(INDIRECT(\"'Børn \"&U170&\"'!$c$139\")=\"\",\"\",IFERROR(INDIRECT(\"'Børn \"&U170&\"'!$c$139\",TRUE),\"\"))","v":{"$error":"#REF!"}},{"$f":"IF(INDIRECT(\"'Børn \"&U170&\"'!$c$163\")=\"\",\"\",IFERROR(INDIRECT(\"'Børn \"&U170&\"'!$c$163\",TRUE),\"\"))","v":{"$error":"#REF!"}},{"$f":"IF(INDIRECT(\"'Børn \"&U170&\"'!$c$177\")=\"\",\"\",IFERROR(INDIRECT(\"'Børn \"&U170&\"'!$c$177\",TRUE),\"\"))","v":{"$error":"#REF!"}},{"$f":"IF(INDIRECT(\"'Børn \"&U170&\"'!$c$197\")=\"\",\"\",IFERROR(INDIRECT(\"'Børn \"&U170&\"'!$c$197\",TRUE),\"\"))","v":{"$error":"#REF!"}},{"$f":"IF(INDIRECT(\"'Børn \"&U170&\"'!$c$218\")=\"\",\"\",IFERROR(INDIRECT(\"'Børn \"&U170&\"'!$c$218\",TRUE),\"\"))","v":{"$error":"#REF!"}},{"$f":"IF(INDIRECT(\"'Børn \"&U170&\"'!$c$241\")=\"\",\"\",IFERROR(INDIRECT(\"'Børn \"&U170&\"'!$c$241\",TRUE),\"\"))","v":{"$error":"#REF!"}}]
["Tilsyn 37","Status:  gul",{"$f":"COUNTIF(IF(ISERROR(INDIRECT(\"'Voksen \"&A171&\"'!$H$31\",TRUE)),\"\",INDIRECT(\"'Voksen \"&A171&\"'!$H$31\",TRUE)),2)","v":{"$error":"#VALUE!"}},{"$f":"COUNTIF(IF(ISERROR(INDIRECT(\"'Voksen \"&A171&\"'!$H$41\",TRUE)),\"\",INDIRECT(\"'Voksen \"&A171&\"'!$H$41\",TRUE)),2)","v":{"$error":"#VALUE!"}},{"$f":"COUNTIF(IF(ISERROR(INDIRECT(\"'Voksen \"&A171&\"'!$H$50\",TRUE)),\"\",INDIRECT(\"'Voksen \"&A171&\"'!$H$50\",TRUE)),2)","v":{"$error":"#VALUE!"}},{"$f":"COUNTIF(IF(ISERROR(INDIRECT(\"'Voksen \"&A171&\"'!$H$58\",TRUE)),\"\",INDIRECT(\"'Voksen \"&A171&\"'!$H$58\",TRUE)),2)","v":{"$error":"#VALUE!"}},{"$f":"COUNTIF(IF(ISERROR(INDIRECT(\"'Voksen \"&A171&\"'!$H$69\",TRUE)),\"\",INDIRECT(\"'Voksen \"&A171&\"'!$H$69\",TRUE)),2)","v":{"$error":"#VALUE!"}},{"$f":"COUNTIF(IF(ISERROR(INDIRECT(\"'Voksen \"&A171&\"'!$H$77\",TRUE)),\"\",INDIRECT(\"'Voksen \"&A171&\"'!$H$77\",TRUE)),2)","v":{"$error":"#VALUE!"}},null,null,{"$f":"COUNTIF(IF(ISERROR(INDIRECT(\"'Børn \"&A171&\"'!$H$31\",TRUE)),\"\",INDIRECT(\"'Børn \"&A171&\"'!$H$31\",TRUE)),2)","v":{"$error":"#VALUE!"}},{"$f":"COUNTIF(IF(ISERROR(INDIRECT(\"'Børn \"&A171&\"'!$H$44\",TRUE)),\"\",INDIRECT(\"'Børn \"&A171&\"'!$H$44\",TRUE)),2)","v":{"$error":"#VALUE!"}},{"$f":"COUNTIF(IF(ISERROR(INDIRECT(\"'Børn \"&A171&\"'!$H$53\",TRUE)),\"\",INDIRECT(\"'Børn \"&A171&\"'!$H$53\",TRUE)),2)","v":{"$error":"#VALUE!"}},{"$f":"COUNTIF(IF(ISERROR(INDIRECT(\"'Børn \"&A171&\"'!$H$61\",TRUE)),\"\",INDIRECT(\"'Børn \"&A171&\"'!$H$61\",TRUE)),2)","v":{"$error":"#VALUE!"}},{"$f":"COUNTIF(IF(ISERROR(INDIRECT(\"'Børn \"&A171&\"'!$H$68\",TRUE)),\"\",INDIRECT(\"'Børn \"&A171&\"'!$H$68\",TRUE)),2)","v":{"$error":"#VALUE!"}},{"$f":"COUNTIF(IF(ISERROR(INDIRECT(\"'Børn \"&A171&\"'!$H$79\",TRUE)),\"\",INDIRECT(\"'Børn \"&A171&\"'!$H$79\",TRUE)),2)","v":{"$error":"#VALUE!"}},{"$f":"COUNTIF(IF(ISERROR(INDIRECT(\"'Børn \"&A171&\"'!$H$87\",TRUE)),\"\",INDIRECT(\"'Børn \"&A171&\"'!$H$87\",TRUE)),2)","v":{"$error":"#VALUE!"}},null,null,null,{"$f":"U170","v":"Tilsyn 55"},{"$f":"IF(INDIRECT(\"'Voksen \"&U171&\"'!$c$115\")=\"\",\"\",IFERROR(INDIRECT(\"'Voksen \"&U171&\"'!$c$115\",TRUE),\"\"))","v":{"$error":"#REF!"}},{"$f":"IF(INDIRECT(\"'Voksen \"&U171&\"'!$c$136\")=\"\",\"\",IFERROR(INDIRECT(\"'Voksen \"&U171&\"'!$c$136\",TRUE),\"\"))","v":{"$error":"#REF!"}},{"$f":"IF(INDIRECT(\"'Voksen \"&U171&\"'!$c$157\")=\"\",\"\",IFERROR(INDIRECT(\"'Voksen \"&U171&\"'!$c$157\",TRUE),\"\"))","v":{"$error":"#REF!"}},{"$f":"IF(INDIRECT(\"'Voksen \"&U171&\"'!$c$172\")=\"\",\"\",IFERROR(INDIRECT(\"'Voksen \"&U171&\"'!$c$172\",TRUE),\"\"))","v":{"$error":"#REF!"}},{"$f":"IF(INDIRECT(\"'Voksen \"&U171&\"'!$c$189\")=\"\",\"\",IFERROR(INDIRECT(\"'Voksen \"&U171&\"'!$c$189\",TRUE),\"\"))","v":{"$error":"#REF!"}},{"$f":"IF(INDIRECT(\"'Voksen \"&U171&\"'!$c$210\")=\"\",\"\",IFERROR(INDIRECT(\"'Voksen \"&U171&\"'!$c$210\",TRUE),\"\"))","v":{"$error":"#REF!"}},{"$f":"IF(INDIRECT(\"'Voksen \"&U171&\"'!$c$232\")=\"\",\"\",IFERROR(INDIRECT(\"'Voksen \"&U171&\"'!$c$232\",TRUE),\"\"))","v":{"$error":"#REF!"}},{"$f":"IF(INDIRECT(\"'Voksen \"&U171&\"'!$c$258\")=\"\",\"\",IFERROR(INDIRECT(\"'Voksen \"&U171&\"'!$c$258\",TRUE),\"\"))","v":{"$error":"#REF!"}},null,{"$f":"IF(INDIRECT(\"'Børn \"&U171&\"'!$c$126\")=\"\",\"\",IFERROR(INDIRECT(\"'Børn \"&U171&\"'!$c$126\",TRUE),\"\"))","v":{"$error":"#REF!"}},{"$f":"IF(INDIRECT(\"'Børn \"&U171&\"'!$c$142\")=\"\",\"\",IFERROR(INDIRECT(\"'Børn \"&U171&\"'!$c$142\",TRUE),\"\"))","v":{"$error":"#REF!"}},{"$f":"IF(INDIRECT(\"'Børn \"&U171&\"'!$c$166\")=\"\",\"\",IFERROR(INDIRECT(\"'Børn \"&U171&\"'!$c$166\",TRUE),\"\"))","v":{"$error":"#REF!"}},{"$f":"IF(INDIRECT(\"'Børn \"&U171&\"'!$c$180\")=\"\",\"\",IFERROR(INDIRECT(\"'Børn \"&U171&\"'!$c$180\",TRUE),\"\"))","v":{"$error":"#REF!"}},{"$f":"IF(INDIRECT(\"'Børn \"&U171&\"'!$c$200\")=\"\",\"\",IFERROR(INDIRECT(\"'Børn \"&U171&\"'!$c$200\",TRUE),\"\"))","v":{"$error":"#REF!"}},{"$f":"IF(INDIRECT(\"'Børn \"&U171&\"'!$c$221\")=\"\",\"\",IFERROR(INDIRECT(\"'Børn \"&U171&\"'!$c$221\",TRUE),\"\"))","v":{"$error":"#REF!"}},{"$f":"IF(INDIRECT(\"'Børn \"&U171&\"'!$c$244\")=\"\",\"\",IFERROR(INDIRECT(\"'Børn \"&U171&\"'!$c$244\",TRUE),\"\"))","v":{"$error":"#REF!"}}]
["Tilsyn 37","Status:  rød",{"$f":"COUNTIF(IF(ISERROR(INDIRECT(\"'Voksen \"&A172&\"'!$H$31\",TRUE)),\"\",INDIRECT(\"'Voksen \"&A172&\"'!$H$31\",TRUE)),3)","v":{"$error":"#VALUE!"}},{"$f":"COUNTIF(IF(ISERROR(INDIRECT(\"'Voksen \"&A172&\"'!$H$41\",TRUE)),\"\",INDIRECT(\"'Voksen \"&A172&\"'!$H$41\",TRUE)),3)","v":{"$error":"#VALUE!"}},{"$f":"COUNTIF(IF(ISERROR(INDIRECT(\"'Voksen \"&A172&\"'!$H$50\",TRUE)),\"\",INDIRECT(\"'Voksen \"&A172&\"'!$H$50\",TRUE)),3)","v":{"$error":"#VALUE!"}},{"$f":"COUNTIF(IF(ISERROR(INDIRECT(\"'Voksen \"&A172&\"'!$H$58\",TRUE)),\"\",INDIRECT(\"'Voksen \"&A172&\"'!$H$58\",TRUE)),3)","v":{"$error":"#VALUE!"}},{"$f":"COUNTIF(IF(ISERROR(INDIRECT(\"'Voksen \"&A172&\"'!$H$69\",TRUE)),\"\",INDIRECT(\"'Voksen \"&A172&\"'!$H$69\",TRUE)),3)","v":{"$error":"#VALUE!"}},{"$f":"COUNTIF(IF(ISERROR(INDIRECT(\"'Voksen \"&A172&\"'!$H$77\",TRUE)),\"\",INDIRECT(\"'Voksen \"&A172&\"'!$H$77\",TRUE)),3)","v":{"$error":"#VALUE!"}},null,null,{"$f":"COUNTIF(IF(ISERROR(INDIRECT(\"'Børn \"&A172&\"'!$H$31\",TRUE)),\"\",INDIRECT(\"'Børn \"&A172&\"'!$H$31\",TRUE)),3)","v":{"$error":"#VALUE!"}},{"$f":"COUNTIF(IF(ISERROR(INDIRECT(\"'Børn \"&A172&\"'!$H$44\",TRUE)),\"\",INDIRECT(\"'Børn \"&A172&\"'!$H$44\",TRUE)),3)","v":{"$error":"#VALUE!"}},{"$f":"COUNTIF(IF(ISERROR(INDIRECT(\"'Børn \"&A172&\"'!$H$53\",TRUE)),\"\",INDIRECT(\"'Børn \"&A172&\"'!$H$53\",TRUE)),3)","v":{"$error":"#VALUE!"}},{"$f":"COUNTIF(IF(ISERROR(INDIRECT(\"'Børn \"&A172&\"'!$H$61\",TRUE)),\"\",INDIRECT(\"'Børn \"&A172&\"'!$H$61\",TRUE)),3)","v":{"$error":"#VALUE!"}},{"$f":"COUNTIF(IF(ISERROR(INDIRECT(\"'Børn \"&A172&\"'!$H$68\",TRUE)),\"\",INDIRECT(\"'Børn \"&A172&\"'!$H$68\",TRUE)),3)","v":{"$error":"#VALUE!"}},{"$f":"COUNTIF(IF(ISERROR(INDIRECT(\"'Børn \"&A172&\"'!$H$79\",TRUE)),\"\",INDIRECT(\"'Børn \"&A172&\"'!$H$79\",TRUE)),3)","v":{"$error":"#VALUE!"}},{"$f":"COUNTIF(IF(ISERROR(INDIRECT(\"'Børn \"&A172&\"'!$H$87\",TRUE)),\"\",INDIRECT(\"'Børn \"&A172&\"'!$H$87\",TRUE)),3)","v":{"$error":"#VALUE!"}},null,null,null,"Tilsyn 56",{"$f":"IF(INDIRECT(\"'Voksen \"&U172&\"'!$c$112\")=\"\",\"\",IFERROR(INDIRECT(\"'Voksen \"&U172&\"'!$c$112\",TRUE),\"\"))","v":{"$error":"#REF!"}},{"$f":"IF(INDIRECT(\"'Voksen \"&U172&\"'!$c$133\")=\"\",\"\",IFERROR(INDIRECT(\"'Voksen \"&U172&\"'!$c$133\",TRUE),\"\"))","v":{"$error":"#REF!"}},{"$f":"IF(INDIRECT(\"'Voksen \"&U172&\"'!$c$154\")=\"\",\"\",IFERROR(INDIRECT(\"'Voksen \"&U172&\"'!$c$154\",TRUE),\"\"))","v":{"$error":"#REF!"}},{"$f":"IF(INDIRECT(\"'Voksen \"&U172&\"'!$c$169\")=\"\",\"\",IFERROR(INDIRECT(\"'Voksen \"&U172&\"'!$c$169\",TRUE),\"\"))","v":{"$error":"#REF!"}},{"$f":"IF(INDIRECT(\"'Voksen \"&U172&\"'!$c$186\")=\"\",\"\",IFERROR(INDIRECT(\"'Voksen \"&U172&\"'!$c$186\",TRUE),\"\"))","v":{"$error":"#REF!"}},{"$f":"IF(INDIRECT(\"'Voksen \"&U172&\"'!$c$207\")=\"\",\"\",IFERROR(INDIRECT(\"'Voksen \"&U172&\"'!$c$207\",TRUE),\"\"))","v":{"$error":"#REF!"}},{"$f":"IF(INDIRECT(\"'Voksen \"&U172&\"'!$c$229\")=\"\",\"\",IFERROR(INDIRECT(\"'Voksen \"&U172&\"'!$c$229\",TRUE),\"\"))","v":{"$error":"#REF!"}},{"$f":"IF(INDIRECT(\"'Voksen \"&U172&\"'!$c$255\")=\"\",\"\",IFERROR(INDIRECT(\"'Voksen \"&U172&\"'!$c$255\",TRUE),\"\"))","v":{"$error":"#REF!"}},null,{"$f":"IF(INDIRECT(\"'Børn \"&U172&\"'!$c$123\")=\"\",\"\",IFERROR(INDIRECT(\"'Børn \"&U172&\"'!$c$123\",TRUE),\"\"))","v":{"$error":"#REF!"}},{"$f":"IF(INDIRECT(\"'Børn \"&U172&\"'!$c$139\")=\"\",\"\",IFERROR(INDIRECT(\"'Børn \"&U172&\"'!$c$139\",TRUE),\"\"))","v":{"$error":"#REF!"}},{"$f":"IF(INDIRECT(\"'Børn \"&U172&\"'!$c$163\")=\"\",\"\",IFERROR(INDIRECT(\"'Børn \"&U172&\"'!$c$163\",TRUE),\"\"))","v":{"$error":"#REF!"}},{"$f":"IF(INDIRECT(\"'Børn \"&U172&\"'!$c$177\")=\"\",\"\",IFERROR(INDIRECT(\"'Børn \"&U172&\"'!$c$177\",TRUE),\"\"))","v":{"$error":"#REF!"}},{"$f":"IF(INDIRECT(\"'Børn \"&U172&\"'!$c$197\")=\"\",\"\",IFERROR(INDIRECT(\"'Børn \"&U172&\"'!$c$197\",TRUE),\"\"))","v":{"$error":"#REF!"}},{"$f":"IF(INDIRECT(\"'Børn \"&U172&\"'!$c$218\")=\"\",\"\",IFERROR(INDIRECT(\"'Børn \"&U172&\"'!$c$218\",TRUE),\"\"))","v":{"$error":"#REF!"}},{"$f":"IF(INDIRECT(\"'Børn \"&U172&\"'!$c$241\")=\"\",\"\",IFERROR(INDIRECT(\"'Børn \"&U172&\"'!$c$241\",TRUE),\"\"))","v":{"$error":"#REF!"}}]
["Tilsyn 38","Status:  grøn",{"$f":"COUNTIF(IF(ISERROR(INDIRECT(\"'Voksen \"&A173&\"'!$H$31\",TRUE)),\"\",INDIRECT(\"'Voksen \"&A173&\"'!$H$31\",TRUE)),1)","v":{"$error":"#VALUE!"}},{"$f":"COUNTIF(IF(ISERROR(INDIRECT(\"'Voksen \"&A173&\"'!$H$41\",TRUE)),\"\",INDIRECT(\"'Voksen \"&A173&\"'!$H$41\",TRUE)),1)","v":{"$error":"#VALUE!"}},{"$f":"COUNTIF(IF(ISERROR(INDIRECT(\"'Voksen \"&A173&\"'!$H$50\",TRUE)),\"\",INDIRECT(\"'Voksen \"&A173&\"'!$H$50\",TRUE)),1)","v":{"$error":"#VALUE!"}},{"$f":"COUNTIF(IF(ISERROR(INDIRECT(\"'Voksen \"&A173&\"'!$H$58\",TRUE)),\"\",INDIRECT(\"'Voksen \"&A173&\"'!$H$58\",TRUE)),1)","v":{"$error":"#VALUE!"}},{"$f":"COUNTIF(IF(ISERROR(INDIRECT(\"'Voksen \"&A173&\"'!$H$69\",TRUE)),\"\",INDIRECT(\"'Voksen \"&A173&\"'!$H$69\",TRUE)),1)","v":{"$error":"#VALUE!"}},{"$f":"COUNTIF(IF(ISERROR(INDIRECT(\"'Voksen \"&A173&\"'!$H$77\",TRUE)),\"\",INDIRECT(\"'Voksen \"&A173&\"'!$H$77\",TRUE)),1)","v":{"$error":"#VALUE!"}},null,null,{"$f":"COUNTIF(IF(ISERROR(INDIRECT(\"'Børn \"&A173&\"'!$H$31\",TRUE)),\"\",INDIRECT(\"'Børn \"&A173&\"'!$H$31\",TRUE)),1)","v":{"$error":"#VALUE!"}},{"$f":"COUNTIF(IF(ISERROR(INDIRECT(\"'Børn \"&A173&\"'!$H$44\",TRUE)),\"\",INDIRECT(\"'Børn \"&A173&\"'!$H$44\",TRUE)),1)","v":{"$error":"#VALUE!"}},{"$f":"COUNTIF(IF(ISERROR(INDIRECT(\"'Børn \"&A173&\"'!$H$53\",TRUE)),\"\",INDIRECT(\"'Børn \"&A173&\"'!$H$53\",TRUE)),1)","v":{"$error":"#VALUE!"}},{"$f":"COUNTIF(IF(ISERROR(INDIRECT(\"'Børn \"&A173&\"'!$H$61\",TRUE)),\"\",INDIRECT(\"'Børn \"&A173&\"'!$H$61\",TRUE)),1)","v":{"$error":"#VALUE!"}},{"$f":"COUNTIF(IF(ISERROR(INDIRECT(\"'Børn \"&A173&\"'!$H$68\",TRUE)),\"\",INDIRECT(\"'Børn \"&A173&\"'!$H$68\",TRUE)),1)","v":{"$error":"#VALUE!"}},{"$f":"COUNTIF(IF(ISERROR(INDIRECT(\"'Børn \"&A173&\"'!$H$79\",TRUE)),\"\",INDIRECT(\"'Børn \"&A173&\"'!$H$79\",TRUE)),1)","v":{"$error":"#VALUE!"}},{"$f":"COUNTIF(IF(ISERROR(INDIRECT(\"'Børn \"&A173&\"'!$H$87\",TRUE)),\"\",INDIRECT(\"'Børn \"&A173&\"'!$H$87\",TRUE)),1)","v":{"$error":"#VALUE!"}},null,null,null,{"$f":"U172","v":"Tilsyn 56"},{"$f":"IF(INDIRECT(\"'Voksen \"&U173&\"'!$c$115\")=\"\",\"\",IFERROR(INDIRECT(\"'Voksen \"&U173&\"'!$c$115\",TRUE),\"\"))","v":{"$error":"#REF!"}},{"$f":"IF(INDIRECT(\"'Voksen \"&U173&\"'!$c$136\")=\"\",\"\",IFERROR(INDIRECT(\"'Voksen \"&U173&\"'!$c$136\",TRUE),\"\"))","v":{"$error":"#REF!"}},{"$f":"IF(INDIRECT(\"'Voksen \"&U173&\"'!$c$157\")=\"\",\"\",IFERROR(INDIRECT(\"'Voksen \"&U173&\"'!$c$157\",TRUE),\"\"))","v":{"$error":"#REF!"}},{"$f":"IF(INDIRECT(\"'Voksen \"&U173&\"'!$c$172\")=\"\",\"\",IFERROR(INDIRECT(\"'Voksen \"&U173&\"'!$c$172\",TRUE),\"\"))","v":{"$error":"#REF!"}},{"$f":"IF(INDIRECT(\"'Voksen \"&U173&\"'!$c$189\")=\"\",\"\",IFERROR(INDIRECT(\"'Voksen \"&U173&\"'!$c$189\",TRUE),\"\"))","v":{"$error":"#REF!"}},{"$f":"IF(INDIRECT(\"'Voksen \"&U173&\"'!$c$210\")=\"\",\"\",IFERROR(INDIRECT(\"'Voksen \"&U173&\"'!$c$210\",TRUE),\"\"))","v":{"$error":"#REF!"}},{"$f":"IF(INDIRECT(\"'Voksen \"&U173&\"'!$c$232\")=\"\",\"\",IFERROR(INDIRECT(\"'Voksen \"&U173&\"'!$c$232\",TRUE),\"\"))","v":{"$error":"#REF!"}},{"$f":"IF(INDIRECT(\"'Voksen \"&U173&\"'!$c$258\")=\"\",\"\",IFERROR(INDIRECT(\"'Voksen \"&U173&\"'!$c$258\",TRUE),\"\"))","v":{"$error":"#REF!"}},null,{"$f":"IF(INDIRECT(\"'Børn \"&U173&\"'!$c$126\")=\"\",\"\",IFERROR(INDIRECT(\"'Børn \"&U173&\"'!$c$126\",TRUE),\"\"))","v":{"$error":"#REF!"}},{"$f":"IF(INDIRECT(\"'Børn \"&U173&\"'!$c$142\")=\"\",\"\",IFERROR(INDIRECT(\"'Børn \"&U173&\"'!$c$142\",TRUE),\"\"))","v":{"$error":"#REF!"}},{"$f":"IF(INDIRECT(\"'Børn \"&U173&\"'!$c$166\")=\"\",\"\",IFERROR(INDIRECT(\"'Børn \"&U173&\"'!$c$166\",TRUE),\"\"))","v":{"$error":"#REF!"}},{"$f":"IF(INDIRECT(\"'Børn \"&U173&\"'!$c$180\")=\"\",\"\",IFERROR(INDIRECT(\"'Børn \"&U173&\"'!$c$180\",TRUE),\"\"))","v":{"$error":"#REF!"}},{"$f":"IF(INDIRECT(\"'Børn \"&U173&\"'!$c$200\")=\"\",\"\",IFERROR(INDIRECT(\"'Børn \"&U173&\"'!$c$200\",TRUE),\"\"))","v":{"$error":"#REF!"}},{"$f":"IF(INDIRECT(\"'Børn \"&U173&\"'!$c$221\")=\"\",\"\",IFERROR(INDIRECT(\"'Børn \"&U173&\"'!$c$221\",TRUE),\"\"))","v":{"$error":"#REF!"}},{"$f":"IF(INDIRECT(\"'Børn \"&U173&\"'!$c$244\")=\"\",\"\",IFERROR(INDIRECT(\"'Børn \"&U173&\"'!$c$244\",TRUE),\"\"))","v":{"$error":"#REF!"}}]
["Tilsyn 38","Status:  gul",{"$f":"COUNTIF(IF(ISERROR(INDIRECT(\"'Voksen \"&A174&\"'!$H$31\",TRUE)),\"\",INDIRECT(\"'Voksen \"&A174&\"'!$H$31\",TRUE)),2)","v":{"$error":"#VALUE!"}},{"$f":"COUNTIF(IF(ISERROR(INDIRECT(\"'Voksen \"&A174&\"'!$H$41\",TRUE)),\"\",INDIRECT(\"'Voksen \"&A174&\"'!$H$41\",TRUE)),2)","v":{"$error":"#VALUE!"}},{"$f":"COUNTIF(IF(ISERROR(INDIRECT(\"'Voksen \"&A174&\"'!$H$50\",TRUE)),\"\",INDIRECT(\"'Voksen \"&A174&\"'!$H$50\",TRUE)),2)","v":{"$error":"#VALUE!"}},{"$f":"COUNTIF(IF(ISERROR(INDIRECT(\"'Voksen \"&A174&\"'!$H$58\",TRUE)),\"\",INDIRECT(\"'Voksen \"&A174&\"'!$H$58\",TRUE)),2)","v":{"$error":"#VALUE!"}},{"$f":"COUNTIF(IF(ISERROR(INDIRECT(\"'Voksen \"&A174&\"'!$H$69\",TRUE)),\"\",INDIRECT(\"'Voksen \"&A174&\"'!$H$69\",TRUE)),2)","v":{"$error":"#VALUE!"}},{"$f":"COUNTIF(IF(ISERROR(INDIRECT(\"'Voksen \"&A174&\"'!$H$77\",TRUE)),\"\",INDIRECT(\"'Voksen \"&A174&\"'!$H$77\",TRUE)),2)","v":{"$error":"#VALUE!"}},null,null,{"$f":"COUNTIF(IF(ISERROR(INDIRECT(\"'Børn \"&A174&\"'!$H$31\",TRUE)),\"\",INDIRECT(\"'Børn \"&A174&\"'!$H$31\",TRUE)),2)","v":{"$error":"#VALUE!"}},{"$f":"COUNTIF(IF(ISERROR(INDIRECT(\"'Børn \"&A174&\"'!$H$44\",TRUE)),\"\",INDIRECT(\"'Børn \"&A174&\"'!$H$44\",TRUE)),2)","v":{"$error":"#VALUE!"}},{"$f":"COUNTIF(IF(ISERROR(INDIRECT(\"'Børn \"&A174&\"'!$H$53\",TRUE)),\"\",INDIRECT(\"'Børn \"&A174&\"'!$H$53\",TRUE)),2)","v":{"$error":"#VALUE!"}},{"$f":"COUNTIF(IF(ISERROR(INDIRECT(\"'Børn \"&A174&\"'!$H$61\",TRUE)),\"\",INDIRECT(\"'Børn \"&A174&\"'!$H$61\",TRUE)),2)","v":{"$error":"#VALUE!"}},{"$f":"COUNTIF(IF(ISERROR(INDIRECT(\"'Børn \"&A174&\"'!$H$68\",TRUE)),\"\",INDIRECT(\"'Børn \"&A174&\"'!$H$68\",TRUE)),2)","v":{"$error":"#VALUE!"}},{"$f":"COUNTIF(IF(ISERROR(INDIRECT(\"'Børn \"&A174&\"'!$H$79\",TRUE)),\"\",INDIRECT(\"'Børn \"&A174&\"'!$H$79\",TRUE)),2)","v":{"$error":"#VALUE!"}},{"$f":"COUNTIF(IF(ISERROR(INDIRECT(\"'Børn \"&A174&\"'!$H$87\",TRUE)),\"\",INDIRECT(\"'Børn \"&A174&\"'!$H$87\",TRUE)),2)","v":{"$error":"#VALUE!"}},null,null,null,"Tilsyn 57",{"$f":"IF(INDIRECT(\"'Voksen \"&U174&\"'!$c$112\")=\"\",\"\",IFERROR(INDIRECT(\"'Voksen \"&U174&\"'!$c$112\",TRUE),\"\"))","v":{"$error":"#REF!"}},{"$f":"IF(INDIRECT(\"'Voksen \"&U174&\"'!$c$133\")=\"\",\"\",IFERROR(INDIRECT(\"'Voksen \"&U174&\"'!$c$133\",TRUE),\"\"))","v":{"$error":"#REF!"}},{"$f":"IF(INDIRECT(\"'Voksen \"&U174&\"'!$c$154\")=\"\",\"\",IFERROR(INDIRECT(\"'Voksen \"&U174&\"'!$c$154\",TRUE),\"\"))","v":{"$error":"#REF!"}},{"$f":"IF(INDIRECT(\"'Voksen \"&U174&\"'!$c$169\")=\"\",\"\",IFERROR(INDIRECT(\"'Voksen \"&U174&\"'!$c$169\",TRUE),\"\"))","v":{"$error":"#REF!"}},{"$f":"IF(INDIRECT(\"'Voksen \"&U174&\"'!$c$186\")=\"\",\"\",IFERROR(INDIRECT(\"'Voksen \"&U174&\"'!$c$186\",TRUE),\"\"))","v":{"$error":"#REF!"}},{"$f":"IF(INDIRECT(\"'Voksen \"&U174&\"'!$c$207\")=\"\",\"\",IFERROR(INDIRECT(\"'Voksen \"&U174&\"'!$c$207\",TRUE),\"\"))","v":{"$error":"#REF!"}},{"$f":"IF(INDIRECT(\"'Voksen \"&U174&\"'!$c$229\")=\"\",\"\",IFERROR(INDIRECT(\"'Voksen \"&U174&\"'!$c$229\",TRUE),\"\"))","v":{"$error":"#REF!"}},{"$f":"IF(INDIRECT(\"'Voksen \"&U174&\"'!$c$255\")=\"\",\"\",IFERROR(INDIRECT(\"'Voksen \"&U174&\"'!$c$255\",TRUE),\"\"))","v":{"$error":"#REF!"}},null,{"$f":"IF(INDIRECT(\"'Børn \"&U174&\"'!$c$123\")=\"\",\"\",IFERROR(INDIRECT(\"'Børn \"&U174&\"'!$c$123\",TRUE),\"\"))","v":{"$error":"#REF!"}},{"$f":"IF(INDIRECT(\"'Børn \"&U174&\"'!$c$139\")=\"\",\"\",IFERROR(INDIRECT(\"'Børn \"&U174&\"'!$c$139\",TRUE),\"\"))","v":{"$error":"#REF!"}},{"$f":"IF(INDIRECT(\"'Børn \"&U174&\"'!$c$163\")=\"\",\"\",IFERROR(INDIRECT(\"'Børn \"&U174&\"'!$c$163\",TRUE),\"\"))","v":{"$error":"#REF!"}},{"$f":"IF(INDIRECT(\"'Børn \"&U174&\"'!$c$177\")=\"\",\"\",IFERROR(INDIRECT(\"'Børn \"&U174&\"'!$c$177\",TRUE),\"\"))","v":{"$error":"#REF!"}},{"$f":"IF(INDIRECT(\"'Børn \"&U174&\"'!$c$197\")=\"\",\"\",IFERROR(INDIRECT(\"'Børn \"&U174&\"'!$c$197\",TRUE),\"\"))","v":{"$error":"#REF!"}},{"$f":"IF(INDIRECT(\"'Børn \"&U174&\"'!$c$218\")=\"\",\"\",IFERROR(INDIRECT(\"'Børn \"&U174&\"'!$c$218\",TRUE),\"\"))","v":{"$error":"#REF!"}},{"$f":"IF(INDIRECT(\"'Børn \"&U174&\"'!$c$241\")=\"\",\"\",IFERROR(INDIRECT(\"'Børn \"&U174&\"'!$c$241\",TRUE),\"\"))","v":{"$error":"#REF!"}}]
["Tilsyn 38","Status:  rød",{"$f":"COUNTIF(IF(ISERROR(INDIRECT(\"'Voksen \"&A175&\"'!$H$31\",TRUE)),\"\",INDIRECT(\"'Voksen \"&A175&\"'!$H$31\",TRUE)),3)","v":{"$error":"#VALUE!"}},{"$f":"COUNTIF(IF(ISERROR(INDIRECT(\"'Voksen \"&A175&\"'!$H$41\",TRUE)),\"\",INDIRECT(\"'Voksen \"&A175&\"'!$H$41\",TRUE)),3)","v":{"$error":"#VALUE!"}},{"$f":"COUNTIF(IF(ISERROR(INDIRECT(\"'Voksen \"&A175&\"'!$H$50\",TRUE)),\"\",INDIRECT(\"'Voksen \"&A175&\"'!$H$50\",TRUE)),3)","v":{"$error":"#VALUE!"}},{"$f":"COUNTIF(IF(ISERROR(INDIRECT(\"'Voksen \"&A175&\"'!$H$58\",TRUE)),\"\",INDIRECT(\"'Voksen \"&A175&\"'!$H$58\",TRUE)),3)","v":{"$error":"#VALUE!"}},{"$f":"COUNTIF(IF(ISERROR(INDIRECT(\"'Voksen \"&A175&\"'!$H$69\",TRUE)),\"\",INDIRECT(\"'Voksen \"&A175&\"'!$H$69\",TRUE)),3)","v":{"$error":"#VALUE!"}},{"$f":"COUNTIF(IF(ISERROR(INDIRECT(\"'Voksen \"&A175&\"'!$H$77\",TRUE)),\"\",INDIRECT(\"'Voksen \"&A175&\"'!$H$77\",TRUE)),3)","v":{"$error":"#VALUE!"}},null,null,{"$f":"COUNTIF(IF(ISERROR(INDIRECT(\"'Børn \"&A175&\"'!$H$31\",TRUE)),\"\",INDIRECT(\"'Børn \"&A175&\"'!$H$31\",TRUE)),3)","v":{"$error":"#VALUE!"}},{"$f":"COUNTIF(IF(ISERROR(INDIRECT(\"'Børn \"&A175&\"'!$H$44\",TRUE)),\"\",INDIRECT(\"'Børn \"&A175&\"'!$H$44\",TRUE)),3)","v":{"$error":"#VALUE!"}},{"$f":"COUNTIF(IF(ISERROR(INDIRECT(\"'Børn \"&A175&\"'!$H$53\",TRUE)),\"\",INDIRECT(\"'Børn \"&A175&\"'!$H$53\",TRUE)),3)","v":{"$error":"#VALUE!"}},{"$f":"COUNTIF(IF(ISERROR(INDIRECT(\"'Børn \"&A175&\"'!$H$61\",TRUE)),\"\",INDIRECT(\"'Børn \"&A175&\"'!$H$61\",TRUE)),3)","v":{"$error":"#VALUE!"}},{"$f":"COUNTIF(IF(ISERROR(INDIRECT(\"'Børn \"&A175&\"'!$H$68\",TRUE)),\"\",INDIRECT(\"'Børn \"&A175&\"'!$H$68\",TRUE)),3)","v":{"$error":"#VALUE!"}},{"$f":"COUNTIF(IF(ISERROR(INDIRECT(\"'Børn \"&A175&\"'!$H$79\",TRUE)),\"\",INDIRECT(\"'Børn \"&A175&\"'!$H$79\",TRUE)),3)","v":{"$error":"#VALUE!"}},{"$f":"COUNTIF(IF(ISERROR(INDIRECT(\"'Børn \"&A175&\"'!$H$87\",TRUE)),\"\",INDIRECT(\"'Børn \"&A175&\"'!$H$87\",TRUE)),3)","v":{"$error":"#VALUE!"}},null,null,null,{"$f":"U174","v":"Tilsyn 57"},{"$f":"IF(INDIRECT(\"'Voksen \"&U175&\"'!$c$115\")=\"\",\"\",IFERROR(INDIRECT(\"'Voksen \"&U175&\"'!$c$115\",TRUE),\"\"))","v":{"$error":"#REF!"}},{"$f":"IF(INDIRECT(\"'Voksen \"&U175&\"'!$c$136\")=\"\",\"\",IFERROR(INDIRECT(\"'Voksen \"&U175&\"'!$c$136\",TRUE),\"\"))","v":{"$error":"#REF!"}},{"$f":"IF(INDIRECT(\"'Voksen \"&U175&\"'!$c$157\")=\"\",\"\",IFERROR(INDIRECT(\"'Voksen \"&U175&\"'!$c$157\",TRUE),\"\"))","v":{"$error":"#REF!"}},{"$f":"IF(INDIRECT(\"'Voksen \"&U175&\"'!$c$172\")=\"\",\"\",IFERROR(INDIRECT(\"'Voksen \"&U175&\"'!$c$172\",TRUE),\"\"))","v":{"$error":"#REF!"}},{"$f":"IF(INDIRECT(\"'Voksen \"&U175&\"'!$c$189\")=\"\",\"\",IFERROR(INDIRECT(\"'Voksen \"&U175&\"'!$c$189\",TRUE),\"\"))","v":{"$error":"#REF!"}},{"$f":"IF(INDIRECT(\"'Voksen \"&U175&\"'!$c$210\")=\"\",\"\",IFERROR(INDIRECT(\"'Voksen \"&U175&\"'!$c$210\",TRUE),\"\"))","v":{"$error":"#REF!"}},{"$f":"IF(INDIRECT(\"'Voksen \"&U175&\"'!$c$232\")=\"\",\"\",IFERROR(INDIRECT(\"'Voksen \"&U175&\"'!$c$232\",TRUE),\"\"))","v":{"$error":"#REF!"}},{"$f":"IF(INDIRECT(\"'Voksen \"&U175&\"'!$c$258\")=\"\",\"\",IFERROR(INDIRECT(\"'Voksen \"&U175&\"'!$c$258\",TRUE),\"\"))","v":{"$error":"#REF!"}},null,{"$f":"IF(INDIRECT(\"'Børn \"&U175&\"'!$c$126\")=\"\",\"\",IFERROR(INDIRECT(\"'Børn \"&U175&\"'!$c$126\",TRUE),\"\"))","v":{"$error":"#REF!"}},{"$f":"IF(INDIRECT(\"'Børn \"&U175&\"'!$c$142\")=\"\",\"\",IFERROR(INDIRECT(\"'Børn \"&U175&\"'!$c$142\",TRUE),\"\"))","v":{"$error":"#REF!"}},{"$f":"IF(INDIRECT(\"'Børn \"&U175&\"'!$c$166\")=\"\",\"\",IFERROR(INDIRECT(\"'Børn \"&U175&\"'!$c$166\",TRUE),\"\"))","v":{"$error":"#REF!"}},{"$f":"IF(INDIRECT(\"'Børn \"&U175&\"'!$c$180\")=\"\",\"\",IFERROR(INDIRECT(\"'Børn \"&U175&\"'!$c$180\",TRUE),\"\"))","v":{"$error":"#REF!"}},{"$f":"IF(INDIRECT(\"'Børn \"&U175&\"'!$c$200\")=\"\",\"\",IFERROR(INDIRECT(\"'Børn \"&U175&\"'!$c$200\",TRUE),\"\"))","v":{"$error":"#REF!"}},{"$f":"IF(INDIRECT(\"'Børn \"&U175&\"'!$c$221\")=\"\",\"\",IFERROR(INDIRECT(\"'Børn \"&U175&\"'!$c$221\",TRUE),\"\"))","v":{"$error":"#REF!"}},{"$f":"IF(INDIRECT(\"'Børn \"&U175&\"'!$c$244\")=\"\",\"\",IFERROR(INDIRECT(\"'Børn \"&U175&\"'!$c$244\",TRUE),\"\"))","v":{"$error":"#REF!"}}]
["Tilsyn 39","Status:  grøn",{"$f":"COUNTIF(IF(ISERROR(INDIRECT(\"'Voksen \"&A176&\"'!$H$31\",TRUE)),\"\",INDIRECT(\"'Voksen \"&A176&\"'!$H$31\",TRUE)),1)","v":{"$error":"#VALUE!"}},{"$f":"COUNTIF(IF(ISERROR(INDIRECT(\"'Voksen \"&A176&\"'!$H$41\",TRUE)),\"\",INDIRECT(\"'Voksen \"&A176&\"'!$H$41\",TRUE)),1)","v":{"$error":"#VALUE!"}},{"$f":"COUNTIF(IF(ISERROR(INDIRECT(\"'Voksen \"&A176&\"'!$H$50\",TRUE)),\"\",INDIRECT(\"'Voksen \"&A176&\"'!$H$50\",TRUE)),1)","v":{"$error":"#VALUE!"}},{"$f":"COUNTIF(IF(ISERROR(INDIRECT(\"'Voksen \"&A176&\"'!$H$58\",TRUE)),\"\",INDIRECT(\"'Voksen \"&A176&\"'!$H$58\",TRUE)),1)","v":{"$error":"#VALUE!"}},{"$f":"COUNTIF(IF(ISERROR(INDIRECT(\"'Voksen \"&A176&\"'!$H$69\",TRUE)),\"\",INDIRECT(\"'Voksen \"&A176&\"'!$H$69\",TRUE)),1)","v":{"$error":"#VALUE!"}},{"$f":"COUNTIF(IF(ISERROR(INDIRECT(\"'Voksen \"&A176&\"'!$H$77\",TRUE)),\"\",INDIRECT(\"'Voksen \"&A176&\"'!$H$77\",TRUE)),1)","v":{"$error":"#VALUE!"}},null,null,{"$f":"COUNTIF(IF(ISERROR(INDIRECT(\"'Børn \"&A176&\"'!$H$31\",TRUE)),\"\",INDIRECT(\"'Børn \"&A176&\"'!$H$31\",TRUE)),1)","v":{"$error":"#VALUE!"}},{"$f":"COUNTIF(IF(ISERROR(INDIRECT(\"'Børn \"&A176&\"'!$H$44\",TRUE)),\"\",INDIRECT(\"'Børn \"&A176&\"'!$H$44\",TRUE)),1)","v":{"$error":"#VALUE!"}},{"$f":"COUNTIF(IF(ISERROR(INDIRECT(\"'Børn \"&A176&\"'!$H$53\",TRUE)),\"\",INDIRECT(\"'Børn \"&A176&\"'!$H$53\",TRUE)),1)","v":{"$error":"#VALUE!"}},{"$f":"COUNTIF(IF(ISERROR(INDIRECT(\"'Børn \"&A176&\"'!$H$61\",TRUE)),\"\",INDIRECT(\"'Børn \"&A176&\"'!$H$61\",TRUE)),1)","v":{"$error":"#VALUE!"}},{"$f":"COUNTIF(IF(ISERROR(INDIRECT(\"'Børn \"&A176&\"'!$H$68\",TRUE)),\"\",INDIRECT(\"'Børn \"&A176&\"'!$H$68\",TRUE)),1)","v":{"$error":"#VALUE!"}},{"$f":"COUNTIF(IF(ISERROR(INDIRECT(\"'Børn \"&A176&\"'!$H$79\",TRUE)),\"\",INDIRECT(\"'Børn \"&A176&\"'!$H$79\",TRUE)),1)","v":{"$error":"#VALUE!"}},{"$f":"COUNTIF(IF(ISERROR(INDIRECT(\"'Børn \"&A176&\"'!$H$87\",TRUE)),\"\",INDIRECT(\"'Børn \"&A176&\"'!$H$87\",TRUE)),1)","v":{"$error":"#VALUE!"}},null,null,null,"Tilsyn 58",{"$f":"IF(INDIRECT(\"'Voksen \"&U176&\"'!$c$112\")=\"\",\"\",IFERROR(INDIRECT(\"'Voksen \"&U176&\"'!$c$112\",TRUE),\"\"))","v":{"$error":"#REF!"}},{"$f":"IF(INDIRECT(\"'Voksen \"&U176&\"'!$c$133\")=\"\",\"\",IFERROR(INDIRECT(\"'Voksen \"&U176&\"'!$c$133\",TRUE),\"\"))","v":{"$error":"#REF!"}},{"$f":"IF(INDIRECT(\"'Voksen \"&U176&\"'!$c$154\")=\"\",\"\",IFERROR(INDIRECT(\"'Voksen \"&U176&\"'!$c$154\",TRUE),\"\"))","v":{"$error":"#REF!"}},{"$f":"IF(INDIRECT(\"'Voksen \"&U176&\"'!$c$169\")=\"\",\"\",IFERROR(INDIRECT(\"'Voksen \"&U176&\"'!$c$169\",TRUE),\"\"))","v":{"$error":"#REF!"}},{"$f":"IF(INDIRECT(\"'Voksen \"&U176&\"'!$c$186\")=\"\",\"\",IFERROR(INDIRECT(\"'Voksen \"&U176&\"'!$c$186\",TRUE),\"\"))","v":{"$error":"#REF!"}},{"$f":"IF(INDIRECT(\"'Voksen \"&U176&\"'!$c$207\")=\"\",\"\",IFERROR(INDIRECT(\"'Voksen \"&U176&\"'!$c$207\",TRUE),\"\"))","v":{"$error":"#REF!"}},{"$f":"IF(INDIRECT(\"'Voksen \"&U176&\"'!$c$229\")=\"\",\"\",IFERROR(INDIRECT(\"'Voksen \"&U176&\"'!$c$229\",TRUE),\"\"))","v":{"$error":"#REF!"}},{"$f":"IF(INDIRECT(\"'Voksen \"&U176&\"'!$c$255\")=\"\",\"\",IFERROR(INDIRECT(\"'Voksen \"&U176&\"'!$c$255\",TRUE),\"\"))","v":{"$error":"#REF!"}},null,{"$f":"IF(INDIRECT(\"'Børn \"&U176&\"'!$c$123\")=\"\",\"\",IFERROR(INDIRECT(\"'Børn \"&U176&\"'!$c$123\",TRUE),\"\"))","v":{"$error":"#REF!"}},{"$f":"IF(INDIRECT(\"'Børn \"&U176&\"'!$c$139\")=\"\",\"\",IFERROR(INDIRECT(\"'Børn \"&U176&\"'!$c$139\",TRUE),\"\"))","v":{"$error":"#REF!"}},{"$f":"IF(INDIRECT(\"'Børn \"&U176&\"'!$c$163\")=\"\",\"\",IFERROR(INDIRECT(\"'Børn \"&U176&\"'!$c$163\",TRUE),\"\"))","v":{"$error":"#REF!"}},{"$f":"IF(INDIRECT(\"'Børn \"&U176&\"'!$c$177\")=\"\",\"\",IFERROR(INDIRECT(\"'Børn \"&U176&\"'!$c$177\",TRUE),\"\"))","v":{"$error":"#REF!"}},{"$f":"IF(INDIRECT(\"'Børn \"&U176&\"'!$c$197\")=\"\",\"\",IFERROR(INDIRECT(\"'Børn \"&U176&\"'!$c$197\",TRUE),\"\"))","v":{"$error":"#REF!"}},{"$f":"IF(INDIRECT(\"'Børn \"&U176&\"'!$c$218\")=\"\",\"\",IFERROR(INDIRECT(\"'Børn \"&U176&\"'!$c$218\",TRUE),\"\"))","v":{"$error":"#REF!"}},{"$f":"IF(INDIRECT(\"'Børn \"&U176&\"'!$c$241\")=\"\",\"\",IFERROR(INDIRECT(\"'Børn \"&U176&\"'!$c$241\",TRUE),\"\"))","v":{"$error":"#REF!"}}]
["Tilsyn 39","Status:  gul",{"$f":"COUNTIF(IF(ISERROR(INDIRECT(\"'Voksen \"&A177&\"'!$H$31\",TRUE)),\"\",INDIRECT(\"'Voksen \"&A177&\"'!$H$31\",TRUE)),2)","v":{"$error":"#VALUE!"}},{"$f":"COUNTIF(IF(ISERROR(INDIRECT(\"'Voksen \"&A177&\"'!$H$41\",TRUE)),\"\",INDIRECT(\"'Voksen \"&A177&\"'!$H$41\",TRUE)),2)","v":{"$error":"#VALUE!"}},{"$f":"COUNTIF(IF(ISERROR(INDIRECT(\"'Voksen \"&A177&\"'!$H$50\",TRUE)),\"\",INDIRECT(\"'Voksen \"&A177&\"'!$H$50\",TRUE)),2)","v":{"$error":"#VALUE!"}},{"$f":"COUNTIF(IF(ISERROR(INDIRECT(\"'Voksen \"&A177&\"'!$H$58\",TRUE)),\"\",INDIRECT(\"'Voksen \"&A177&\"'!$H$58\",TRUE)),2)","v":{"$error":"#VALUE!"}},{"$f":"COUNTIF(IF(ISERROR(INDIRECT(\"'Voksen \"&A177&\"'!$H$69\",TRUE)),\"\",INDIRECT(\"'Voksen \"&A177&\"'!$H$69\",TRUE)),2)","v":{"$error":"#VALUE!"}},{"$f":"COUNTIF(IF(ISERROR(INDIRECT(\"'Voksen \"&A177&\"'!$H$77\",TRUE)),\"\",INDIRECT(\"'Voksen \"&A177&\"'!$H$77\",TRUE)),2)","v":{"$error":"#VALUE!"}},null,null,{"$f":"COUNTIF(IF(ISERROR(INDIRECT(\"'Børn \"&A177&\"'!$H$31\",TRUE)),\"\",INDIRECT(\"'Børn \"&A177&\"'!$H$31\",TRUE)),2)","v":{"$error":"#VALUE!"}},{"$f":"COUNTIF(IF(ISERROR(INDIRECT(\"'Børn \"&A177&\"'!$H$44\",TRUE)),\"\",INDIRECT(\"'Børn \"&A177&\"'!$H$44\",TRUE)),2)","v":{"$error":"#VALUE!"}},{"$f":"COUNTIF(IF(ISERROR(INDIRECT(\"'Børn \"&A177&\"'!$H$53\",TRUE)),\"\",INDIRECT(\"'Børn \"&A177&\"'!$H$53\",TRUE)),2)","v":{"$error":"#VALUE!"}},{"$f":"COUNTIF(IF(ISERROR(INDIRECT(\"'Børn \"&A177&\"'!$H$61\",TRUE)),\"\",INDIRECT(\"'Børn \"&A177&\"'!$H$61\",TRUE)),2)","v":{"$error":"#VALUE!"}},{"$f":"COUNTIF(IF(ISERROR(INDIRECT(\"'Børn \"&A177&\"'!$H$68\",TRUE)),\"\",INDIRECT(\"'Børn \"&A177&\"'!$H$68\",TRUE)),2)","v":{"$error":"#VALUE!"}},{"$f":"COUNTIF(IF(ISERROR(INDIRECT(\"'Børn \"&A177&\"'!$H$79\",TRUE)),\"\",INDIRECT(\"'Børn \"&A177&\"'!$H$79\",TRUE)),2)","v":{"$error":"#VALUE!"}},{"$f":"COUNTIF(IF(ISERROR(INDIRECT(\"'Børn \"&A177&\"'!$H$87\",TRUE)),\"\",INDIRECT(\"'Børn \"&A177&\"'!$H$87\",TRUE)),2)","v":{"$error":"#VALUE!"}},null,null,null,{"$f":"U176","v":"Tilsyn 58"},{"$f":"IF(INDIRECT(\"'Voksen \"&U177&\"'!$c$115\")=\"\",\"\",IFERROR(INDIRECT(\"'Voksen \"&U177&\"'!$c$115\",TRUE),\"\"))","v":{"$error":"#REF!"}},{"$f":"IF(INDIRECT(\"'Voksen \"&U177&\"'!$c$136\")=\"\",\"\",IFERROR(INDIRECT(\"'Voksen \"&U177&\"'!$c$136\",TRUE),\"\"))","v":{"$error":"#REF!"}},{"$f":"IF(INDIRECT(\"'Voksen \"&U177&\"'!$c$157\")=\"\",\"\",IFERROR(INDIRECT(\"'Voksen \"&U177&\"'!$c$157\",TRUE),\"\"))","v":{"$error":"#REF!"}},{"$f":"IF(INDIRECT(\"'Voksen \"&U177&\"'!$c$172\")=\"\",\"\",IFERROR(INDIRECT(\"'Voksen \"&U177&\"'!$c$172\",TRUE),\"\"))","v":{"$error":"#REF!"}},{"$f":"IF(INDIRECT(\"'Voksen \"&U177&\"'!$c$189\")=\"\",\"\",IFERROR(INDIRECT(\"'Voksen \"&U177&\"'!$c$189\",TRUE),\"\"))","v":{"$error":"#REF!"}},{"$f":"IF(INDIRECT(\"'Voksen \"&U177&\"'!$c$210\")=\"\",\"\",IFERROR(INDIRECT(\"'Voksen \"&U177&\"'!$c$210\",TRUE),\"\"))","v":{"$error":"#REF!"}},{"$f":"IF(INDIRECT(\"'Voksen \"&U177&\"'!$c$232\")=\"\",\"\",IFERROR(INDIRECT(\"'Voksen \"&U177&\"'!$c$232\",TRUE),\"\"))","v":{"$error":"#REF!"}},{"$f":"IF(INDIRECT(\"'Voksen \"&U177&\"'!$c$258\")=\"\",\"\",IFERROR(INDIRECT(\"'Voksen \"&U177&\"'!$c$258\",TRUE),\"\"))","v":{"$error":"#REF!"}},null,{"$f":"IF(INDIRECT(\"'Børn \"&U177&\"'!$c$126\")=\"\",\"\",IFERROR(INDIRECT(\"'Børn \"&U177&\"'!$c$126\",TRUE),\"\"))","v":{"$error":"#REF!"}},{"$f":"IF(INDIRECT(\"'Børn \"&U177&\"'!$c$142\")=\"\",\"\",IFERROR(INDIRECT(\"'Børn \"&U177&\"'!$c$142\",TRUE),\"\"))","v":{"$error":"#REF!"}},{"$f":"IF(INDIRECT(\"'Børn \"&U177&\"'!$c$166\")=\"\",\"\",IFERROR(INDIRECT(\"'Børn \"&U177&\"'!$c$166\",TRUE),\"\"))","v":{"$error":"#REF!"}},{"$f":"IF(INDIRECT(\"'Børn \"&U177&\"'!$c$180\")=\"\",\"\",IFERROR(INDIRECT(\"'Børn \"&U177&\"'!$c$180\",TRUE),\"\"))","v":{"$error":"#REF!"}},{"$f":"IF(INDIRECT(\"'Børn \"&U177&\"'!$c$200\")=\"\",\"\",IFERROR(INDIRECT(\"'Børn \"&U177&\"'!$c$200\",TRUE),\"\"))","v":{"$error":"#REF!"}},{"$f":"IF(INDIRECT(\"'Børn \"&U177&\"'!$c$221\")=\"\",\"\",IFERROR(INDIRECT(\"'Børn \"&U177&\"'!$c$221\",TRUE),\"\"))","v":{"$error":"#REF!"}},{"$f":"IF(INDIRECT(\"'Børn \"&U177&\"'!$c$244\")=\"\",\"\",IFERROR(INDIRECT(\"'Børn \"&U177&\"'!$c$244\",TRUE),\"\"))","v":{"$error":"#REF!"}}]
["Tilsyn 39","Status:  rød",{"$f":"COUNTIF(IF(ISERROR(INDIRECT(\"'Voksen \"&A178&\"'!$H$31\",TRUE)),\"\",INDIRECT(\"'Voksen \"&A178&\"'!$H$31\",TRUE)),3)","v":{"$error":"#VALUE!"}},{"$f":"COUNTIF(IF(ISERROR(INDIRECT(\"'Voksen \"&A178&\"'!$H$41\",TRUE)),\"\",INDIRECT(\"'Voksen \"&A178&\"'!$H$41\",TRUE)),3)","v":{"$error":"#VALUE!"}},{"$f":"COUNTIF(IF(ISERROR(INDIRECT(\"'Voksen \"&A178&\"'!$H$50\",TRUE)),\"\",INDIRECT(\"'Voksen \"&A178&\"'!$H$50\",TRUE)),3)","v":{"$error":"#VALUE!"}},{"$f":"COUNTIF(IF(ISERROR(INDIRECT(\"'Voksen \"&A178&\"'!$H$58\",TRUE)),\"\",INDIRECT(\"'Voksen \"&A178&\"'!$H$58\",TRUE)),3)","v":{"$error":"#VALUE!"}},{"$f":"COUNTIF(IF(ISERROR(INDIRECT(\"'Voksen \"&A178&\"'!$H$69\",TRUE)),\"\",INDIRECT(\"'Voksen \"&A178&\"'!$H$69\",TRUE)),3)","v":{"$error":"#VALUE!"}},{"$f":"COUNTIF(IF(ISERROR(INDIRECT(\"'Voksen \"&A178&\"'!$H$77\",TRUE)),\"\",INDIRECT(\"'Voksen \"&A178&\"'!$H$77\",TRUE)),3)","v":{"$error":"#VALUE!"}},null,null,{"$f":"COUNTIF(IF(ISERROR(INDIRECT(\"'Børn \"&A178&\"'!$H$31\",TRUE)),\"\",INDIRECT(\"'Børn \"&A178&\"'!$H$31\",TRUE)),3)","v":{"$error":"#VALUE!"}},{"$f":"COUNTIF(IF(ISERROR(INDIRECT(\"'Børn \"&A178&\"'!$H$44\",TRUE)),\"\",INDIRECT(\"'Børn \"&A178&\"'!$H$44\",TRUE)),3)","v":{"$error":"#VALUE!"}},{"$f":"COUNTIF(IF(ISERROR(INDIRECT(\"'Børn \"&A178&\"'!$H$53\",TRUE)),\"\",INDIRECT(\"'Børn \"&A178&\"'!$H$53\",TRUE)),3)","v":{"$error":"#VALUE!"}},{"$f":"COUNTIF(IF(ISERROR(INDIRECT(\"'Børn \"&A178&\"'!$H$61\",TRUE)),\"\",INDIRECT(\"'Børn \"&A178&\"'!$H$61\",TRUE)),3)","v":{"$error":"#VALUE!"}},{"$f":"COUNTIF(IF(ISERROR(INDIRECT(\"'Børn \"&A178&\"'!$H$68\",TRUE)),\"\",INDIRECT(\"'Børn \"&A178&\"'!$H$68\",TRUE)),3)","v":{"$error":"#VALUE!"}},{"$f":"COUNTIF(IF(ISERROR(INDIRECT(\"'Børn \"&A178&\"'!$H$79\",TRUE)),\"\",INDIRECT(\"'Børn \"&A178&\"'!$H$79\",TRUE)),3)","v":{"$error":"#VALUE!"}},{"$f":"COUNTIF(IF(ISERROR(INDIRECT(\"'Børn \"&A178&\"'!$H$87\",TRUE)),\"\",INDIRECT(\"'Børn \"&A178&\"'!$H$87\",TRUE)),3)","v":{"$error":"#VALUE!"}},null,null,null,"Tilsyn 59",{"$f":"IF(INDIRECT(\"'Voksen \"&U178&\"'!$c$112\")=\"\",\"\",IFERROR(INDIRECT(\"'Voksen \"&U178&\"'!$c$112\",TRUE),\"\"))","v":{"$error":"#REF!"}},{"$f":"IF(INDIRECT(\"'Voksen \"&U178&\"'!$c$133\")=\"\",\"\",IFERROR(INDIRECT(\"'Voksen \"&U178&\"'!$c$133\",TRUE),\"\"))","v":{"$error":"#REF!"}},{"$f":"IF(INDIRECT(\"'Voksen \"&U178&\"'!$c$154\")=\"\",\"\",IFERROR(INDIRECT(\"'Voksen \"&U178&\"'!$c$154\",TRUE),\"\"))","v":{"$error":"#REF!"}},{"$f":"IF(INDIRECT(\"'Voksen \"&U178&\"'!$c$169\")=\"\",\"\",IFERROR(INDIRECT(\"'Voksen \"&U178&\"'!$c$169\",TRUE),\"\"))","v":{"$error":"#REF!"}},{"$f":"IF(INDIRECT(\"'Voksen \"&U178&\"'!$c$186\")=\"\",\"\",IFERROR(INDIRECT(\"'Voksen \"&U178&\"'!$c$186\",TRUE),\"\"))","v":{"$error":"#REF!"}},{"$f":"IF(INDIRECT(\"'Voksen \"&U178&\"'!$c$207\")=\"\",\"\",IFERROR(INDIRECT(\"'Voksen \"&U178&\"'!$c$207\",TRUE),\"\"))","v":{"$error":"#REF!"}},{"$f":"IF(INDIRECT(\"'Voksen \"&U178&\"'!$c$229\")=\"\",\"\",IFERROR(INDIRECT(\"'Voksen \"&U178&\"'!$c$229\",TRUE),\"\"))","v":{"$error":"#REF!"}},{"$f":"IF(INDIRECT(\"'Voksen \"&U178&\"'!$c$255\")=\"\",\"\",IFERROR(INDIRECT(\"'Voksen \"&U178&\"'!$c$255\",TRUE),\"\"))","v":{"$error":"#REF!"}},null,{"$f":"IF(INDIRECT(\"'Børn \"&U178&\"'!$c$123\")=\"\",\"\",IFERROR(INDIRECT(\"'Børn \"&U178&\"'!$c$123\",TRUE),\"\"))","v":{"$error":"#REF!"}},{"$f":"IF(INDIRECT(\"'Børn \"&U178&\"'!$c$139\")=\"\",\"\",IFERROR(INDIRECT(\"'Børn \"&U178&\"'!$c$139\",TRUE),\"\"))","v":{"$error":"#REF!"}},{"$f":"IF(INDIRECT(\"'Børn \"&U178&\"'!$c$163\")=\"\",\"\",IFERROR(INDIRECT(\"'Børn \"&U178&\"'!$c$163\",TRUE),\"\"))","v":{"$error":"#REF!"}},{"$f":"IF(INDIRECT(\"'Børn \"&U178&\"'!$c$177\")=\"\",\"\",IFERROR(INDIRECT(\"'Børn \"&U178&\"'!$c$177\",TRUE),\"\"))","v":{"$error":"#REF!"}},{"$f":"IF(INDIRECT(\"'Børn \"&U178&\"'!$c$197\")=\"\",\"\",IFERROR(INDIRECT(\"'Børn \"&U178&\"'!$c$197\",TRUE),\"\"))","v":{"$error":"#REF!"}},{"$f":"IF(INDIRECT(\"'Børn \"&U178&\"'!$c$218\")=\"\",\"\",IFERROR(INDIRECT(\"'Børn \"&U178&\"'!$c$218\",TRUE),\"\"))","v":{"$error":"#REF!"}},{"$f":"IF(INDIRECT(\"'Børn \"&U178&\"'!$c$241\")=\"\",\"\",IFERROR(INDIRECT(\"'Børn \"&U178&\"'!$c$241\",TRUE),\"\"))","v":{"$error":"#REF!"}}]
["Tilsyn 40","Status:  grøn",{"$f":"COUNTIF(IF(ISERROR(INDIRECT(\"'Voksen \"&A179&\"'!$H$31\",TRUE)),\"\",INDIRECT(\"'Voksen \"&A179&\"'!$H$31\",TRUE)),1)","v":{"$error":"#VALUE!"}},{"$f":"COUNTIF(IF(ISERROR(INDIRECT(\"'Voksen \"&A179&\"'!$H$41\",TRUE)),\"\",INDIRECT(\"'Voksen \"&A179&\"'!$H$41\",TRUE)),1)","v":{"$error":"#VALUE!"}},{"$f":"COUNTIF(IF(ISERROR(INDIRECT(\"'Voksen \"&A179&\"'!$H$50\",TRUE)),\"\",INDIRECT(\"'Voksen \"&A179&\"'!$H$50\",TRUE)),1)","v":{"$error":"#VALUE!"}},{"$f":"COUNTIF(IF(ISERROR(INDIRECT(\"'Voksen \"&A179&\"'!$H$58\",TRUE)),\"\",INDIRECT(\"'Voksen \"&A179&\"'!$H$58\",TRUE)),1)","v":{"$error":"#VALUE!"}},{"$f":"COUNTIF(IF(ISERROR(INDIRECT(\"'Voksen \"&A179&\"'!$H$69\",TRUE)),\"\",INDIRECT(\"'Voksen \"&A179&\"'!$H$69\",TRUE)),1)","v":{"$error":"#VALUE!"}},{"$f":"COUNTIF(IF(ISERROR(INDIRECT(\"'Voksen \"&A179&\"'!$H$77\",TRUE)),\"\",INDIRECT(\"'Voksen \"&A179&\"'!$H$77\",TRUE)),1)","v":{"$error":"#VALUE!"}},null,null,{"$f":"COUNTIF(IF(ISERROR(INDIRECT(\"'Børn \"&A179&\"'!$H$31\",TRUE)),\"\",INDIRECT(\"'Børn \"&A179&\"'!$H$31\",TRUE)),1)","v":{"$error":"#VALUE!"}},{"$f":"COUNTIF(IF(ISERROR(INDIRECT(\"'Børn \"&A179&\"'!$H$44\",TRUE)),\"\",INDIRECT(\"'Børn \"&A179&\"'!$H$44\",TRUE)),1)","v":{"$error":"#VALUE!"}},{"$f":"COUNTIF(IF(ISERROR(INDIRECT(\"'Børn \"&A179&\"'!$H$53\",TRUE)),\"\",INDIRECT(\"'Børn \"&A179&\"'!$H$53\",TRUE)),1)","v":{"$error":"#VALUE!"}},{"$f":"COUNTIF(IF(ISERROR(INDIRECT(\"'Børn \"&A179&\"'!$H$61\",TRUE)),\"\",INDIRECT(\"'Børn \"&A179&\"'!$H$61\",TRUE)),1)","v":{"$error":"#VALUE!"}},{"$f":"COUNTIF(IF(ISERROR(INDIRECT(\"'Børn \"&A179&\"'!$H$68\",TRUE)),\"\",INDIRECT(\"'Børn \"&A179&\"'!$H$68\",TRUE)),1)","v":{"$error":"#VALUE!"}},{"$f":"COUNTIF(IF(ISERROR(INDIRECT(\"'Børn \"&A179&\"'!$H$79\",TRUE)),\"\",INDIRECT(\"'Børn \"&A179&\"'!$H$79\",TRUE)),1)","v":{"$error":"#VALUE!"}},{"$f":"COUNTIF(IF(ISERROR(INDIRECT(\"'Børn \"&A179&\"'!$H$87\",TRUE)),\"\",INDIRECT(\"'Børn \"&A179&\"'!$H$87\",TRUE)),1)","v":{"$error":"#VALUE!"}},null,null,null,{"$f":"U178","v":"Tilsyn 59"},{"$f":"IF(INDIRECT(\"'Voksen \"&U179&\"'!$c$115\")=\"\",\"\",IFERROR(INDIRECT(\"'Voksen \"&U179&\"'!$c$115\",TRUE),\"\"))","v":{"$error":"#REF!"}},{"$f":"IF(INDIRECT(\"'Voksen \"&U179&\"'!$c$136\")=\"\",\"\",IFERROR(INDIRECT(\"'Voksen \"&U179&\"'!$c$136\",TRUE),\"\"))","v":{"$error":"#REF!"}},{"$f":"IF(INDIRECT(\"'Voksen \"&U179&\"'!$c$157\")=\"\",\"\",IFERROR(INDIRECT(\"'Voksen \"&U179&\"'!$c$157\",TRUE),\"\"))","v":{"$error":"#REF!"}},{"$f":"IF(INDIRECT(\"'Voksen \"&U179&\"'!$c$172\")=\"\",\"\",IFERROR(INDIRECT(\"'Voksen \"&U179&\"'!$c$172\",TRUE),\"\"))","v":{"$error":"#REF!"}},{"$f":"IF(INDIRECT(\"'Voksen \"&U179&\"'!$c$189\")=\"\",\"\",IFERROR(INDIRECT(\"'Voksen \"&U179&\"'!$c$189\",TRUE),\"\"))","v":{"$error":"#REF!"}},{"$f":"IF(INDIRECT(\"'Voksen \"&U179&\"'!$c$210\")=\"\",\"\",IFERROR(INDIRECT(\"'Voksen \"&U179&\"'!$c$210\",TRUE),\"\"))","v":{"$error":"#REF!"}},{"$f":"IF(INDIRECT(\"'Voksen \"&U179&\"'!$c$232\")=\"\",\"\",IFERROR(INDIRECT(\"'Voksen \"&U179&\"'!$c$232\",TRUE),\"\"))","v":{"$error":"#REF!"}},{"$f":"IF(INDIRECT(\"'Voksen \"&U179&\"'!$c$258\")=\"\",\"\",IFERROR(INDIRECT(\"'Voksen \"&U179&\"'!$c$258\",TRUE),\"\"))","v":{"$error":"#REF!"}},null,{"$f":"IF(INDIRECT(\"'Børn \"&U179&\"'!$c$126\")=\"\",\"\",IFERROR(INDIRECT(\"'Børn \"&U179&\"'!$c$126\",TRUE),\"\"))","v":{"$error":"#REF!"}},{"$f":"IF(INDIRECT(\"'Børn \"&U179&\"'!$c$142\")=\"\",\"\",IFERROR(INDIRECT(\"'Børn \"&U179&\"'!$c$142\",TRUE),\"\"))","v":{"$error":"#REF!"}},{"$f":"IF(INDIRECT(\"'Børn \"&U179&\"'!$c$166\")=\"\",\"\",IFERROR(INDIRECT(\"'Børn \"&U179&\"'!$c$166\",TRUE),\"\"))","v":{"$error":"#REF!"}},{"$f":"IF(INDIRECT(\"'Børn \"&U179&\"'!$c$180\")=\"\",\"\",IFERROR(INDIRECT(\"'Børn \"&U179&\"'!$c$180\",TRUE),\"\"))","v":{"$error":"#REF!"}},{"$f":"IF(INDIRECT(\"'Børn \"&U179&\"'!$c$200\")=\"\",\"\",IFERROR(INDIRECT(\"'Børn \"&U179&\"'!$c$200\",TRUE),\"\"))","v":{"$error":"#REF!"}},{"$f":"IF(INDIRECT(\"'Børn \"&U179&\"'!$c$221\")=\"\",\"\",IFERROR(INDIRECT(\"'Børn \"&U179&\"'!$c$221\",TRUE),\"\"))","v":{"$error":"#REF!"}},{"$f":"IF(INDIRECT(\"'Børn \"&U179&\"'!$c$244\")=\"\",\"\",IFERROR(INDIRECT(\"'Børn \"&U179&\"'!$c$244\",TRUE),\"\"))","v":{"$error":"#REF!"}}]
["Tilsyn 40","Status:  gul",{"$f":"COUNTIF(IF(ISERROR(INDIRECT(\"'Voksen \"&A180&\"'!$H$31\",TRUE)),\"\",INDIRECT(\"'Voksen \"&A180&\"'!$H$31\",TRUE)),2)","v":{"$error":"#VALUE!"}},{"$f":"COUNTIF(IF(ISERROR(INDIRECT(\"'Voksen \"&A180&\"'!$H$41\",TRUE)),\"\",INDIRECT(\"'Voksen \"&A180&\"'!$H$41\",TRUE)),2)","v":{"$error":"#VALUE!"}},{"$f":"COUNTIF(IF(ISERROR(INDIRECT(\"'Voksen \"&A180&\"'!$H$50\",TRUE)),\"\",INDIRECT(\"'Voksen \"&A180&\"'!$H$50\",TRUE)),2)","v":{"$error":"#VALUE!"}},{"$f":"COUNTIF(IF(ISERROR(INDIRECT(\"'Voksen \"&A180&\"'!$H$58\",TRUE)),\"\",INDIRECT(\"'Voksen \"&A180&\"'!$H$58\",TRUE)),2)","v":{"$error":"#VALUE!"}},{"$f":"COUNTIF(IF(ISERROR(INDIRECT(\"'Voksen \"&A180&\"'!$H$69\",TRUE)),\"\",INDIRECT(\"'Voksen \"&A180&\"'!$H$69\",TRUE)),2)","v":{"$error":"#VALUE!"}},{"$f":"COUNTIF(IF(ISERROR(INDIRECT(\"'Voksen \"&A180&\"'!$H$77\",TRUE)),\"\",INDIRECT(\"'Voksen \"&A180&\"'!$H$77\",TRUE)),2)","v":{"$error":"#VALUE!"}},null,null,{"$f":"COUNTIF(IF(ISERROR(INDIRECT(\"'Børn \"&A180&\"'!$H$31\",TRUE)),\"\",INDIRECT(\"'Børn \"&A180&\"'!$H$31\",TRUE)),2)","v":{"$error":"#VALUE!"}},{"$f":"COUNTIF(IF(ISERROR(INDIRECT(\"'Børn \"&A180&\"'!$H$44\",TRUE)),\"\",INDIRECT(\"'Børn \"&A180&\"'!$H$44\",TRUE)),2)","v":{"$error":"#VALUE!"}},{"$f":"COUNTIF(IF(ISERROR(INDIRECT(\"'Børn \"&A180&\"'!$H$53\",TRUE)),\"\",INDIRECT(\"'Børn \"&A180&\"'!$H$53\",TRUE)),2)","v":{"$error":"#VALUE!"}},{"$f":"COUNTIF(IF(ISERROR(INDIRECT(\"'Børn \"&A180&\"'!$H$61\",TRUE)),\"\",INDIRECT(\"'Børn \"&A180&\"'!$H$61\",TRUE)),2)","v":{"$error":"#VALUE!"}},{"$f":"COUNTIF(IF(ISERROR(INDIRECT(\"'Børn \"&A180&\"'!$H$68\",TRUE)),\"\",INDIRECT(\"'Børn \"&A180&\"'!$H$68\",TRUE)),2)","v":{"$error":"#VALUE!"}},{"$f":"COUNTIF(IF(ISERROR(INDIRECT(\"'Børn \"&A180&\"'!$H$79\",TRUE)),\"\",INDIRECT(\"'Børn \"&A180&\"'!$H$79\",TRUE)),2)","v":{"$error":"#VALUE!"}},{"$f":"COUNTIF(IF(ISERROR(INDIRECT(\"'Børn \"&A180&\"'!$H$87\",TRUE)),\"\",INDIRECT(\"'Børn \"&A180&\"'!$H$87\",TRUE)),2)","v":{"$error":"#VALUE!"}},null,null,null,"Tilsyn 60",{"$f":"IF(INDIRECT(\"'Voksen \"&U180&\"'!$c$112\")=\"\",\"\",IFERROR(INDIRECT(\"'Voksen \"&U180&\"'!$c$112\",TRUE),\"\"))","v":{"$error":"#REF!"}},{"$f":"IF(INDIRECT(\"'Voksen \"&U180&\"'!$c$133\")=\"\",\"\",IFERROR(INDIRECT(\"'Voksen \"&U180&\"'!$c$133\",TRUE),\"\"))","v":{"$error":"#REF!"}},{"$f":"IF(INDIRECT(\"'Voksen \"&U180&\"'!$c$154\")=\"\",\"\",IFERROR(INDIRECT(\"'Voksen \"&U180&\"'!$c$154\",TRUE),\"\"))","v":{"$error":"#REF!"}},{"$f":"IF(INDIRECT(\"'Voksen \"&U180&\"'!$c$169\")=\"\",\"\",IFERROR(INDIRECT(\"'Voksen \"&U180&\"'!$c$169\",TRUE),\"\"))","v":{"$error":"#REF!"}},{"$f":"IF(INDIRECT(\"'Voksen \"&U180&\"'!$c$186\")=\"\",\"\",IFERROR(INDIRECT(\"'Voksen \"&U180&\"'!$c$186\",TRUE),\"\"))","v":{"$error":"#REF!"}},{"$f":"IF(INDIRECT(\"'Voksen \"&U180&\"'!$c$207\")=\"\",\"\",IFERROR(INDIRECT(\"'Voksen \"&U180&\"'!$c$207\",TRUE),\"\"))","v":{"$error":"#REF!"}},{"$f":"IF(INDIRECT(\"'Voksen \"&U180&\"'!$c$229\")=\"\",\"\",IFERROR(INDIRECT(\"'Voksen \"&U180&\"'!$c$229\",TRUE),\"\"))","v":{"$error":"#REF!"}},{"$f":"IF(INDIRECT(\"'Voksen \"&U180&\"'!$c$255\")=\"\",\"\",IFERROR(INDIRECT(\"'Voksen \"&U180&\"'!$c$255\",TRUE),\"\"))","v":{"$error":"#REF!"}},null,{"$f":"IF(INDIRECT(\"'Børn \"&U180&\"'!$c$123\")=\"\",\"\",IFERROR(INDIRECT(\"'Børn \"&U180&\"'!$c$123\",TRUE),\"\"))","v":{"$error":"#REF!"}},{"$f":"IF(INDIRECT(\"'Børn \"&U180&\"'!$c$139\")=\"\",\"\",IFERROR(INDIRECT(\"'Børn \"&U180&\"'!$c$139\",TRUE),\"\"))","v":{"$error":"#REF!"}},{"$f":"IF(INDIRECT(\"'Børn \"&U180&\"'!$c$163\")=\"\",\"\",IFERROR(INDIRECT(\"'Børn \"&U180&\"'!$c$163\",TRUE),\"\"))","v":{"$error":"#REF!"}},{"$f":"IF(INDIRECT(\"'Børn \"&U180&\"'!$c$177\")=\"\",\"\",IFERROR(INDIRECT(\"'Børn \"&U180&\"'!$c$177\",TRUE),\"\"))","v":{"$error":"#REF!"}},{"$f":"IF(INDIRECT(\"'Børn \"&U180&\"'!$c$197\")=\"\",\"\",IFERROR(INDIRECT(\"'Børn \"&U180&\"'!$c$197\",TRUE),\"\"))","v":{"$error":"#REF!"}},{"$f":"IF(INDIRECT(\"'Børn \"&U180&\"'!$c$218\")=\"\",\"\",IFERROR(INDIRECT(\"'Børn \"&U180&\"'!$c$218\",TRUE),\"\"))","v":{"$error":"#REF!"}},{"$f":"IF(INDIRECT(\"'Børn \"&U180&\"'!$c$241\")=\"\",\"\",IFERROR(INDIRECT(\"'Børn \"&U180&\"'!$c$241\",TRUE),\"\"))","v":{"$error":"#REF!"}}]
["Tilsyn 40","Status:  rød",{"$f":"COUNTIF(IF(ISERROR(INDIRECT(\"'Voksen \"&A181&\"'!$H$31\",TRUE)),\"\",INDIRECT(\"'Voksen \"&A181&\"'!$H$31\",TRUE)),3)","v":{"$error":"#VALUE!"}},{"$f":"COUNTIF(IF(ISERROR(INDIRECT(\"'Voksen \"&A181&\"'!$H$41\",TRUE)),\"\",INDIRECT(\"'Voksen \"&A181&\"'!$H$41\",TRUE)),3)","v":{"$error":"#VALUE!"}},{"$f":"COUNTIF(IF(ISERROR(INDIRECT(\"'Voksen \"&A181&\"'!$H$50\",TRUE)),\"\",INDIRECT(\"'Voksen \"&A181&\"'!$H$50\",TRUE)),3)","v":{"$error":"#VALUE!"}},{"$f":"COUNTIF(IF(ISERROR(INDIRECT(\"'Voksen \"&A181&\"'!$H$58\",TRUE)),\"\",INDIRECT(\"'Voksen \"&A181&\"'!$H$58\",TRUE)),3)","v":{"$error":"#VALUE!"}},{"$f":"COUNTIF(IF(ISERROR(INDIRECT(\"'Voksen \"&A181&\"'!$H$69\",TRUE)),\"\",INDIRECT(\"'Voksen \"&A181&\"'!$H$69\",TRUE)),3)","v":{"$error":"#VALUE!"}},{"$f":"COUNTIF(IF(ISERROR(INDIRECT(\"'Voksen \"&A181&\"'!$H$77\",TRUE)),\"\",INDIRECT(\"'Voksen \"&A181&\"'!$H$77\",TRUE)),3)","v":{"$error":"#VALUE!"}},null,null,{"$f":"COUNTIF(IF(ISERROR(INDIRECT(\"'Børn \"&A181&\"'!$H$31\",TRUE)),\"\",INDIRECT(\"'Børn \"&A181&\"'!$H$31\",TRUE)),3)","v":{"$error":"#VALUE!"}},{"$f":"COUNTIF(IF(ISERROR(INDIRECT(\"'Børn \"&A181&\"'!$H$44\",TRUE)),\"\",INDIRECT(\"'Børn \"&A181&\"'!$H$44\",TRUE)),3)","v":{"$error":"#VALUE!"}},{"$f":"COUNTIF(IF(ISERROR(INDIRECT(\"'Børn \"&A181&\"'!$H$53\",TRUE)),\"\",INDIRECT(\"'Børn \"&A181&\"'!$H$53\",TRUE)),3)","v":{"$error":"#VALUE!"}},{"$f":"COUNTIF(IF(ISERROR(INDIRECT(\"'Børn \"&A181&\"'!$H$61\",TRUE)),\"\",INDIRECT(\"'Børn \"&A181&\"'!$H$61\",TRUE)),3)","v":{"$error":"#VALUE!"}},{"$f":"COUNTIF(IF(ISERROR(INDIRECT(\"'Børn \"&A181&\"'!$H$68\",TRUE)),\"\",INDIRECT(\"'Børn \"&A181&\"'!$H$68\",TRUE)),3)","v":{"$error":"#VALUE!"}},{"$f":"COUNTIF(IF(ISERROR(INDIRECT(\"'Børn \"&A181&\"'!$H$79\",TRUE)),\"\",INDIRECT(\"'Børn \"&A181&\"'!$H$79\",TRUE)),3)","v":{"$error":"#VALUE!"}},{"$f":"COUNTIF(IF(ISERROR(INDIRECT(\"'Børn \"&A181&\"'!$H$87\",TRUE)),\"\",INDIRECT(\"'Børn \"&A181&\"'!$H$87\",TRUE)),3)","v":{"$error":"#VALUE!"}},null,null,null,{"$f":"U180","v":"Tilsyn 60"},{"$f":"IF(INDIRECT(\"'Voksen \"&U181&\"'!$c$115\")=\"\",\"\",IFERROR(INDIRECT(\"'Voksen \"&U181&\"'!$c$115\",TRUE),\"\"))","v":{"$error":"#REF!"}},{"$f":"IF(INDIRECT(\"'Voksen \"&U181&\"'!$c$136\")=\"\",\"\",IFERROR(INDIRECT(\"'Voksen \"&U181&\"'!$c$136\",TRUE),\"\"))","v":{"$error":"#REF!"}},{"$f":"IF(INDIRECT(\"'Voksen \"&U181&\"'!$c$157\")=\"\",\"\",IFERROR(INDIRECT(\"'Voksen \"&U181&\"'!$c$157\",TRUE),\"\"))","v":{"$error":"#REF!"}},{"$f":"IF(INDIRECT(\"'Voksen \"&U181&\"'!$c$172\")=\"\",\"\",IFERROR(INDIRECT(\"'Voksen \"&U181&\"'!$c$172\",TRUE),\"\"))","v":{"$error":"#REF!"}},{"$f":"IF(INDIRECT(\"'Voksen \"&U181&\"'!$c$189\")=\"\",\"\",IFERROR(INDIRECT(\"'Voksen \"&U181&\"'!$c$189\",TRUE),\"\"))","v":{"$error":"#REF!"}},{"$f":"IF(INDIRECT(\"'Voksen \"&U181&\"'!$c$210\")=\"\",\"\",IFERROR(INDIRECT(\"'Voksen \"&U181&\"'!$c$210\",TRUE),\"\"))","v":{"$error":"#REF!"}},{"$f":"IF(INDIRECT(\"'Voksen \"&U181&\"'!$c$232\")=\"\",\"\",IFERROR(INDIRECT(\"'Voksen \"&U181&\"'!$c$232\",TRUE),\"\"))","v":{"$error":"#REF!"}},{"$f":"IF(INDIRECT(\"'Voksen \"&U181&\"'!$c$258\")=\"\",\"\",IFERROR(INDIRECT(\"'Voksen \"&U181&\"'!$c$258\",TRUE),\"\"))","v":{"$error":"#REF!"}},null,{"$f":"IF(INDIRECT(\"'Børn \"&U181&\"'!$c$126\")=\"\",\"\",IFERROR(INDIRECT(\"'Børn \"&U181&\"'!$c$126\",TRUE),\"\"))","v":{"$error":"#REF!"}},{"$f":"IF(INDIRECT(\"'Børn \"&U181&\"'!$c$142\")=\"\",\"\",IFERROR(INDIRECT(\"'Børn \"&U181&\"'!$c$142\",TRUE),\"\"))","v":{"$error":"#REF!"}},{"$f":"IF(INDIRECT(\"'Børn \"&U181&\"'!$c$166\")=\"\",\"\",IFERROR(INDIRECT(\"'Børn \"&U181&\"'!$c$166\",TRUE),\"\"))","v":{"$error":"#REF!"}},{"$f":"IF(INDIRECT(\"'Børn \"&U181&\"'!$c$180\")=\"\",\"\",IFERROR(INDIRECT(\"'Børn \"&U181&\"'!$c$180\",TRUE),\"\"))","v":{"$error":"#REF!"}},{"$f":"IF(INDIRECT(\"'Børn \"&U181&\"'!$c$200\")=\"\",\"\",IFERROR(INDIRECT(\"'Børn \"&U181&\"'!$c$200\",TRUE),\"\"))","v":{"$error":"#REF!"}},{"$f":"IF(INDIRECT(\"'Børn \"&U181&\"'!$c$221\")=\"\",\"\",IFERROR(INDIRECT(\"'Børn \"&U181&\"'!$c$221\",TRUE),\"\"))","v":{"$error":"#REF!"}},{"$f":"IF(INDIRECT(\"'Børn \"&U181&\"'!$c$244\")=\"\",\"\",IFERROR(INDIRECT(\"'Børn \"&U181&\"'!$c$244\",TRUE),\"\"))","v":{"$error":"#REF!"}}]
["Tilsyn 41","Status:  grøn",{"$f":"COUNTIF(IF(ISERROR(INDIRECT(\"'Voksen \"&A182&\"'!$H$31\",TRUE)),\"\",INDIRECT(\"'Voksen \"&A182&\"'!$H$31\",TRUE)),1)","v":{"$error":"#VALUE!"}},{"$f":"COUNTIF(IF(ISERROR(INDIRECT(\"'Voksen \"&A182&\"'!$H$41\",TRUE)),\"\",INDIRECT(\"'Voksen \"&A182&\"'!$H$41\",TRUE)),1)","v":{"$error":"#VALUE!"}},{"$f":"COUNTIF(IF(ISERROR(INDIRECT(\"'Voksen \"&A182&\"'!$H$50\",TRUE)),\"\",INDIRECT(\"'Voksen \"&A182&\"'!$H$50\",TRUE)),1)","v":{"$error":"#VALUE!"}},{"$f":"COUNTIF(IF(ISERROR(INDIRECT(\"'Voksen \"&A182&\"'!$H$58\",TRUE)),\"\",INDIRECT(\"'Voksen \"&A182&\"'!$H$58\",TRUE)),1)","v":{"$error":"#VALUE!"}},{"$f":"COUNTIF(IF(ISERROR(INDIRECT(\"'Voksen \"&A182&\"'!$H$69\",TRUE)),\"\",INDIRECT(\"'Voksen \"&A182&\"'!$H$69\",TRUE)),1)","v":{"$error":"#VALUE!"}},{"$f":"COUNTIF(IF(ISERROR(INDIRECT(\"'Voksen \"&A182&\"'!$H$77\",TRUE)),\"\",INDIRECT(\"'Voksen \"&A182&\"'!$H$77\",TRUE)),1)","v":{"$error":"#VALUE!"}},null,null,{"$f":"COUNTIF(IF(ISERROR(INDIRECT(\"'Børn \"&A182&\"'!$H$31\",TRUE)),\"\",INDIRECT(\"'Børn \"&A182&\"'!$H$31\",TRUE)),1)","v":{"$error":"#VALUE!"}},{"$f":"COUNTIF(IF(ISERROR(INDIRECT(\"'Børn \"&A182&\"'!$H$44\",TRUE)),\"\",INDIRECT(\"'Børn \"&A182&\"'!$H$44\",TRUE)),1)","v":{"$error":"#VALUE!"}},{"$f":"COUNTIF(IF(ISERROR(INDIRECT(\"'Børn \"&A182&\"'!$H$53\",TRUE)),\"\",INDIRECT(\"'Børn \"&A182&\"'!$H$53\",TRUE)),1)","v":{"$error":"#VALUE!"}},{"$f":"COUNTIF(IF(ISERROR(INDIRECT(\"'Børn \"&A182&\"'!$H$61\",TRUE)),\"\",INDIRECT(\"'Børn \"&A182&\"'!$H$61\",TRUE)),1)","v":{"$error":"#VALUE!"}},{"$f":"COUNTIF(IF(ISERROR(INDIRECT(\"'Børn \"&A182&\"'!$H$68\",TRUE)),\"\",INDIRECT(\"'Børn \"&A182&\"'!$H$68\",TRUE)),1)","v":{"$error":"#VALUE!"}},{"$f":"COUNTIF(IF(ISERROR(INDIRECT(\"'Børn \"&A182&\"'!$H$79\",TRUE)),\"\",INDIRECT(\"'Børn \"&A182&\"'!$H$79\",TRUE)),1)","v":{"$error":"#VALUE!"}},{"$f":"COUNTIF(IF(ISERROR(INDIRECT(\"'Børn \"&A182&\"'!$H$87\",TRUE)),\"\",INDIRECT(\"'Børn \"&A182&\"'!$H$87\",TRUE)),1)","v":{"$error":"#VALUE!"}},null,null,null,"Tilsyn 61",{"$f":"IF(INDIRECT(\"'Voksen \"&U182&\"'!$c$112\")=\"\",\"\",IFERROR(INDIRECT(\"'Voksen \"&U182&\"'!$c$112\",TRUE),\"\"))","v":{"$error":"#REF!"}},{"$f":"IF(INDIRECT(\"'Voksen \"&U182&\"'!$c$133\")=\"\",\"\",IFERROR(INDIRECT(\"'Voksen \"&U182&\"'!$c$133\",TRUE),\"\"))","v":{"$error":"#REF!"}},{"$f":"IF(INDIRECT(\"'Voksen \"&U182&\"'!$c$154\")=\"\",\"\",IFERROR(INDIRECT(\"'Voksen \"&U182&\"'!$c$154\",TRUE),\"\"))","v":{"$error":"#REF!"}},{"$f":"IF(INDIRECT(\"'Voksen \"&U182&\"'!$c$169\")=\"\",\"\",IFERROR(INDIRECT(\"'Voksen \"&U182&\"'!$c$169\",TRUE),\"\"))","v":{"$error":"#REF!"}},{"$f":"IF(INDIRECT(\"'Voksen \"&U182&\"'!$c$186\")=\"\",\"\",IFERROR(INDIRECT(\"'Voksen \"&U182&\"'!$c$186\",TRUE),\"\"))","v":{"$error":"#REF!"}},{"$f":"IF(INDIRECT(\"'Voksen \"&U182&\"'!$c$207\")=\"\",\"\",IFERROR(INDIRECT(\"'Voksen \"&U182&\"'!$c$207\",TRUE),\"\"))","v":{"$error":"#REF!"}},{"$f":"IF(INDIRECT(\"'Voksen \"&U182&\"'!$c$229\")=\"\",\"\",IFERROR(INDIRECT(\"'Voksen \"&U182&\"'!$c$229\",TRUE),\"\"))","v":{"$error":"#REF!"}},{"$f":"IF(INDIRECT(\"'Voksen \"&U182&\"'!$c$255\")=\"\",\"\",IFERROR(INDIRECT(\"'Voksen \"&U182&\"'!$c$255\",TRUE),\"\"))","v":{"$error":"#REF!"}},null,{"$f":"IF(INDIRECT(\"'Børn \"&U182&\"'!$c$123\")=\"\",\"\",IFERROR(INDIRECT(\"'Børn \"&U182&\"'!$c$123\",TRUE),\"\"))","v":{"$error":"#REF!"}},{"$f":"IF(INDIRECT(\"'Børn \"&U182&\"'!$c$139\")=\"\",\"\",IFERROR(INDIRECT(\"'Børn \"&U182&\"'!$c$139\",TRUE),\"\"))","v":{"$error":"#REF!"}},{"$f":"IF(INDIRECT(\"'Børn \"&U182&\"'!$c$163\")=\"\",\"\",IFERROR(INDIRECT(\"'Børn \"&U182&\"'!$c$163\",TRUE),\"\"))","v":{"$error":"#REF!"}},{"$f":"IF(INDIRECT(\"'Børn \"&U182&\"'!$c$177\")=\"\",\"\",IFERROR(INDIRECT(\"'Børn \"&U182&\"'!$c$177\",TRUE),\"\"))","v":{"$error":"#REF!"}},{"$f":"IF(INDIRECT(\"'Børn \"&U182&\"'!$c$197\")=\"\",\"\",IFERROR(INDIRECT(\"'Børn \"&U182&\"'!$c$197\",TRUE),\"\"))","v":{"$error":"#REF!"}},{"$f":"IF(INDIRECT(\"'Børn \"&U182&\"'!$c$218\")=\"\",\"\",IFERROR(INDIRECT(\"'Børn \"&U182&\"'!$c$218\",TRUE),\"\"))","v":{"$error":"#REF!"}},{"$f":"IF(INDIRECT(\"'Børn \"&U182&\"'!$c$241\")=\"\",\"\",IFERROR(INDIRECT(\"'Børn \"&U182&\"'!$c$241\",TRUE),\"\"))","v":{"$error":"#REF!"}}]
["Tilsyn 41","Status:  gul",{"$f":"COUNTIF(IF(ISERROR(INDIRECT(\"'Voksen \"&A183&\"'!$H$31\",TRUE)),\"\",INDIRECT(\"'Voksen \"&A183&\"'!$H$31\",TRUE)),2)","v":{"$error":"#VALUE!"}},{"$f":"COUNTIF(IF(ISERROR(INDIRECT(\"'Voksen \"&A183&\"'!$H$41\",TRUE)),\"\",INDIRECT(\"'Voksen \"&A183&\"'!$H$41\",TRUE)),2)","v":{"$error":"#VALUE!"}},{"$f":"COUNTIF(IF(ISERROR(INDIRECT(\"'Voksen \"&A183&\"'!$H$50\",TRUE)),\"\",INDIRECT(\"'Voksen \"&A183&\"'!$H$50\",TRUE)),2)","v":{"$error":"#VALUE!"}},{"$f":"COUNTIF(IF(ISERROR(INDIRECT(\"'Voksen \"&A183&\"'!$H$58\",TRUE)),\"\",INDIRECT(\"'Voksen \"&A183&\"'!$H$58\",TRUE)),2)","v":{"$error":"#VALUE!"}},{"$f":"COUNTIF(IF(ISERROR(INDIRECT(\"'Voksen \"&A183&\"'!$H$69\",TRUE)),\"\",INDIRECT(\"'Voksen \"&A183&\"'!$H$69\",TRUE)),2)","v":{"$error":"#VALUE!"}},{"$f":"COUNTIF(IF(ISERROR(INDIRECT(\"'Voksen \"&A183&\"'!$H$77\",TRUE)),\"\",INDIRECT(\"'Voksen \"&A183&\"'!$H$77\",TRUE)),2)","v":{"$error":"#VALUE!"}},null,null,{"$f":"COUNTIF(IF(ISERROR(INDIRECT(\"'Børn \"&A183&\"'!$H$31\",TRUE)),\"\",INDIRECT(\"'Børn \"&A183&\"'!$H$31\",TRUE)),2)","v":{"$error":"#VALUE!"}},{"$f":"COUNTIF(IF(ISERROR(INDIRECT(\"'Børn \"&A183&\"'!$H$44\",TRUE)),\"\",INDIRECT(\"'Børn \"&A183&\"'!$H$44\",TRUE)),2)","v":{"$error":"#VALUE!"}},{"$f":"COUNTIF(IF(ISERROR(INDIRECT(\"'Børn \"&A183&\"'!$H$53\",TRUE)),\"\",INDIRECT(\"'Børn \"&A183&\"'!$H$53\",TRUE)),2)","v":{"$error":"#VALUE!"}},{"$f":"COUNTIF(IF(ISERROR(INDIRECT(\"'Børn \"&A183&\"'!$H$61\",TRUE)),\"\",INDIRECT(\"'Børn \"&A183&\"'!$H$61\",TRUE)),2)","v":{"$error":"#VALUE!"}},{"$f":"COUNTIF(IF(ISERROR(INDIRECT(\"'Børn \"&A183&\"'!$H$68\",TRUE)),\"\",INDIRECT(\"'Børn \"&A183&\"'!$H$68\",TRUE)),2)","v":{"$error":"#VALUE!"}},{"$f":"COUNTIF(IF(ISERROR(INDIRECT(\"'Børn \"&A183&\"'!$H$79\",TRUE)),\"\",INDIRECT(\"'Børn \"&A183&\"'!$H$79\",TRUE)),2)","v":{"$error":"#VALUE!"}},{"$f":"COUNTIF(IF(ISERROR(INDIRECT(\"'Børn \"&A183&\"'!$H$87\",TRUE)),\"\",INDIRECT(\"'Børn \"&A183&\"'!$H$87\",TRUE)),2)","v":{"$error":"#VALUE!"}},null,null,null,{"$f":"U182","v":"Tilsyn 61"},{"$f":"IF(INDIRECT(\"'Voksen \"&U183&\"'!$c$115\")=\"\",\"\",IFERROR(INDIRECT(\"'Voksen \"&U183&\"'!$c$115\",TRUE),\"\"))","v":{"$error":"#REF!"}},{"$f":"IF(INDIRECT(\"'Voksen \"&U183&\"'!$c$136\")=\"\",\"\",IFERROR(INDIRECT(\"'Voksen \"&U183&\"'!$c$136\",TRUE),\"\"))","v":{"$error":"#REF!"}},{"$f":"IF(INDIRECT(\"'Voksen \"&U183&\"'!$c$157\")=\"\",\"\",IFERROR(INDIRECT(\"'Voksen \"&U183&\"'!$c$157\",TRUE),\"\"))","v":{"$error":"#REF!"}},{"$f":"IF(INDIRECT(\"'Voksen \"&U183&\"'!$c$172\")=\"\",\"\",IFERROR(INDIRECT(\"'Voksen \"&U183&\"'!$c$172\",TRUE),\"\"))","v":{"$error":"#REF!"}},{"$f":"IF(INDIRECT(\"'Voksen \"&U183&\"'!$c$189\")=\"\",\"\",IFERROR(INDIRECT(\"'Voksen \"&U183&\"'!$c$189\",TRUE),\"\"))","v":{"$error":"#REF!"}},{"$f":"IF(INDIRECT(\"'Voksen \"&U183&\"'!$c$210\")=\"\",\"\",IFERROR(INDIRECT(\"'Voksen \"&U183&\"'!$c$210\",TRUE),\"\"))","v":{"$error":"#REF!"}},{"$f":"IF(INDIRECT(\"'Voksen \"&U183&\"'!$c$232\")=\"\",\"\",IFERROR(INDIRECT(\"'Voksen \"&U183&\"'!$c$232\",TRUE),\"\"))","v":{"$error":"#REF!"}},{"$f":"IF(INDIRECT(\"'Voksen \"&U183&\"'!$c$258\")=\"\",\"\",IFERROR(INDIRECT(\"'Voksen \"&U183&\"'!$c$258\",TRUE),\"\"))","v":{"$error":"#REF!"}},null,{"$f":"IF(INDIRECT(\"'Børn \"&U183&\"'!$c$126\")=\"\",\"\",IFERROR(INDIRECT(\"'Børn \"&U183&\"'!$c$126\",TRUE),\"\"))","v":{"$error":"#REF!"}},{"$f":"IF(INDIRECT(\"'Børn \"&U183&\"'!$c$142\")=\"\",\"\",IFERROR(INDIRECT(\"'Børn \"&U183&\"'!$c$142\",TRUE),\"\"))","v":{"$error":"#REF!"}},{"$f":"IF(INDIRECT(\"'Børn \"&U183&\"'!$c$166\")=\"\",\"\",IFERROR(INDIRECT(\"'Børn \"&U183&\"'!$c$166\",TRUE),\"\"))","v":{"$error":"#REF!"}},{"$f":"IF(INDIRECT(\"'Børn \"&U183&\"'!$c$180\")=\"\",\"\",IFERROR(INDIRECT(\"'Børn \"&U183&\"'!$c$180\",TRUE),\"\"))","v":{"$error":"#REF!"}},{"$f":"IF(INDIRECT(\"'Børn \"&U183&\"'!$c$200\")=\"\",\"\",IFERROR(INDIRECT(\"'Børn \"&U183&\"'!$c$200\",TRUE),\"\"))","v":{"$error":"#REF!"}},{"$f":"IF(INDIRECT(\"'Børn \"&U183&\"'!$c$221\")=\"\",\"\",IFERROR(INDIRECT(\"'Børn \"&U183&\"'!$c$221\",TRUE),\"\"))","v":{"$error":"#REF!"}},{"$f":"IF(INDIRECT(\"'Børn \"&U183&\"'!$c$244\")=\"\",\"\",IFERROR(INDIRECT(\"'Børn \"&U183&\"'!$c$244\",TRUE),\"\"))","v":{"$error":"#REF!"}}]
["Tilsyn 41","Status:  rød",{"$f":"COUNTIF(IF(ISERROR(INDIRECT(\"'Voksen \"&A184&\"'!$H$31\",TRUE)),\"\",INDIRECT(\"'Voksen \"&A184&\"'!$H$31\",TRUE)),3)","v":{"$error":"#VALUE!"}},{"$f":"COUNTIF(IF(ISERROR(INDIRECT(\"'Voksen \"&A184&\"'!$H$41\",TRUE)),\"\",INDIRECT(\"'Voksen \"&A184&\"'!$H$41\",TRUE)),3)","v":{"$error":"#VALUE!"}},{"$f":"COUNTIF(IF(ISERROR(INDIRECT(\"'Voksen \"&A184&\"'!$H$50\",TRUE)),\"\",INDIRECT(\"'Voksen \"&A184&\"'!$H$50\",TRUE)),3)","v":{"$error":"#VALUE!"}},{"$f":"COUNTIF(IF(ISERROR(INDIRECT(\"'Voksen \"&A184&\"'!$H$58\",TRUE)),\"\",INDIRECT(\"'Voksen \"&A184&\"'!$H$58\",TRUE)),3)","v":{"$error":"#VALUE!"}},{"$f":"COUNTIF(IF(ISERROR(INDIRECT(\"'Voksen \"&A184&\"'!$H$69\",TRUE)),\"\",INDIRECT(\"'Voksen \"&A184&\"'!$H$69\",TRUE)),3)","v":{"$error":"#VALUE!"}},{"$f":"COUNTIF(IF(ISERROR(INDIRECT(\"'Voksen \"&A184&\"'!$H$77\",TRUE)),\"\",INDIRECT(\"'Voksen \"&A184&\"'!$H$77\",TRUE)),3)","v":{"$error":"#VALUE!"}},null,null,{"$f":"COUNTIF(IF(ISERROR(INDIRECT(\"'Børn \"&A184&\"'!$H$31\",TRUE)),\"\",INDIRECT(\"'Børn \"&A184&\"'!$H$31\",TRUE)),3)","v":{"$error":"#VALUE!"}},{"$f":"COUNTIF(IF(ISERROR(INDIRECT(\"'Børn \"&A184&\"'!$H$44\",TRUE)),\"\",INDIRECT(\"'Børn \"&A184&\"'!$H$44\",TRUE)),3)","v":{"$error":"#VALUE!"}},{"$f":"COUNTIF(IF(ISERROR(INDIRECT(\"'Børn \"&A184&\"'!$H$53\",TRUE)),\"\",INDIRECT(\"'Børn \"&A184&\"'!$H$53\",TRUE)),3)","v":{"$error":"#VALUE!"}},{"$f":"COUNTIF(IF(ISERROR(INDIRECT(\"'Børn \"&A184&\"'!$H$61\",TRUE)),\"\",INDIRECT(\"'Børn \"&A184&\"'!$H$61\",TRUE)),3)","v":{"$error":"#VALUE!"}},{"$f":"COUNTIF(IF(ISERROR(INDIRECT(\"'Børn \"&A184&\"'!$H$68\",TRUE)),\"\",INDIRECT(\"'Børn \"&A184&\"'!$H$68\",TRUE)),3)","v":{"$error":"#VALUE!"}},{"$f":"COUNTIF(IF(ISERROR(INDIRECT(\"'Børn \"&A184&\"'!$H$79\",TRUE)),\"\",INDIRECT(\"'Børn \"&A184&\"'!$H$79\",TRUE)),3)","v":{"$error":"#VALUE!"}},{"$f":"COUNTIF(IF(ISERROR(INDIRECT(\"'Børn \"&A184&\"'!$H$87\",TRUE)),\"\",INDIRECT(\"'Børn \"&A184&\"'!$H$87\",TRUE)),3)","v":{"$error":"#VALUE!"}},null,null,null,"Tilsyn 62",{"$f":"IF(INDIRECT(\"'Voksen \"&U184&\"'!$c$112\")=\"\",\"\",IFERROR(INDIRECT(\"'Voksen \"&U184&\"'!$c$112\",TRUE),\"\"))","v":{"$error":"#REF!"}},{"$f":"IF(INDIRECT(\"'Voksen \"&U184&\"'!$c$133\")=\"\",\"\",IFERROR(INDIRECT(\"'Voksen \"&U184&\"'!$c$133\",TRUE),\"\"))","v":{"$error":"#REF!"}},{"$f":"IF(INDIRECT(\"'Voksen \"&U184&\"'!$c$154\")=\"\",\"\",IFERROR(INDIRECT(\"'Voksen \"&U184&\"'!$c$154\",TRUE),\"\"))","v":{"$error":"#REF!"}},{"$f":"IF(INDIRECT(\"'Voksen \"&U184&\"'!$c$169\")=\"\",\"\",IFERROR(INDIRECT(\"'Voksen \"&U184&\"'!$c$169\",TRUE),\"\"))","v":{"$error":"#REF!"}},{"$f":"IF(INDIRECT(\"'Voksen \"&U184&\"'!$c$186\")=\"\",\"\",IFERROR(INDIRECT(\"'Voksen \"&U184&\"'!$c$186\",TRUE),\"\"))","v":{"$error":"#REF!"}},{"$f":"IF(INDIRECT(\"'Voksen \"&U184&\"'!$c$207\")=\"\",\"\",IFERROR(INDIRECT(\"'Voksen \"&U184&\"'!$c$207\",TRUE),\"\"))","v":{"$error":"#REF!"}},{"$f":"IF(INDIRECT(\"'Voksen \"&U184&\"'!$c$229\")=\"\",\"\",IFERROR(INDIRECT(\"'Voksen \"&U184&\"'!$c$229\",TRUE),\"\"))","v":{"$error":"#REF!"}},{"$f":"IF(INDIRECT(\"'Voksen \"&U184&\"'!$c$255\")=\"\",\"\",IFERROR(INDIRECT(\"'Voksen \"&U184&\"'!$c$255\",TRUE),\"\"))","v":{"$error":"#REF!"}},null,{"$f":"IF(INDIRECT(\"'Børn \"&U184&\"'!$c$123\")=\"\",\"\",IFERROR(INDIRECT(\"'Børn \"&U184&\"'!$c$123\",TRUE),\"\"))","v":{"$error":"#REF!"}},{"$f":"IF(INDIRECT(\"'Børn \"&U184&\"'!$c$139\")=\"\",\"\",IFERROR(INDIRECT(\"'Børn \"&U184&\"'!$c$139\",TRUE),\"\"))","v":{"$error":"#REF!"}},{"$f":"IF(INDIRECT(\"'Børn \"&U184&\"'!$c$163\")=\"\",\"\",IFERROR(INDIRECT(\"'Børn \"&U184&\"'!$c$163\",TRUE),\"\"))","v":{"$error":"#REF!"}},{"$f":"IF(INDIRECT(\"'Børn \"&U184&\"'!$c$177\")=\"\",\"\",IFERROR(INDIRECT(\"'Børn \"&U184&\"'!$c$177\",TRUE),\"\"))","v":{"$error":"#REF!"}},{"$f":"IF(INDIRECT(\"'Børn \"&U184&\"'!$c$197\")=\"\",\"\",IFERROR(INDIRECT(\"'Børn \"&U184&\"'!$c$197\",TRUE),\"\"))","v":{"$error":"#REF!"}},{"$f":"IF(INDIRECT(\"'Børn \"&U184&\"'!$c$218\")=\"\",\"\",IFERROR(INDIRECT(\"'Børn \"&U184&\"'!$c$218\",TRUE),\"\"))","v":{"$error":"#REF!"}},{"$f":"IF(INDIRECT(\"'Børn \"&U184&\"'!$c$241\")=\"\",\"\",IFERROR(INDIRECT(\"'Børn \"&U184&\"'!$c$241\",TRUE),\"\"))","v":{"$error":"#REF!"}}]
["Tilsyn 42","Status:  grøn",{"$f":"COUNTIF(IF(ISERROR(INDIRECT(\"'Voksen \"&A185&\"'!$H$31\",TRUE)),\"\",INDIRECT(\"'Voksen \"&A185&\"'!$H$31\",TRUE)),1)","v":{"$error":"#VALUE!"}},{"$f":"COUNTIF(IF(ISERROR(INDIRECT(\"'Voksen \"&A185&\"'!$H$41\",TRUE)),\"\",INDIRECT(\"'Voksen \"&A185&\"'!$H$41\",TRUE)),1)","v":{"$error":"#VALUE!"}},{"$f":"COUNTIF(IF(ISERROR(INDIRECT(\"'Voksen \"&A185&\"'!$H$50\",TRUE)),\"\",INDIRECT(\"'Voksen \"&A185&\"'!$H$50\",TRUE)),1)","v":{"$error":"#VALUE!"}},{"$f":"COUNTIF(IF(ISERROR(INDIRECT(\"'Voksen \"&A185&\"'!$H$58\",TRUE)),\"\",INDIRECT(\"'Voksen \"&A185&\"'!$H$58\",TRUE)),1)","v":{"$error":"#VALUE!"}},{"$f":"COUNTIF(IF(ISERROR(INDIRECT(\"'Voksen \"&A185&\"'!$H$69\",TRUE)),\"\",INDIRECT(\"'Voksen \"&A185&\"'!$H$69\",TRUE)),1)","v":{"$error":"#VALUE!"}},{"$f":"COUNTIF(IF(ISERROR(INDIRECT(\"'Voksen \"&A185&\"'!$H$77\",TRUE)),\"\",INDIRECT(\"'Voksen \"&A185&\"'!$H$77\",TRUE)),1)","v":{"$error":"#VALUE!"}},null,null,{"$f":"COUNTIF(IF(ISERROR(INDIRECT(\"'Børn \"&A185&\"'!$H$31\",TRUE)),\"\",INDIRECT(\"'Børn \"&A185&\"'!$H$31\",TRUE)),1)","v":{"$error":"#VALUE!"}},{"$f":"COUNTIF(IF(ISERROR(INDIRECT(\"'Børn \"&A185&\"'!$H$44\",TRUE)),\"\",INDIRECT(\"'Børn \"&A185&\"'!$H$44\",TRUE)),1)","v":{"$error":"#VALUE!"}},{"$f":"COUNTIF(IF(ISERROR(INDIRECT(\"'Børn \"&A185&\"'!$H$53\",TRUE)),\"\",INDIRECT(\"'Børn \"&A185&\"'!$H$53\",TRUE)),1)","v":{"$error":"#VALUE!"}},{"$f":"COUNTIF(IF(ISERROR(INDIRECT(\"'Børn \"&A185&\"'!$H$61\",TRUE)),\"\",INDIRECT(\"'Børn \"&A185&\"'!$H$61\",TRUE)),1)","v":{"$error":"#VALUE!"}},{"$f":"COUNTIF(IF(ISERROR(INDIRECT(\"'Børn \"&A185&\"'!$H$68\",TRUE)),\"\",INDIRECT(\"'Børn \"&A185&\"'!$H$68\",TRUE)),1)","v":{"$error":"#VALUE!"}},{"$f":"COUNTIF(IF(ISERROR(INDIRECT(\"'Børn \"&A185&\"'!$H$79\",TRUE)),\"\",INDIRECT(\"'Børn \"&A185&\"'!$H$79\",TRUE)),1)","v":{"$error":"#VALUE!"}},{"$f":"COUNTIF(IF(ISERROR(INDIRECT(\"'Børn \"&A185&\"'!$H$87\",TRUE)),\"\",INDIRECT(\"'Børn \"&A185&\"'!$H$87\",TRUE)),1)","v":{"$error":"#VALUE!"}},null,null,null,{"$f":"U184","v":"Tilsyn 62"},{"$f":"IF(INDIRECT(\"'Voksen \"&U185&\"'!$c$115\")=\"\",\"\",IFERROR(INDIRECT(\"'Voksen \"&U185&\"'!$c$115\",TRUE),\"\"))","v":{"$error":"#REF!"}},{"$f":"IF(INDIRECT(\"'Voksen \"&U185&\"'!$c$136\")=\"\",\"\",IFERROR(INDIRECT(\"'Voksen \"&U185&\"'!$c$136\",TRUE),\"\"))","v":{"$error":"#REF!"}},{"$f":"IF(INDIRECT(\"'Voksen \"&U185&\"'!$c$157\")=\"\",\"\",IFERROR(INDIRECT(\"'Voksen \"&U185&\"'!$c$157\",TRUE),\"\"))","v":{"$error":"#REF!"}},{"$f":"IF(INDIRECT(\"'Voksen \"&U185&\"'!$c$172\")=\"\",\"\",IFERROR(INDIRECT(\"'Voksen \"&U185&\"'!$c$172\",TRUE),\"\"))","v":{"$error":"#REF!"}},{"$f":"IF(INDIRECT(\"'Voksen \"&U185&\"'!$c$189\")=\"\",\"\",IFERROR(INDIRECT(\"'Voksen \"&U185&\"'!$c$189\",TRUE),\"\"))","v":{"$error":"#REF!"}},{"$f":"IF(INDIRECT(\"'Voksen \"&U185&\"'!$c$210\")=\"\",\"\",IFERROR(INDIRECT(\"'Voksen \"&U185&\"'!$c$210\",TRUE),\"\"))","v":{"$error":"#REF!"}},{"$f":"IF(INDIRECT(\"'Voksen \"&U185&\"'!$c$232\")=\"\",\"\",IFERROR(INDIRECT(\"'Voksen \"&U185&\"'!$c$232\",TRUE),\"\"))","v":{"$error":"#REF!"}},{"$f":"IF(INDIRECT(\"'Voksen \"&U185&\"'!$c$258\")=\"\",\"\",IFERROR(INDIRECT(\"'Voksen \"&U185&\"'!$c$258\",TRUE),\"\"))","v":{"$error":"#REF!"}},null,{"$f":"IF(INDIRECT(\"'Børn \"&U185&\"'!$c$126\")=\"\",\"\",IFERROR(INDIRECT(\"'Børn \"&U185&\"'!$c$126\",TRUE),\"\"))","v":{"$error":"#REF!"}},{"$f":"IF(INDIRECT(\"'Børn \"&U185&\"'!$c$142\")=\"\",\"\",IFERROR(INDIRECT(\"'Børn \"&U185&\"'!$c$142\",TRUE),\"\"))","v":{"$error":"#REF!"}},{"$f":"IF(INDIRECT(\"'Børn \"&U185&\"'!$c$166\")=\"\",\"\",IFERROR(INDIRECT(\"'Børn \"&U185&\"'!$c$166\",TRUE),\"\"))","v":{"$error":"#REF!"}},{"$f":"IF(INDIRECT(\"'Børn \"&U185&\"'!$c$180\")=\"\",\"\",IFERROR(INDIRECT(\"'Børn \"&U185&\"'!$c$180\",TRUE),\"\"))","v":{"$error":"#REF!"}},{"$f":"IF(INDIRECT(\"'Børn \"&U185&\"'!$c$200\")=\"\",\"\",IFERROR(INDIRECT(\"'Børn \"&U185&\"'!$c$200\",TRUE),\"\"))","v":{"$error":"#REF!"}},{"$f":"IF(INDIRECT(\"'Børn \"&U185&\"'!$c$221\")=\"\",\"\",IFERROR(INDIRECT(\"'Børn \"&U185&\"'!$c$221\",TRUE),\"\"))","v":{"$error":"#REF!"}},{"$f":"IF(INDIRECT(\"'Børn \"&U185&\"'!$c$244\")=\"\",\"\",IFERROR(INDIRECT(\"'Børn \"&U185&\"'!$c$244\",TRUE),\"\"))","v":{"$error":"#REF!"}}]
["Tilsyn 42","Status:  gul",{"$f":"COUNTIF(IF(ISERROR(INDIRECT(\"'Voksen \"&A186&\"'!$H$31\",TRUE)),\"\",INDIRECT(\"'Voksen \"&A186&\"'!$H$31\",TRUE)),2)","v":{"$error":"#VALUE!"}},{"$f":"COUNTIF(IF(ISERROR(INDIRECT(\"'Voksen \"&A186&\"'!$H$41\",TRUE)),\"\",INDIRECT(\"'Voksen \"&A186&\"'!$H$41\",TRUE)),2)","v":{"$error":"#VALUE!"}},{"$f":"COUNTIF(IF(ISERROR(INDIRECT(\"'Voksen \"&A186&\"'!$H$50\",TRUE)),\"\",INDIRECT(\"'Voksen \"&A186&\"'!$H$50\",TRUE)),2)","v":{"$error":"#VALUE!"}},{"$f":"COUNTIF(IF(ISERROR(INDIRECT(\"'Voksen \"&A186&\"'!$H$58\",TRUE)),\"\",INDIRECT(\"'Voksen \"&A186&\"'!$H$58\",TRUE)),2)","v":{"$error":"#VALUE!"}},{"$f":"COUNTIF(IF(ISERROR(INDIRECT(\"'Voksen \"&A186&\"'!$H$69\",TRUE)),\"\",INDIRECT(\"'Voksen \"&A186&\"'!$H$69\",TRUE)),2)","v":{"$error":"#VALUE!"}},{"$f":"COUNTIF(IF(ISERROR(INDIRECT(\"'Voksen \"&A186&\"'!$H$77\",TRUE)),\"\",INDIRECT(\"'Voksen \"&A186&\"'!$H$77\",TRUE)),2)","v":{"$error":"#VALUE!"}},null,null,{"$f":"COUNTIF(IF(ISERROR(INDIRECT(\"'Børn \"&A186&\"'!$H$31\",TRUE)),\"\",INDIRECT(\"'Børn \"&A186&\"'!$H$31\",TRUE)),2)","v":{"$error":"#VALUE!"}},{"$f":"COUNTIF(IF(ISERROR(INDIRECT(\"'Børn \"&A186&\"'!$H$44\",TRUE)),\"\",INDIRECT(\"'Børn \"&A186&\"'!$H$44\",TRUE)),2)","v":{"$error":"#VALUE!"}},{"$f":"COUNTIF(IF(ISERROR(INDIRECT(\"'Børn \"&A186&\"'!$H$53\",TRUE)),\"\",INDIRECT(\"'Børn \"&A186&\"'!$H$53\",TRUE)),2)","v":{"$error":"#VALUE!"}},{"$f":"COUNTIF(IF(ISERROR(INDIRECT(\"'Børn \"&A186&\"'!$H$61\",TRUE)),\"\",INDIRECT(\"'Børn \"&A186&\"'!$H$61\",TRUE)),2)","v":{"$error":"#VALUE!"}},{"$f":"COUNTIF(IF(ISERROR(INDIRECT(\"'Børn \"&A186&\"'!$H$68\",TRUE)),\"\",INDIRECT(\"'Børn \"&A186&\"'!$H$68\",TRUE)),2)","v":{"$error":"#VALUE!"}},{"$f":"COUNTIF(IF(ISERROR(INDIRECT(\"'Børn \"&A186&\"'!$H$79\",TRUE)),\"\",INDIRECT(\"'Børn \"&A186&\"'!$H$79\",TRUE)),2)","v":{"$error":"#VALUE!"}},{"$f":"COUNTIF(IF(ISERROR(INDIRECT(\"'Børn \"&A186&\"'!$H$87\",TRUE)),\"\",INDIRECT(\"'Børn \"&A186&\"'!$H$87\",TRUE)),2)","v":{"$error":"#VALUE!"}},null,null,null,"Tilsyn 63",{"$f":"IF(INDIRECT(\"'Voksen \"&U186&\"'!$c$112\")=\"\",\"\",IFERROR(INDIRECT(\"'Voksen \"&U186&\"'!$c$112\",TRUE),\"\"))","v":{"$error":"#REF!"}},{"$f":"IF(INDIRECT(\"'Voksen \"&U186&\"'!$c$133\")=\"\",\"\",IFERROR(INDIRECT(\"'Voksen \"&U186&\"'!$c$133\",TRUE),\"\"))","v":{"$error":"#REF!"}},{"$f":"IF(INDIRECT(\"'Voksen \"&U186&\"'!$c$154\")=\"\",\"\",IFERROR(INDIRECT(\"'Voksen \"&U186&\"'!$c$154\",TRUE),\"\"))","v":{"$error":"#REF!"}},{"$f":"IF(INDIRECT(\"'Voksen \"&U186&\"'!$c$169\")=\"\",\"\",IFERROR(INDIRECT(\"'Voksen \"&U186&\"'!$c$169\",TRUE),\"\"))","v":{"$error":"#REF!"}},{"$f":"IF(INDIRECT(\"'Voksen \"&U186&\"'!$c$186\")=\"\",\"\",IFERROR(INDIRECT(\"'Voksen \"&U186&\"'!$c$186\",TRUE),\"\"))","v":{"$error":"#REF!"}},{"$f":"IF(INDIRECT(\"'Voksen \"&U186&\"'!$c$207\")=\"\",\"\",IFERROR(INDIRECT(\"'Voksen \"&U186&\"'!$c$207\",TRUE),\"\"))","v":{"$error":"#REF!"}},{"$f":"IF(INDIRECT(\"'Voksen \"&U186&\"'!$c$229\")=\"\",\"\",IFERROR(INDIRECT(\"'Voksen \"&U186&\"'!$c$229\",TRUE),\"\"))","v":{"$error":"#REF!"}},{"$f":"IF(INDIRECT(\"'Voksen \"&U186&\"'!$c$255\")=\"\",\"\",IFERROR(INDIRECT(\"'Voksen \"&U186&\"'!$c$255\",TRUE),\"\"))","v":{"$error":"#REF!"}},null,{"$f":"IF(INDIRECT(\"'Børn \"&U186&\"'!$c$123\")=\"\",\"\",IFERROR(INDIRECT(\"'Børn \"&U186&\"'!$c$123\",TRUE),\"\"))","v":{"$error":"#REF!"}},{"$f":"IF(INDIRECT(\"'Børn \"&U186&\"'!$c$139\")=\"\",\"\",IFERROR(INDIRECT(\"'Børn \"&U186&\"'!$c$139\",TRUE),\"\"))","v":{"$error":"#REF!"}},{"$f":"IF(INDIRECT(\"'Børn \"&U186&\"'!$c$163\")=\"\",\"\",IFERROR(INDIRECT(\"'Børn \"&U186&\"'!$c$163\",TRUE),\"\"))","v":{"$error":"#REF!"}},{"$f":"IF(INDIRECT(\"'Børn \"&U186&\"'!$c$177\")=\"\",\"\",IFERROR(INDIRECT(\"'Børn \"&U186&\"'!$c$177\",TRUE),\"\"))","v":{"$error":"#REF!"}},{"$f":"IF(INDIRECT(\"'Børn \"&U186&\"'!$c$197\")=\"\",\"\",IFERROR(INDIRECT(\"'Børn \"&U186&\"'!$c$197\",TRUE),\"\"))","v":{"$error":"#REF!"}},{"$f":"IF(INDIRECT(\"'Børn \"&U186&\"'!$c$218\")=\"\",\"\",IFERROR(INDIRECT(\"'Børn \"&U186&\"'!$c$218\",TRUE),\"\"))","v":{"$error":"#REF!"}},{"$f":"IF(INDIRECT(\"'Børn \"&U186&\"'!$c$241\")=\"\",\"\",IFERROR(INDIRECT(\"'Børn \"&U186&\"'!$c$241\",TRUE),\"\"))","v":{"$error":"#REF!"}}]
["Tilsyn 42","Status:  rød",{"$f":"COUNTIF(IF(ISERROR(INDIRECT(\"'Voksen \"&A187&\"'!$H$31\",TRUE)),\"\",INDIRECT(\"'Voksen \"&A187&\"'!$H$31\",TRUE)),3)","v":{"$error":"#VALUE!"}},{"$f":"COUNTIF(IF(ISERROR(INDIRECT(\"'Voksen \"&A187&\"'!$H$41\",TRUE)),\"\",INDIRECT(\"'Voksen \"&A187&\"'!$H$41\",TRUE)),3)","v":{"$error":"#VALUE!"}},{"$f":"COUNTIF(IF(ISERROR(INDIRECT(\"'Voksen \"&A187&\"'!$H$50\",TRUE)),\"\",INDIRECT(\"'Voksen \"&A187&\"'!$H$50\",TRUE)),3)","v":{"$error":"#VALUE!"}},{"$f":"COUNTIF(IF(ISERROR(INDIRECT(\"'Voksen \"&A187&\"'!$H$58\",TRUE)),\"\",INDIRECT(\"'Voksen \"&A187&\"'!$H$58\",TRUE)),3)","v":{"$error":"#VALUE!"}},{"$f":"COUNTIF(IF(ISERROR(INDIRECT(\"'Voksen \"&A187&\"'!$H$69\",TRUE)),\"\",INDIRECT(\"'Voksen \"&A187&\"'!$H$69\",TRUE)),3)","v":{"$error":"#VALUE!"}},{"$f":"COUNTIF(IF(ISERROR(INDIRECT(\"'Voksen \"&A187&\"'!$H$77\",TRUE)),\"\",INDIRECT(\"'Voksen \"&A187&\"'!$H$77\",TRUE)),3)","v":{"$error":"#VALUE!"}},null,null,{"$f":"COUNTIF(IF(ISERROR(INDIRECT(\"'Børn \"&A187&\"'!$H$31\",TRUE)),\"\",INDIRECT(\"'Børn \"&A187&\"'!$H$31\",TRUE)),3)","v":{"$error":"#VALUE!"}},{"$f":"COUNTIF(IF(ISERROR(INDIRECT(\"'Børn \"&A187&\"'!$H$44\",TRUE)),\"\",INDIRECT(\"'Børn \"&A187&\"'!$H$44\",TRUE)),3)","v":{"$error":"#VALUE!"}},{"$f":"COUNTIF(IF(ISERROR(INDIRECT(\"'Børn \"&A187&\"'!$H$53\",TRUE)),\"\",INDIRECT(\"'Børn \"&A187&\"'!$H$53\",TRUE)),3)","v":{"$error":"#VALUE!"}},{"$f":"COUNTIF(IF(ISERROR(INDIRECT(\"'Børn \"&A187&\"'!$H$61\",TRUE)),\"\",INDIRECT(\"'Børn \"&A187&\"'!$H$61\",TRUE)),3)","v":{"$error":"#VALUE!"}},{"$f":"COUNTIF(IF(ISERROR(INDIRECT(\"'Børn \"&A187&\"'!$H$68\",TRUE)),\"\",INDIRECT(\"'Børn \"&A187&\"'!$H$68\",TRUE)),3)","v":{"$error":"#VALUE!"}},{"$f":"COUNTIF(IF(ISERROR(INDIRECT(\"'Børn \"&A187&\"'!$H$79\",TRUE)),\"\",INDIRECT(\"'Børn \"&A187&\"'!$H$79\",TRUE)),3)","v":{"$error":"#VALUE!"}},{"$f":"COUNTIF(IF(ISERROR(INDIRECT(\"'Børn \"&A187&\"'!$H$87\",TRUE)),\"\",INDIRECT(\"'Børn \"&A187&\"'!$H$87\",TRUE)),3)","v":{"$error":"#VALUE!"}},null,null,null,{"$f":"U186","v":"Tilsyn 63"},{"$f":"IF(INDIRECT(\"'Voksen \"&U187&\"'!$c$115\")=\"\",\"\",IFERROR(INDIRECT(\"'Voksen \"&U187&\"'!$c$115\",TRUE),\"\"))","v":{"$error":"#REF!"}},{"$f":"IF(INDIRECT(\"'Voksen \"&U187&\"'!$c$136\")=\"\",\"\",IFERROR(INDIRECT(\"'Voksen \"&U187&\"'!$c$136\",TRUE),\"\"))","v":{"$error":"#REF!"}},{"$f":"IF(INDIRECT(\"'Voksen \"&U187&\"'!$c$157\")=\"\",\"\",IFERROR(INDIRECT(\"'Voksen \"&U187&\"'!$c$157\",TRUE),\"\"))","v":{"$error":"#REF!"}},{"$f":"IF(INDIRECT(\"'Voksen \"&U187&\"'!$c$172\")=\"\",\"\",IFERROR(INDIRECT(\"'Voksen \"&U187&\"'!$c$172\",TRUE),\"\"))","v":{"$error":"#REF!"}},{"$f":"IF(INDIRECT(\"'Voksen \"&U187&\"'!$c$189\")=\"\",\"\",IFERROR(INDIRECT(\"'Voksen \"&U187&\"'!$c$189\",TRUE),\"\"))","v":{"$error":"#REF!"}},{"$f":"IF(INDIRECT(\"'Voksen \"&U187&\"'!$c$210\")=\"\",\"\",IFERROR(INDIRECT(\"'Voksen \"&U187&\"'!$c$210\",TRUE),\"\"))","v":{"$error":"#REF!"}},{"$f":"IF(INDIRECT(\"'Voksen \"&U187&\"'!$c$232\")=\"\",\"\",IFERROR(INDIRECT(\"'Voksen \"&U187&\"'!$c$232\",TRUE),\"\"))","v":{"$error":"#REF!"}},{"$f":"IF(INDIRECT(\"'Voksen \"&U187&\"'!$c$258\")=\"\",\"\",IFERROR(INDIRECT(\"'Voksen \"&U187&\"'!$c$258\",TRUE),\"\"))","v":{"$error":"#REF!"}},null,{"$f":"IF(INDIRECT(\"'Børn \"&U187&\"'!$c$126\")=\"\",\"\",IFERROR(INDIRECT(\"'Børn \"&U187&\"'!$c$126\",TRUE),\"\"))","v":{"$error":"#REF!"}},{"$f":"IF(INDIRECT(\"'Børn \"&U187&\"'!$c$142\")=\"\",\"\",IFERROR(INDIRECT(\"'Børn \"&U187&\"'!$c$142\",TRUE),\"\"))","v":{"$error":"#REF!"}},{"$f":"IF(INDIRECT(\"'Børn \"&U187&\"'!$c$166\")=\"\",\"\",IFERROR(INDIRECT(\"'Børn \"&U187&\"'!$c$166\",TRUE),\"\"))","v":{"$error":"#REF!"}},{"$f":"IF(INDIRECT(\"'Børn \"&U187&\"'!$c$180\")=\"\",\"\",IFERROR(INDIRECT(\"'Børn \"&U187&\"'!$c$180\",TRUE),\"\"))","v":{"$error":"#REF!"}},{"$f":"IF(INDIRECT(\"'Børn \"&U187&\"'!$c$200\")=\"\",\"\",IFERROR(INDIRECT(\"'Børn \"&U187&\"'!$c$200\",TRUE),\"\"))","v":{"$error":"#REF!"}},{"$f":"IF(INDIRECT(\"'Børn \"&U187&\"'!$c$221\")=\"\",\"\",IFERROR(INDIRECT(\"'Børn \"&U187&\"'!$c$221\",TRUE),\"\"))","v":{"$error":"#REF!"}},{"$f":"IF(INDIRECT(\"'Børn \"&U187&\"'!$c$244\")=\"\",\"\",IFERROR(INDIRECT(\"'Børn \"&U187&\"'!$c$244\",TRUE),\"\"))","v":{"$error":"#REF!"}}]
["Tilsyn 43","Status:  grøn",{"$f":"COUNTIF(IF(ISERROR(INDIRECT(\"'Voksen \"&A188&\"'!$H$31\",TRUE)),\"\",INDIRECT(\"'Voksen \"&A188&\"'!$H$31\",TRUE)),1)","v":{"$error":"#VALUE!"}},{"$f":"COUNTIF(IF(ISERROR(INDIRECT(\"'Voksen \"&A188&\"'!$H$41\",TRUE)),\"\",INDIRECT(\"'Voksen \"&A188&\"'!$H$41\",TRUE)),1)","v":{"$error":"#VALUE!"}},{"$f":"COUNTIF(IF(ISERROR(INDIRECT(\"'Voksen \"&A188&\"'!$H$50\",TRUE)),\"\",INDIRECT(\"'Voksen \"&A188&\"'!$H$50\",TRUE)),1)","v":{"$error":"#VALUE!"}},{"$f":"COUNTIF(IF(ISERROR(INDIRECT(\"'Voksen \"&A188&\"'!$H$58\",TRUE)),\"\",INDIRECT(\"'Voksen \"&A188&\"'!$H$58\",TRUE)),1)","v":{"$error":"#VALUE!"}},{"$f":"COUNTIF(IF(ISERROR(INDIRECT(\"'Voksen \"&A188&\"'!$H$69\",TRUE)),\"\",INDIRECT(\"'Voksen \"&A188&\"'!$H$69\",TRUE)),1)","v":{"$error":"#VALUE!"}},{"$f":"COUNTIF(IF(ISERROR(INDIRECT(\"'Voksen \"&A188&\"'!$H$77\",TRUE)),\"\",INDIRECT(\"'Voksen \"&A188&\"'!$H$77\",TRUE)),1)","v":{"$error":"#VALUE!"}},null,null,{"$f":"COUNTIF(IF(ISERROR(INDIRECT(\"'Børn \"&A188&\"'!$H$31\",TRUE)),\"\",INDIRECT(\"'Børn \"&A188&\"'!$H$31\",TRUE)),1)","v":{"$error":"#VALUE!"}},{"$f":"COUNTIF(IF(ISERROR(INDIRECT(\"'Børn \"&A188&\"'!$H$44\",TRUE)),\"\",INDIRECT(\"'Børn \"&A188&\"'!$H$44\",TRUE)),1)","v":{"$error":"#VALUE!"}},{"$f":"COUNTIF(IF(ISERROR(INDIRECT(\"'Børn \"&A188&\"'!$H$53\",TRUE)),\"\",INDIRECT(\"'Børn \"&A188&\"'!$H$53\",TRUE)),1)","v":{"$error":"#VALUE!"}},{"$f":"COUNTIF(IF(ISERROR(INDIRECT(\"'Børn \"&A188&\"'!$H$61\",TRUE)),\"\",INDIRECT(\"'Børn \"&A188&\"'!$H$61\",TRUE)),1)","v":{"$error":"#VALUE!"}},{"$f":"COUNTIF(IF(ISERROR(INDIRECT(\"'Børn \"&A188&\"'!$H$68\",TRUE)),\"\",INDIRECT(\"'Børn \"&A188&\"'!$H$68\",TRUE)),1)","v":{"$error":"#VALUE!"}},{"$f":"COUNTIF(IF(ISERROR(INDIRECT(\"'Børn \"&A188&\"'!$H$79\",TRUE)),\"\",INDIRECT(\"'Børn \"&A188&\"'!$H$79\",TRUE)),1)","v":{"$error":"#VALUE!"}},{"$f":"COUNTIF(IF(ISERROR(INDIRECT(\"'Børn \"&A188&\"'!$H$87\",TRUE)),\"\",INDIRECT(\"'Børn \"&A188&\"'!$H$87\",TRUE)),1)","v":{"$error":"#VALUE!"}},null,null,null,"Tilsyn 64",{"$f":"IF(INDIRECT(\"'Voksen \"&U188&\"'!$c$112\")=\"\",\"\",IFERROR(INDIRECT(\"'Voksen \"&U188&\"'!$c$112\",TRUE),\"\"))","v":{"$error":"#REF!"}},{"$f":"IF(INDIRECT(\"'Voksen \"&U188&\"'!$c$133\")=\"\",\"\",IFERROR(INDIRECT(\"'Voksen \"&U188&\"'!$c$133\",TRUE),\"\"))","v":{"$error":"#REF!"}},{"$f":"IF(INDIRECT(\"'Voksen \"&U188&\"'!$c$154\")=\"\",\"\",IFERROR(INDIRECT(\"'Voksen \"&U188&\"'!$c$154\",TRUE),\"\"))","v":{"$error":"#REF!"}},{"$f":"IF(INDIRECT(\"'Voksen \"&U188&\"'!$c$169\")=\"\",\"\",IFERROR(INDIRECT(\"'Voksen \"&U188&\"'!$c$169\",TRUE),\"\"))","v":{"$error":"#REF!"}},{"$f":"IF(INDIRECT(\"'Voksen \"&U188&\"'!$c$186\")=\"\",\"\",IFERROR(INDIRECT(\"'Voksen \"&U188&\"'!$c$186\",TRUE),\"\"))","v":{"$error":"#REF!"}},{"$f":"IF(INDIRECT(\"'Voksen \"&U188&\"'!$c$207\")=\"\",\"\",IFERROR(INDIRECT(\"'Voksen \"&U188&\"'!$c$207\",TRUE),\"\"))","v":{"$error":"#REF!"}},{"$f":"IF(INDIRECT(\"'Voksen \"&U188&\"'!$c$229\")=\"\",\"\",IFERROR(INDIRECT(\"'Voksen \"&U188&\"'!$c$229\",TRUE),\"\"))","v":{"$error":"#REF!"}},{"$f":"IF(INDIRECT(\"'Voksen \"&U188&\"'!$c$255\")=\"\",\"\",IFERROR(INDIRECT(\"'Voksen \"&U188&\"'!$c$255\",TRUE),\"\"))","v":{"$error":"#REF!"}},null,{"$f":"IF(INDIRECT(\"'Børn \"&U188&\"'!$c$123\")=\"\",\"\",IFERROR(INDIRECT(\"'Børn \"&U188&\"'!$c$123\",TRUE),\"\"))","v":{"$error":"#REF!"}},{"$f":"IF(INDIRECT(\"'Børn \"&U188&\"'!$c$139\")=\"\",\"\",IFERROR(INDIRECT(\"'Børn \"&U188&\"'!$c$139\",TRUE),\"\"))","v":{"$error":"#REF!"}},{"$f":"IF(INDIRECT(\"'Børn \"&U188&\"'!$c$163\")=\"\",\"\",IFERROR(INDIRECT(\"'Børn \"&U188&\"'!$c$163\",TRUE),\"\"))","v":{"$error":"#REF!"}},{"$f":"IF(INDIRECT(\"'Børn \"&U188&\"'!$c$177\")=\"\",\"\",IFERROR(INDIRECT(\"'Børn \"&U188&\"'!$c$177\",TRUE),\"\"))","v":{"$error":"#REF!"}},{"$f":"IF(INDIRECT(\"'Børn \"&U188&\"'!$c$197\")=\"\",\"\",IFERROR(INDIRECT(\"'Børn \"&U188&\"'!$c$197\",TRUE),\"\"))","v":{"$error":"#REF!"}},{"$f":"IF(INDIRECT(\"'Børn \"&U188&\"'!$c$218\")=\"\",\"\",IFERROR(INDIRECT(\"'Børn \"&U188&\"'!$c$218\",TRUE),\"\"))","v":{"$error":"#REF!"}},{"$f":"IF(INDIRECT(\"'Børn \"&U188&\"'!$c$241\")=\"\",\"\",IFERROR(INDIRECT(\"'Børn \"&U188&\"'!$c$241\",TRUE),\"\"))","v":{"$error":"#REF!"}}]
["Tilsyn 43","Status:  gul",{"$f":"COUNTIF(IF(ISERROR(INDIRECT(\"'Voksen \"&A189&\"'!$H$31\",TRUE)),\"\",INDIRECT(\"'Voksen \"&A189&\"'!$H$31\",TRUE)),2)","v":{"$error":"#VALUE!"}},{"$f":"COUNTIF(IF(ISERROR(INDIRECT(\"'Voksen \"&A189&\"'!$H$41\",TRUE)),\"\",INDIRECT(\"'Voksen \"&A189&\"'!$H$41\",TRUE)),2)","v":{"$error":"#VALUE!"}},{"$f":"COUNTIF(IF(ISERROR(INDIRECT(\"'Voksen \"&A189&\"'!$H$50\",TRUE)),\"\",INDIRECT(\"'Voksen \"&A189&\"'!$H$50\",TRUE)),2)","v":{"$error":"#VALUE!"}},{"$f":"COUNTIF(IF(ISERROR(INDIRECT(\"'Voksen \"&A189&\"'!$H$58\",TRUE)),\"\",INDIRECT(\"'Voksen \"&A189&\"'!$H$58\",TRUE)),2)","v":{"$error":"#VALUE!"}},{"$f":"COUNTIF(IF(ISERROR(INDIRECT(\"'Voksen \"&A189&\"'!$H$69\",TRUE)),\"\",INDIRECT(\"'Voksen \"&A189&\"'!$H$69\",TRUE)),2)","v":{"$error":"#VALUE!"}},{"$f":"COUNTIF(IF(ISERROR(INDIRECT(\"'Voksen \"&A189&\"'!$H$77\",TRUE)),\"\",INDIRECT(\"'Voksen \"&A189&\"'!$H$77\",TRUE)),2)","v":{"$error":"#VALUE!"}},null,null,{"$f":"COUNTIF(IF(ISERROR(INDIRECT(\"'Børn \"&A189&\"'!$H$31\",TRUE)),\"\",INDIRECT(\"'Børn \"&A189&\"'!$H$31\",TRUE)),2)","v":{"$error":"#VALUE!"}},{"$f":"COUNTIF(IF(ISERROR(INDIRECT(\"'Børn \"&A189&\"'!$H$44\",TRUE)),\"\",INDIRECT(\"'Børn \"&A189&\"'!$H$44\",TRUE)),2)","v":{"$error":"#VALUE!"}},{"$f":"COUNTIF(IF(ISERROR(INDIRECT(\"'Børn \"&A189&\"'!$H$53\",TRUE)),\"\",INDIRECT(\"'Børn \"&A189&\"'!$H$53\",TRUE)),2)","v":{"$error":"#VALUE!"}},{"$f":"COUNTIF(IF(ISERROR(INDIRECT(\"'Børn \"&A189&\"'!$H$61\",TRUE)),\"\",INDIRECT(\"'Børn \"&A189&\"'!$H$61\",TRUE)),2)","v":{"$error":"#VALUE!"}},{"$f":"COUNTIF(IF(ISERROR(INDIRECT(\"'Børn \"&A189&\"'!$H$68\",TRUE)),\"\",INDIRECT(\"'Børn \"&A189&\"'!$H$68\",TRUE)),2)","v":{"$error":"#VALUE!"}},{"$f":"COUNTIF(IF(ISERROR(INDIRECT(\"'Børn \"&A189&\"'!$H$79\",TRUE)),\"\",INDIRECT(\"'Børn \"&A189&\"'!$H$79\",TRUE)),2)","v":{"$error":"#VALUE!"}},{"$f":"COUNTIF(IF(ISERROR(INDIRECT(\"'Børn \"&A189&\"'!$H$87\",TRUE)),\"\",INDIRECT(\"'Børn \"&A189&\"'!$H$87\",TRUE)),2)","v":{"$error":"#VALUE!"}},null,null,null,{"$f":"U188","v":"Tilsyn 64"},{"$f":"IF(INDIRECT(\"'Voksen \"&U189&\"'!$c$115\")=\"\",\"\",IFERROR(INDIRECT(\"'Voksen \"&U189&\"'!$c$115\",TRUE),\"\"))","v":{"$error":"#REF!"}},{"$f":"IF(INDIRECT(\"'Voksen \"&U189&\"'!$c$136\")=\"\",\"\",IFERROR(INDIRECT(\"'Voksen \"&U189&\"'!$c$136\",TRUE),\"\"))","v":{"$error":"#REF!"}},{"$f":"IF(INDIRECT(\"'Voksen \"&U189&\"'!$c$157\")=\"\",\"\",IFERROR(INDIRECT(\"'Voksen \"&U189&\"'!$c$157\",TRUE),\"\"))","v":{"$error":"#REF!"}},{"$f":"IF(INDIRECT(\"'Voksen \"&U189&\"'!$c$172\")=\"\",\"\",IFERROR(INDIRECT(\"'Voksen \"&U189&\"'!$c$172\",TRUE),\"\"))","v":{"$error":"#REF!"}},{"$f":"IF(INDIRECT(\"'Voksen \"&U189&\"'!$c$189\")=\"\",\"\",IFERROR(INDIRECT(\"'Voksen \"&U189&\"'!$c$189\",TRUE),\"\"))","v":{"$error":"#REF!"}},{"$f":"IF(INDIRECT(\"'Voksen \"&U189&\"'!$c$210\")=\"\",\"\",IFERROR(INDIRECT(\"'Voksen \"&U189&\"'!$c$210\",TRUE),\"\"))","v":{"$error":"#REF!"}},{"$f":"IF(INDIRECT(\"'Voksen \"&U189&\"'!$c$232\")=\"\",\"\",IFERROR(INDIRECT(\"'Voksen \"&U189&\"'!$c$232\",TRUE),\"\"))","v":{"$error":"#REF!"}},{"$f":"IF(INDIRECT(\"'Voksen \"&U189&\"'!$c$258\")=\"\",\"\",IFERROR(INDIRECT(\"'Voksen \"&U189&\"'!$c$258\",TRUE),\"\"))","v":{"$error":"#REF!"}},null,{"$f":"IF(INDIRECT(\"'Børn \"&U189&\"'!$c$126\")=\"\",\"\",IFERROR(INDIRECT(\"'Børn \"&U189&\"'!$c$126\",TRUE),\"\"))","v":{"$error":"#REF!"}},{"$f":"IF(INDIRECT(\"'Børn \"&U189&\"'!$c$142\")=\"\",\"\",IFERROR(INDIRECT(\"'Børn \"&U189&\"'!$c$142\",TRUE),\"\"))","v":{"$error":"#REF!"}},{"$f":"IF(INDIRECT(\"'Børn \"&U189&\"'!$c$166\")=\"\",\"\",IFERROR(INDIRECT(\"'Børn \"&U189&\"'!$c$166\",TRUE),\"\"))","v":{"$error":"#REF!"}},{"$f":"IF(INDIRECT(\"'Børn \"&U189&\"'!$c$180\")=\"\",\"\",IFERROR(INDIRECT(\"'Børn \"&U189&\"'!$c$180\",TRUE),\"\"))","v":{"$error":"#REF!"}},{"$f":"IF(INDIRECT(\"'Børn \"&U189&\"'!$c$200\")=\"\",\"\",IFERROR(INDIRECT(\"'Børn \"&U189&\"'!$c$200\",TRUE),\"\"))","v":{"$error":"#REF!"}},{"$f":"IF(INDIRECT(\"'Børn \"&U189&\"'!$c$221\")=\"\",\"\",IFERROR(INDIRECT(\"'Børn \"&U189&\"'!$c$221\",TRUE),\"\"))","v":{"$error":"#REF!"}},{"$f":"IF(INDIRECT(\"'Børn \"&U189&\"'!$c$244\")=\"\",\"\",IFERROR(INDIRECT(\"'Børn \"&U189&\"'!$c$244\",TRUE),\"\"))","v":{"$error":"#REF!"}}]
["Tilsyn 43","Status:  rød",{"$f":"COUNTIF(IF(ISERROR(INDIRECT(\"'Voksen \"&A190&\"'!$H$31\",TRUE)),\"\",INDIRECT(\"'Voksen \"&A190&\"'!$H$31\",TRUE)),3)","v":{"$error":"#VALUE!"}},{"$f":"COUNTIF(IF(ISERROR(INDIRECT(\"'Voksen \"&A190&\"'!$H$41\",TRUE)),\"\",INDIRECT(\"'Voksen \"&A190&\"'!$H$41\",TRUE)),3)","v":{"$error":"#VALUE!"}},{"$f":"COUNTIF(IF(ISERROR(INDIRECT(\"'Voksen \"&A190&\"'!$H$50\",TRUE)),\"\",INDIRECT(\"'Voksen \"&A190&\"'!$H$50\",TRUE)),3)","v":{"$error":"#VALUE!"}},{"$f":"COUNTIF(IF(ISERROR(INDIRECT(\"'Voksen \"&A190&\"'!$H$58\",TRUE)),\"\",INDIRECT(\"'Voksen \"&A190&\"'!$H$58\",TRUE)),3)","v":{"$error":"#VALUE!"}},{"$f":"COUNTIF(IF(ISERROR(INDIRECT(\"'Voksen \"&A190&\"'!$H$69\",TRUE)),\"\",INDIRECT(\"'Voksen \"&A190&\"'!$H$69\",TRUE)),3)","v":{"$error":"#VALUE!"}},{"$f":"COUNTIF(IF(ISERROR(INDIRECT(\"'Voksen \"&A190&\"'!$H$77\",TRUE)),\"\",INDIRECT(\"'Voksen \"&A190&\"'!$H$77\",TRUE)),3)","v":{"$error":"#VALUE!"}},null,null,{"$f":"COUNTIF(IF(ISERROR(INDIRECT(\"'Børn \"&A190&\"'!$H$31\",TRUE)),\"\",INDIRECT(\"'Børn \"&A190&\"'!$H$31\",TRUE)),3)","v":{"$error":"#VALUE!"}},{"$f":"COUNTIF(IF(ISERROR(INDIRECT(\"'Børn \"&A190&\"'!$H$44\",TRUE)),\"\",INDIRECT(\"'Børn \"&A190&\"'!$H$44\",TRUE)),3)","v":{"$error":"#VALUE!"}},{"$f":"COUNTIF(IF(ISERROR(INDIRECT(\"'Børn \"&A190&\"'!$H$53\",TRUE)),\"\",INDIRECT(\"'Børn \"&A190&\"'!$H$53\",TRUE)),3)","v":{"$error":"#VALUE!"}},{"$f":"COUNTIF(IF(ISERROR(INDIRECT(\"'Børn \"&A190&\"'!$H$61\",TRUE)),\"\",INDIRECT(\"'Børn \"&A190&\"'!$H$61\",TRUE)),3)","v":{"$error":"#VALUE!"}},{"$f":"COUNTIF(IF(ISERROR(INDIRECT(\"'Børn \"&A190&\"'!$H$68\",TRUE)),\"\",INDIRECT(\"'Børn \"&A190&\"'!$H$68\",TRUE)),3)","v":{"$error":"#VALUE!"}},{"$f":"COUNTIF(IF(ISERROR(INDIRECT(\"'Børn \"&A190&\"'!$H$79\",TRUE)),\"\",INDIRECT(\"'Børn \"&A190&\"'!$H$79\",TRUE)),3)","v":{"$error":"#VALUE!"}},{"$f":"COUNTIF(IF(ISERROR(INDIRECT(\"'Børn \"&A190&\"'!$H$87\",TRUE)),\"\",INDIRECT(\"'Børn \"&A190&\"'!$H$87\",TRUE)),3)","v":{"$error":"#VALUE!"}},null,null,null,"Tilsyn 65",{"$f":"IF(INDIRECT(\"'Voksen \"&U190&\"'!$c$112\")=\"\",\"\",IFERROR(INDIRECT(\"'Voksen \"&U190&\"'!$c$112\",TRUE),\"\"))","v":{"$error":"#REF!"}},{"$f":"IF(INDIRECT(\"'Voksen \"&U190&\"'!$c$133\")=\"\",\"\",IFERROR(INDIRECT(\"'Voksen \"&U190&\"'!$c$133\",TRUE),\"\"))","v":{"$error":"#REF!"}},{"$f":"IF(INDIRECT(\"'Voksen \"&U190&\"'!$c$154\")=\"\",\"\",IFERROR(INDIRECT(\"'Voksen \"&U190&\"'!$c$154\",TRUE),\"\"))","v":{"$error":"#REF!"}},{"$f":"IF(INDIRECT(\"'Voksen \"&U190&\"'!$c$169\")=\"\",\"\",IFERROR(INDIRECT(\"'Voksen \"&U190&\"'!$c$169\",TRUE),\"\"))","v":{"$error":"#REF!"}},{"$f":"IF(INDIRECT(\"'Voksen \"&U190&\"'!$c$186\")=\"\",\"\",IFERROR(INDIRECT(\"'Voksen \"&U190&\"'!$c$186\",TRUE),\"\"))","v":{"$error":"#REF!"}},{"$f":"IF(INDIRECT(\"'Voksen \"&U190&\"'!$c$207\")=\"\",\"\",IFERROR(INDIRECT(\"'Voksen \"&U190&\"'!$c$207\",TRUE),\"\"))","v":{"$error":"#REF!"}},{"$f":"IF(INDIRECT(\"'Voksen \"&U190&\"'!$c$229\")=\"\",\"\",IFERROR(INDIRECT(\"'Voksen \"&U190&\"'!$c$229\",TRUE),\"\"))","v":{"$error":"#REF!"}},{"$f":"IF(INDIRECT(\"'Voksen \"&U190&\"'!$c$255\")=\"\",\"\",IFERROR(INDIRECT(\"'Voksen \"&U190&\"'!$c$255\",TRUE),\"\"))","v":{"$error":"#REF!"}},null,{"$f":"IF(INDIRECT(\"'Børn \"&U190&\"'!$c$123\")=\"\",\"\",IFERROR(INDIRECT(\"'Børn \"&U190&\"'!$c$123\",TRUE),\"\"))","v":{"$error":"#REF!"}},{"$f":"IF(INDIRECT(\"'Børn \"&U190&\"'!$c$139\")=\"\",\"\",IFERROR(INDIRECT(\"'Børn \"&U190&\"'!$c$139\",TRUE),\"\"))","v":{"$error":"#REF!"}},{"$f":"IF(INDIRECT(\"'Børn \"&U190&\"'!$c$163\")=\"\",\"\",IFERROR(INDIRECT(\"'Børn \"&U190&\"'!$c$163\",TRUE),\"\"))","v":{"$error":"#REF!"}},{"$f":"IF(INDIRECT(\"'Børn \"&U190&\"'!$c$177\")=\"\",\"\",IFERROR(INDIRECT(\"'Børn \"&U190&\"'!$c$177\",TRUE),\"\"))","v":{"$error":"#REF!"}},{"$f":"IF(INDIRECT(\"'Børn \"&U190&\"'!$c$197\")=\"\",\"\",IFERROR(INDIRECT(\"'Børn \"&U190&\"'!$c$197\",TRUE),\"\"))","v":{"$error":"#REF!"}},{"$f":"IF(INDIRECT(\"'Børn \"&U190&\"'!$c$218\")=\"\",\"\",IFERROR(INDIRECT(\"'Børn \"&U190&\"'!$c$218\",TRUE),\"\"))","v":{"$error":"#REF!"}},{"$f":"IF(INDIRECT(\"'Børn \"&U190&\"'!$c$241\")=\"\",\"\",IFERROR(INDIRECT(\"'Børn \"&U190&\"'!$c$241\",TRUE),\"\"))","v":{"$error":"#REF!"}}]
["Tilsyn 44","Status:  grøn",{"$f":"COUNTIF(IF(ISERROR(INDIRECT(\"'Voksen \"&A191&\"'!$H$31\",TRUE)),\"\",INDIRECT(\"'Voksen \"&A191&\"'!$H$31\",TRUE)),1)","v":{"$error":"#VALUE!"}},{"$f":"COUNTIF(IF(ISERROR(INDIRECT(\"'Voksen \"&A191&\"'!$H$41\",TRUE)),\"\",INDIRECT(\"'Voksen \"&A191&\"'!$H$41\",TRUE)),1)","v":{"$error":"#VALUE!"}},{"$f":"COUNTIF(IF(ISERROR(INDIRECT(\"'Voksen \"&A191&\"'!$H$50\",TRUE)),\"\",INDIRECT(\"'Voksen \"&A191&\"'!$H$50\",TRUE)),1)","v":{"$error":"#VALUE!"}},{"$f":"COUNTIF(IF(ISERROR(INDIRECT(\"'Voksen \"&A191&\"'!$H$58\",TRUE)),\"\",INDIRECT(\"'Voksen \"&A191&\"'!$H$58\",TRUE)),1)","v":{"$error":"#VALUE!"}},{"$f":"COUNTIF(IF(ISERROR(INDIRECT(\"'Voksen \"&A191&\"'!$H$69\",TRUE)),\"\",INDIRECT(\"'Voksen \"&A191&\"'!$H$69\",TRUE)),1)","v":{"$error":"#VALUE!"}},{"$f":"COUNTIF(IF(ISERROR(INDIRECT(\"'Voksen \"&A191&\"'!$H$77\",TRUE)),\"\",INDIRECT(\"'Voksen \"&A191&\"'!$H$77\",TRUE)),1)","v":{"$error":"#VALUE!"}},null,null,{"$f":"COUNTIF(IF(ISERROR(INDIRECT(\"'Børn \"&A191&\"'!$H$31\",TRUE)),\"\",INDIRECT(\"'Børn \"&A191&\"'!$H$31\",TRUE)),1)","v":{"$error":"#VALUE!"}},{"$f":"COUNTIF(IF(ISERROR(INDIRECT(\"'Børn \"&A191&\"'!$H$44\",TRUE)),\"\",INDIRECT(\"'Børn \"&A191&\"'!$H$44\",TRUE)),1)","v":{"$error":"#VALUE!"}},{"$f":"COUNTIF(IF(ISERROR(INDIRECT(\"'Børn \"&A191&\"'!$H$53\",TRUE)),\"\",INDIRECT(\"'Børn \"&A191&\"'!$H$53\",TRUE)),1)","v":{"$error":"#VALUE!"}},{"$f":"COUNTIF(IF(ISERROR(INDIRECT(\"'Børn \"&A191&\"'!$H$61\",TRUE)),\"\",INDIRECT(\"'Børn \"&A191&\"'!$H$61\",TRUE)),1)","v":{"$error":"#VALUE!"}},{"$f":"COUNTIF(IF(ISERROR(INDIRECT(\"'Børn \"&A191&\"'!$H$68\",TRUE)),\"\",INDIRECT(\"'Børn \"&A191&\"'!$H$68\",TRUE)),1)","v":{"$error":"#VALUE!"}},{"$f":"COUNTIF(IF(ISERROR(INDIRECT(\"'Børn \"&A191&\"'!$H$79\",TRUE)),\"\",INDIRECT(\"'Børn \"&A191&\"'!$H$79\",TRUE)),1)","v":{"$error":"#VALUE!"}},{"$f":"COUNTIF(IF(ISERROR(INDIRECT(\"'Børn \"&A191&\"'!$H$87\",TRUE)),\"\",INDIRECT(\"'Børn \"&A191&\"'!$H$87\",TRUE)),1)","v":{"$error":"#VALUE!"}},null,null,null,{"$f":"U190","v":"Tilsyn 65"},{"$f":"IF(INDIRECT(\"'Voksen \"&U191&\"'!$c$115\")=\"\",\"\",IFERROR(INDIRECT(\"'Voksen \"&U191&\"'!$c$115\",TRUE),\"\"))","v":{"$error":"#REF!"}},{"$f":"IF(INDIRECT(\"'Voksen \"&U191&\"'!$c$136\")=\"\",\"\",IFERROR(INDIRECT(\"'Voksen \"&U191&\"'!$c$136\",TRUE),\"\"))","v":{"$error":"#REF!"}},{"$f":"IF(INDIRECT(\"'Voksen \"&U191&\"'!$c$157\")=\"\",\"\",IFERROR(INDIRECT(\"'Voksen \"&U191&\"'!$c$157\",TRUE),\"\"))","v":{"$error":"#REF!"}},{"$f":"IF(INDIRECT(\"'Voksen \"&U191&\"'!$c$172\")=\"\",\"\",IFERROR(INDIRECT(\"'Voksen \"&U191&\"'!$c$172\",TRUE),\"\"))","v":{"$error":"#REF!"}},{"$f":"IF(INDIRECT(\"'Voksen \"&U191&\"'!$c$189\")=\"\",\"\",IFERROR(INDIRECT(\"'Voksen \"&U191&\"'!$c$189\",TRUE),\"\"))","v":{"$error":"#REF!"}},{"$f":"IF(INDIRECT(\"'Voksen \"&U191&\"'!$c$210\")=\"\",\"\",IFERROR(INDIRECT(\"'Voksen \"&U191&\"'!$c$210\",TRUE),\"\"))","v":{"$error":"#REF!"}},{"$f":"IF(INDIRECT(\"'Voksen \"&U191&\"'!$c$232\")=\"\",\"\",IFERROR(INDIRECT(\"'Voksen \"&U191&\"'!$c$232\",TRUE),\"\"))","v":{"$error":"#REF!"}},{"$f":"IF(INDIRECT(\"'Voksen \"&U191&\"'!$c$258\")=\"\",\"\",IFERROR(INDIRECT(\"'Voksen \"&U191&\"'!$c$258\",TRUE),\"\"))","v":{"$error":"#REF!"}},null,{"$f":"IF(INDIRECT(\"'Børn \"&U191&\"'!$c$126\")=\"\",\"\",IFERROR(INDIRECT(\"'Børn \"&U191&\"'!$c$126\",TRUE),\"\"))","v":{"$error":"#REF!"}},{"$f":"IF(INDIRECT(\"'Børn \"&U191&\"'!$c$142\")=\"\",\"\",IFERROR(INDIRECT(\"'Børn \"&U191&\"'!$c$142\",TRUE),\"\"))","v":{"$error":"#REF!"}},{"$f":"IF(INDIRECT(\"'Børn \"&U191&\"'!$c$166\")=\"\",\"\",IFERROR(INDIRECT(\"'Børn \"&U191&\"'!$c$166\",TRUE),\"\"))","v":{"$error":"#REF!"}},{"$f":"IF(INDIRECT(\"'Børn \"&U191&\"'!$c$180\")=\"\",\"\",IFERROR(INDIRECT(\"'Børn \"&U191&\"'!$c$180\",TRUE),\"\"))","v":{"$error":"#REF!"}},{"$f":"IF(INDIRECT(\"'Børn \"&U191&\"'!$c$200\")=\"\",\"\",IFERROR(INDIRECT(\"'Børn \"&U191&\"'!$c$200\",TRUE),\"\"))","v":{"$error":"#REF!"}},{"$f":"IF(INDIRECT(\"'Børn \"&U191&\"'!$c$221\")=\"\",\"\",IFERROR(INDIRECT(\"'Børn \"&U191&\"'!$c$221\",TRUE),\"\"))","v":{"$error":"#REF!"}},{"$f":"IF(INDIRECT(\"'Børn \"&U191&\"'!$c$244\")=\"\",\"\",IFERROR(INDIRECT(\"'Børn \"&U191&\"'!$c$244\",TRUE),\"\"))","v":{"$error":"#REF!"}}]
["Tilsyn 44","Status:  gul",{"$f":"COUNTIF(IF(ISERROR(INDIRECT(\"'Voksen \"&A192&\"'!$H$31\",TRUE)),\"\",INDIRECT(\"'Voksen \"&A192&\"'!$H$31\",TRUE)),2)","v":{"$error":"#VALUE!"}},{"$f":"COUNTIF(IF(ISERROR(INDIRECT(\"'Voksen \"&A192&\"'!$H$41\",TRUE)),\"\",INDIRECT(\"'Voksen \"&A192&\"'!$H$41\",TRUE)),2)","v":{"$error":"#VALUE!"}},{"$f":"COUNTIF(IF(ISERROR(INDIRECT(\"'Voksen \"&A192&\"'!$H$50\",TRUE)),\"\",INDIRECT(\"'Voksen \"&A192&\"'!$H$50\",TRUE)),2)","v":{"$error":"#VALUE!"}},{"$f":"COUNTIF(IF(ISERROR(INDIRECT(\"'Voksen \"&A192&\"'!$H$58\",TRUE)),\"\",INDIRECT(\"'Voksen \"&A192&\"'!$H$58\",TRUE)),2)","v":{"$error":"#VALUE!"}},{"$f":"COUNTIF(IF(ISERROR(INDIRECT(\"'Voksen \"&A192&\"'!$H$69\",TRUE)),\"\",INDIRECT(\"'Voksen \"&A192&\"'!$H$69\",TRUE)),2)","v":{"$error":"#VALUE!"}},{"$f":"COUNTIF(IF(ISERROR(INDIRECT(\"'Voksen \"&A192&\"'!$H$77\",TRUE)),\"\",INDIRECT(\"'Voksen \"&A192&\"'!$H$77\",TRUE)),2)","v":{"$error":"#VALUE!"}},null,null,{"$f":"COUNTIF(IF(ISERROR(INDIRECT(\"'Børn \"&A192&\"'!$H$31\",TRUE)),\"\",INDIRECT(\"'Børn \"&A192&\"'!$H$31\",TRUE)),2)","v":{"$error":"#VALUE!"}},{"$f":"COUNTIF(IF(ISERROR(INDIRECT(\"'Børn \"&A192&\"'!$H$44\",TRUE)),\"\",INDIRECT(\"'Børn \"&A192&\"'!$H$44\",TRUE)),2)","v":{"$error":"#VALUE!"}},{"$f":"COUNTIF(IF(ISERROR(INDIRECT(\"'Børn \"&A192&\"'!$H$53\",TRUE)),\"\",INDIRECT(\"'Børn \"&A192&\"'!$H$53\",TRUE)),2)","v":{"$error":"#VALUE!"}},{"$f":"COUNTIF(IF(ISERROR(INDIRECT(\"'Børn \"&A192&\"'!$H$61\",TRUE)),\"\",INDIRECT(\"'Børn \"&A192&\"'!$H$61\",TRUE)),2)","v":{"$error":"#VALUE!"}},{"$f":"COUNTIF(IF(ISERROR(INDIRECT(\"'Børn \"&A192&\"'!$H$68\",TRUE)),\"\",INDIRECT(\"'Børn \"&A192&\"'!$H$68\",TRUE)),2)","v":{"$error":"#VALUE!"}},{"$f":"COUNTIF(IF(ISERROR(INDIRECT(\"'Børn \"&A192&\"'!$H$79\",TRUE)),\"\",INDIRECT(\"'Børn \"&A192&\"'!$H$79\",TRUE)),2)","v":{"$error":"#VALUE!"}},{"$f":"COUNTIF(IF(ISERROR(INDIRECT(\"'Børn \"&A192&\"'!$H$87\",TRUE)),\"\",INDIRECT(\"'Børn \"&A192&\"'!$H$87\",TRUE)),2)","v":{"$error":"#VALUE!"}},null,null,null,"Tilsyn 66",{"$f":"IF(INDIRECT(\"'Voksen \"&U192&\"'!$c$112\")=\"\",\"\",IFERROR(INDIRECT(\"'Voksen \"&U192&\"'!$c$112\",TRUE),\"\"))","v":{"$error":"#REF!"}},{"$f":"IF(INDIRECT(\"'Voksen \"&U192&\"'!$c$133\")=\"\",\"\",IFERROR(INDIRECT(\"'Voksen \"&U192&\"'!$c$133\",TRUE),\"\"))","v":{"$error":"#REF!"}},{"$f":"IF(INDIRECT(\"'Voksen \"&U192&\"'!$c$154\")=\"\",\"\",IFERROR(INDIRECT(\"'Voksen \"&U192&\"'!$c$154\",TRUE),\"\"))","v":{"$error":"#REF!"}},{"$f":"IF(INDIRECT(\"'Voksen \"&U192&\"'!$c$169\")=\"\",\"\",IFERROR(INDIRECT(\"'Voksen \"&U192&\"'!$c$169\",TRUE),\"\"))","v":{"$error":"#REF!"}},{"$f":"IF(INDIRECT(\"'Voksen \"&U192&\"'!$c$186\")=\"\",\"\",IFERROR(INDIRECT(\"'Voksen \"&U192&\"'!$c$186\",TRUE),\"\"))","v":{"$error":"#REF!"}},{"$f":"IF(INDIRECT(\"'Voksen \"&U192&\"'!$c$207\")=\"\",\"\",IFERROR(INDIRECT(\"'Voksen \"&U192&\"'!$c$207\",TRUE),\"\"))","v":{"$error":"#REF!"}},{"$f":"IF(INDIRECT(\"'Voksen \"&U192&\"'!$c$229\")=\"\",\"\",IFERROR(INDIRECT(\"'Voksen \"&U192&\"'!$c$229\",TRUE),\"\"))","v":{"$error":"#REF!"}},{"$f":"IF(INDIRECT(\"'Voksen \"&U192&\"'!$c$255\")=\"\",\"\",IFERROR(INDIRECT(\"'Voksen \"&U192&\"'!$c$255\",TRUE),\"\"))","v":{"$error":"#REF!"}},null,{"$f":"IF(INDIRECT(\"'Børn \"&U192&\"'!$c$123\")=\"\",\"\",IFERROR(INDIRECT(\"'Børn \"&U192&\"'!$c$123\",TRUE),\"\"))","v":{"$error":"#REF!"}},{"$f":"IF(INDIRECT(\"'Børn \"&U192&\"'!$c$139\")=\"\",\"\",IFERROR(INDIRECT(\"'Børn \"&U192&\"'!$c$139\",TRUE),\"\"))","v":{"$error":"#REF!"}},{"$f":"IF(INDIRECT(\"'Børn \"&U192&\"'!$c$163\")=\"\",\"\",IFERROR(INDIRECT(\"'Børn \"&U192&\"'!$c$163\",TRUE),\"\"))","v":{"$error":"#REF!"}},{"$f":"IF(INDIRECT(\"'Børn \"&U192&\"'!$c$177\")=\"\",\"\",IFERROR(INDIRECT(\"'Børn \"&U192&\"'!$c$177\",TRUE),\"\"))","v":{"$error":"#REF!"}},{"$f":"IF(INDIRECT(\"'Børn \"&U192&\"'!$c$197\")=\"\",\"\",IFERROR(INDIRECT(\"'Børn \"&U192&\"'!$c$197\",TRUE),\"\"))","v":{"$error":"#REF!"}},{"$f":"IF(INDIRECT(\"'Børn \"&U192&\"'!$c$218\")=\"\",\"\",IFERROR(INDIRECT(\"'Børn \"&U192&\"'!$c$218\",TRUE),\"\"))","v":{"$error":"#REF!"}},{"$f":"IF(INDIRECT(\"'Børn \"&U192&\"'!$c$241\")=\"\",\"\",IFERROR(INDIRECT(\"'Børn \"&U192&\"'!$c$241\",TRUE),\"\"))","v":{"$error":"#REF!"}}]
["Tilsyn 44","Status:  rød",{"$f":"COUNTIF(IF(ISERROR(INDIRECT(\"'Voksen \"&A193&\"'!$H$31\",TRUE)),\"\",INDIRECT(\"'Voksen \"&A193&\"'!$H$31\",TRUE)),3)","v":{"$error":"#VALUE!"}},{"$f":"COUNTIF(IF(ISERROR(INDIRECT(\"'Voksen \"&A193&\"'!$H$41\",TRUE)),\"\",INDIRECT(\"'Voksen \"&A193&\"'!$H$41\",TRUE)),3)","v":{"$error":"#VALUE!"}},{"$f":"COUNTIF(IF(ISERROR(INDIRECT(\"'Voksen \"&A193&\"'!$H$50\",TRUE)),\"\",INDIRECT(\"'Voksen \"&A193&\"'!$H$50\",TRUE)),3)","v":{"$error":"#VALUE!"}},{"$f":"COUNTIF(IF(ISERROR(INDIRECT(\"'Voksen \"&A193&\"'!$H$58\",TRUE)),\"\",INDIRECT(\"'Voksen \"&A193&\"'!$H$58\",TRUE)),3)","v":{"$error":"#VALUE!"}},{"$f":"COUNTIF(IF(ISERROR(INDIRECT(\"'Voksen \"&A193&\"'!$H$69\",TRUE)),\"\",INDIRECT(\"'Voksen \"&A193&\"'!$H$69\",TRUE)),3)","v":{"$error":"#VALUE!"}},{"$f":"COUNTIF(IF(ISERROR(INDIRECT(\"'Voksen \"&A193&\"'!$H$77\",TRUE)),\"\",INDIRECT(\"'Voksen \"&A193&\"'!$H$77\",TRUE)),3)","v":{"$error":"#VALUE!"}},null,null,{"$f":"COUNTIF(IF(ISERROR(INDIRECT(\"'Børn \"&A193&\"'!$H$31\",TRUE)),\"\",INDIRECT(\"'Børn \"&A193&\"'!$H$31\",TRUE)),3)","v":{"$error":"#VALUE!"}},{"$f":"COUNTIF(IF(ISERROR(INDIRECT(\"'Børn \"&A193&\"'!$H$44\",TRUE)),\"\",INDIRECT(\"'Børn \"&A193&\"'!$H$44\",TRUE)),3)","v":{"$error":"#VALUE!"}},{"$f":"COUNTIF(IF(ISERROR(INDIRECT(\"'Børn \"&A193&\"'!$H$53\",TRUE)),\"\",INDIRECT(\"'Børn \"&A193&\"'!$H$53\",TRUE)),3)","v":{"$error":"#VALUE!"}},{"$f":"COUNTIF(IF(ISERROR(INDIRECT(\"'Børn \"&A193&\"'!$H$61\",TRUE)),\"\",INDIRECT(\"'Børn \"&A193&\"'!$H$61\",TRUE)),3)","v":{"$error":"#VALUE!"}},{"$f":"COUNTIF(IF(ISERROR(INDIRECT(\"'Børn \"&A193&\"'!$H$68\",TRUE)),\"\",INDIRECT(\"'Børn \"&A193&\"'!$H$68\",TRUE)),3)","v":{"$error":"#VALUE!"}},{"$f":"COUNTIF(IF(ISERROR(INDIRECT(\"'Børn \"&A193&\"'!$H$79\",TRUE)),\"\",INDIRECT(\"'Børn \"&A193&\"'!$H$79\",TRUE)),3)","v":{"$error":"#VALUE!"}},{"$f":"COUNTIF(IF(ISERROR(INDIRECT(\"'Børn \"&A193&\"'!$H$87\",TRUE)),\"\",INDIRECT(\"'Børn \"&A193&\"'!$H$87\",TRUE)),3)","v":{"$error":"#VALUE!"}},null,null,null,{"$f":"U192","v":"Tilsyn 66"},{"$f":"IF(INDIRECT(\"'Voksen \"&U193&\"'!$c$115\")=\"\",\"\",IFERROR(INDIRECT(\"'Voksen \"&U193&\"'!$c$115\",TRUE),\"\"))","v":{"$error":"#REF!"}},{"$f":"IF(INDIRECT(\"'Voksen \"&U193&\"'!$c$136\")=\"\",\"\",IFERROR(INDIRECT(\"'Voksen \"&U193&\"'!$c$136\",TRUE),\"\"))","v":{"$error":"#REF!"}},{"$f":"IF(INDIRECT(\"'Voksen \"&U193&\"'!$c$157\")=\"\",\"\",IFERROR(INDIRECT(\"'Voksen \"&U193&\"'!$c$157\",TRUE),\"\"))","v":{"$error":"#REF!"}},{"$f":"IF(INDIRECT(\"'Voksen \"&U193&\"'!$c$172\")=\"\",\"\",IFERROR(INDIRECT(\"'Voksen \"&U193&\"'!$c$172\",TRUE),\"\"))","v":{"$error":"#REF!"}},{"$f":"IF(INDIRECT(\"'Voksen \"&U193&\"'!$c$189\")=\"\",\"\",IFERROR(INDIRECT(\"'Voksen \"&U193&\"'!$c$189\",TRUE),\"\"))","v":{"$error":"#REF!"}},{"$f":"IF(INDIRECT(\"'Voksen \"&U193&\"'!$c$210\")=\"\",\"\",IFERROR(INDIRECT(\"'Voksen \"&U193&\"'!$c$210\",TRUE),\"\"))","v":{"$error":"#REF!"}},{"$f":"IF(INDIRECT(\"'Voksen \"&U193&\"'!$c$232\")=\"\",\"\",IFERROR(INDIRECT(\"'Voksen \"&U193&\"'!$c$232\",TRUE),\"\"))","v":{"$error":"#REF!"}},{"$f":"IF(INDIRECT(\"'Voksen \"&U193&\"'!$c$258\")=\"\",\"\",IFERROR(INDIRECT(\"'Voksen \"&U193&\"'!$c$258\",TRUE),\"\"))","v":{"$error":"#REF!"}},null,{"$f":"IF(INDIRECT(\"'Børn \"&U193&\"'!$c$126\")=\"\",\"\",IFERROR(INDIRECT(\"'Børn \"&U193&\"'!$c$126\",TRUE),\"\"))","v":{"$error":"#REF!"}},{"$f":"IF(INDIRECT(\"'Børn \"&U193&\"'!$c$142\")=\"\",\"\",IFERROR(INDIRECT(\"'Børn \"&U193&\"'!$c$142\",TRUE),\"\"))","v":{"$error":"#REF!"}},{"$f":"IF(INDIRECT(\"'Børn \"&U193&\"'!$c$166\")=\"\",\"\",IFERROR(INDIRECT(\"'Børn \"&U193&\"'!$c$166\",TRUE),\"\"))","v":{"$error":"#REF!"}},{"$f":"IF(INDIRECT(\"'Børn \"&U193&\"'!$c$180\")=\"\",\"\",IFERROR(INDIRECT(\"'Børn \"&U193&\"'!$c$180\",TRUE),\"\"))","v":{"$error":"#REF!"}},{"$f":"IF(INDIRECT(\"'Børn \"&U193&\"'!$c$200\")=\"\",\"\",IFERROR(INDIRECT(\"'Børn \"&U193&\"'!$c$200\",TRUE),\"\"))","v":{"$error":"#REF!"}},{"$f":"IF(INDIRECT(\"'Børn \"&U193&\"'!$c$221\")=\"\",\"\",IFERROR(INDIRECT(\"'Børn \"&U193&\"'!$c$221\",TRUE),\"\"))","v":{"$error":"#REF!"}},{"$f":"IF(INDIRECT(\"'Børn \"&U193&\"'!$c$244\")=\"\",\"\",IFERROR(INDIRECT(\"'Børn \"&U193&\"'!$c$244\",TRUE),\"\"))","v":{"$error":"#REF!"}}]
["Tilsyn 45","Status:  grøn",{"$f":"COUNTIF(IF(ISERROR(INDIRECT(\"'Voksen \"&A194&\"'!$H$31\",TRUE)),\"\",INDIRECT(\"'Voksen \"&A194&\"'!$H$31\",TRUE)),1)","v":{"$error":"#VALUE!"}},{"$f":"COUNTIF(IF(ISERROR(INDIRECT(\"'Voksen \"&A194&\"'!$H$41\",TRUE)),\"\",INDIRECT(\"'Voksen \"&A194&\"'!$H$41\",TRUE)),1)","v":{"$error":"#VALUE!"}},{"$f":"COUNTIF(IF(ISERROR(INDIRECT(\"'Voksen \"&A194&\"'!$H$50\",TRUE)),\"\",INDIRECT(\"'Voksen \"&A194&\"'!$H$50\",TRUE)),1)","v":{"$error":"#VALUE!"}},{"$f":"COUNTIF(IF(ISERROR(INDIRECT(\"'Voksen \"&A194&\"'!$H$58\",TRUE)),\"\",INDIRECT(\"'Voksen \"&A194&\"'!$H$58\",TRUE)),1)","v":{"$error":"#VALUE!"}},{"$f":"COUNTIF(IF(ISERROR(INDIRECT(\"'Voksen \"&A194&\"'!$H$69\",TRUE)),\"\",INDIRECT(\"'Voksen \"&A194&\"'!$H$69\",TRUE)),1)","v":{"$error":"#VALUE!"}},{"$f":"COUNTIF(IF(ISERROR(INDIRECT(\"'Voksen \"&A194&\"'!$H$77\",TRUE)),\"\",INDIRECT(\"'Voksen \"&A194&\"'!$H$77\",TRUE)),1)","v":{"$error":"#VALUE!"}},null,null,{"$f":"COUNTIF(IF(ISERROR(INDIRECT(\"'Børn \"&A194&\"'!$H$31\",TRUE)),\"\",INDIRECT(\"'Børn \"&A194&\"'!$H$31\",TRUE)),1)","v":{"$error":"#VALUE!"}},{"$f":"COUNTIF(IF(ISERROR(INDIRECT(\"'Børn \"&A194&\"'!$H$44\",TRUE)),\"\",INDIRECT(\"'Børn \"&A194&\"'!$H$44\",TRUE)),1)","v":{"$error":"#VALUE!"}},{"$f":"COUNTIF(IF(ISERROR(INDIRECT(\"'Børn \"&A194&\"'!$H$53\",TRUE)),\"\",INDIRECT(\"'Børn \"&A194&\"'!$H$53\",TRUE)),1)","v":{"$error":"#VALUE!"}},{"$f":"COUNTIF(IF(ISERROR(INDIRECT(\"'Børn \"&A194&\"'!$H$61\",TRUE)),\"\",INDIRECT(\"'Børn \"&A194&\"'!$H$61\",TRUE)),1)","v":{"$error":"#VALUE!"}},{"$f":"COUNTIF(IF(ISERROR(INDIRECT(\"'Børn \"&A194&\"'!$H$68\",TRUE)),\"\",INDIRECT(\"'Børn \"&A194&\"'!$H$68\",TRUE)),1)","v":{"$error":"#VALUE!"}},{"$f":"COUNTIF(IF(ISERROR(INDIRECT(\"'Børn \"&A194&\"'!$H$79\",TRUE)),\"\",INDIRECT(\"'Børn \"&A194&\"'!$H$79\",TRUE)),1)","v":{"$error":"#VALUE!"}},{"$f":"COUNTIF(IF(ISERROR(INDIRECT(\"'Børn \"&A194&\"'!$H$87\",TRUE)),\"\",INDIRECT(\"'Børn \"&A194&\"'!$H$87\",TRUE)),1)","v":{"$error":"#VALUE!"}},null,null,null,"Tilsyn 67",{"$f":"IF(INDIRECT(\"'Voksen \"&U194&\"'!$c$112\")=\"\",\"\",IFERROR(INDIRECT(\"'Voksen \"&U194&\"'!$c$112\",TRUE),\"\"))","v":{"$error":"#REF!"}},{"$f":"IF(INDIRECT(\"'Voksen \"&U194&\"'!$c$133\")=\"\",\"\",IFERROR(INDIRECT(\"'Voksen \"&U194&\"'!$c$133\",TRUE),\"\"))","v":{"$error":"#REF!"}},{"$f":"IF(INDIRECT(\"'Voksen \"&U194&\"'!$c$154\")=\"\",\"\",IFERROR(INDIRECT(\"'Voksen \"&U194&\"'!$c$154\",TRUE),\"\"))","v":{"$error":"#REF!"}},{"$f":"IF(INDIRECT(\"'Voksen \"&U194&\"'!$c$169\")=\"\",\"\",IFERROR(INDIRECT(\"'Voksen \"&U194&\"'!$c$169\",TRUE),\"\"))","v":{"$error":"#REF!"}},{"$f":"IF(INDIRECT(\"'Voksen \"&U194&\"'!$c$186\")=\"\",\"\",IFERROR(INDIRECT(\"'Voksen \"&U194&\"'!$c$186\",TRUE),\"\"))","v":{"$error":"#REF!"}},{"$f":"IF(INDIRECT(\"'Voksen \"&U194&\"'!$c$207\")=\"\",\"\",IFERROR(INDIRECT(\"'Voksen \"&U194&\"'!$c$207\",TRUE),\"\"))","v":{"$error":"#REF!"}},{"$f":"IF(INDIRECT(\"'Voksen \"&U194&\"'!$c$229\")=\"\",\"\",IFERROR(INDIRECT(\"'Voksen \"&U194&\"'!$c$229\",TRUE),\"\"))","v":{"$error":"#REF!"}},{"$f":"IF(INDIRECT(\"'Voksen \"&U194&\"'!$c$255\")=\"\",\"\",IFERROR(INDIRECT(\"'Voksen \"&U194&\"'!$c$255\",TRUE),\"\"))","v":{"$error":"#REF!"}},null,{"$f":"IF(INDIRECT(\"'Børn \"&U194&\"'!$c$123\")=\"\",\"\",IFERROR(INDIRECT(\"'Børn \"&U194&\"'!$c$123\",TRUE),\"\"))","v":{"$error":"#REF!"}},{"$f":"IF(INDIRECT(\"'Børn \"&U194&\"'!$c$139\")=\"\",\"\",IFERROR(INDIRECT(\"'Børn \"&U194&\"'!$c$139\",TRUE),\"\"))","v":{"$error":"#REF!"}},{"$f":"IF(INDIRECT(\"'Børn \"&U194&\"'!$c$163\")=\"\",\"\",IFERROR(INDIRECT(\"'Børn \"&U194&\"'!$c$163\",TRUE),\"\"))","v":{"$error":"#REF!"}},{"$f":"IF(INDIRECT(\"'Børn \"&U194&\"'!$c$177\")=\"\",\"\",IFERROR(INDIRECT(\"'Børn \"&U194&\"'!$c$177\",TRUE),\"\"))","v":{"$error":"#REF!"}},{"$f":"IF(INDIRECT(\"'Børn \"&U194&\"'!$c$197\")=\"\",\"\",IFERROR(INDIRECT(\"'Børn \"&U194&\"'!$c$197\",TRUE),\"\"))","v":{"$error":"#REF!"}},{"$f":"IF(INDIRECT(\"'Børn \"&U194&\"'!$c$218\")=\"\",\"\",IFERROR(INDIRECT(\"'Børn \"&U194&\"'!$c$218\",TRUE),\"\"))","v":{"$error":"#REF!"}},{"$f":"IF(INDIRECT(\"'Børn \"&U194&\"'!$c$241\")=\"\",\"\",IFERROR(INDIRECT(\"'Børn \"&U194&\"'!$c$241\",TRUE),\"\"))","v":{"$error":"#REF!"}}]
["Tilsyn 45","Status:  gul",{"$f":"COUNTIF(IF(ISERROR(INDIRECT(\"'Voksen \"&A195&\"'!$H$31\",TRUE)),\"\",INDIRECT(\"'Voksen \"&A195&\"'!$H$31\",TRUE)),2)","v":{"$error":"#VALUE!"}},{"$f":"COUNTIF(IF(ISERROR(INDIRECT(\"'Voksen \"&A195&\"'!$H$41\",TRUE)),\"\",INDIRECT(\"'Voksen \"&A195&\"'!$H$41\",TRUE)),2)","v":{"$error":"#VALUE!"}},{"$f":"COUNTIF(IF(ISERROR(INDIRECT(\"'Voksen \"&A195&\"'!$H$50\",TRUE)),\"\",INDIRECT(\"'Voksen \"&A195&\"'!$H$50\",TRUE)),2)","v":{"$error":"#VALUE!"}},{"$f":"COUNTIF(IF(ISERROR(INDIRECT(\"'Voksen \"&A195&\"'!$H$58\",TRUE)),\"\",INDIRECT(\"'Voksen \"&A195&\"'!$H$58\",TRUE)),2)","v":{"$error":"#VALUE!"}},{"$f":"COUNTIF(IF(ISERROR(INDIRECT(\"'Voksen \"&A195&\"'!$H$69\",TRUE)),\"\",INDIRECT(\"'Voksen \"&A195&\"'!$H$69\",TRUE)),2)","v":{"$error":"#VALUE!"}},{"$f":"COUNTIF(IF(ISERROR(INDIRECT(\"'Voksen \"&A195&\"'!$H$77\",TRUE)),\"\",INDIRECT(\"'Voksen \"&A195&\"'!$H$77\",TRUE)),2)","v":{"$error":"#VALUE!"}},null,null,{"$f":"COUNTIF(IF(ISERROR(INDIRECT(\"'Børn \"&A195&\"'!$H$31\",TRUE)),\"\",INDIRECT(\"'Børn \"&A195&\"'!$H$31\",TRUE)),2)","v":{"$error":"#VALUE!"}},{"$f":"COUNTIF(IF(ISERROR(INDIRECT(\"'Børn \"&A195&\"'!$H$44\",TRUE)),\"\",INDIRECT(\"'Børn \"&A195&\"'!$H$44\",TRUE)),2)","v":{"$error":"#VALUE!"}},{"$f":"COUNTIF(IF(ISERROR(INDIRECT(\"'Børn \"&A195&\"'!$H$53\",TRUE)),\"\",INDIRECT(\"'Børn \"&A195&\"'!$H$53\",TRUE)),2)","v":{"$error":"#VALUE!"}},{"$f":"COUNTIF(IF(ISERROR(INDIRECT(\"'Børn \"&A195&\"'!$H$61\",TRUE)),\"\",INDIRECT(\"'Børn \"&A195&\"'!$H$61\",TRUE)),2)","v":{"$error":"#VALUE!"}},{"$f":"COUNTIF(IF(ISERROR(INDIRECT(\"'Børn \"&A195&\"'!$H$68\",TRUE)),\"\",INDIRECT(\"'Børn \"&A195&\"'!$H$68\",TRUE)),2)","v":{"$error":"#VALUE!"}},{"$f":"COUNTIF(IF(ISERROR(INDIRECT(\"'Børn \"&A195&\"'!$H$79\",TRUE)),\"\",INDIRECT(\"'Børn \"&A195&\"'!$H$79\",TRUE)),2)","v":{"$error":"#VALUE!"}},{"$f":"COUNTIF(IF(ISERROR(INDIRECT(\"'Børn \"&A195&\"'!$H$87\",TRUE)),\"\",INDIRECT(\"'Børn \"&A195&\"'!$H$87\",TRUE)),2)","v":{"$error":"#VALUE!"}},null,null,null,{"$f":"U194","v":"Tilsyn 67"},{"$f":"IF(INDIRECT(\"'Voksen \"&U195&\"'!$c$115\")=\"\",\"\",IFERROR(INDIRECT(\"'Voksen \"&U195&\"'!$c$115\",TRUE),\"\"))","v":{"$error":"#REF!"}},{"$f":"IF(INDIRECT(\"'Voksen \"&U195&\"'!$c$136\")=\"\",\"\",IFERROR(INDIRECT(\"'Voksen \"&U195&\"'!$c$136\",TRUE),\"\"))","v":{"$error":"#REF!"}},{"$f":"IF(INDIRECT(\"'Voksen \"&U195&\"'!$c$157\")=\"\",\"\",IFERROR(INDIRECT(\"'Voksen \"&U195&\"'!$c$157\",TRUE),\"\"))","v":{"$error":"#REF!"}},{"$f":"IF(INDIRECT(\"'Voksen \"&U195&\"'!$c$172\")=\"\",\"\",IFERROR(INDIRECT(\"'Voksen \"&U195&\"'!$c$172\",TRUE),\"\"))","v":{"$error":"#REF!"}},{"$f":"IF(INDIRECT(\"'Voksen \"&U195&\"'!$c$189\")=\"\",\"\",IFERROR(INDIRECT(\"'Voksen \"&U195&\"'!$c$189\",TRUE),\"\"))","v":{"$error":"#REF!"}},{"$f":"IF(INDIRECT(\"'Voksen \"&U195&\"'!$c$210\")=\"\",\"\",IFERROR(INDIRECT(\"'Voksen \"&U195&\"'!$c$210\",TRUE),\"\"))","v":{"$error":"#REF!"}},{"$f":"IF(INDIRECT(\"'Voksen \"&U195&\"'!$c$232\")=\"\",\"\",IFERROR(INDIRECT(\"'Voksen \"&U195&\"'!$c$232\",TRUE),\"\"))","v":{"$error":"#REF!"}},{"$f":"IF(INDIRECT(\"'Voksen \"&U195&\"'!$c$258\")=\"\",\"\",IFERROR(INDIRECT(\"'Voksen \"&U195&\"'!$c$258\",TRUE),\"\"))","v":{"$error":"#REF!"}},null,{"$f":"IF(INDIRECT(\"'Børn \"&U195&\"'!$c$126\")=\"\",\"\",IFERROR(INDIRECT(\"'Børn \"&U195&\"'!$c$126\",TRUE),\"\"))","v":{"$error":"#REF!"}},{"$f":"IF(INDIRECT(\"'Børn \"&U195&\"'!$c$142\")=\"\",\"\",IFERROR(INDIRECT(\"'Børn \"&U195&\"'!$c$142\",TRUE),\"\"))","v":{"$error":"#REF!"}},{"$f":"IF(INDIRECT(\"'Børn \"&U195&\"'!$c$166\")=\"\",\"\",IFERROR(INDIRECT(\"'Børn \"&U195&\"'!$c$166\",TRUE),\"\"))","v":{"$error":"#REF!"}},{"$f":"IF(INDIRECT(\"'Børn \"&U195&\"'!$c$180\")=\"\",\"\",IFERROR(INDIRECT(\"'Børn \"&U195&\"'!$c$180\",TRUE),\"\"))","v":{"$error":"#REF!"}},{"$f":"IF(INDIRECT(\"'Børn \"&U195&\"'!$c$200\")=\"\",\"\",IFERROR(INDIRECT(\"'Børn \"&U195&\"'!$c$200\",TRUE),\"\"))","v":{"$error":"#REF!"}},{"$f":"IF(INDIRECT(\"'Børn \"&U195&\"'!$c$221\")=\"\",\"\",IFERROR(INDIRECT(\"'Børn \"&U195&\"'!$c$221\",TRUE),\"\"))","v":{"$error":"#REF!"}},{"$f":"IF(INDIRECT(\"'Børn \"&U195&\"'!$c$244\")=\"\",\"\",IFERROR(INDIRECT(\"'Børn \"&U195&\"'!$c$244\",TRUE),\"\"))","v":{"$error":"#REF!"}}]
["Tilsyn 45","Status:  rød",{"$f":"COUNTIF(IF(ISERROR(INDIRECT(\"'Voksen \"&A196&\"'!$H$31\",TRUE)),\"\",INDIRECT(\"'Voksen \"&A196&\"'!$H$31\",TRUE)),3)","v":{"$error":"#VALUE!"}},{"$f":"COUNTIF(IF(ISERROR(INDIRECT(\"'Voksen \"&A196&\"'!$H$41\",TRUE)),\"\",INDIRECT(\"'Voksen \"&A196&\"'!$H$41\",TRUE)),3)","v":{"$error":"#VALUE!"}},{"$f":"COUNTIF(IF(ISERROR(INDIRECT(\"'Voksen \"&A196&\"'!$H$50\",TRUE)),\"\",INDIRECT(\"'Voksen \"&A196&\"'!$H$50\",TRUE)),3)","v":{"$error":"#VALUE!"}},{"$f":"COUNTIF(IF(ISERROR(INDIRECT(\"'Voksen \"&A196&\"'!$H$58\",TRUE)),\"\",INDIRECT(\"'Voksen \"&A196&\"'!$H$58\",TRUE)),3)","v":{"$error":"#VALUE!"}},{"$f":"COUNTIF(IF(ISERROR(INDIRECT(\"'Voksen \"&A196&\"'!$H$69\",TRUE)),\"\",INDIRECT(\"'Voksen \"&A196&\"'!$H$69\",TRUE)),3)","v":{"$error":"#VALUE!"}},{"$f":"COUNTIF(IF(ISERROR(INDIRECT(\"'Voksen \"&A196&\"'!$H$77\",TRUE)),\"\",INDIRECT(\"'Voksen \"&A196&\"'!$H$77\",TRUE)),3)","v":{"$error":"#VALUE!"}},null,null,{"$f":"COUNTIF(IF(ISERROR(INDIRECT(\"'Børn \"&A196&\"'!$H$31\",TRUE)),\"\",INDIRECT(\"'Børn \"&A196&\"'!$H$31\",TRUE)),3)","v":{"$error":"#VALUE!"}},{"$f":"COUNTIF(IF(ISERROR(INDIRECT(\"'Børn \"&A196&\"'!$H$44\",TRUE)),\"\",INDIRECT(\"'Børn \"&A196&\"'!$H$44\",TRUE)),3)","v":{"$error":"#VALUE!"}},{"$f":"COUNTIF(IF(ISERROR(INDIRECT(\"'Børn \"&A196&\"'!$H$53\",TRUE)),\"\",INDIRECT(\"'Børn \"&A196&\"'!$H$53\",TRUE)),3)","v":{"$error":"#VALUE!"}},{"$f":"COUNTIF(IF(ISERROR(INDIRECT(\"'Børn \"&A196&\"'!$H$61\",TRUE)),\"\",INDIRECT(\"'Børn \"&A196&\"'!$H$61\",TRUE)),3)","v":{"$error":"#VALUE!"}},{"$f":"COUNTIF(IF(ISERROR(INDIRECT(\"'Børn \"&A196&\"'!$H$68\",TRUE)),\"\",INDIRECT(\"'Børn \"&A196&\"'!$H$68\",TRUE)),3)","v":{"$error":"#VALUE!"}},{"$f":"COUNTIF(IF(ISERROR(INDIRECT(\"'Børn \"&A196&\"'!$H$79\",TRUE)),\"\",INDIRECT(\"'Børn \"&A196&\"'!$H$79\",TRUE)),3)","v":{"$error":"#VALUE!"}},{"$f":"COUNTIF(IF(ISERROR(INDIRECT(\"'Børn \"&A196&\"'!$H$87\",TRUE)),\"\",INDIRECT(\"'Børn \"&A196&\"'!$H$87\",TRUE)),3)","v":{"$error":"#VALUE!"}},null,null,null,"Tilsyn 68",{"$f":"IF(INDIRECT(\"'Voksen \"&U196&\"'!$c$112\")=\"\",\"\",IFERROR(INDIRECT(\"'Voksen \"&U196&\"'!$c$112\",TRUE),\"\"))","v":{"$error":"#REF!"}},{"$f":"IF(INDIRECT(\"'Voksen \"&U196&\"'!$c$133\")=\"\",\"\",IFERROR(INDIRECT(\"'Voksen \"&U196&\"'!$c$133\",TRUE),\"\"))","v":{"$error":"#REF!"}},{"$f":"IF(INDIRECT(\"'Voksen \"&U196&\"'!$c$154\")=\"\",\"\",IFERROR(INDIRECT(\"'Voksen \"&U196&\"'!$c$154\",TRUE),\"\"))","v":{"$error":"#REF!"}},{"$f":"IF(INDIRECT(\"'Voksen \"&U196&\"'!$c$169\")=\"\",\"\",IFERROR(INDIRECT(\"'Voksen \"&U196&\"'!$c$169\",TRUE),\"\"))","v":{"$error":"#REF!"}},{"$f":"IF(INDIRECT(\"'Voksen \"&U196&\"'!$c$186\")=\"\",\"\",IFERROR(INDIRECT(\"'Voksen \"&U196&\"'!$c$186\",TRUE),\"\"))","v":{"$error":"#REF!"}},{"$f":"IF(INDIRECT(\"'Voksen \"&U196&\"'!$c$207\")=\"\",\"\",IFERROR(INDIRECT(\"'Voksen \"&U196&\"'!$c$207\",TRUE),\"\"))","v":{"$error":"#REF!"}},{"$f":"IF(INDIRECT(\"'Voksen \"&U196&\"'!$c$229\")=\"\",\"\",IFERROR(INDIRECT(\"'Voksen \"&U196&\"'!$c$229\",TRUE),\"\"))","v":{"$error":"#REF!"}},{"$f":"IF(INDIRECT(\"'Voksen \"&U196&\"'!$c$255\")=\"\",\"\",IFERROR(INDIRECT(\"'Voksen \"&U196&\"'!$c$255\",TRUE),\"\"))","v":{"$error":"#REF!"}},null,{"$f":"IF(INDIRECT(\"'Børn \"&U196&\"'!$c$123\")=\"\",\"\",IFERROR(INDIRECT(\"'Børn \"&U196&\"'!$c$123\",TRUE),\"\"))","v":{"$error":"#REF!"}},{"$f":"IF(INDIRECT(\"'Børn \"&U196&\"'!$c$139\")=\"\",\"\",IFERROR(INDIRECT(\"'Børn \"&U196&\"'!$c$139\",TRUE),\"\"))","v":{"$error":"#REF!"}},{"$f":"IF(INDIRECT(\"'Børn \"&U196&\"'!$c$163\")=\"\",\"\",IFERROR(INDIRECT(\"'Børn \"&U196&\"'!$c$163\",TRUE),\"\"))","v":{"$error":"#REF!"}},{"$f":"IF(INDIRECT(\"'Børn \"&U196&\"'!$c$177\")=\"\",\"\",IFERROR(INDIRECT(\"'Børn \"&U196&\"'!$c$177\",TRUE),\"\"))","v":{"$error":"#REF!"}},{"$f":"IF(INDIRECT(\"'Børn \"&U196&\"'!$c$197\")=\"\",\"\",IFERROR(INDIRECT(\"'Børn \"&U196&\"'!$c$197\",TRUE),\"\"))","v":{"$error":"#REF!"}},{"$f":"IF(INDIRECT(\"'Børn \"&U196&\"'!$c$218\")=\"\",\"\",IFERROR(INDIRECT(\"'Børn \"&U196&\"'!$c$218\",TRUE),\"\"))","v":{"$error":"#REF!"}},{"$f":"IF(INDIRECT(\"'Børn \"&U196&\"'!$c$241\")=\"\",\"\",IFERROR(INDIRECT(\"'Børn \"&U196&\"'!$c$241\",TRUE),\"\"))","v":{"$error":"#REF!"}}]
["Tilsyn 46","Status:  grøn",{"$f":"COUNTIF(IF(ISERROR(INDIRECT(\"'Voksen \"&A197&\"'!$H$31\",TRUE)),\"\",INDIRECT(\"'Voksen \"&A197&\"'!$H$31\",TRUE)),1)","v":{"$error":"#VALUE!"}},{"$f":"COUNTIF(IF(ISERROR(INDIRECT(\"'Voksen \"&A197&\"'!$H$41\",TRUE)),\"\",INDIRECT(\"'Voksen \"&A197&\"'!$H$41\",TRUE)),1)","v":{"$error":"#VALUE!"}},{"$f":"COUNTIF(IF(ISERROR(INDIRECT(\"'Voksen \"&A197&\"'!$H$50\",TRUE)),\"\",INDIRECT(\"'Voksen \"&A197&\"'!$H$50\",TRUE)),1)","v":{"$error":"#VALUE!"}},{"$f":"COUNTIF(IF(ISERROR(INDIRECT(\"'Voksen \"&A197&\"'!$H$58\",TRUE)),\"\",INDIRECT(\"'Voksen \"&A197&\"'!$H$58\",TRUE)),1)","v":{"$error":"#VALUE!"}},{"$f":"COUNTIF(IF(ISERROR(INDIRECT(\"'Voksen \"&A197&\"'!$H$69\",TRUE)),\"\",INDIRECT(\"'Voksen \"&A197&\"'!$H$69\",TRUE)),1)","v":{"$error":"#VALUE!"}},{"$f":"COUNTIF(IF(ISERROR(INDIRECT(\"'Voksen \"&A197&\"'!$H$77\",TRUE)),\"\",INDIRECT(\"'Voksen \"&A197&\"'!$H$77\",TRUE)),1)","v":{"$error":"#VALUE!"}},null,null,{"$f":"COUNTIF(IF(ISERROR(INDIRECT(\"'Børn \"&A197&\"'!$H$31\",TRUE)),\"\",INDIRECT(\"'Børn \"&A197&\"'!$H$31\",TRUE)),1)","v":{"$error":"#VALUE!"}},{"$f":"COUNTIF(IF(ISERROR(INDIRECT(\"'Børn \"&A197&\"'!$H$44\",TRUE)),\"\",INDIRECT(\"'Børn \"&A197&\"'!$H$44\",TRUE)),1)","v":{"$error":"#VALUE!"}},{"$f":"COUNTIF(IF(ISERROR(INDIRECT(\"'Børn \"&A197&\"'!$H$53\",TRUE)),\"\",INDIRECT(\"'Børn \"&A197&\"'!$H$53\",TRUE)),1)","v":{"$error":"#VALUE!"}},{"$f":"COUNTIF(IF(ISERROR(INDIRECT(\"'Børn \"&A197&\"'!$H$61\",TRUE)),\"\",INDIRECT(\"'Børn \"&A197&\"'!$H$61\",TRUE)),1)","v":{"$error":"#VALUE!"}},{"$f":"COUNTIF(IF(ISERROR(INDIRECT(\"'Børn \"&A197&\"'!$H$68\",TRUE)),\"\",INDIRECT(\"'Børn \"&A197&\"'!$H$68\",TRUE)),1)","v":{"$error":"#VALUE!"}},{"$f":"COUNTIF(IF(ISERROR(INDIRECT(\"'Børn \"&A197&\"'!$H$79\",TRUE)),\"\",INDIRECT(\"'Børn \"&A197&\"'!$H$79\",TRUE)),1)","v":{"$error":"#VALUE!"}},{"$f":"COUNTIF(IF(ISERROR(INDIRECT(\"'Børn \"&A197&\"'!$H$87\",TRUE)),\"\",INDIRECT(\"'Børn \"&A197&\"'!$H$87\",TRUE)),1)","v":{"$error":"#VALUE!"}},null,null,null,{"$f":"U196","v":"Tilsyn 68"},{"$f":"IF(INDIRECT(\"'Voksen \"&U197&\"'!$c$115\")=\"\",\"\",IFERROR(INDIRECT(\"'Voksen \"&U197&\"'!$c$115\",TRUE),\"\"))","v":{"$error":"#REF!"}},{"$f":"IF(INDIRECT(\"'Voksen \"&U197&\"'!$c$136\")=\"\",\"\",IFERROR(INDIRECT(\"'Voksen \"&U197&\"'!$c$136\",TRUE),\"\"))","v":{"$error":"#REF!"}},{"$f":"IF(INDIRECT(\"'Voksen \"&U197&\"'!$c$157\")=\"\",\"\",IFERROR(INDIRECT(\"'Voksen \"&U197&\"'!$c$157\",TRUE),\"\"))","v":{"$error":"#REF!"}},{"$f":"IF(INDIRECT(\"'Voksen \"&U197&\"'!$c$172\")=\"\",\"\",IFERROR(INDIRECT(\"'Voksen \"&U197&\"'!$c$172\",TRUE),\"\"))","v":{"$error":"#REF!"}},{"$f":"IF(INDIRECT(\"'Voksen \"&U197&\"'!$c$189\")=\"\",\"\",IFERROR(INDIRECT(\"'Voksen \"&U197&\"'!$c$189\",TRUE),\"\"))","v":{"$error":"#REF!"}},{"$f":"IF(INDIRECT(\"'Voksen \"&U197&\"'!$c$210\")=\"\",\"\",IFERROR(INDIRECT(\"'Voksen \"&U197&\"'!$c$210\",TRUE),\"\"))","v":{"$error":"#REF!"}},{"$f":"IF(INDIRECT(\"'Voksen \"&U197&\"'!$c$232\")=\"\",\"\",IFERROR(INDIRECT(\"'Voksen \"&U197&\"'!$c$232\",TRUE),\"\"))","v":{"$error":"#REF!"}},{"$f":"IF(INDIRECT(\"'Voksen \"&U197&\"'!$c$258\")=\"\",\"\",IFERROR(INDIRECT(\"'Voksen \"&U197&\"'!$c$258\",TRUE),\"\"))","v":{"$error":"#REF!"}},null,{"$f":"IF(INDIRECT(\"'Børn \"&U197&\"'!$c$126\")=\"\",\"\",IFERROR(INDIRECT(\"'Børn \"&U197&\"'!$c$126\",TRUE),\"\"))","v":{"$error":"#REF!"}},{"$f":"IF(INDIRECT(\"'Børn \"&U197&\"'!$c$142\")=\"\",\"\",IFERROR(INDIRECT(\"'Børn \"&U197&\"'!$c$142\",TRUE),\"\"))","v":{"$error":"#REF!"}},{"$f":"IF(INDIRECT(\"'Børn \"&U197&\"'!$c$166\")=\"\",\"\",IFERROR(INDIRECT(\"'Børn \"&U197&\"'!$c$166\",TRUE),\"\"))","v":{"$error":"#REF!"}},{"$f":"IF(INDIRECT(\"'Børn \"&U197&\"'!$c$180\")=\"\",\"\",IFERROR(INDIRECT(\"'Børn \"&U197&\"'!$c$180\",TRUE),\"\"))","v":{"$error":"#REF!"}},{"$f":"IF(INDIRECT(\"'Børn \"&U197&\"'!$c$200\")=\"\",\"\",IFERROR(INDIRECT(\"'Børn \"&U197&\"'!$c$200\",TRUE),\"\"))","v":{"$error":"#REF!"}},{"$f":"IF(INDIRECT(\"'Børn \"&U197&\"'!$c$221\")=\"\",\"\",IFERROR(INDIRECT(\"'Børn \"&U197&\"'!$c$221\",TRUE),\"\"))","v":{"$error":"#REF!"}},{"$f":"IF(INDIRECT(\"'Børn \"&U197&\"'!$c$244\")=\"\",\"\",IFERROR(INDIRECT(\"'Børn \"&U197&\"'!$c$244\",TRUE),\"\"))","v":{"$error":"#REF!"}}]
["Tilsyn 46","Status:  gul",{"$f":"COUNTIF(IF(ISERROR(INDIRECT(\"'Voksen \"&A198&\"'!$H$31\",TRUE)),\"\",INDIRECT(\"'Voksen \"&A198&\"'!$H$31\",TRUE)),2)","v":{"$error":"#VALUE!"}},{"$f":"COUNTIF(IF(ISERROR(INDIRECT(\"'Voksen \"&A198&\"'!$H$41\",TRUE)),\"\",INDIRECT(\"'Voksen \"&A198&\"'!$H$41\",TRUE)),2)","v":{"$error":"#VALUE!"}},{"$f":"COUNTIF(IF(ISERROR(INDIRECT(\"'Voksen \"&A198&\"'!$H$50\",TRUE)),\"\",INDIRECT(\"'Voksen \"&A198&\"'!$H$50\",TRUE)),2)","v":{"$error":"#VALUE!"}},{"$f":"COUNTIF(IF(ISERROR(INDIRECT(\"'Voksen \"&A198&\"'!$H$58\",TRUE)),\"\",INDIRECT(\"'Voksen \"&A198&\"'!$H$58\",TRUE)),2)","v":{"$error":"#VALUE!"}},{"$f":"COUNTIF(IF(ISERROR(INDIRECT(\"'Voksen \"&A198&\"'!$H$69\",TRUE)),\"\",INDIRECT(\"'Voksen \"&A198&\"'!$H$69\",TRUE)),2)","v":{"$error":"#VALUE!"}},{"$f":"COUNTIF(IF(ISERROR(INDIRECT(\"'Voksen \"&A198&\"'!$H$77\",TRUE)),\"\",INDIRECT(\"'Voksen \"&A198&\"'!$H$77\",TRUE)),2)","v":{"$error":"#VALUE!"}},null,null,{"$f":"COUNTIF(IF(ISERROR(INDIRECT(\"'Børn \"&A198&\"'!$H$31\",TRUE)),\"\",INDIRECT(\"'Børn \"&A198&\"'!$H$31\",TRUE)),2)","v":{"$error":"#VALUE!"}},{"$f":"COUNTIF(IF(ISERROR(INDIRECT(\"'Børn \"&A198&\"'!$H$44\",TRUE)),\"\",INDIRECT(\"'Børn \"&A198&\"'!$H$44\",TRUE)),2)","v":{"$error":"#VALUE!"}},{"$f":"COUNTIF(IF(ISERROR(INDIRECT(\"'Børn \"&A198&\"'!$H$53\",TRUE)),\"\",INDIRECT(\"'Børn \"&A198&\"'!$H$53\",TRUE)),2)","v":{"$error":"#VALUE!"}},{"$f":"COUNTIF(IF(ISERROR(INDIRECT(\"'Børn \"&A198&\"'!$H$61\",TRUE)),\"\",INDIRECT(\"'Børn \"&A198&\"'!$H$61\",TRUE)),2)","v":{"$error":"#VALUE!"}},{"$f":"COUNTIF(IF(ISERROR(INDIRECT(\"'Børn \"&A198&\"'!$H$68\",TRUE)),\"\",INDIRECT(\"'Børn \"&A198&\"'!$H$68\",TRUE)),2)","v":{"$error":"#VALUE!"}},{"$f":"COUNTIF(IF(ISERROR(INDIRECT(\"'Børn \"&A198&\"'!$H$79\",TRUE)),\"\",INDIRECT(\"'Børn \"&A198&\"'!$H$79\",TRUE)),2)","v":{"$error":"#VALUE!"}},{"$f":"COUNTIF(IF(ISERROR(INDIRECT(\"'Børn \"&A198&\"'!$H$87\",TRUE)),\"\",INDIRECT(\"'Børn \"&A198&\"'!$H$87\",TRUE)),2)","v":{"$error":"#VALUE!"}},null,null,null,"Tilsyn 69",{"$f":"IF(INDIRECT(\"'Voksen \"&U198&\"'!$c$112\")=\"\",\"\",IFERROR(INDIRECT(\"'Voksen \"&U198&\"'!$c$112\",TRUE),\"\"))","v":{"$error":"#REF!"}},{"$f":"IF(INDIRECT(\"'Voksen \"&U198&\"'!$c$133\")=\"\",\"\",IFERROR(INDIRECT(\"'Voksen \"&U198&\"'!$c$133\",TRUE),\"\"))","v":{"$error":"#REF!"}},{"$f":"IF(INDIRECT(\"'Voksen \"&U198&\"'!$c$154\")=\"\",\"\",IFERROR(INDIRECT(\"'Voksen \"&U198&\"'!$c$154\",TRUE),\"\"))","v":{"$error":"#REF!"}},{"$f":"IF(INDIRECT(\"'Voksen \"&U198&\"'!$c$169\")=\"\",\"\",IFERROR(INDIRECT(\"'Voksen \"&U198&\"'!$c$169\",TRUE),\"\"))","v":{"$error":"#REF!"}},{"$f":"IF(INDIRECT(\"'Voksen \"&U198&\"'!$c$186\")=\"\",\"\",IFERROR(INDIRECT(\"'Voksen \"&U198&\"'!$c$186\",TRUE),\"\"))","v":{"$error":"#REF!"}},{"$f":"IF(INDIRECT(\"'Voksen \"&U198&\"'!$c$207\")=\"\",\"\",IFERROR(INDIRECT(\"'Voksen \"&U198&\"'!$c$207\",TRUE),\"\"))","v":{"$error":"#REF!"}},{"$f":"IF(INDIRECT(\"'Voksen \"&U198&\"'!$c$229\")=\"\",\"\",IFERROR(INDIRECT(\"'Voksen \"&U198&\"'!$c$229\",TRUE),\"\"))","v":{"$error":"#REF!"}},{"$f":"IF(INDIRECT(\"'Voksen \"&U198&\"'!$c$255\")=\"\",\"\",IFERROR(INDIRECT(\"'Voksen \"&U198&\"'!$c$255\",TRUE),\"\"))","v":{"$error":"#REF!"}},null,{"$f":"IF(INDIRECT(\"'Børn \"&U198&\"'!$c$123\")=\"\",\"\",IFERROR(INDIRECT(\"'Børn \"&U198&\"'!$c$123\",TRUE),\"\"))","v":{"$error":"#REF!"}},{"$f":"IF(INDIRECT(\"'Børn \"&U198&\"'!$c$139\")=\"\",\"\",IFERROR(INDIRECT(\"'Børn \"&U198&\"'!$c$139\",TRUE),\"\"))","v":{"$error":"#REF!"}},{"$f":"IF(INDIRECT(\"'Børn \"&U198&\"'!$c$163\")=\"\",\"\",IFERROR(INDIRECT(\"'Børn \"&U198&\"'!$c$163\",TRUE),\"\"))","v":{"$error":"#REF!"}},{"$f":"IF(INDIRECT(\"'Børn \"&U198&\"'!$c$177\")=\"\",\"\",IFERROR(INDIRECT(\"'Børn \"&U198&\"'!$c$177\",TRUE),\"\"))","v":{"$error":"#REF!"}},{"$f":"IF(INDIRECT(\"'Børn \"&U198&\"'!$c$197\")=\"\",\"\",IFERROR(INDIRECT(\"'Børn \"&U198&\"'!$c$197\",TRUE),\"\"))","v":{"$error":"#REF!"}},{"$f":"IF(INDIRECT(\"'Børn \"&U198&\"'!$c$218\")=\"\",\"\",IFERROR(INDIRECT(\"'Børn \"&U198&\"'!$c$218\",TRUE),\"\"))","v":{"$error":"#REF!"}},{"$f":"IF(INDIRECT(\"'Børn \"&U198&\"'!$c$241\")=\"\",\"\",IFERROR(INDIRECT(\"'Børn \"&U198&\"'!$c$241\",TRUE),\"\"))","v":{"$error":"#REF!"}}]
["Tilsyn 46","Status:  rød",{"$f":"COUNTIF(IF(ISERROR(INDIRECT(\"'Voksen \"&A199&\"'!$H$31\",TRUE)),\"\",INDIRECT(\"'Voksen \"&A199&\"'!$H$31\",TRUE)),3)","v":{"$error":"#VALUE!"}},{"$f":"COUNTIF(IF(ISERROR(INDIRECT(\"'Voksen \"&A199&\"'!$H$41\",TRUE)),\"\",INDIRECT(\"'Voksen \"&A199&\"'!$H$41\",TRUE)),3)","v":{"$error":"#VALUE!"}},{"$f":"COUNTIF(IF(ISERROR(INDIRECT(\"'Voksen \"&A199&\"'!$H$50\",TRUE)),\"\",INDIRECT(\"'Voksen \"&A199&\"'!$H$50\",TRUE)),3)","v":{"$error":"#VALUE!"}},{"$f":"COUNTIF(IF(ISERROR(INDIRECT(\"'Voksen \"&A199&\"'!$H$58\",TRUE)),\"\",INDIRECT(\"'Voksen \"&A199&\"'!$H$58\",TRUE)),3)","v":{"$error":"#VALUE!"}},{"$f":"COUNTIF(IF(ISERROR(INDIRECT(\"'Voksen \"&A199&\"'!$H$69\",TRUE)),\"\",INDIRECT(\"'Voksen \"&A199&\"'!$H$69\",TRUE)),3)","v":{"$error":"#VALUE!"}},{"$f":"COUNTIF(IF(ISERROR(INDIRECT(\"'Voksen \"&A199&\"'!$H$77\",TRUE)),\"\",INDIRECT(\"'Voksen \"&A199&\"'!$H$77\",TRUE)),3)","v":{"$error":"#VALUE!"}},null,null,{"$f":"COUNTIF(IF(ISERROR(INDIRECT(\"'Børn \"&A199&\"'!$H$31\",TRUE)),\"\",INDIRECT(\"'Børn \"&A199&\"'!$H$31\",TRUE)),3)","v":{"$error":"#VALUE!"}},{"$f":"COUNTIF(IF(ISERROR(INDIRECT(\"'Børn \"&A199&\"'!$H$44\",TRUE)),\"\",INDIRECT(\"'Børn \"&A199&\"'!$H$44\",TRUE)),3)","v":{"$error":"#VALUE!"}},{"$f":"COUNTIF(IF(ISERROR(INDIRECT(\"'Børn \"&A199&\"'!$H$53\",TRUE)),\"\",INDIRECT(\"'Børn \"&A199&\"'!$H$53\",TRUE)),3)","v":{"$error":"#VALUE!"}},{"$f":"COUNTIF(IF(ISERROR(INDIRECT(\"'Børn \"&A199&\"'!$H$61\",TRUE)),\"\",INDIRECT(\"'Børn \"&A199&\"'!$H$61\",TRUE)),3)","v":{"$error":"#VALUE!"}},{"$f":"COUNTIF(IF(ISERROR(INDIRECT(\"'Børn \"&A199&\"'!$H$68\",TRUE)),\"\",INDIRECT(\"'Børn \"&A199&\"'!$H$68\",TRUE)),3)","v":{"$error":"#VALUE!"}},{"$f":"COUNTIF(IF(ISERROR(INDIRECT(\"'Børn \"&A199&\"'!$H$79\",TRUE)),\"\",INDIRECT(\"'Børn \"&A199&\"'!$H$79\",TRUE)),3)","v":{"$error":"#VALUE!"}},{"$f":"COUNTIF(IF(ISERROR(INDIRECT(\"'Børn \"&A199&\"'!$H$87\",TRUE)),\"\",INDIRECT(\"'Børn \"&A199&\"'!$H$87\",TRUE)),3)","v":{"$error":"#VALUE!"}},null,null,null,{"$f":"U198","v":"Tilsyn 69"},{"$f":"IF(INDIRECT(\"'Voksen \"&U199&\"'!$c$115\")=\"\",\"\",IFERROR(INDIRECT(\"'Voksen \"&U199&\"'!$c$115\",TRUE),\"\"))","v":{"$error":"#REF!"}},{"$f":"IF(INDIRECT(\"'Voksen \"&U199&\"'!$c$136\")=\"\",\"\",IFERROR(INDIRECT(\"'Voksen \"&U199&\"'!$c$136\",TRUE),\"\"))","v":{"$error":"#REF!"}},{"$f":"IF(INDIRECT(\"'Voksen \"&U199&\"'!$c$157\")=\"\",\"\",IFERROR(INDIRECT(\"'Voksen \"&U199&\"'!$c$157\",TRUE),\"\"))","v":{"$error":"#REF!"}},{"$f":"IF(INDIRECT(\"'Voksen \"&U199&\"'!$c$172\")=\"\",\"\",IFERROR(INDIRECT(\"'Voksen \"&U199&\"'!$c$172\",TRUE),\"\"))","v":{"$error":"#REF!"}},{"$f":"IF(INDIRECT(\"'Voksen \"&U199&\"'!$c$189\")=\"\",\"\",IFERROR(INDIRECT(\"'Voksen \"&U199&\"'!$c$189\",TRUE),\"\"))","v":{"$error":"#REF!"}},{"$f":"IF(INDIRECT(\"'Voksen \"&U199&\"'!$c$210\")=\"\",\"\",IFERROR(INDIRECT(\"'Voksen \"&U199&\"'!$c$210\",TRUE),\"\"))","v":{"$error":"#REF!"}},{"$f":"IF(INDIRECT(\"'Voksen \"&U199&\"'!$c$232\")=\"\",\"\",IFERROR(INDIRECT(\"'Voksen \"&U199&\"'!$c$232\",TRUE),\"\"))","v":{"$error":"#REF!"}},{"$f":"IF(INDIRECT(\"'Voksen \"&U199&\"'!$c$258\")=\"\",\"\",IFERROR(INDIRECT(\"'Voksen \"&U199&\"'!$c$258\",TRUE),\"\"))","v":{"$error":"#REF!"}},null,{"$f":"IF(INDIRECT(\"'Børn \"&U199&\"'!$c$126\")=\"\",\"\",IFERROR(INDIRECT(\"'Børn \"&U199&\"'!$c$126\",TRUE),\"\"))","v":{"$error":"#REF!"}},{"$f":"IF(INDIRECT(\"'Børn \"&U199&\"'!$c$142\")=\"\",\"\",IFERROR(INDIRECT(\"'Børn \"&U199&\"'!$c$142\",TRUE),\"\"))","v":{"$error":"#REF!"}},{"$f":"IF(INDIRECT(\"'Børn \"&U199&\"'!$c$166\")=\"\",\"\",IFERROR(INDIRECT(\"'Børn \"&U199&\"'!$c$166\",TRUE),\"\"))","v":{"$error":"#REF!"}},{"$f":"IF(INDIRECT(\"'Børn \"&U199&\"'!$c$180\")=\"\",\"\",IFERROR(INDIRECT(\"'Børn \"&U199&\"'!$c$180\",TRUE),\"\"))","v":{"$error":"#REF!"}},{"$f":"IF(INDIRECT(\"'Børn \"&U199&\"'!$c$200\")=\"\",\"\",IFERROR(INDIRECT(\"'Børn \"&U199&\"'!$c$200\",TRUE),\"\"))","v":{"$error":"#REF!"}},{"$f":"IF(INDIRECT(\"'Børn \"&U199&\"'!$c$221\")=\"\",\"\",IFERROR(INDIRECT(\"'Børn \"&U199&\"'!$c$221\",TRUE),\"\"))","v":{"$error":"#REF!"}},{"$f":"IF(INDIRECT(\"'Børn \"&U199&\"'!$c$244\")=\"\",\"\",IFERROR(INDIRECT(\"'Børn \"&U199&\"'!$c$244\",TRUE),\"\"))","v":{"$error":"#REF!"}}]
["Tilsyn 47","Status:  grøn",{"$f":"COUNTIF(IF(ISERROR(INDIRECT(\"'Voksen \"&A200&\"'!$H$31\",TRUE)),\"\",INDIRECT(\"'Voksen \"&A200&\"'!$H$31\",TRUE)),1)","v":{"$error":"#VALUE!"}},{"$f":"COUNTIF(IF(ISERROR(INDIRECT(\"'Voksen \"&A200&\"'!$H$41\",TRUE)),\"\",INDIRECT(\"'Voksen \"&A200&\"'!$H$41\",TRUE)),1)","v":{"$error":"#VALUE!"}},{"$f":"COUNTIF(IF(ISERROR(INDIRECT(\"'Voksen \"&A200&\"'!$H$50\",TRUE)),\"\",INDIRECT(\"'Voksen \"&A200&\"'!$H$50\",TRUE)),1)","v":{"$error":"#VALUE!"}},{"$f":"COUNTIF(IF(ISERROR(INDIRECT(\"'Voksen \"&A200&\"'!$H$58\",TRUE)),\"\",INDIRECT(\"'Voksen \"&A200&\"'!$H$58\",TRUE)),1)","v":{"$error":"#VALUE!"}},{"$f":"COUNTIF(IF(ISERROR(INDIRECT(\"'Voksen \"&A200&\"'!$H$69\",TRUE)),\"\",INDIRECT(\"'Voksen \"&A200&\"'!$H$69\",TRUE)),1)","v":{"$error":"#VALUE!"}},{"$f":"COUNTIF(IF(ISERROR(INDIRECT(\"'Voksen \"&A200&\"'!$H$77\",TRUE)),\"\",INDIRECT(\"'Voksen \"&A200&\"'!$H$77\",TRUE)),1)","v":{"$error":"#VALUE!"}},null,null,{"$f":"COUNTIF(IF(ISERROR(INDIRECT(\"'Børn \"&A200&\"'!$H$31\",TRUE)),\"\",INDIRECT(\"'Børn \"&A200&\"'!$H$31\",TRUE)),1)","v":{"$error":"#VALUE!"}},{"$f":"COUNTIF(IF(ISERROR(INDIRECT(\"'Børn \"&A200&\"'!$H$44\",TRUE)),\"\",INDIRECT(\"'Børn \"&A200&\"'!$H$44\",TRUE)),1)","v":{"$error":"#VALUE!"}},{"$f":"COUNTIF(IF(ISERROR(INDIRECT(\"'Børn \"&A200&\"'!$H$53\",TRUE)),\"\",INDIRECT(\"'Børn \"&A200&\"'!$H$53\",TRUE)),1)","v":{"$error":"#VALUE!"}},{"$f":"COUNTIF(IF(ISERROR(INDIRECT(\"'Børn \"&A200&\"'!$H$61\",TRUE)),\"\",INDIRECT(\"'Børn \"&A200&\"'!$H$61\",TRUE)),1)","v":{"$error":"#VALUE!"}},{"$f":"COUNTIF(IF(ISERROR(INDIRECT(\"'Børn \"&A200&\"'!$H$68\",TRUE)),\"\",INDIRECT(\"'Børn \"&A200&\"'!$H$68\",TRUE)),1)","v":{"$error":"#VALUE!"}},{"$f":"COUNTIF(IF(ISERROR(INDIRECT(\"'Børn \"&A200&\"'!$H$79\",TRUE)),\"\",INDIRECT(\"'Børn \"&A200&\"'!$H$79\",TRUE)),1)","v":{"$error":"#VALUE!"}},{"$f":"COUNTIF(IF(ISERROR(INDIRECT(\"'Børn \"&A200&\"'!$H$87\",TRUE)),\"\",INDIRECT(\"'Børn \"&A200&\"'!$H$87\",TRUE)),1)","v":{"$error":"#VALUE!"}},null,null,null,"Tilsyn 70",{"$f":"IF(INDIRECT(\"'Voksen \"&U200&\"'!$c$112\")=\"\",\"\",IFERROR(INDIRECT(\"'Voksen \"&U200&\"'!$c$112\",TRUE),\"\"))","v":{"$error":"#REF!"}},{"$f":"IF(INDIRECT(\"'Voksen \"&U200&\"'!$c$133\")=\"\",\"\",IFERROR(INDIRECT(\"'Voksen \"&U200&\"'!$c$133\",TRUE),\"\"))","v":{"$error":"#REF!"}},{"$f":"IF(INDIRECT(\"'Voksen \"&U200&\"'!$c$154\")=\"\",\"\",IFERROR(INDIRECT(\"'Voksen \"&U200&\"'!$c$154\",TRUE),\"\"))","v":{"$error":"#REF!"}},{"$f":"IF(INDIRECT(\"'Voksen \"&U200&\"'!$c$169\")=\"\",\"\",IFERROR(INDIRECT(\"'Voksen \"&U200&\"'!$c$169\",TRUE),\"\"))","v":{"$error":"#REF!"}},{"$f":"IF(INDIRECT(\"'Voksen \"&U200&\"'!$c$186\")=\"\",\"\",IFERROR(INDIRECT(\"'Voksen \"&U200&\"'!$c$186\",TRUE),\"\"))","v":{"$error":"#REF!"}},{"$f":"IF(INDIRECT(\"'Voksen \"&U200&\"'!$c$207\")=\"\",\"\",IFERROR(INDIRECT(\"'Voksen \"&U200&\"'!$c$207\",TRUE),\"\"))","v":{"$error":"#REF!"}},{"$f":"IF(INDIRECT(\"'Voksen \"&U200&\"'!$c$229\")=\"\",\"\",IFERROR(INDIRECT(\"'Voksen \"&U200&\"'!$c$229\",TRUE),\"\"))","v":{"$error":"#REF!"}},{"$f":"IF(INDIRECT(\"'Voksen \"&U200&\"'!$c$255\")=\"\",\"\",IFERROR(INDIRECT(\"'Voksen \"&U200&\"'!$c$255\",TRUE),\"\"))","v":{"$error":"#REF!"}},null,{"$f":"IF(INDIRECT(\"'Børn \"&U200&\"'!$c$123\")=\"\",\"\",IFERROR(INDIRECT(\"'Børn \"&U200&\"'!$c$123\",TRUE),\"\"))","v":{"$error":"#REF!"}},{"$f":"IF(INDIRECT(\"'Børn \"&U200&\"'!$c$139\")=\"\",\"\",IFERROR(INDIRECT(\"'Børn \"&U200&\"'!$c$139\",TRUE),\"\"))","v":{"$error":"#REF!"}},{"$f":"IF(INDIRECT(\"'Børn \"&U200&\"'!$c$163\")=\"\",\"\",IFERROR(INDIRECT(\"'Børn \"&U200&\"'!$c$163\",TRUE),\"\"))","v":{"$error":"#REF!"}},{"$f":"IF(INDIRECT(\"'Børn \"&U200&\"'!$c$177\")=\"\",\"\",IFERROR(INDIRECT(\"'Børn \"&U200&\"'!$c$177\",TRUE),\"\"))","v":{"$error":"#REF!"}},{"$f":"IF(INDIRECT(\"'Børn \"&U200&\"'!$c$197\")=\"\",\"\",IFERROR(INDIRECT(\"'Børn \"&U200&\"'!$c$197\",TRUE),\"\"))","v":{"$error":"#REF!"}},{"$f":"IF(INDIRECT(\"'Børn \"&U200&\"'!$c$218\")=\"\",\"\",IFERROR(INDIRECT(\"'Børn \"&U200&\"'!$c$218\",TRUE),\"\"))","v":{"$error":"#REF!"}},{"$f":"IF(INDIRECT(\"'Børn \"&U200&\"'!$c$241\")=\"\",\"\",IFERROR(INDIRECT(\"'Børn \"&U200&\"'!$c$241\",TRUE),\"\"))","v":{"$error":"#REF!"}}]
["Tilsyn 47","Status:  gul",{"$f":"COUNTIF(IF(ISERROR(INDIRECT(\"'Voksen \"&A201&\"'!$H$31\",TRUE)),\"\",INDIRECT(\"'Voksen \"&A201&\"'!$H$31\",TRUE)),2)","v":{"$error":"#VALUE!"}},{"$f":"COUNTIF(IF(ISERROR(INDIRECT(\"'Voksen \"&A201&\"'!$H$41\",TRUE)),\"\",INDIRECT(\"'Voksen \"&A201&\"'!$H$41\",TRUE)),2)","v":{"$error":"#VALUE!"}},{"$f":"COUNTIF(IF(ISERROR(INDIRECT(\"'Voksen \"&A201&\"'!$H$50\",TRUE)),\"\",INDIRECT(\"'Voksen \"&A201&\"'!$H$50\",TRUE)),2)","v":{"$error":"#VALUE!"}},{"$f":"COUNTIF(IF(ISERROR(INDIRECT(\"'Voksen \"&A201&\"'!$H$58\",TRUE)),\"\",INDIRECT(\"'Voksen \"&A201&\"'!$H$58\",TRUE)),2)","v":{"$error":"#VALUE!"}},{"$f":"COUNTIF(IF(ISERROR(INDIRECT(\"'Voksen \"&A201&\"'!$H$69\",TRUE)),\"\",INDIRECT(\"'Voksen \"&A201&\"'!$H$69\",TRUE)),2)","v":{"$error":"#VALUE!"}},{"$f":"COUNTIF(IF(ISERROR(INDIRECT(\"'Voksen \"&A201&\"'!$H$77\",TRUE)),\"\",INDIRECT(\"'Voksen \"&A201&\"'!$H$77\",TRUE)),2)","v":{"$error":"#VALUE!"}},null,null,{"$f":"COUNTIF(IF(ISERROR(INDIRECT(\"'Børn \"&A201&\"'!$H$31\",TRUE)),\"\",INDIRECT(\"'Børn \"&A201&\"'!$H$31\",TRUE)),2)","v":{"$error":"#VALUE!"}},{"$f":"COUNTIF(IF(ISERROR(INDIRECT(\"'Børn \"&A201&\"'!$H$44\",TRUE)),\"\",INDIRECT(\"'Børn \"&A201&\"'!$H$44\",TRUE)),2)","v":{"$error":"#VALUE!"}},{"$f":"COUNTIF(IF(ISERROR(INDIRECT(\"'Børn \"&A201&\"'!$H$53\",TRUE)),\"\",INDIRECT(\"'Børn \"&A201&\"'!$H$53\",TRUE)),2)","v":{"$error":"#VALUE!"}},{"$f":"COUNTIF(IF(ISERROR(INDIRECT(\"'Børn \"&A201&\"'!$H$61\",TRUE)),\"\",INDIRECT(\"'Børn \"&A201&\"'!$H$61\",TRUE)),2)","v":{"$error":"#VALUE!"}},{"$f":"COUNTIF(IF(ISERROR(INDIRECT(\"'Børn \"&A201&\"'!$H$68\",TRUE)),\"\",INDIRECT(\"'Børn \"&A201&\"'!$H$68\",TRUE)),2)","v":{"$error":"#VALUE!"}},{"$f":"COUNTIF(IF(ISERROR(INDIRECT(\"'Børn \"&A201&\"'!$H$79\",TRUE)),\"\",INDIRECT(\"'Børn \"&A201&\"'!$H$79\",TRUE)),2)","v":{"$error":"#VALUE!"}},{"$f":"COUNTIF(IF(ISERROR(INDIRECT(\"'Børn \"&A201&\"'!$H$87\",TRUE)),\"\",INDIRECT(\"'Børn \"&A201&\"'!$H$87\",TRUE)),2)","v":{"$error":"#VALUE!"}},null,null,null,{"$f":"U200","v":"Tilsyn 70"},{"$f":"IF(INDIRECT(\"'Voksen \"&U201&\"'!$c$115\")=\"\",\"\",IFERROR(INDIRECT(\"'Voksen \"&U201&\"'!$c$115\",TRUE),\"\"))","v":{"$error":"#REF!"}},{"$f":"IF(INDIRECT(\"'Voksen \"&U201&\"'!$c$136\")=\"\",\"\",IFERROR(INDIRECT(\"'Voksen \"&U201&\"'!$c$136\",TRUE),\"\"))","v":{"$error":"#REF!"}},{"$f":"IF(INDIRECT(\"'Voksen \"&U201&\"'!$c$157\")=\"\",\"\",IFERROR(INDIRECT(\"'Voksen \"&U201&\"'!$c$157\",TRUE),\"\"))","v":{"$error":"#REF!"}},{"$f":"IF(INDIRECT(\"'Voksen \"&U201&\"'!$c$172\")=\"\",\"\",IFERROR(INDIRECT(\"'Voksen \"&U201&\"'!$c$172\",TRUE),\"\"))","v":{"$error":"#REF!"}},{"$f":"IF(INDIRECT(\"'Voksen \"&U201&\"'!$c$189\")=\"\",\"\",IFERROR(INDIRECT(\"'Voksen \"&U201&\"'!$c$189\",TRUE),\"\"))","v":{"$error":"#REF!"}},{"$f":"IF(INDIRECT(\"'Voksen \"&U201&\"'!$c$210\")=\"\",\"\",IFERROR(INDIRECT(\"'Voksen \"&U201&\"'!$c$210\",TRUE),\"\"))","v":{"$error":"#REF!"}},{"$f":"IF(INDIRECT(\"'Voksen \"&U201&\"'!$c$232\")=\"\",\"\",IFERROR(INDIRECT(\"'Voksen \"&U201&\"'!$c$232\",TRUE),\"\"))","v":{"$error":"#REF!"}},{"$f":"IF(INDIRECT(\"'Voksen \"&U201&\"'!$c$258\")=\"\",\"\",IFERROR(INDIRECT(\"'Voksen \"&U201&\"'!$c$258\",TRUE),\"\"))","v":{"$error":"#REF!"}},null,{"$f":"IF(INDIRECT(\"'Børn \"&U201&\"'!$c$126\")=\"\",\"\",IFERROR(INDIRECT(\"'Børn \"&U201&\"'!$c$126\",TRUE),\"\"))","v":{"$error":"#REF!"}},{"$f":"IF(INDIRECT(\"'Børn \"&U201&\"'!$c$142\")=\"\",\"\",IFERROR(INDIRECT(\"'Børn \"&U201&\"'!$c$142\",TRUE),\"\"))","v":{"$error":"#REF!"}},{"$f":"IF(INDIRECT(\"'Børn \"&U201&\"'!$c$166\")=\"\",\"\",IFERROR(INDIRECT(\"'Børn \"&U201&\"'!$c$166\",TRUE),\"\"))","v":{"$error":"#REF!"}},{"$f":"IF(INDIRECT(\"'Børn \"&U201&\"'!$c$180\")=\"\",\"\",IFERROR(INDIRECT(\"'Børn \"&U201&\"'!$c$180\",TRUE),\"\"))","v":{"$error":"#REF!"}},{"$f":"IF(INDIRECT(\"'Børn \"&U201&\"'!$c$200\")=\"\",\"\",IFERROR(INDIRECT(\"'Børn \"&U201&\"'!$c$200\",TRUE),\"\"))","v":{"$error":"#REF!"}},{"$f":"IF(INDIRECT(\"'Børn \"&U201&\"'!$c$221\")=\"\",\"\",IFERROR(INDIRECT(\"'Børn \"&U201&\"'!$c$221\",TRUE),\"\"))","v":{"$error":"#REF!"}},{"$f":"IF(INDIRECT(\"'Børn \"&U201&\"'!$c$244\")=\"\",\"\",IFERROR(INDIRECT(\"'Børn \"&U201&\"'!$c$244\",TRUE),\"\"))","v":{"$error":"#REF!"}}]
["Tilsyn 47","Status:  rød",{"$f":"COUNTIF(IF(ISERROR(INDIRECT(\"'Voksen \"&A202&\"'!$H$31\",TRUE)),\"\",INDIRECT(\"'Voksen \"&A202&\"'!$H$31\",TRUE)),3)","v":{"$error":"#VALUE!"}},{"$f":"COUNTIF(IF(ISERROR(INDIRECT(\"'Voksen \"&A202&\"'!$H$41\",TRUE)),\"\",INDIRECT(\"'Voksen \"&A202&\"'!$H$41\",TRUE)),3)","v":{"$error":"#VALUE!"}},{"$f":"COUNTIF(IF(ISERROR(INDIRECT(\"'Voksen \"&A202&\"'!$H$50\",TRUE)),\"\",INDIRECT(\"'Voksen \"&A202&\"'!$H$50\",TRUE)),3)","v":{"$error":"#VALUE!"}},{"$f":"COUNTIF(IF(ISERROR(INDIRECT(\"'Voksen \"&A202&\"'!$H$58\",TRUE)),\"\",INDIRECT(\"'Voksen \"&A202&\"'!$H$58\",TRUE)),3)","v":{"$error":"#VALUE!"}},{"$f":"COUNTIF(IF(ISERROR(INDIRECT(\"'Voksen \"&A202&\"'!$H$69\",TRUE)),\"\",INDIRECT(\"'Voksen \"&A202&\"'!$H$69\",TRUE)),3)","v":{"$error":"#VALUE!"}},{"$f":"COUNTIF(IF(ISERROR(INDIRECT(\"'Voksen \"&A202&\"'!$H$77\",TRUE)),\"\",INDIRECT(\"'Voksen \"&A202&\"'!$H$77\",TRUE)),3)","v":{"$error":"#VALUE!"}},null,null,{"$f":"COUNTIF(IF(ISERROR(INDIRECT(\"'Børn \"&A202&\"'!$H$31\",TRUE)),\"\",INDIRECT(\"'Børn \"&A202&\"'!$H$31\",TRUE)),3)","v":{"$error":"#VALUE!"}},{"$f":"COUNTIF(IF(ISERROR(INDIRECT(\"'Børn \"&A202&\"'!$H$44\",TRUE)),\"\",INDIRECT(\"'Børn \"&A202&\"'!$H$44\",TRUE)),3)","v":{"$error":"#VALUE!"}},{"$f":"COUNTIF(IF(ISERROR(INDIRECT(\"'Børn \"&A202&\"'!$H$53\",TRUE)),\"\",INDIRECT(\"'Børn \"&A202&\"'!$H$53\",TRUE)),3)","v":{"$error":"#VALUE!"}},{"$f":"COUNTIF(IF(ISERROR(INDIRECT(\"'Børn \"&A202&\"'!$H$61\",TRUE)),\"\",INDIRECT(\"'Børn \"&A202&\"'!$H$61\",TRUE)),3)","v":{"$error":"#VALUE!"}},{"$f":"COUNTIF(IF(ISERROR(INDIRECT(\"'Børn \"&A202&\"'!$H$68\",TRUE)),\"\",INDIRECT(\"'Børn \"&A202&\"'!$H$68\",TRUE)),3)","v":{"$error":"#VALUE!"}},{"$f":"COUNTIF(IF(ISERROR(INDIRECT(\"'Børn \"&A202&\"'!$H$79\",TRUE)),\"\",INDIRECT(\"'Børn \"&A202&\"'!$H$79\",TRUE)),3)","v":{"$error":"#VALUE!"}},{"$f":"COUNTIF(IF(ISERROR(INDIRECT(\"'Børn \"&A202&\"'!$H$87\",TRUE)),\"\",INDIRECT(\"'Børn \"&A202&\"'!$H$87\",TRUE)),3)","v":{"$error":"#VALUE!"}},null,null,null,"Tilsyn 71",{"$f":"IF(INDIRECT(\"'Voksen \"&U202&\"'!$c$112\")=\"\",\"\",IFERROR(INDIRECT(\"'Voksen \"&U202&\"'!$c$112\",TRUE),\"\"))","v":{"$error":"#REF!"}},{"$f":"IF(INDIRECT(\"'Voksen \"&U202&\"'!$c$133\")=\"\",\"\",IFERROR(INDIRECT(\"'Voksen \"&U202&\"'!$c$133\",TRUE),\"\"))","v":{"$error":"#REF!"}},{"$f":"IF(INDIRECT(\"'Voksen \"&U202&\"'!$c$154\")=\"\",\"\",IFERROR(INDIRECT(\"'Voksen \"&U202&\"'!$c$154\",TRUE),\"\"))","v":{"$error":"#REF!"}},{"$f":"IF(INDIRECT(\"'Voksen \"&U202&\"'!$c$169\")=\"\",\"\",IFERROR(INDIRECT(\"'Voksen \"&U202&\"'!$c$169\",TRUE),\"\"))","v":{"$error":"#REF!"}},{"$f":"IF(INDIRECT(\"'Voksen \"&U202&\"'!$c$186\")=\"\",\"\",IFERROR(INDIRECT(\"'Voksen \"&U202&\"'!$c$186\",TRUE),\"\"))","v":{"$error":"#REF!"}},{"$f":"IF(INDIRECT(\"'Voksen \"&U202&\"'!$c$207\")=\"\",\"\",IFERROR(INDIRECT(\"'Voksen \"&U202&\"'!$c$207\",TRUE),\"\"))","v":{"$error":"#REF!"}},{"$f":"IF(INDIRECT(\"'Voksen \"&U202&\"'!$c$229\")=\"\",\"\",IFERROR(INDIRECT(\"'Voksen \"&U202&\"'!$c$229\",TRUE),\"\"))","v":{"$error":"#REF!"}},{"$f":"IF(INDIRECT(\"'Voksen \"&U202&\"'!$c$255\")=\"\",\"\",IFERROR(INDIRECT(\"'Voksen \"&U202&\"'!$c$255\",TRUE),\"\"))","v":{"$error":"#REF!"}},null,{"$f":"IF(INDIRECT(\"'Børn \"&U202&\"'!$c$123\")=\"\",\"\",IFERROR(INDIRECT(\"'Børn \"&U202&\"'!$c$123\",TRUE),\"\"))","v":{"$error":"#REF!"}},{"$f":"IF(INDIRECT(\"'Børn \"&U202&\"'!$c$139\")=\"\",\"\",IFERROR(INDIRECT(\"'Børn \"&U202&\"'!$c$139\",TRUE),\"\"))","v":{"$error":"#REF!"}},{"$f":"IF(INDIRECT(\"'Børn \"&U202&\"'!$c$163\")=\"\",\"\",IFERROR(INDIRECT(\"'Børn \"&U202&\"'!$c$163\",TRUE),\"\"))","v":{"$error":"#REF!"}},{"$f":"IF(INDIRECT(\"'Børn \"&U202&\"'!$c$177\")=\"\",\"\",IFERROR(INDIRECT(\"'Børn \"&U202&\"'!$c$177\",TRUE),\"\"))","v":{"$error":"#REF!"}},{"$f":"IF(INDIRECT(\"'Børn \"&U202&\"'!$c$197\")=\"\",\"\",IFERROR(INDIRECT(\"'Børn \"&U202&\"'!$c$197\",TRUE),\"\"))","v":{"$error":"#REF!"}},{"$f":"IF(INDIRECT(\"'Børn \"&U202&\"'!$c$218\")=\"\",\"\",IFERROR(INDIRECT(\"'Børn \"&U202&\"'!$c$218\",TRUE),\"\"))","v":{"$error":"#REF!"}},{"$f":"IF(INDIRECT(\"'Børn \"&U202&\"'!$c$241\")=\"\",\"\",IFERROR(INDIRECT(\"'Børn \"&U202&\"'!$c$241\",TRUE),\"\"))","v":{"$error":"#REF!"}}]
["Tilsyn 48","Status:  grøn",{"$f":"COUNTIF(IF(ISERROR(INDIRECT(\"'Voksen \"&A203&\"'!$H$31\",TRUE)),\"\",INDIRECT(\"'Voksen \"&A203&\"'!$H$31\",TRUE)),1)","v":{"$error":"#VALUE!"}},{"$f":"COUNTIF(IF(ISERROR(INDIRECT(\"'Voksen \"&A203&\"'!$H$41\",TRUE)),\"\",INDIRECT(\"'Voksen \"&A203&\"'!$H$41\",TRUE)),1)","v":{"$error":"#VALUE!"}},{"$f":"COUNTIF(IF(ISERROR(INDIRECT(\"'Voksen \"&A203&\"'!$H$50\",TRUE)),\"\",INDIRECT(\"'Voksen \"&A203&\"'!$H$50\",TRUE)),1)","v":{"$error":"#VALUE!"}},{"$f":"COUNTIF(IF(ISERROR(INDIRECT(\"'Voksen \"&A203&\"'!$H$58\",TRUE)),\"\",INDIRECT(\"'Voksen \"&A203&\"'!$H$58\",TRUE)),1)","v":{"$error":"#VALUE!"}},{"$f":"COUNTIF(IF(ISERROR(INDIRECT(\"'Voksen \"&A203&\"'!$H$69\",TRUE)),\"\",INDIRECT(\"'Voksen \"&A203&\"'!$H$69\",TRUE)),1)","v":{"$error":"#VALUE!"}},{"$f":"COUNTIF(IF(ISERROR(INDIRECT(\"'Voksen \"&A203&\"'!$H$77\",TRUE)),\"\",INDIRECT(\"'Voksen \"&A203&\"'!$H$77\",TRUE)),1)","v":{"$error":"#VALUE!"}},null,null,{"$f":"COUNTIF(IF(ISERROR(INDIRECT(\"'Børn \"&A203&\"'!$H$31\",TRUE)),\"\",INDIRECT(\"'Børn \"&A203&\"'!$H$31\",TRUE)),1)","v":{"$error":"#VALUE!"}},{"$f":"COUNTIF(IF(ISERROR(INDIRECT(\"'Børn \"&A203&\"'!$H$44\",TRUE)),\"\",INDIRECT(\"'Børn \"&A203&\"'!$H$44\",TRUE)),1)","v":{"$error":"#VALUE!"}},{"$f":"COUNTIF(IF(ISERROR(INDIRECT(\"'Børn \"&A203&\"'!$H$53\",TRUE)),\"\",INDIRECT(\"'Børn \"&A203&\"'!$H$53\",TRUE)),1)","v":{"$error":"#VALUE!"}},{"$f":"COUNTIF(IF(ISERROR(INDIRECT(\"'Børn \"&A203&\"'!$H$61\",TRUE)),\"\",INDIRECT(\"'Børn \"&A203&\"'!$H$61\",TRUE)),1)","v":{"$error":"#VALUE!"}},{"$f":"COUNTIF(IF(ISERROR(INDIRECT(\"'Børn \"&A203&\"'!$H$68\",TRUE)),\"\",INDIRECT(\"'Børn \"&A203&\"'!$H$68\",TRUE)),1)","v":{"$error":"#VALUE!"}},{"$f":"COUNTIF(IF(ISERROR(INDIRECT(\"'Børn \"&A203&\"'!$H$79\",TRUE)),\"\",INDIRECT(\"'Børn \"&A203&\"'!$H$79\",TRUE)),1)","v":{"$error":"#VALUE!"}},{"$f":"COUNTIF(IF(ISERROR(INDIRECT(\"'Børn \"&A203&\"'!$H$87\",TRUE)),\"\",INDIRECT(\"'Børn \"&A203&\"'!$H$87\",TRUE)),1)","v":{"$error":"#VALUE!"}},null,null,null,{"$f":"U202","v":"Tilsyn 71"},{"$f":"IF(INDIRECT(\"'Voksen \"&U203&\"'!$c$115\")=\"\",\"\",IFERROR(INDIRECT(\"'Voksen \"&U203&\"'!$c$115\",TRUE),\"\"))","v":{"$error":"#REF!"}},{"$f":"IF(INDIRECT(\"'Voksen \"&U203&\"'!$c$136\")=\"\",\"\",IFERROR(INDIRECT(\"'Voksen \"&U203&\"'!$c$136\",TRUE),\"\"))","v":{"$error":"#REF!"}},{"$f":"IF(INDIRECT(\"'Voksen \"&U203&\"'!$c$157\")=\"\",\"\",IFERROR(INDIRECT(\"'Voksen \"&U203&\"'!$c$157\",TRUE),\"\"))","v":{"$error":"#REF!"}},{"$f":"IF(INDIRECT(\"'Voksen \"&U203&\"'!$c$172\")=\"\",\"\",IFERROR(INDIRECT(\"'Voksen \"&U203&\"'!$c$172\",TRUE),\"\"))","v":{"$error":"#REF!"}},{"$f":"IF(INDIRECT(\"'Voksen \"&U203&\"'!$c$189\")=\"\",\"\",IFERROR(INDIRECT(\"'Voksen \"&U203&\"'!$c$189\",TRUE),\"\"))","v":{"$error":"#REF!"}},{"$f":"IF(INDIRECT(\"'Voksen \"&U203&\"'!$c$210\")=\"\",\"\",IFERROR(INDIRECT(\"'Voksen \"&U203&\"'!$c$210\",TRUE),\"\"))","v":{"$error":"#REF!"}},{"$f":"IF(INDIRECT(\"'Voksen \"&U203&\"'!$c$232\")=\"\",\"\",IFERROR(INDIRECT(\"'Voksen \"&U203&\"'!$c$232\",TRUE),\"\"))","v":{"$error":"#REF!"}},{"$f":"IF(INDIRECT(\"'Voksen \"&U203&\"'!$c$258\")=\"\",\"\",IFERROR(INDIRECT(\"'Voksen \"&U203&\"'!$c$258\",TRUE),\"\"))","v":{"$error":"#REF!"}},null,{"$f":"IF(INDIRECT(\"'Børn \"&U203&\"'!$c$126\")=\"\",\"\",IFERROR(INDIRECT(\"'Børn \"&U203&\"'!$c$126\",TRUE),\"\"))","v":{"$error":"#REF!"}},{"$f":"IF(INDIRECT(\"'Børn \"&U203&\"'!$c$142\")=\"\",\"\",IFERROR(INDIRECT(\"'Børn \"&U203&\"'!$c$142\",TRUE),\"\"))","v":{"$error":"#REF!"}},{"$f":"IF(INDIRECT(\"'Børn \"&U203&\"'!$c$166\")=\"\",\"\",IFERROR(INDIRECT(\"'Børn \"&U203&\"'!$c$166\",TRUE),\"\"))","v":{"$error":"#REF!"}},{"$f":"IF(INDIRECT(\"'Børn \"&U203&\"'!$c$180\")=\"\",\"\",IFERROR(INDIRECT(\"'Børn \"&U203&\"'!$c$180\",TRUE),\"\"))","v":{"$error":"#REF!"}},{"$f":"IF(INDIRECT(\"'Børn \"&U203&\"'!$c$200\")=\"\",\"\",IFERROR(INDIRECT(\"'Børn \"&U203&\"'!$c$200\",TRUE),\"\"))","v":{"$error":"#REF!"}},{"$f":"IF(INDIRECT(\"'Børn \"&U203&\"'!$c$221\")=\"\",\"\",IFERROR(INDIRECT(\"'Børn \"&U203&\"'!$c$221\",TRUE),\"\"))","v":{"$error":"#REF!"}},{"$f":"IF(INDIRECT(\"'Børn \"&U203&\"'!$c$244\")=\"\",\"\",IFERROR(INDIRECT(\"'Børn \"&U203&\"'!$c$244\",TRUE),\"\"))","v":{"$error":"#REF!"}}]
["Tilsyn 48","Status:  gul",{"$f":"COUNTIF(IF(ISERROR(INDIRECT(\"'Voksen \"&A204&\"'!$H$31\",TRUE)),\"\",INDIRECT(\"'Voksen \"&A204&\"'!$H$31\",TRUE)),2)","v":{"$error":"#VALUE!"}},{"$f":"COUNTIF(IF(ISERROR(INDIRECT(\"'Voksen \"&A204&\"'!$H$41\",TRUE)),\"\",INDIRECT(\"'Voksen \"&A204&\"'!$H$41\",TRUE)),2)","v":{"$error":"#VALUE!"}},{"$f":"COUNTIF(IF(ISERROR(INDIRECT(\"'Voksen \"&A204&\"'!$H$50\",TRUE)),\"\",INDIRECT(\"'Voksen \"&A204&\"'!$H$50\",TRUE)),2)","v":{"$error":"#VALUE!"}},{"$f":"COUNTIF(IF(ISERROR(INDIRECT(\"'Voksen \"&A204&\"'!$H$58\",TRUE)),\"\",INDIRECT(\"'Voksen \"&A204&\"'!$H$58\",TRUE)),2)","v":{"$error":"#VALUE!"}},{"$f":"COUNTIF(IF(ISERROR(INDIRECT(\"'Voksen \"&A204&\"'!$H$69\",TRUE)),\"\",INDIRECT(\"'Voksen \"&A204&\"'!$H$69\",TRUE)),2)","v":{"$error":"#VALUE!"}},{"$f":"COUNTIF(IF(ISERROR(INDIRECT(\"'Voksen \"&A204&\"'!$H$77\",TRUE)),\"\",INDIRECT(\"'Voksen \"&A204&\"'!$H$77\",TRUE)),2)","v":{"$error":"#VALUE!"}},null,null,{"$f":"COUNTIF(IF(ISERROR(INDIRECT(\"'Børn \"&A204&\"'!$H$31\",TRUE)),\"\",INDIRECT(\"'Børn \"&A204&\"'!$H$31\",TRUE)),2)","v":{"$error":"#VALUE!"}},{"$f":"COUNTIF(IF(ISERROR(INDIRECT(\"'Børn \"&A204&\"'!$H$44\",TRUE)),\"\",INDIRECT(\"'Børn \"&A204&\"'!$H$44\",TRUE)),2)","v":{"$error":"#VALUE!"}},{"$f":"COUNTIF(IF(ISERROR(INDIRECT(\"'Børn \"&A204&\"'!$H$53\",TRUE)),\"\",INDIRECT(\"'Børn \"&A204&\"'!$H$53\",TRUE)),2)","v":{"$error":"#VALUE!"}},{"$f":"COUNTIF(IF(ISERROR(INDIRECT(\"'Børn \"&A204&\"'!$H$61\",TRUE)),\"\",INDIRECT(\"'Børn \"&A204&\"'!$H$61\",TRUE)),2)","v":{"$error":"#VALUE!"}},{"$f":"COUNTIF(IF(ISERROR(INDIRECT(\"'Børn \"&A204&\"'!$H$68\",TRUE)),\"\",INDIRECT(\"'Børn \"&A204&\"'!$H$68\",TRUE)),2)","v":{"$error":"#VALUE!"}},{"$f":"COUNTIF(IF(ISERROR(INDIRECT(\"'Børn \"&A204&\"'!$H$79\",TRUE)),\"\",INDIRECT(\"'Børn \"&A204&\"'!$H$79\",TRUE)),2)","v":{"$error":"#VALUE!"}},{"$f":"COUNTIF(IF(ISERROR(INDIRECT(\"'Børn \"&A204&\"'!$H$87\",TRUE)),\"\",INDIRECT(\"'Børn \"&A204&\"'!$H$87\",TRUE)),2)","v":{"$error":"#VALUE!"}},null,null,null,"Tilsyn 72",{"$f":"IF(INDIRECT(\"'Voksen \"&U204&\"'!$c$112\")=\"\",\"\",IFERROR(INDIRECT(\"'Voksen \"&U204&\"'!$c$112\",TRUE),\"\"))","v":{"$error":"#REF!"}},{"$f":"IF(INDIRECT(\"'Voksen \"&U204&\"'!$c$133\")=\"\",\"\",IFERROR(INDIRECT(\"'Voksen \"&U204&\"'!$c$133\",TRUE),\"\"))","v":{"$error":"#REF!"}},{"$f":"IF(INDIRECT(\"'Voksen \"&U204&\"'!$c$154\")=\"\",\"\",IFERROR(INDIRECT(\"'Voksen \"&U204&\"'!$c$154\",TRUE),\"\"))","v":{"$error":"#REF!"}},{"$f":"IF(INDIRECT(\"'Voksen \"&U204&\"'!$c$169\")=\"\",\"\",IFERROR(INDIRECT(\"'Voksen \"&U204&\"'!$c$169\",TRUE),\"\"))","v":{"$error":"#REF!"}},{"$f":"IF(INDIRECT(\"'Voksen \"&U204&\"'!$c$186\")=\"\",\"\",IFERROR(INDIRECT(\"'Voksen \"&U204&\"'!$c$186\",TRUE),\"\"))","v":{"$error":"#REF!"}},{"$f":"IF(INDIRECT(\"'Voksen \"&U204&\"'!$c$207\")=\"\",\"\",IFERROR(INDIRECT(\"'Voksen \"&U204&\"'!$c$207\",TRUE),\"\"))","v":{"$error":"#REF!"}},{"$f":"IF(INDIRECT(\"'Voksen \"&U204&\"'!$c$229\")=\"\",\"\",IFERROR(INDIRECT(\"'Voksen \"&U204&\"'!$c$229\",TRUE),\"\"))","v":{"$error":"#REF!"}},{"$f":"IF(INDIRECT(\"'Voksen \"&U204&\"'!$c$255\")=\"\",\"\",IFERROR(INDIRECT(\"'Voksen \"&U204&\"'!$c$255\",TRUE),\"\"))","v":{"$error":"#REF!"}},null,{"$f":"IF(INDIRECT(\"'Børn \"&U204&\"'!$c$123\")=\"\",\"\",IFERROR(INDIRECT(\"'Børn \"&U204&\"'!$c$123\",TRUE),\"\"))","v":{"$error":"#REF!"}},{"$f":"IF(INDIRECT(\"'Børn \"&U204&\"'!$c$139\")=\"\",\"\",IFERROR(INDIRECT(\"'Børn \"&U204&\"'!$c$139\",TRUE),\"\"))","v":{"$error":"#REF!"}},{"$f":"IF(INDIRECT(\"'Børn \"&U204&\"'!$c$163\")=\"\",\"\",IFERROR(INDIRECT(\"'Børn \"&U204&\"'!$c$163\",TRUE),\"\"))","v":{"$error":"#REF!"}},{"$f":"IF(INDIRECT(\"'Børn \"&U204&\"'!$c$177\")=\"\",\"\",IFERROR(INDIRECT(\"'Børn \"&U204&\"'!$c$177\",TRUE),\"\"))","v":{"$error":"#REF!"}},{"$f":"IF(INDIRECT(\"'Børn \"&U204&\"'!$c$197\")=\"\",\"\",IFERROR(INDIRECT(\"'Børn \"&U204&\"'!$c$197\",TRUE),\"\"))","v":{"$error":"#REF!"}},{"$f":"IF(INDIRECT(\"'Børn \"&U204&\"'!$c$218\")=\"\",\"\",IFERROR(INDIRECT(\"'Børn \"&U204&\"'!$c$218\",TRUE),\"\"))","v":{"$error":"#REF!"}},{"$f":"IF(INDIRECT(\"'Børn \"&U204&\"'!$c$241\")=\"\",\"\",IFERROR(INDIRECT(\"'Børn \"&U204&\"'!$c$241\",TRUE),\"\"))","v":{"$error":"#REF!"}}]
["Tilsyn 48","Status:  rød",{"$f":"COUNTIF(IF(ISERROR(INDIRECT(\"'Voksen \"&A205&\"'!$H$31\",TRUE)),\"\",INDIRECT(\"'Voksen \"&A205&\"'!$H$31\",TRUE)),3)","v":{"$error":"#VALUE!"}},{"$f":"COUNTIF(IF(ISERROR(INDIRECT(\"'Voksen \"&A205&\"'!$H$41\",TRUE)),\"\",INDIRECT(\"'Voksen \"&A205&\"'!$H$41\",TRUE)),3)","v":{"$error":"#VALUE!"}},{"$f":"COUNTIF(IF(ISERROR(INDIRECT(\"'Voksen \"&A205&\"'!$H$50\",TRUE)),\"\",INDIRECT(\"'Voksen \"&A205&\"'!$H$50\",TRUE)),3)","v":{"$error":"#VALUE!"}},{"$f":"COUNTIF(IF(ISERROR(INDIRECT(\"'Voksen \"&A205&\"'!$H$58\",TRUE)),\"\",INDIRECT(\"'Voksen \"&A205&\"'!$H$58\",TRUE)),3)","v":{"$error":"#VALUE!"}},{"$f":"COUNTIF(IF(ISERROR(INDIRECT(\"'Voksen \"&A205&\"'!$H$69\",TRUE)),\"\",INDIRECT(\"'Voksen \"&A205&\"'!$H$69\",TRUE)),3)","v":{"$error":"#VALUE!"}},{"$f":"COUNTIF(IF(ISERROR(INDIRECT(\"'Voksen \"&A205&\"'!$H$77\",TRUE)),\"\",INDIRECT(\"'Voksen \"&A205&\"'!$H$77\",TRUE)),3)","v":{"$error":"#VALUE!"}},null,null,{"$f":"COUNTIF(IF(ISERROR(INDIRECT(\"'Børn \"&A205&\"'!$H$31\",TRUE)),\"\",INDIRECT(\"'Børn \"&A205&\"'!$H$31\",TRUE)),3)","v":{"$error":"#VALUE!"}},{"$f":"COUNTIF(IF(ISERROR(INDIRECT(\"'Børn \"&A205&\"'!$H$44\",TRUE)),\"\",INDIRECT(\"'Børn \"&A205&\"'!$H$44\",TRUE)),3)","v":{"$error":"#VALUE!"}},{"$f":"COUNTIF(IF(ISERROR(INDIRECT(\"'Børn \"&A205&\"'!$H$53\",TRUE)),\"\",INDIRECT(\"'Børn \"&A205&\"'!$H$53\",TRUE)),3)","v":{"$error":"#VALUE!"}},{"$f":"COUNTIF(IF(ISERROR(INDIRECT(\"'Børn \"&A205&\"'!$H$61\",TRUE)),\"\",INDIRECT(\"'Børn \"&A205&\"'!$H$61\",TRUE)),3)","v":{"$error":"#VALUE!"}},{"$f":"COUNTIF(IF(ISERROR(INDIRECT(\"'Børn \"&A205&\"'!$H$68\",TRUE)),\"\",INDIRECT(\"'Børn \"&A205&\"'!$H$68\",TRUE)),3)","v":{"$error":"#VALUE!"}},{"$f":"COUNTIF(IF(ISERROR(INDIRECT(\"'Børn \"&A205&\"'!$H$79\",TRUE)),\"\",INDIRECT(\"'Børn \"&A205&\"'!$H$79\",TRUE)),3)","v":{"$error":"#VALUE!"}},{"$f":"COUNTIF(IF(ISERROR(INDIRECT(\"'Børn \"&A205&\"'!$H$87\",TRUE)),\"\",INDIRECT(\"'Børn \"&A205&\"'!$H$87\",TRUE)),3)","v":{"$error":"#VALUE!"}},null,null,null,{"$f":"U204","v":"Tilsyn 72"},{"$f":"IF(INDIRECT(\"'Voksen \"&U205&\"'!$c$115\")=\"\",\"\",IFERROR(INDIRECT(\"'Voksen \"&U205&\"'!$c$115\",TRUE),\"\"))","v":{"$error":"#REF!"}},{"$f":"IF(INDIRECT(\"'Voksen \"&U205&\"'!$c$136\")=\"\",\"\",IFERROR(INDIRECT(\"'Voksen \"&U205&\"'!$c$136\",TRUE),\"\"))","v":{"$error":"#REF!"}},{"$f":"IF(INDIRECT(\"'Voksen \"&U205&\"'!$c$157\")=\"\",\"\",IFERROR(INDIRECT(\"'Voksen \"&U205&\"'!$c$157\",TRUE),\"\"))","v":{"$error":"#REF!"}},{"$f":"IF(INDIRECT(\"'Voksen \"&U205&\"'!$c$172\")=\"\",\"\",IFERROR(INDIRECT(\"'Voksen \"&U205&\"'!$c$172\",TRUE),\"\"))","v":{"$error":"#REF!"}},{"$f":"IF(INDIRECT(\"'Voksen \"&U205&\"'!$c$189\")=\"\",\"\",IFERROR(INDIRECT(\"'Voksen \"&U205&\"'!$c$189\",TRUE),\"\"))","v":{"$error":"#REF!"}},{"$f":"IF(INDIRECT(\"'Voksen \"&U205&\"'!$c$210\")=\"\",\"\",IFERROR(INDIRECT(\"'Voksen \"&U205&\"'!$c$210\",TRUE),\"\"))","v":{"$error":"#REF!"}},{"$f":"IF(INDIRECT(\"'Voksen \"&U205&\"'!$c$232\")=\"\",\"\",IFERROR(INDIRECT(\"'Voksen \"&U205&\"'!$c$232\",TRUE),\"\"))","v":{"$error":"#REF!"}},{"$f":"IF(INDIRECT(\"'Voksen \"&U205&\"'!$c$258\")=\"\",\"\",IFERROR(INDIRECT(\"'Voksen \"&U205&\"'!$c$258\",TRUE),\"\"))","v":{"$error":"#REF!"}},null,{"$f":"IF(INDIRECT(\"'Børn \"&U205&\"'!$c$126\")=\"\",\"\",IFERROR(INDIRECT(\"'Børn \"&U205&\"'!$c$126\",TRUE),\"\"))","v":{"$error":"#REF!"}},{"$f":"IF(INDIRECT(\"'Børn \"&U205&\"'!$c$142\")=\"\",\"\",IFERROR(INDIRECT(\"'Børn \"&U205&\"'!$c$142\",TRUE),\"\"))","v":{"$error":"#REF!"}},{"$f":"IF(INDIRECT(\"'Børn \"&U205&\"'!$c$166\")=\"\",\"\",IFERROR(INDIRECT(\"'Børn \"&U205&\"'!$c$166\",TRUE),\"\"))","v":{"$error":"#REF!"}},{"$f":"IF(INDIRECT(\"'Børn \"&U205&\"'!$c$180\")=\"\",\"\",IFERROR(INDIRECT(\"'Børn \"&U205&\"'!$c$180\",TRUE),\"\"))","v":{"$error":"#REF!"}},{"$f":"IF(INDIRECT(\"'Børn \"&U205&\"'!$c$200\")=\"\",\"\",IFERROR(INDIRECT(\"'Børn \"&U205&\"'!$c$200\",TRUE),\"\"))","v":{"$error":"#REF!"}},{"$f":"IF(INDIRECT(\"'Børn \"&U205&\"'!$c$221\")=\"\",\"\",IFERROR(INDIRECT(\"'Børn \"&U205&\"'!$c$221\",TRUE),\"\"))","v":{"$error":"#REF!"}},{"$f":"IF(INDIRECT(\"'Børn \"&U205&\"'!$c$244\")=\"\",\"\",IFERROR(INDIRECT(\"'Børn \"&U205&\"'!$c$244\",TRUE),\"\"))","v":{"$error":"#REF!"}}]
["Tilsyn 49","Status:  grøn",{"$f":"COUNTIF(IF(ISERROR(INDIRECT(\"'Voksen \"&A206&\"'!$H$31\",TRUE)),\"\",INDIRECT(\"'Voksen \"&A206&\"'!$H$31\",TRUE)),1)","v":{"$error":"#VALUE!"}},{"$f":"COUNTIF(IF(ISERROR(INDIRECT(\"'Voksen \"&A206&\"'!$H$41\",TRUE)),\"\",INDIRECT(\"'Voksen \"&A206&\"'!$H$41\",TRUE)),1)","v":{"$error":"#VALUE!"}},{"$f":"COUNTIF(IF(ISERROR(INDIRECT(\"'Voksen \"&A206&\"'!$H$50\",TRUE)),\"\",INDIRECT(\"'Voksen \"&A206&\"'!$H$50\",TRUE)),1)","v":{"$error":"#VALUE!"}},{"$f":"COUNTIF(IF(ISERROR(INDIRECT(\"'Voksen \"&A206&\"'!$H$58\",TRUE)),\"\",INDIRECT(\"'Voksen \"&A206&\"'!$H$58\",TRUE)),1)","v":{"$error":"#VALUE!"}},{"$f":"COUNTIF(IF(ISERROR(INDIRECT(\"'Voksen \"&A206&\"'!$H$69\",TRUE)),\"\",INDIRECT(\"'Voksen \"&A206&\"'!$H$69\",TRUE)),1)","v":{"$error":"#VALUE!"}},{"$f":"COUNTIF(IF(ISERROR(INDIRECT(\"'Voksen \"&A206&\"'!$H$77\",TRUE)),\"\",INDIRECT(\"'Voksen \"&A206&\"'!$H$77\",TRUE)),1)","v":{"$error":"#VALUE!"}},null,null,{"$f":"COUNTIF(IF(ISERROR(INDIRECT(\"'Børn \"&A206&\"'!$H$31\",TRUE)),\"\",INDIRECT(\"'Børn \"&A206&\"'!$H$31\",TRUE)),1)","v":{"$error":"#VALUE!"}},{"$f":"COUNTIF(IF(ISERROR(INDIRECT(\"'Børn \"&A206&\"'!$H$44\",TRUE)),\"\",INDIRECT(\"'Børn \"&A206&\"'!$H$44\",TRUE)),1)","v":{"$error":"#VALUE!"}},{"$f":"COUNTIF(IF(ISERROR(INDIRECT(\"'Børn \"&A206&\"'!$H$53\",TRUE)),\"\",INDIRECT(\"'Børn \"&A206&\"'!$H$53\",TRUE)),1)","v":{"$error":"#VALUE!"}},{"$f":"COUNTIF(IF(ISERROR(INDIRECT(\"'Børn \"&A206&\"'!$H$61\",TRUE)),\"\",INDIRECT(\"'Børn \"&A206&\"'!$H$61\",TRUE)),1)","v":{"$error":"#VALUE!"}},{"$f":"COUNTIF(IF(ISERROR(INDIRECT(\"'Børn \"&A206&\"'!$H$68\",TRUE)),\"\",INDIRECT(\"'Børn \"&A206&\"'!$H$68\",TRUE)),1)","v":{"$error":"#VALUE!"}},{"$f":"COUNTIF(IF(ISERROR(INDIRECT(\"'Børn \"&A206&\"'!$H$79\",TRUE)),\"\",INDIRECT(\"'Børn \"&A206&\"'!$H$79\",TRUE)),1)","v":{"$error":"#VALUE!"}},{"$f":"COUNTIF(IF(ISERROR(INDIRECT(\"'Børn \"&A206&\"'!$H$87\",TRUE)),\"\",INDIRECT(\"'Børn \"&A206&\"'!$H$87\",TRUE)),1)","v":{"$error":"#VALUE!"}},null,null,null,"Tilsyn 73",{"$f":"IF(INDIRECT(\"'Voksen \"&U206&\"'!$c$112\")=\"\",\"\",IFERROR(INDIRECT(\"'Voksen \"&U206&\"'!$c$112\",TRUE),\"\"))","v":{"$error":"#REF!"}},{"$f":"IF(INDIRECT(\"'Voksen \"&U206&\"'!$c$133\")=\"\",\"\",IFERROR(INDIRECT(\"'Voksen \"&U206&\"'!$c$133\",TRUE),\"\"))","v":{"$error":"#REF!"}},{"$f":"IF(INDIRECT(\"'Voksen \"&U206&\"'!$c$154\")=\"\",\"\",IFERROR(INDIRECT(\"'Voksen \"&U206&\"'!$c$154\",TRUE),\"\"))","v":{"$error":"#REF!"}},{"$f":"IF(INDIRECT(\"'Voksen \"&U206&\"'!$c$169\")=\"\",\"\",IFERROR(INDIRECT(\"'Voksen \"&U206&\"'!$c$169\",TRUE),\"\"))","v":{"$error":"#REF!"}},{"$f":"IF(INDIRECT(\"'Voksen \"&U206&\"'!$c$186\")=\"\",\"\",IFERROR(INDIRECT(\"'Voksen \"&U206&\"'!$c$186\",TRUE),\"\"))","v":{"$error":"#REF!"}},{"$f":"IF(INDIRECT(\"'Voksen \"&U206&\"'!$c$207\")=\"\",\"\",IFERROR(INDIRECT(\"'Voksen \"&U206&\"'!$c$207\",TRUE),\"\"))","v":{"$error":"#REF!"}},{"$f":"IF(INDIRECT(\"'Voksen \"&U206&\"'!$c$229\")=\"\",\"\",IFERROR(INDIRECT(\"'Voksen \"&U206&\"'!$c$229\",TRUE),\"\"))","v":{"$error":"#REF!"}},{"$f":"IF(INDIRECT(\"'Voksen \"&U206&\"'!$c$255\")=\"\",\"\",IFERROR(INDIRECT(\"'Voksen \"&U206&\"'!$c$255\",TRUE),\"\"))","v":{"$error":"#REF!"}},null,{"$f":"IF(INDIRECT(\"'Børn \"&U206&\"'!$c$123\")=\"\",\"\",IFERROR(INDIRECT(\"'Børn \"&U206&\"'!$c$123\",TRUE),\"\"))","v":{"$error":"#REF!"}},{"$f":"IF(INDIRECT(\"'Børn \"&U206&\"'!$c$139\")=\"\",\"\",IFERROR(INDIRECT(\"'Børn \"&U206&\"'!$c$139\",TRUE),\"\"))","v":{"$error":"#REF!"}},{"$f":"IF(INDIRECT(\"'Børn \"&U206&\"'!$c$163\")=\"\",\"\",IFERROR(INDIRECT(\"'Børn \"&U206&\"'!$c$163\",TRUE),\"\"))","v":{"$error":"#REF!"}},{"$f":"IF(INDIRECT(\"'Børn \"&U206&\"'!$c$177\")=\"\",\"\",IFERROR(INDIRECT(\"'Børn \"&U206&\"'!$c$177\",TRUE),\"\"))","v":{"$error":"#REF!"}},{"$f":"IF(INDIRECT(\"'Børn \"&U206&\"'!$c$197\")=\"\",\"\",IFERROR(INDIRECT(\"'Børn \"&U206&\"'!$c$197\",TRUE),\"\"))","v":{"$error":"#REF!"}},{"$f":"IF(INDIRECT(\"'Børn \"&U206&\"'!$c$218\")=\"\",\"\",IFERROR(INDIRECT(\"'Børn \"&U206&\"'!$c$218\",TRUE),\"\"))","v":{"$error":"#REF!"}},{"$f":"IF(INDIRECT(\"'Børn \"&U206&\"'!$c$241\")=\"\",\"\",IFERROR(INDIRECT(\"'Børn \"&U206&\"'!$c$241\",TRUE),\"\"))","v":{"$error":"#REF!"}}]
["Tilsyn 49","Status:  gul",{"$f":"COUNTIF(IF(ISERROR(INDIRECT(\"'Voksen \"&A207&\"'!$H$31\",TRUE)),\"\",INDIRECT(\"'Voksen \"&A207&\"'!$H$31\",TRUE)),2)","v":{"$error":"#VALUE!"}},{"$f":"COUNTIF(IF(ISERROR(INDIRECT(\"'Voksen \"&A207&\"'!$H$41\",TRUE)),\"\",INDIRECT(\"'Voksen \"&A207&\"'!$H$41\",TRUE)),2)","v":{"$error":"#VALUE!"}},{"$f":"COUNTIF(IF(ISERROR(INDIRECT(\"'Voksen \"&A207&\"'!$H$50\",TRUE)),\"\",INDIRECT(\"'Voksen \"&A207&\"'!$H$50\",TRUE)),2)","v":{"$error":"#VALUE!"}},{"$f":"COUNTIF(IF(ISERROR(INDIRECT(\"'Voksen \"&A207&\"'!$H$58\",TRUE)),\"\",INDIRECT(\"'Voksen \"&A207&\"'!$H$58\",TRUE)),2)","v":{"$error":"#VALUE!"}},{"$f":"COUNTIF(IF(ISERROR(INDIRECT(\"'Voksen \"&A207&\"'!$H$69\",TRUE)),\"\",INDIRECT(\"'Voksen \"&A207&\"'!$H$69\",TRUE)),2)","v":{"$error":"#VALUE!"}},{"$f":"COUNTIF(IF(ISERROR(INDIRECT(\"'Voksen \"&A207&\"'!$H$77\",TRUE)),\"\",INDIRECT(\"'Voksen \"&A207&\"'!$H$77\",TRUE)),2)","v":{"$error":"#VALUE!"}},null,null,{"$f":"COUNTIF(IF(ISERROR(INDIRECT(\"'Børn \"&A207&\"'!$H$31\",TRUE)),\"\",INDIRECT(\"'Børn \"&A207&\"'!$H$31\",TRUE)),2)","v":{"$error":"#VALUE!"}},{"$f":"COUNTIF(IF(ISERROR(INDIRECT(\"'Børn \"&A207&\"'!$H$44\",TRUE)),\"\",INDIRECT(\"'Børn \"&A207&\"'!$H$44\",TRUE)),2)","v":{"$error":"#VALUE!"}},{"$f":"COUNTIF(IF(ISERROR(INDIRECT(\"'Børn \"&A207&\"'!$H$53\",TRUE)),\"\",INDIRECT(\"'Børn \"&A207&\"'!$H$53\",TRUE)),2)","v":{"$error":"#VALUE!"}},{"$f":"COUNTIF(IF(ISERROR(INDIRECT(\"'Børn \"&A207&\"'!$H$61\",TRUE)),\"\",INDIRECT(\"'Børn \"&A207&\"'!$H$61\",TRUE)),2)","v":{"$error":"#VALUE!"}},{"$f":"COUNTIF(IF(ISERROR(INDIRECT(\"'Børn \"&A207&\"'!$H$68\",TRUE)),\"\",INDIRECT(\"'Børn \"&A207&\"'!$H$68\",TRUE)),2)","v":{"$error":"#VALUE!"}},{"$f":"COUNTIF(IF(ISERROR(INDIRECT(\"'Børn \"&A207&\"'!$H$79\",TRUE)),\"\",INDIRECT(\"'Børn \"&A207&\"'!$H$79\",TRUE)),2)","v":{"$error":"#VALUE!"}},{"$f":"COUNTIF(IF(ISERROR(INDIRECT(\"'Børn \"&A207&\"'!$H$87\",TRUE)),\"\",INDIRECT(\"'Børn \"&A207&\"'!$H$87\",TRUE)),2)","v":{"$error":"#VALUE!"}},null,null,null,{"$f":"U206","v":"Tilsyn 73"},{"$f":"IF(INDIRECT(\"'Voksen \"&U207&\"'!$c$115\")=\"\",\"\",IFERROR(INDIRECT(\"'Voksen \"&U207&\"'!$c$115\",TRUE),\"\"))","v":{"$error":"#REF!"}},{"$f":"IF(INDIRECT(\"'Voksen \"&U207&\"'!$c$136\")=\"\",\"\",IFERROR(INDIRECT(\"'Voksen \"&U207&\"'!$c$136\",TRUE),\"\"))","v":{"$error":"#REF!"}},{"$f":"IF(INDIRECT(\"'Voksen \"&U207&\"'!$c$157\")=\"\",\"\",IFERROR(INDIRECT(\"'Voksen \"&U207&\"'!$c$157\",TRUE),\"\"))","v":{"$error":"#REF!"}},{"$f":"IF(INDIRECT(\"'Voksen \"&U207&\"'!$c$172\")=\"\",\"\",IFERROR(INDIRECT(\"'Voksen \"&U207&\"'!$c$172\",TRUE),\"\"))","v":{"$error":"#REF!"}},{"$f":"IF(INDIRECT(\"'Voksen \"&U207&\"'!$c$189\")=\"\",\"\",IFERROR(INDIRECT(\"'Voksen \"&U207&\"'!$c$189\",TRUE),\"\"))","v":{"$error":"#REF!"}},{"$f":"IF(INDIRECT(\"'Voksen \"&U207&\"'!$c$210\")=\"\",\"\",IFERROR(INDIRECT(\"'Voksen \"&U207&\"'!$c$210\",TRUE),\"\"))","v":{"$error":"#REF!"}},{"$f":"IF(INDIRECT(\"'Voksen \"&U207&\"'!$c$232\")=\"\",\"\",IFERROR(INDIRECT(\"'Voksen \"&U207&\"'!$c$232\",TRUE),\"\"))","v":{"$error":"#REF!"}},{"$f":"IF(INDIRECT(\"'Voksen \"&U207&\"'!$c$258\")=\"\",\"\",IFERROR(INDIRECT(\"'Voksen \"&U207&\"'!$c$258\",TRUE),\"\"))","v":{"$error":"#REF!"}},null,{"$f":"IF(INDIRECT(\"'Børn \"&U207&\"'!$c$126\")=\"\",\"\",IFERROR(INDIRECT(\"'Børn \"&U207&\"'!$c$126\",TRUE),\"\"))","v":{"$error":"#REF!"}},{"$f":"IF(INDIRECT(\"'Børn \"&U207&\"'!$c$142\")=\"\",\"\",IFERROR(INDIRECT(\"'Børn \"&U207&\"'!$c$142\",TRUE),\"\"))","v":{"$error":"#REF!"}},{"$f":"IF(INDIRECT(\"'Børn \"&U207&\"'!$c$166\")=\"\",\"\",IFERROR(INDIRECT(\"'Børn \"&U207&\"'!$c$166\",TRUE),\"\"))","v":{"$error":"#REF!"}},{"$f":"IF(INDIRECT(\"'Børn \"&U207&\"'!$c$180\")=\"\",\"\",IFERROR(INDIRECT(\"'Børn \"&U207&\"'!$c$180\",TRUE),\"\"))","v":{"$error":"#REF!"}},{"$f":"IF(INDIRECT(\"'Børn \"&U207&\"'!$c$200\")=\"\",\"\",IFERROR(INDIRECT(\"'Børn \"&U207&\"'!$c$200\",TRUE),\"\"))","v":{"$error":"#REF!"}},{"$f":"IF(INDIRECT(\"'Børn \"&U207&\"'!$c$221\")=\"\",\"\",IFERROR(INDIRECT(\"'Børn \"&U207&\"'!$c$221\",TRUE),\"\"))","v":{"$error":"#REF!"}},{"$f":"IF(INDIRECT(\"'Børn \"&U207&\"'!$c$244\")=\"\",\"\",IFERROR(INDIRECT(\"'Børn \"&U207&\"'!$c$244\",TRUE),\"\"))","v":{"$error":"#REF!"}}]
["Tilsyn 49","Status:  rød",{"$f":"COUNTIF(IF(ISERROR(INDIRECT(\"'Voksen \"&A208&\"'!$H$31\",TRUE)),\"\",INDIRECT(\"'Voksen \"&A208&\"'!$H$31\",TRUE)),3)","v":{"$error":"#VALUE!"}},{"$f":"COUNTIF(IF(ISERROR(INDIRECT(\"'Voksen \"&A208&\"'!$H$41\",TRUE)),\"\",INDIRECT(\"'Voksen \"&A208&\"'!$H$41\",TRUE)),3)","v":{"$error":"#VALUE!"}},{"$f":"COUNTIF(IF(ISERROR(INDIRECT(\"'Voksen \"&A208&\"'!$H$50\",TRUE)),\"\",INDIRECT(\"'Voksen \"&A208&\"'!$H$50\",TRUE)),3)","v":{"$error":"#VALUE!"}},{"$f":"COUNTIF(IF(ISERROR(INDIRECT(\"'Voksen \"&A208&\"'!$H$58\",TRUE)),\"\",INDIRECT(\"'Voksen \"&A208&\"'!$H$58\",TRUE)),3)","v":{"$error":"#VALUE!"}},{"$f":"COUNTIF(IF(ISERROR(INDIRECT(\"'Voksen \"&A208&\"'!$H$69\",TRUE)),\"\",INDIRECT(\"'Voksen \"&A208&\"'!$H$69\",TRUE)),3)","v":{"$error":"#VALUE!"}},{"$f":"COUNTIF(IF(ISERROR(INDIRECT(\"'Voksen \"&A208&\"'!$H$77\",TRUE)),\"\",INDIRECT(\"'Voksen \"&A208&\"'!$H$77\",TRUE)),3)","v":{"$error":"#VALUE!"}},null,null,{"$f":"COUNTIF(IF(ISERROR(INDIRECT(\"'Børn \"&A208&\"'!$H$31\",TRUE)),\"\",INDIRECT(\"'Børn \"&A208&\"'!$H$31\",TRUE)),3)","v":{"$error":"#VALUE!"}},{"$f":"COUNTIF(IF(ISERROR(INDIRECT(\"'Børn \"&A208&\"'!$H$44\",TRUE)),\"\",INDIRECT(\"'Børn \"&A208&\"'!$H$44\",TRUE)),3)","v":{"$error":"#VALUE!"}},{"$f":"COUNTIF(IF(ISERROR(INDIRECT(\"'Børn \"&A208&\"'!$H$53\",TRUE)),\"\",INDIRECT(\"'Børn \"&A208&\"'!$H$53\",TRUE)),3)","v":{"$error":"#VALUE!"}},{"$f":"COUNTIF(IF(ISERROR(INDIRECT(\"'Børn \"&A208&\"'!$H$61\",TRUE)),\"\",INDIRECT(\"'Børn \"&A208&\"'!$H$61\",TRUE)),3)","v":{"$error":"#VALUE!"}},{"$f":"COUNTIF(IF(ISERROR(INDIRECT(\"'Børn \"&A208&\"'!$H$68\",TRUE)),\"\",INDIRECT(\"'Børn \"&A208&\"'!$H$68\",TRUE)),3)","v":{"$error":"#VALUE!"}},{"$f":"COUNTIF(IF(ISERROR(INDIRECT(\"'Børn \"&A208&\"'!$H$79\",TRUE)),\"\",INDIRECT(\"'Børn \"&A208&\"'!$H$79\",TRUE)),3)","v":{"$error":"#VALUE!"}},{"$f":"COUNTIF(IF(ISERROR(INDIRECT(\"'Børn \"&A208&\"'!$H$87\",TRUE)),\"\",INDIRECT(\"'Børn \"&A208&\"'!$H$87\",TRUE)),3)","v":{"$error":"#VALUE!"}},null,null,null,"Tilsyn 74",{"$f":"IF(INDIRECT(\"'Voksen \"&U208&\"'!$c$112\")=\"\",\"\",IFERROR(INDIRECT(\"'Voksen \"&U208&\"'!$c$112\",TRUE),\"\"))","v":{"$error":"#REF!"}},{"$f":"IF(INDIRECT(\"'Voksen \"&U208&\"'!$c$133\")=\"\",\"\",IFERROR(INDIRECT(\"'Voksen \"&U208&\"'!$c$133\",TRUE),\"\"))","v":{"$error":"#REF!"}},{"$f":"IF(INDIRECT(\"'Voksen \"&U208&\"'!$c$154\")=\"\",\"\",IFERROR(INDIRECT(\"'Voksen \"&U208&\"'!$c$154\",TRUE),\"\"))","v":{"$error":"#REF!"}},{"$f":"IF(INDIRECT(\"'Voksen \"&U208&\"'!$c$169\")=\"\",\"\",IFERROR(INDIRECT(\"'Voksen \"&U208&\"'!$c$169\",TRUE),\"\"))","v":{"$error":"#REF!"}},{"$f":"IF(INDIRECT(\"'Voksen \"&U208&\"'!$c$186\")=\"\",\"\",IFERROR(INDIRECT(\"'Voksen \"&U208&\"'!$c$186\",TRUE),\"\"))","v":{"$error":"#REF!"}},{"$f":"IF(INDIRECT(\"'Voksen \"&U208&\"'!$c$207\")=\"\",\"\",IFERROR(INDIRECT(\"'Voksen \"&U208&\"'!$c$207\",TRUE),\"\"))","v":{"$error":"#REF!"}},{"$f":"IF(INDIRECT(\"'Voksen \"&U208&\"'!$c$229\")=\"\",\"\",IFERROR(INDIRECT(\"'Voksen \"&U208&\"'!$c$229\",TRUE),\"\"))","v":{"$error":"#REF!"}},{"$f":"IF(INDIRECT(\"'Voksen \"&U208&\"'!$c$255\")=\"\",\"\",IFERROR(INDIRECT(\"'Voksen \"&U208&\"'!$c$255\",TRUE),\"\"))","v":{"$error":"#REF!"}},null,{"$f":"IF(INDIRECT(\"'Børn \"&U208&\"'!$c$123\")=\"\",\"\",IFERROR(INDIRECT(\"'Børn \"&U208&\"'!$c$123\",TRUE),\"\"))","v":{"$error":"#REF!"}},{"$f":"IF(INDIRECT(\"'Børn \"&U208&\"'!$c$139\")=\"\",\"\",IFERROR(INDIRECT(\"'Børn \"&U208&\"'!$c$139\",TRUE),\"\"))","v":{"$error":"#REF!"}},{"$f":"IF(INDIRECT(\"'Børn \"&U208&\"'!$c$163\")=\"\",\"\",IFERROR(INDIRECT(\"'Børn \"&U208&\"'!$c$163\",TRUE),\"\"))","v":{"$error":"#REF!"}},{"$f":"IF(INDIRECT(\"'Børn \"&U208&\"'!$c$177\")=\"\",\"\",IFERROR(INDIRECT(\"'Børn \"&U208&\"'!$c$177\",TRUE),\"\"))","v":{"$error":"#REF!"}},{"$f":"IF(INDIRECT(\"'Børn \"&U208&\"'!$c$197\")=\"\",\"\",IFERROR(INDIRECT(\"'Børn \"&U208&\"'!$c$197\",TRUE),\"\"))","v":{"$error":"#REF!"}},{"$f":"IF(INDIRECT(\"'Børn \"&U208&\"'!$c$218\")=\"\",\"\",IFERROR(INDIRECT(\"'Børn \"&U208&\"'!$c$218\",TRUE),\"\"))","v":{"$error":"#REF!"}},{"$f":"IF(INDIRECT(\"'Børn \"&U208&\"'!$c$241\")=\"\",\"\",IFERROR(INDIRECT(\"'Børn \"&U208&\"'!$c$241\",TRUE),\"\"))","v":{"$error":"#REF!"}}]
["Tilsyn 50","Status:  grøn",{"$f":"COUNTIF(IF(ISERROR(INDIRECT(\"'Voksen \"&A209&\"'!$H$31\",TRUE)),\"\",INDIRECT(\"'Voksen \"&A209&\"'!$H$31\",TRUE)),1)","v":{"$error":"#VALUE!"}},{"$f":"COUNTIF(IF(ISERROR(INDIRECT(\"'Voksen \"&A209&\"'!$H$41\",TRUE)),\"\",INDIRECT(\"'Voksen \"&A209&\"'!$H$41\",TRUE)),1)","v":{"$error":"#VALUE!"}},{"$f":"COUNTIF(IF(ISERROR(INDIRECT(\"'Voksen \"&A209&\"'!$H$50\",TRUE)),\"\",INDIRECT(\"'Voksen \"&A209&\"'!$H$50\",TRUE)),1)","v":{"$error":"#VALUE!"}},{"$f":"COUNTIF(IF(ISERROR(INDIRECT(\"'Voksen \"&A209&\"'!$H$58\",TRUE)),\"\",INDIRECT(\"'Voksen \"&A209&\"'!$H$58\",TRUE)),1)","v":{"$error":"#VALUE!"}},{"$f":"COUNTIF(IF(ISERROR(INDIRECT(\"'Voksen \"&A209&\"'!$H$69\",TRUE)),\"\",INDIRECT(\"'Voksen \"&A209&\"'!$H$69\",TRUE)),1)","v":{"$error":"#VALUE!"}},{"$f":"COUNTIF(IF(ISERROR(INDIRECT(\"'Voksen \"&A209&\"'!$H$77\",TRUE)),\"\",INDIRECT(\"'Voksen \"&A209&\"'!$H$77\",TRUE)),1)","v":{"$error":"#VALUE!"}},null,null,{"$f":"COUNTIF(IF(ISERROR(INDIRECT(\"'Børn \"&A209&\"'!$H$31\",TRUE)),\"\",INDIRECT(\"'Børn \"&A209&\"'!$H$31\",TRUE)),1)","v":{"$error":"#VALUE!"}},{"$f":"COUNTIF(IF(ISERROR(INDIRECT(\"'Børn \"&A209&\"'!$H$44\",TRUE)),\"\",INDIRECT(\"'Børn \"&A209&\"'!$H$44\",TRUE)),1)","v":{"$error":"#VALUE!"}},{"$f":"COUNTIF(IF(ISERROR(INDIRECT(\"'Børn \"&A209&\"'!$H$53\",TRUE)),\"\",INDIRECT(\"'Børn \"&A209&\"'!$H$53\",TRUE)),1)","v":{"$error":"#VALUE!"}},{"$f":"COUNTIF(IF(ISERROR(INDIRECT(\"'Børn \"&A209&\"'!$H$61\",TRUE)),\"\",INDIRECT(\"'Børn \"&A209&\"'!$H$61\",TRUE)),1)","v":{"$error":"#VALUE!"}},{"$f":"COUNTIF(IF(ISERROR(INDIRECT(\"'Børn \"&A209&\"'!$H$68\",TRUE)),\"\",INDIRECT(\"'Børn \"&A209&\"'!$H$68\",TRUE)),1)","v":{"$error":"#VALUE!"}},{"$f":"COUNTIF(IF(ISERROR(INDIRECT(\"'Børn \"&A209&\"'!$H$79\",TRUE)),\"\",INDIRECT(\"'Børn \"&A209&\"'!$H$79\",TRUE)),1)","v":{"$error":"#VALUE!"}},{"$f":"COUNTIF(IF(ISERROR(INDIRECT(\"'Børn \"&A209&\"'!$H$87\",TRUE)),\"\",INDIRECT(\"'Børn \"&A209&\"'!$H$87\",TRUE)),1)","v":{"$error":"#VALUE!"}},null,null,null,{"$f":"U208","v":"Tilsyn 74"},{"$f":"IF(INDIRECT(\"'Voksen \"&U209&\"'!$c$115\")=\"\",\"\",IFERROR(INDIRECT(\"'Voksen \"&U209&\"'!$c$115\",TRUE),\"\"))","v":{"$error":"#REF!"}},{"$f":"IF(INDIRECT(\"'Voksen \"&U209&\"'!$c$136\")=\"\",\"\",IFERROR(INDIRECT(\"'Voksen \"&U209&\"'!$c$136\",TRUE),\"\"))","v":{"$error":"#REF!"}},{"$f":"IF(INDIRECT(\"'Voksen \"&U209&\"'!$c$157\")=\"\",\"\",IFERROR(INDIRECT(\"'Voksen \"&U209&\"'!$c$157\",TRUE),\"\"))","v":{"$error":"#REF!"}},{"$f":"IF(INDIRECT(\"'Voksen \"&U209&\"'!$c$172\")=\"\",\"\",IFERROR(INDIRECT(\"'Voksen \"&U209&\"'!$c$172\",TRUE),\"\"))","v":{"$error":"#REF!"}},{"$f":"IF(INDIRECT(\"'Voksen \"&U209&\"'!$c$189\")=\"\",\"\",IFERROR(INDIRECT(\"'Voksen \"&U209&\"'!$c$189\",TRUE),\"\"))","v":{"$error":"#REF!"}},{"$f":"IF(INDIRECT(\"'Voksen \"&U209&\"'!$c$210\")=\"\",\"\",IFERROR(INDIRECT(\"'Voksen \"&U209&\"'!$c$210\",TRUE),\"\"))","v":{"$error":"#REF!"}},{"$f":"IF(INDIRECT(\"'Voksen \"&U209&\"'!$c$232\")=\"\",\"\",IFERROR(INDIRECT(\"'Voksen \"&U209&\"'!$c$232\",TRUE),\"\"))","v":{"$error":"#REF!"}},{"$f":"IF(INDIRECT(\"'Voksen \"&U209&\"'!$c$258\")=\"\",\"\",IFERROR(INDIRECT(\"'Voksen \"&U209&\"'!$c$258\",TRUE),\"\"))","v":{"$error":"#REF!"}},null,{"$f":"IF(INDIRECT(\"'Børn \"&U209&\"'!$c$126\")=\"\",\"\",IFERROR(INDIRECT(\"'Børn \"&U209&\"'!$c$126\",TRUE),\"\"))","v":{"$error":"#REF!"}},{"$f":"IF(INDIRECT(\"'Børn \"&U209&\"'!$c$142\")=\"\",\"\",IFERROR(INDIRECT(\"'Børn \"&U209&\"'!$c$142\",TRUE),\"\"))","v":{"$error":"#REF!"}},{"$f":"IF(INDIRECT(\"'Børn \"&U209&\"'!$c$166\")=\"\",\"\",IFERROR(INDIRECT(\"'Børn \"&U209&\"'!$c$166\",TRUE),\"\"))","v":{"$error":"#REF!"}},{"$f":"IF(INDIRECT(\"'Børn \"&U209&\"'!$c$180\")=\"\",\"\",IFERROR(INDIRECT(\"'Børn \"&U209&\"'!$c$180\",TRUE),\"\"))","v":{"$error":"#REF!"}},{"$f":"IF(INDIRECT(\"'Børn \"&U209&\"'!$c$200\")=\"\",\"\",IFERROR(INDIRECT(\"'Børn \"&U209&\"'!$c$200\",TRUE),\"\"))","v":{"$error":"#REF!"}},{"$f":"IF(INDIRECT(\"'Børn \"&U209&\"'!$c$221\")=\"\",\"\",IFERROR(INDIRECT(\"'Børn \"&U209&\"'!$c$221\",TRUE),\"\"))","v":{"$error":"#REF!"}},{"$f":"IF(INDIRECT(\"'Børn \"&U209&\"'!$c$244\")=\"\",\"\",IFERROR(INDIRECT(\"'Børn \"&U209&\"'!$c$244\",TRUE),\"\"))","v":{"$error":"#REF!"}}]
["Tilsyn 50","Status:  gul",{"$f":"COUNTIF(IF(ISERROR(INDIRECT(\"'Voksen \"&A210&\"'!$H$31\",TRUE)),\"\",INDIRECT(\"'Voksen \"&A210&\"'!$H$31\",TRUE)),2)","v":{"$error":"#VALUE!"}},{"$f":"COUNTIF(IF(ISERROR(INDIRECT(\"'Voksen \"&A210&\"'!$H$41\",TRUE)),\"\",INDIRECT(\"'Voksen \"&A210&\"'!$H$41\",TRUE)),2)","v":{"$error":"#VALUE!"}},{"$f":"COUNTIF(IF(ISERROR(INDIRECT(\"'Voksen \"&A210&\"'!$H$50\",TRUE)),\"\",INDIRECT(\"'Voksen \"&A210&\"'!$H$50\",TRUE)),2)","v":{"$error":"#VALUE!"}},{"$f":"COUNTIF(IF(ISERROR(INDIRECT(\"'Voksen \"&A210&\"'!$H$58\",TRUE)),\"\",INDIRECT(\"'Voksen \"&A210&\"'!$H$58\",TRUE)),2)","v":{"$error":"#VALUE!"}},{"$f":"COUNTIF(IF(ISERROR(INDIRECT(\"'Voksen \"&A210&\"'!$H$69\",TRUE)),\"\",INDIRECT(\"'Voksen \"&A210&\"'!$H$69\",TRUE)),2)","v":{"$error":"#VALUE!"}},{"$f":"COUNTIF(IF(ISERROR(INDIRECT(\"'Voksen \"&A210&\"'!$H$77\",TRUE)),\"\",INDIRECT(\"'Voksen \"&A210&\"'!$H$77\",TRUE)),2)","v":{"$error":"#VALUE!"}},null,null,{"$f":"COUNTIF(IF(ISERROR(INDIRECT(\"'Børn \"&A210&\"'!$H$31\",TRUE)),\"\",INDIRECT(\"'Børn \"&A210&\"'!$H$31\",TRUE)),2)","v":{"$error":"#VALUE!"}},{"$f":"COUNTIF(IF(ISERROR(INDIRECT(\"'Børn \"&A210&\"'!$H$44\",TRUE)),\"\",INDIRECT(\"'Børn \"&A210&\"'!$H$44\",TRUE)),2)","v":{"$error":"#VALUE!"}},{"$f":"COUNTIF(IF(ISERROR(INDIRECT(\"'Børn \"&A210&\"'!$H$53\",TRUE)),\"\",INDIRECT(\"'Børn \"&A210&\"'!$H$53\",TRUE)),2)","v":{"$error":"#VALUE!"}},{"$f":"COUNTIF(IF(ISERROR(INDIRECT(\"'Børn \"&A210&\"'!$H$61\",TRUE)),\"\",INDIRECT(\"'Børn \"&A210&\"'!$H$61\",TRUE)),2)","v":{"$error":"#VALUE!"}},{"$f":"COUNTIF(IF(ISERROR(INDIRECT(\"'Børn \"&A210&\"'!$H$68\",TRUE)),\"\",INDIRECT(\"'Børn \"&A210&\"'!$H$68\",TRUE)),2)","v":{"$error":"#VALUE!"}},{"$f":"COUNTIF(IF(ISERROR(INDIRECT(\"'Børn \"&A210&\"'!$H$79\",TRUE)),\"\",INDIRECT(\"'Børn \"&A210&\"'!$H$79\",TRUE)),2)","v":{"$error":"#VALUE!"}},{"$f":"COUNTIF(IF(ISERROR(INDIRECT(\"'Børn \"&A210&\"'!$H$87\",TRUE)),\"\",INDIRECT(\"'Børn \"&A210&\"'!$H$87\",TRUE)),2)","v":{"$error":"#VALUE!"}},null,null,null,"Tilsyn 75",{"$f":"IF(INDIRECT(\"'Voksen \"&U210&\"'!$c$112\")=\"\",\"\",IFERROR(INDIRECT(\"'Voksen \"&U210&\"'!$c$112\",TRUE),\"\"))","v":{"$error":"#REF!"}},{"$f":"IF(INDIRECT(\"'Voksen \"&U210&\"'!$c$133\")=\"\",\"\",IFERROR(INDIRECT(\"'Voksen \"&U210&\"'!$c$133\",TRUE),\"\"))","v":{"$error":"#REF!"}},{"$f":"IF(INDIRECT(\"'Voksen \"&U210&\"'!$c$154\")=\"\",\"\",IFERROR(INDIRECT(\"'Voksen \"&U210&\"'!$c$154\",TRUE),\"\"))","v":{"$error":"#REF!"}},{"$f":"IF(INDIRECT(\"'Voksen \"&U210&\"'!$c$169\")=\"\",\"\",IFERROR(INDIRECT(\"'Voksen \"&U210&\"'!$c$169\",TRUE),\"\"))","v":{"$error":"#REF!"}},{"$f":"IF(INDIRECT(\"'Voksen \"&U210&\"'!$c$186\")=\"\",\"\",IFERROR(INDIRECT(\"'Voksen \"&U210&\"'!$c$186\",TRUE),\"\"))","v":{"$error":"#REF!"}},{"$f":"IF(INDIRECT(\"'Voksen \"&U210&\"'!$c$207\")=\"\",\"\",IFERROR(INDIRECT(\"'Voksen \"&U210&\"'!$c$207\",TRUE),\"\"))","v":{"$error":"#REF!"}},{"$f":"IF(INDIRECT(\"'Voksen \"&U210&\"'!$c$229\")=\"\",\"\",IFERROR(INDIRECT(\"'Voksen \"&U210&\"'!$c$229\",TRUE),\"\"))","v":{"$error":"#REF!"}},{"$f":"IF(INDIRECT(\"'Voksen \"&U210&\"'!$c$255\")=\"\",\"\",IFERROR(INDIRECT(\"'Voksen \"&U210&\"'!$c$255\",TRUE),\"\"))","v":{"$error":"#REF!"}},null,{"$f":"IF(INDIRECT(\"'Børn \"&U210&\"'!$c$123\")=\"\",\"\",IFERROR(INDIRECT(\"'Børn \"&U210&\"'!$c$123\",TRUE),\"\"))","v":{"$error":"#REF!"}},{"$f":"IF(INDIRECT(\"'Børn \"&U210&\"'!$c$139\")=\"\",\"\",IFERROR(INDIRECT(\"'Børn \"&U210&\"'!$c$139\",TRUE),\"\"))","v":{"$error":"#REF!"}},{"$f":"IF(INDIRECT(\"'Børn \"&U210&\"'!$c$163\")=\"\",\"\",IFERROR(INDIRECT(\"'Børn \"&U210&\"'!$c$163\",TRUE),\"\"))","v":{"$error":"#REF!"}},{"$f":"IF(INDIRECT(\"'Børn \"&U210&\"'!$c$177\")=\"\",\"\",IFERROR(INDIRECT(\"'Børn \"&U210&\"'!$c$177\",TRUE),\"\"))","v":{"$error":"#REF!"}},{"$f":"IF(INDIRECT(\"'Børn \"&U210&\"'!$c$197\")=\"\",\"\",IFERROR(INDIRECT(\"'Børn \"&U210&\"'!$c$197\",TRUE),\"\"))","v":{"$error":"#REF!"}},{"$f":"IF(INDIRECT(\"'Børn \"&U210&\"'!$c$218\")=\"\",\"\",IFERROR(INDIRECT(\"'Børn \"&U210&\"'!$c$218\",TRUE),\"\"))","v":{"$error":"#REF!"}},{"$f":"IF(INDIRECT(\"'Børn \"&U210&\"'!$c$241\")=\"\",\"\",IFERROR(INDIRECT(\"'Børn \"&U210&\"'!$c$241\",TRUE),\"\"))","v":{"$error":"#REF!"}}]
["Tilsyn 50","Status:  rød",{"$f":"COUNTIF(IF(ISERROR(INDIRECT(\"'Voksen \"&A211&\"'!$H$31\",TRUE)),\"\",INDIRECT(\"'Voksen \"&A211&\"'!$H$31\",TRUE)),3)","v":{"$error":"#VALUE!"}},{"$f":"COUNTIF(IF(ISERROR(INDIRECT(\"'Voksen \"&A211&\"'!$H$41\",TRUE)),\"\",INDIRECT(\"'Voksen \"&A211&\"'!$H$41\",TRUE)),3)","v":{"$error":"#VALUE!"}},{"$f":"COUNTIF(IF(ISERROR(INDIRECT(\"'Voksen \"&A211&\"'!$H$50\",TRUE)),\"\",INDIRECT(\"'Voksen \"&A211&\"'!$H$50\",TRUE)),3)","v":{"$error":"#VALUE!"}},{"$f":"COUNTIF(IF(ISERROR(INDIRECT(\"'Voksen \"&A211&\"'!$H$58\",TRUE)),\"\",INDIRECT(\"'Voksen \"&A211&\"'!$H$58\",TRUE)),3)","v":{"$error":"#VALUE!"}},{"$f":"COUNTIF(IF(ISERROR(INDIRECT(\"'Voksen \"&A211&\"'!$H$69\",TRUE)),\"\",INDIRECT(\"'Voksen \"&A211&\"'!$H$69\",TRUE)),3)","v":{"$error":"#VALUE!"}},{"$f":"COUNTIF(IF(ISERROR(INDIRECT(\"'Voksen \"&A211&\"'!$H$77\",TRUE)),\"\",INDIRECT(\"'Voksen \"&A211&\"'!$H$77\",TRUE)),3)","v":{"$error":"#VALUE!"}},null,null,{"$f":"COUNTIF(IF(ISERROR(INDIRECT(\"'Børn \"&A211&\"'!$H$31\",TRUE)),\"\",INDIRECT(\"'Børn \"&A211&\"'!$H$31\",TRUE)),3)","v":{"$error":"#VALUE!"}},{"$f":"COUNTIF(IF(ISERROR(INDIRECT(\"'Børn \"&A211&\"'!$H$44\",TRUE)),\"\",INDIRECT(\"'Børn \"&A211&\"'!$H$44\",TRUE)),3)","v":{"$error":"#VALUE!"}},{"$f":"COUNTIF(IF(ISERROR(INDIRECT(\"'Børn \"&A211&\"'!$H$53\",TRUE)),\"\",INDIRECT(\"'Børn \"&A211&\"'!$H$53\",TRUE)),3)","v":{"$error":"#VALUE!"}},{"$f":"COUNTIF(IF(ISERROR(INDIRECT(\"'Børn \"&A211&\"'!$H$61\",TRUE)),\"\",INDIRECT(\"'Børn \"&A211&\"'!$H$61\",TRUE)),3)","v":{"$error":"#VALUE!"}},{"$f":"COUNTIF(IF(ISERROR(INDIRECT(\"'Børn \"&A211&\"'!$H$68\",TRUE)),\"\",INDIRECT(\"'Børn \"&A211&\"'!$H$68\",TRUE)),3)","v":{"$error":"#VALUE!"}},{"$f":"COUNTIF(IF(ISERROR(INDIRECT(\"'Børn \"&A211&\"'!$H$79\",TRUE)),\"\",INDIRECT(\"'Børn \"&A211&\"'!$H$79\",TRUE)),3)","v":{"$error":"#VALUE!"}},{"$f":"COUNTIF(IF(ISERROR(INDIRECT(\"'Børn \"&A211&\"'!$H$87\",TRUE)),\"\",INDIRECT(\"'Børn \"&A211&\"'!$H$87\",TRUE)),3)","v":{"$error":"#VALUE!"}},null,null,null,{"$f":"U210","v":"Tilsyn 75"},{"$f":"IF(INDIRECT(\"'Voksen \"&U211&\"'!$c$115\")=\"\",\"\",IFERROR(INDIRECT(\"'Voksen \"&U211&\"'!$c$115\",TRUE),\"\"))","v":{"$error":"#REF!"}},{"$f":"IF(INDIRECT(\"'Voksen \"&U211&\"'!$c$136\")=\"\",\"\",IFERROR(INDIRECT(\"'Voksen \"&U211&\"'!$c$136\",TRUE),\"\"))","v":{"$error":"#REF!"}},{"$f":"IF(INDIRECT(\"'Voksen \"&U211&\"'!$c$157\")=\"\",\"\",IFERROR(INDIRECT(\"'Voksen \"&U211&\"'!$c$157\",TRUE),\"\"))","v":{"$error":"#REF!"}},{"$f":"IF(INDIRECT(\"'Voksen \"&U211&\"'!$c$172\")=\"\",\"\",IFERROR(INDIRECT(\"'Voksen \"&U211&\"'!$c$172\",TRUE),\"\"))","v":{"$error":"#REF!"}},{"$f":"IF(INDIRECT(\"'Voksen \"&U211&\"'!$c$189\")=\"\",\"\",IFERROR(INDIRECT(\"'Voksen \"&U211&\"'!$c$189\",TRUE),\"\"))","v":{"$error":"#REF!"}},{"$f":"IF(INDIRECT(\"'Voksen \"&U211&\"'!$c$210\")=\"\",\"\",IFERROR(INDIRECT(\"'Voksen \"&U211&\"'!$c$210\",TRUE),\"\"))","v":{"$error":"#REF!"}},{"$f":"IF(INDIRECT(\"'Voksen \"&U211&\"'!$c$232\")=\"\",\"\",IFERROR(INDIRECT(\"'Voksen \"&U211&\"'!$c$232\",TRUE),\"\"))","v":{"$error":"#REF!"}},{"$f":"IF(INDIRECT(\"'Voksen \"&U211&\"'!$c$258\")=\"\",\"\",IFERROR(INDIRECT(\"'Voksen \"&U211&\"'!$c$258\",TRUE),\"\"))","v":{"$error":"#REF!"}},null,{"$f":"IF(INDIRECT(\"'Børn \"&U211&\"'!$c$126\")=\"\",\"\",IFERROR(INDIRECT(\"'Børn \"&U211&\"'!$c$126\",TRUE),\"\"))","v":{"$error":"#REF!"}},{"$f":"IF(INDIRECT(\"'Børn \"&U211&\"'!$c$142\")=\"\",\"\",IFERROR(INDIRECT(\"'Børn \"&U211&\"'!$c$142\",TRUE),\"\"))","v":{"$error":"#REF!"}},{"$f":"IF(INDIRECT(\"'Børn \"&U211&\"'!$c$166\")=\"\",\"\",IFERROR(INDIRECT(\"'Børn \"&U211&\"'!$c$166\",TRUE),\"\"))","v":{"$error":"#REF!"}},{"$f":"IF(INDIRECT(\"'Børn \"&U211&\"'!$c$180\")=\"\",\"\",IFERROR(INDIRECT(\"'Børn \"&U211&\"'!$c$180\",TRUE),\"\"))","v":{"$error":"#REF!"}},{"$f":"IF(INDIRECT(\"'Børn \"&U211&\"'!$c$200\")=\"\",\"\",IFERROR(INDIRECT(\"'Børn \"&U211&\"'!$c$200\",TRUE),\"\"))","v":{"$error":"#REF!"}},{"$f":"IF(INDIRECT(\"'Børn \"&U211&\"'!$c$221\")=\"\",\"\",IFERROR(INDIRECT(\"'Børn \"&U211&\"'!$c$221\",TRUE),\"\"))","v":{"$error":"#REF!"}},{"$f":"IF(INDIRECT(\"'Børn \"&U211&\"'!$c$244\")=\"\",\"\",IFERROR(INDIRECT(\"'Børn \"&U211&\"'!$c$244\",TRUE),\"\"))","v":{"$error":"#REF!"}}]
["Tilsyn 51","Status:  grøn",{"$f":"COUNTIF(IF(ISERROR(INDIRECT(\"'Voksen \"&A212&\"'!$H$31\",TRUE)),\"\",INDIRECT(\"'Voksen \"&A212&\"'!$H$31\",TRUE)),1)","v":{"$error":"#VALUE!"}},{"$f":"COUNTIF(IF(ISERROR(INDIRECT(\"'Voksen \"&A212&\"'!$H$41\",TRUE)),\"\",INDIRECT(\"'Voksen \"&A212&\"'!$H$41\",TRUE)),1)","v":{"$error":"#VALUE!"}},{"$f":"COUNTIF(IF(ISERROR(INDIRECT(\"'Voksen \"&A212&\"'!$H$50\",TRUE)),\"\",INDIRECT(\"'Voksen \"&A212&\"'!$H$50\",TRUE)),1)","v":{"$error":"#VALUE!"}},{"$f":"COUNTIF(IF(ISERROR(INDIRECT(\"'Voksen \"&A212&\"'!$H$58\",TRUE)),\"\",INDIRECT(\"'Voksen \"&A212&\"'!$H$58\",TRUE)),1)","v":{"$error":"#VALUE!"}},{"$f":"COUNTIF(IF(ISERROR(INDIRECT(\"'Voksen \"&A212&\"'!$H$69\",TRUE)),\"\",INDIRECT(\"'Voksen \"&A212&\"'!$H$69\",TRUE)),1)","v":{"$error":"#VALUE!"}},{"$f":"COUNTIF(IF(ISERROR(INDIRECT(\"'Voksen \"&A212&\"'!$H$77\",TRUE)),\"\",INDIRECT(\"'Voksen \"&A212&\"'!$H$77\",TRUE)),1)","v":{"$error":"#VALUE!"}},null,null,{"$f":"COUNTIF(IF(ISERROR(INDIRECT(\"'Børn \"&A212&\"'!$H$31\",TRUE)),\"\",INDIRECT(\"'Børn \"&A212&\"'!$H$31\",TRUE)),1)","v":{"$error":"#VALUE!"}},{"$f":"COUNTIF(IF(ISERROR(INDIRECT(\"'Børn \"&A212&\"'!$H$44\",TRUE)),\"\",INDIRECT(\"'Børn \"&A212&\"'!$H$44\",TRUE)),1)","v":{"$error":"#VALUE!"}},{"$f":"COUNTIF(IF(ISERROR(INDIRECT(\"'Børn \"&A212&\"'!$H$53\",TRUE)),\"\",INDIRECT(\"'Børn \"&A212&\"'!$H$53\",TRUE)),1)","v":{"$error":"#VALUE!"}},{"$f":"COUNTIF(IF(ISERROR(INDIRECT(\"'Børn \"&A212&\"'!$H$61\",TRUE)),\"\",INDIRECT(\"'Børn \"&A212&\"'!$H$61\",TRUE)),1)","v":{"$error":"#VALUE!"}},{"$f":"COUNTIF(IF(ISERROR(INDIRECT(\"'Børn \"&A212&\"'!$H$68\",TRUE)),\"\",INDIRECT(\"'Børn \"&A212&\"'!$H$68\",TRUE)),1)","v":{"$error":"#VALUE!"}},{"$f":"COUNTIF(IF(ISERROR(INDIRECT(\"'Børn \"&A212&\"'!$H$79\",TRUE)),\"\",INDIRECT(\"'Børn \"&A212&\"'!$H$79\",TRUE)),1)","v":{"$error":"#VALUE!"}},{"$f":"COUNTIF(IF(ISERROR(INDIRECT(\"'Børn \"&A212&\"'!$H$87\",TRUE)),\"\",INDIRECT(\"'Børn \"&A212&\"'!$H$87\",TRUE)),1)","v":{"$error":"#VALUE!"}},null,null,null,"Tilsyn 76",{"$f":"IF(INDIRECT(\"'Voksen \"&U212&\"'!$c$112\")=\"\",\"\",IFERROR(INDIRECT(\"'Voksen \"&U212&\"'!$c$112\",TRUE),\"\"))","v":{"$error":"#REF!"}},{"$f":"IF(INDIRECT(\"'Voksen \"&U212&\"'!$c$133\")=\"\",\"\",IFERROR(INDIRECT(\"'Voksen \"&U212&\"'!$c$133\",TRUE),\"\"))","v":{"$error":"#REF!"}},{"$f":"IF(INDIRECT(\"'Voksen \"&U212&\"'!$c$154\")=\"\",\"\",IFERROR(INDIRECT(\"'Voksen \"&U212&\"'!$c$154\",TRUE),\"\"))","v":{"$error":"#REF!"}},{"$f":"IF(INDIRECT(\"'Voksen \"&U212&\"'!$c$169\")=\"\",\"\",IFERROR(INDIRECT(\"'Voksen \"&U212&\"'!$c$169\",TRUE),\"\"))","v":{"$error":"#REF!"}},{"$f":"IF(INDIRECT(\"'Voksen \"&U212&\"'!$c$186\")=\"\",\"\",IFERROR(INDIRECT(\"'Voksen \"&U212&\"'!$c$186\",TRUE),\"\"))","v":{"$error":"#REF!"}},{"$f":"IF(INDIRECT(\"'Voksen \"&U212&\"'!$c$207\")=\"\",\"\",IFERROR(INDIRECT(\"'Voksen \"&U212&\"'!$c$207\",TRUE),\"\"))","v":{"$error":"#REF!"}},{"$f":"IF(INDIRECT(\"'Voksen \"&U212&\"'!$c$229\")=\"\",\"\",IFERROR(INDIRECT(\"'Voksen \"&U212&\"'!$c$229\",TRUE),\"\"))","v":{"$error":"#REF!"}},{"$f":"IF(INDIRECT(\"'Voksen \"&U212&\"'!$c$255\")=\"\",\"\",IFERROR(INDIRECT(\"'Voksen \"&U212&\"'!$c$255\",TRUE),\"\"))","v":{"$error":"#REF!"}},null,{"$f":"IF(INDIRECT(\"'Børn \"&U212&\"'!$c$123\")=\"\",\"\",IFERROR(INDIRECT(\"'Børn \"&U212&\"'!$c$123\",TRUE),\"\"))","v":{"$error":"#REF!"}},{"$f":"IF(INDIRECT(\"'Børn \"&U212&\"'!$c$139\")=\"\",\"\",IFERROR(INDIRECT(\"'Børn \"&U212&\"'!$c$139\",TRUE),\"\"))","v":{"$error":"#REF!"}},{"$f":"IF(INDIRECT(\"'Børn \"&U212&\"'!$c$163\")=\"\",\"\",IFERROR(INDIRECT(\"'Børn \"&U212&\"'!$c$163\",TRUE),\"\"))","v":{"$error":"#REF!"}},{"$f":"IF(INDIRECT(\"'Børn \"&U212&\"'!$c$177\")=\"\",\"\",IFERROR(INDIRECT(\"'Børn \"&U212&\"'!$c$177\",TRUE),\"\"))","v":{"$error":"#REF!"}},{"$f":"IF(INDIRECT(\"'Børn \"&U212&\"'!$c$197\")=\"\",\"\",IFERROR(INDIRECT(\"'Børn \"&U212&\"'!$c$197\",TRUE),\"\"))","v":{"$error":"#REF!"}},{"$f":"IF(INDIRECT(\"'Børn \"&U212&\"'!$c$218\")=\"\",\"\",IFERROR(INDIRECT(\"'Børn \"&U212&\"'!$c$218\",TRUE),\"\"))","v":{"$error":"#REF!"}},{"$f":"IF(INDIRECT(\"'Børn \"&U212&\"'!$c$241\")=\"\",\"\",IFERROR(INDIRECT(\"'Børn \"&U212&\"'!$c$241\",TRUE),\"\"))","v":{"$error":"#REF!"}}]
["Tilsyn 51","Status:  gul",{"$f":"COUNTIF(IF(ISERROR(INDIRECT(\"'Voksen \"&A213&\"'!$H$31\",TRUE)),\"\",INDIRECT(\"'Voksen \"&A213&\"'!$H$31\",TRUE)),2)","v":{"$error":"#VALUE!"}},{"$f":"COUNTIF(IF(ISERROR(INDIRECT(\"'Voksen \"&A213&\"'!$H$41\",TRUE)),\"\",INDIRECT(\"'Voksen \"&A213&\"'!$H$41\",TRUE)),2)","v":{"$error":"#VALUE!"}},{"$f":"COUNTIF(IF(ISERROR(INDIRECT(\"'Voksen \"&A213&\"'!$H$50\",TRUE)),\"\",INDIRECT(\"'Voksen \"&A213&\"'!$H$50\",TRUE)),2)","v":{"$error":"#VALUE!"}},{"$f":"COUNTIF(IF(ISERROR(INDIRECT(\"'Voksen \"&A213&\"'!$H$58\",TRUE)),\"\",INDIRECT(\"'Voksen \"&A213&\"'!$H$58\",TRUE)),2)","v":{"$error":"#VALUE!"}},{"$f":"COUNTIF(IF(ISERROR(INDIRECT(\"'Voksen \"&A213&\"'!$H$69\",TRUE)),\"\",INDIRECT(\"'Voksen \"&A213&\"'!$H$69\",TRUE)),2)","v":{"$error":"#VALUE!"}},{"$f":"COUNTIF(IF(ISERROR(INDIRECT(\"'Voksen \"&A213&\"'!$H$77\",TRUE)),\"\",INDIRECT(\"'Voksen \"&A213&\"'!$H$77\",TRUE)),2)","v":{"$error":"#VALUE!"}},null,null,{"$f":"COUNTIF(IF(ISERROR(INDIRECT(\"'Børn \"&A213&\"'!$H$31\",TRUE)),\"\",INDIRECT(\"'Børn \"&A213&\"'!$H$31\",TRUE)),2)","v":{"$error":"#VALUE!"}},{"$f":"COUNTIF(IF(ISERROR(INDIRECT(\"'Børn \"&A213&\"'!$H$44\",TRUE)),\"\",INDIRECT(\"'Børn \"&A213&\"'!$H$44\",TRUE)),2)","v":{"$error":"#VALUE!"}},{"$f":"COUNTIF(IF(ISERROR(INDIRECT(\"'Børn \"&A213&\"'!$H$53\",TRUE)),\"\",INDIRECT(\"'Børn \"&A213&\"'!$H$53\",TRUE)),2)","v":{"$error":"#VALUE!"}},{"$f":"COUNTIF(IF(ISERROR(INDIRECT(\"'Børn \"&A213&\"'!$H$61\",TRUE)),\"\",INDIRECT(\"'Børn \"&A213&\"'!$H$61\",TRUE)),2)","v":{"$error":"#VALUE!"}},{"$f":"COUNTIF(IF(ISERROR(INDIRECT(\"'Børn \"&A213&\"'!$H$68\",TRUE)),\"\",INDIRECT(\"'Børn \"&A213&\"'!$H$68\",TRUE)),2)","v":{"$error":"#VALUE!"}},{"$f":"COUNTIF(IF(ISERROR(INDIRECT(\"'Børn \"&A213&\"'!$H$79\",TRUE)),\"\",INDIRECT(\"'Børn \"&A213&\"'!$H$79\",TRUE)),2)","v":{"$error":"#VALUE!"}},{"$f":"COUNTIF(IF(ISERROR(INDIRECT(\"'Børn \"&A213&\"'!$H$87\",TRUE)),\"\",INDIRECT(\"'Børn \"&A213&\"'!$H$87\",TRUE)),2)","v":{"$error":"#VALUE!"}},null,null,null,{"$f":"U212","v":"Tilsyn 76"},{"$f":"IF(INDIRECT(\"'Voksen \"&U213&\"'!$c$115\")=\"\",\"\",IFERROR(INDIRECT(\"'Voksen \"&U213&\"'!$c$115\",TRUE),\"\"))","v":{"$error":"#REF!"}},{"$f":"IF(INDIRECT(\"'Voksen \"&U213&\"'!$c$136\")=\"\",\"\",IFERROR(INDIRECT(\"'Voksen \"&U213&\"'!$c$136\",TRUE),\"\"))","v":{"$error":"#REF!"}},{"$f":"IF(INDIRECT(\"'Voksen \"&U213&\"'!$c$157\")=\"\",\"\",IFERROR(INDIRECT(\"'Voksen \"&U213&\"'!$c$157\",TRUE),\"\"))","v":{"$error":"#REF!"}},{"$f":"IF(INDIRECT(\"'Voksen \"&U213&\"'!$c$172\")=\"\",\"\",IFERROR(INDIRECT(\"'Voksen \"&U213&\"'!$c$172\",TRUE),\"\"))","v":{"$error":"#REF!"}},{"$f":"IF(INDIRECT(\"'Voksen \"&U213&\"'!$c$189\")=\"\",\"\",IFERROR(INDIRECT(\"'Voksen \"&U213&\"'!$c$189\",TRUE),\"\"))","v":{"$error":"#REF!"}},{"$f":"IF(INDIRECT(\"'Voksen \"&U213&\"'!$c$210\")=\"\",\"\",IFERROR(INDIRECT(\"'Voksen \"&U213&\"'!$c$210\",TRUE),\"\"))","v":{"$error":"#REF!"}},{"$f":"IF(INDIRECT(\"'Voksen \"&U213&\"'!$c$232\")=\"\",\"\",IFERROR(INDIRECT(\"'Voksen \"&U213&\"'!$c$232\",TRUE),\"\"))","v":{"$error":"#REF!"}},{"$f":"IF(INDIRECT(\"'Voksen \"&U213&\"'!$c$258\")=\"\",\"\",IFERROR(INDIRECT(\"'Voksen \"&U213&\"'!$c$258\",TRUE),\"\"))","v":{"$error":"#REF!"}},null,{"$f":"IF(INDIRECT(\"'Børn \"&U213&\"'!$c$126\")=\"\",\"\",IFERROR(INDIRECT(\"'Børn \"&U213&\"'!$c$126\",TRUE),\"\"))","v":{"$error":"#REF!"}},{"$f":"IF(INDIRECT(\"'Børn \"&U213&\"'!$c$142\")=\"\",\"\",IFERROR(INDIRECT(\"'Børn \"&U213&\"'!$c$142\",TRUE),\"\"))","v":{"$error":"#REF!"}},{"$f":"IF(INDIRECT(\"'Børn \"&U213&\"'!$c$166\")=\"\",\"\",IFERROR(INDIRECT(\"'Børn \"&U213&\"'!$c$166\",TRUE),\"\"))","v":{"$error":"#REF!"}},{"$f":"IF(INDIRECT(\"'Børn \"&U213&\"'!$c$180\")=\"\",\"\",IFERROR(INDIRECT(\"'Børn \"&U213&\"'!$c$180\",TRUE),\"\"))","v":{"$error":"#REF!"}},{"$f":"IF(INDIRECT(\"'Børn \"&U213&\"'!$c$200\")=\"\",\"\",IFERROR(INDIRECT(\"'Børn \"&U213&\"'!$c$200\",TRUE),\"\"))","v":{"$error":"#REF!"}},{"$f":"IF(INDIRECT(\"'Børn \"&U213&\"'!$c$221\")=\"\",\"\",IFERROR(INDIRECT(\"'Børn \"&U213&\"'!$c$221\",TRUE),\"\"))","v":{"$error":"#REF!"}},{"$f":"IF(INDIRECT(\"'Børn \"&U213&\"'!$c$244\")=\"\",\"\",IFERROR(INDIRECT(\"'Børn \"&U213&\"'!$c$244\",TRUE),\"\"))","v":{"$error":"#REF!"}}]
["Tilsyn 51","Status:  rød",{"$f":"COUNTIF(IF(ISERROR(INDIRECT(\"'Voksen \"&A214&\"'!$H$31\",TRUE)),\"\",INDIRECT(\"'Voksen \"&A214&\"'!$H$31\",TRUE)),3)","v":{"$error":"#VALUE!"}},{"$f":"COUNTIF(IF(ISERROR(INDIRECT(\"'Voksen \"&A214&\"'!$H$41\",TRUE)),\"\",INDIRECT(\"'Voksen \"&A214&\"'!$H$41\",TRUE)),3)","v":{"$error":"#VALUE!"}},{"$f":"COUNTIF(IF(ISERROR(INDIRECT(\"'Voksen \"&A214&\"'!$H$50\",TRUE)),\"\",INDIRECT(\"'Voksen \"&A214&\"'!$H$50\",TRUE)),3)","v":{"$error":"#VALUE!"}},{"$f":"COUNTIF(IF(ISERROR(INDIRECT(\"'Voksen \"&A214&\"'!$H$58\",TRUE)),\"\",INDIRECT(\"'Voksen \"&A214&\"'!$H$58\",TRUE)),3)","v":{"$error":"#VALUE!"}},{"$f":"COUNTIF(IF(ISERROR(INDIRECT(\"'Voksen \"&A214&\"'!$H$69\",TRUE)),\"\",INDIRECT(\"'Voksen \"&A214&\"'!$H$69\",TRUE)),3)","v":{"$error":"#VALUE!"}},{"$f":"COUNTIF(IF(ISERROR(INDIRECT(\"'Voksen \"&A214&\"'!$H$77\",TRUE)),\"\",INDIRECT(\"'Voksen \"&A214&\"'!$H$77\",TRUE)),3)","v":{"$error":"#VALUE!"}},null,null,{"$f":"COUNTIF(IF(ISERROR(INDIRECT(\"'Børn \"&A214&\"'!$H$31\",TRUE)),\"\",INDIRECT(\"'Børn \"&A214&\"'!$H$31\",TRUE)),3)","v":{"$error":"#VALUE!"}},{"$f":"COUNTIF(IF(ISERROR(INDIRECT(\"'Børn \"&A214&\"'!$H$44\",TRUE)),\"\",INDIRECT(\"'Børn \"&A214&\"'!$H$44\",TRUE)),3)","v":{"$error":"#VALUE!"}},{"$f":"COUNTIF(IF(ISERROR(INDIRECT(\"'Børn \"&A214&\"'!$H$53\",TRUE)),\"\",INDIRECT(\"'Børn \"&A214&\"'!$H$53\",TRUE)),3)","v":{"$error":"#VALUE!"}},{"$f":"COUNTIF(IF(ISERROR(INDIRECT(\"'Børn \"&A214&\"'!$H$61\",TRUE)),\"\",INDIRECT(\"'Børn \"&A214&\"'!$H$61\",TRUE)),3)","v":{"$error":"#VALUE!"}},{"$f":"COUNTIF(IF(ISERROR(INDIRECT(\"'Børn \"&A214&\"'!$H$68\",TRUE)),\"\",INDIRECT(\"'Børn \"&A214&\"'!$H$68\",TRUE)),3)","v":{"$error":"#VALUE!"}},{"$f":"COUNTIF(IF(ISERROR(INDIRECT(\"'Børn \"&A214&\"'!$H$79\",TRUE)),\"\",INDIRECT(\"'Børn \"&A214&\"'!$H$79\",TRUE)),3)","v":{"$error":"#VALUE!"}},{"$f":"COUNTIF(IF(ISERROR(INDIRECT(\"'Børn \"&A214&\"'!$H$87\",TRUE)),\"\",INDIRECT(\"'Børn \"&A214&\"'!$H$87\",TRUE)),3)","v":{"$error":"#VALUE!"}},null,null,null,"Tilsyn 77",{"$f":"IF(INDIRECT(\"'Voksen \"&U214&\"'!$c$112\")=\"\",\"\",IFERROR(INDIRECT(\"'Voksen \"&U214&\"'!$c$112\",TRUE),\"\"))","v":{"$error":"#REF!"}},{"$f":"IF(INDIRECT(\"'Voksen \"&U214&\"'!$c$133\")=\"\",\"\",IFERROR(INDIRECT(\"'Voksen \"&U214&\"'!$c$133\",TRUE),\"\"))","v":{"$error":"#REF!"}},{"$f":"IF(INDIRECT(\"'Voksen \"&U214&\"'!$c$154\")=\"\",\"\",IFERROR(INDIRECT(\"'Voksen \"&U214&\"'!$c$154\",TRUE),\"\"))","v":{"$error":"#REF!"}},{"$f":"IF(INDIRECT(\"'Voksen \"&U214&\"'!$c$169\")=\"\",\"\",IFERROR(INDIRECT(\"'Voksen \"&U214&\"'!$c$169\",TRUE),\"\"))","v":{"$error":"#REF!"}},{"$f":"IF(INDIRECT(\"'Voksen \"&U214&\"'!$c$186\")=\"\",\"\",IFERROR(INDIRECT(\"'Voksen \"&U214&\"'!$c$186\",TRUE),\"\"))","v":{"$error":"#REF!"}},{"$f":"IF(INDIRECT(\"'Voksen \"&U214&\"'!$c$207\")=\"\",\"\",IFERROR(INDIRECT(\"'Voksen \"&U214&\"'!$c$207\",TRUE),\"\"))","v":{"$error":"#REF!"}},{"$f":"IF(INDIRECT(\"'Voksen \"&U214&\"'!$c$229\")=\"\",\"\",IFERROR(INDIRECT(\"'Voksen \"&U214&\"'!$c$229\",TRUE),\"\"))","v":{"$error":"#REF!"}},{"$f":"IF(INDIRECT(\"'Voksen \"&U214&\"'!$c$255\")=\"\",\"\",IFERROR(INDIRECT(\"'Voksen \"&U214&\"'!$c$255\",TRUE),\"\"))","v":{"$error":"#REF!"}},null,{"$f":"IF(INDIRECT(\"'Børn \"&U214&\"'!$c$123\")=\"\",\"\",IFERROR(INDIRECT(\"'Børn \"&U214&\"'!$c$123\",TRUE),\"\"))","v":{"$error":"#REF!"}},{"$f":"IF(INDIRECT(\"'Børn \"&U214&\"'!$c$139\")=\"\",\"\",IFERROR(INDIRECT(\"'Børn \"&U214&\"'!$c$139\",TRUE),\"\"))","v":{"$error":"#REF!"}},{"$f":"IF(INDIRECT(\"'Børn \"&U214&\"'!$c$163\")=\"\",\"\",IFERROR(INDIRECT(\"'Børn \"&U214&\"'!$c$163\",TRUE),\"\"))","v":{"$error":"#REF!"}},{"$f":"IF(INDIRECT(\"'Børn \"&U214&\"'!$c$177\")=\"\",\"\",IFERROR(INDIRECT(\"'Børn \"&U214&\"'!$c$177\",TRUE),\"\"))","v":{"$error":"#REF!"}},{"$f":"IF(INDIRECT(\"'Børn \"&U214&\"'!$c$197\")=\"\",\"\",IFERROR(INDIRECT(\"'Børn \"&U214&\"'!$c$197\",TRUE),\"\"))","v":{"$error":"#REF!"}},{"$f":"IF(INDIRECT(\"'Børn \"&U214&\"'!$c$218\")=\"\",\"\",IFERROR(INDIRECT(\"'Børn \"&U214&\"'!$c$218\",TRUE),\"\"))","v":{"$error":"#REF!"}},{"$f":"IF(INDIRECT(\"'Børn \"&U214&\"'!$c$241\")=\"\",\"\",IFERROR(INDIRECT(\"'Børn \"&U214&\"'!$c$241\",TRUE),\"\"))","v":{"$error":"#REF!"}}]
["Tilsyn 52","Status:  grøn",{"$f":"COUNTIF(IF(ISERROR(INDIRECT(\"'Voksen \"&A215&\"'!$H$31\",TRUE)),\"\",INDIRECT(\"'Voksen \"&A215&\"'!$H$31\",TRUE)),1)","v":{"$error":"#VALUE!"}},{"$f":"COUNTIF(IF(ISERROR(INDIRECT(\"'Voksen \"&A215&\"'!$H$41\",TRUE)),\"\",INDIRECT(\"'Voksen \"&A215&\"'!$H$41\",TRUE)),1)","v":{"$error":"#VALUE!"}},{"$f":"COUNTIF(IF(ISERROR(INDIRECT(\"'Voksen \"&A215&\"'!$H$50\",TRUE)),\"\",INDIRECT(\"'Voksen \"&A215&\"'!$H$50\",TRUE)),1)","v":{"$error":"#VALUE!"}},{"$f":"COUNTIF(IF(ISERROR(INDIRECT(\"'Voksen \"&A215&\"'!$H$58\",TRUE)),\"\",INDIRECT(\"'Voksen \"&A215&\"'!$H$58\",TRUE)),1)","v":{"$error":"#VALUE!"}},{"$f":"COUNTIF(IF(ISERROR(INDIRECT(\"'Voksen \"&A215&\"'!$H$69\",TRUE)),\"\",INDIRECT(\"'Voksen \"&A215&\"'!$H$69\",TRUE)),1)","v":{"$error":"#VALUE!"}},{"$f":"COUNTIF(IF(ISERROR(INDIRECT(\"'Voksen \"&A215&\"'!$H$77\",TRUE)),\"\",INDIRECT(\"'Voksen \"&A215&\"'!$H$77\",TRUE)),1)","v":{"$error":"#VALUE!"}},null,null,{"$f":"COUNTIF(IF(ISERROR(INDIRECT(\"'Børn \"&A215&\"'!$H$31\",TRUE)),\"\",INDIRECT(\"'Børn \"&A215&\"'!$H$31\",TRUE)),1)","v":{"$error":"#VALUE!"}},{"$f":"COUNTIF(IF(ISERROR(INDIRECT(\"'Børn \"&A215&\"'!$H$44\",TRUE)),\"\",INDIRECT(\"'Børn \"&A215&\"'!$H$44\",TRUE)),1)","v":{"$error":"#VALUE!"}},{"$f":"COUNTIF(IF(ISERROR(INDIRECT(\"'Børn \"&A215&\"'!$H$53\",TRUE)),\"\",INDIRECT(\"'Børn \"&A215&\"'!$H$53\",TRUE)),1)","v":{"$error":"#VALUE!"}},{"$f":"COUNTIF(IF(ISERROR(INDIRECT(\"'Børn \"&A215&\"'!$H$61\",TRUE)),\"\",INDIRECT(\"'Børn \"&A215&\"'!$H$61\",TRUE)),1)","v":{"$error":"#VALUE!"}},{"$f":"COUNTIF(IF(ISERROR(INDIRECT(\"'Børn \"&A215&\"'!$H$68\",TRUE)),\"\",INDIRECT(\"'Børn \"&A215&\"'!$H$68\",TRUE)),1)","v":{"$error":"#VALUE!"}},{"$f":"COUNTIF(IF(ISERROR(INDIRECT(\"'Børn \"&A215&\"'!$H$79\",TRUE)),\"\",INDIRECT(\"'Børn \"&A215&\"'!$H$79\",TRUE)),1)","v":{"$error":"#VALUE!"}},{"$f":"COUNTIF(IF(ISERROR(INDIRECT(\"'Børn \"&A215&\"'!$H$87\",TRUE)),\"\",INDIRECT(\"'Børn \"&A215&\"'!$H$87\",TRUE)),1)","v":{"$error":"#VALUE!"}},null,null,null,{"$f":"U214","v":"Tilsyn 77"},{"$f":"IF(INDIRECT(\"'Voksen \"&U215&\"'!$c$115\")=\"\",\"\",IFERROR(INDIRECT(\"'Voksen \"&U215&\"'!$c$115\",TRUE),\"\"))","v":{"$error":"#REF!"}},{"$f":"IF(INDIRECT(\"'Voksen \"&U215&\"'!$c$136\")=\"\",\"\",IFERROR(INDIRECT(\"'Voksen \"&U215&\"'!$c$136\",TRUE),\"\"))","v":{"$error":"#REF!"}},{"$f":"IF(INDIRECT(\"'Voksen \"&U215&\"'!$c$157\")=\"\",\"\",IFERROR(INDIRECT(\"'Voksen \"&U215&\"'!$c$157\",TRUE),\"\"))","v":{"$error":"#REF!"}},{"$f":"IF(INDIRECT(\"'Voksen \"&U215&\"'!$c$172\")=\"\",\"\",IFERROR(INDIRECT(\"'Voksen \"&U215&\"'!$c$172\",TRUE),\"\"))","v":{"$error":"#REF!"}},{"$f":"IF(INDIRECT(\"'Voksen \"&U215&\"'!$c$189\")=\"\",\"\",IFERROR(INDIRECT(\"'Voksen \"&U215&\"'!$c$189\",TRUE),\"\"))","v":{"$error":"#REF!"}},{"$f":"IF(INDIRECT(\"'Voksen \"&U215&\"'!$c$210\")=\"\",\"\",IFERROR(INDIRECT(\"'Voksen \"&U215&\"'!$c$210\",TRUE),\"\"))","v":{"$error":"#REF!"}},{"$f":"IF(INDIRECT(\"'Voksen \"&U215&\"'!$c$232\")=\"\",\"\",IFERROR(INDIRECT(\"'Voksen \"&U215&\"'!$c$232\",TRUE),\"\"))","v":{"$error":"#REF!"}},{"$f":"IF(INDIRECT(\"'Voksen \"&U215&\"'!$c$258\")=\"\",\"\",IFERROR(INDIRECT(\"'Voksen \"&U215&\"'!$c$258\",TRUE),\"\"))","v":{"$error":"#REF!"}},null,{"$f":"IF(INDIRECT(\"'Børn \"&U215&\"'!$c$126\")=\"\",\"\",IFERROR(INDIRECT(\"'Børn \"&U215&\"'!$c$126\",TRUE),\"\"))","v":{"$error":"#REF!"}},{"$f":"IF(INDIRECT(\"'Børn \"&U215&\"'!$c$142\")=\"\",\"\",IFERROR(INDIRECT(\"'Børn \"&U215&\"'!$c$142\",TRUE),\"\"))","v":{"$error":"#REF!"}},{"$f":"IF(INDIRECT(\"'Børn \"&U215&\"'!$c$166\")=\"\",\"\",IFERROR(INDIRECT(\"'Børn \"&U215&\"'!$c$166\",TRUE),\"\"))","v":{"$error":"#REF!"}},{"$f":"IF(INDIRECT(\"'Børn \"&U215&\"'!$c$180\")=\"\",\"\",IFERROR(INDIRECT(\"'Børn \"&U215&\"'!$c$180\",TRUE),\"\"))","v":{"$error":"#REF!"}},{"$f":"IF(INDIRECT(\"'Børn \"&U215&\"'!$c$200\")=\"\",\"\",IFERROR(INDIRECT(\"'Børn \"&U215&\"'!$c$200\",TRUE),\"\"))","v":{"$error":"#REF!"}},{"$f":"IF(INDIRECT(\"'Børn \"&U215&\"'!$c$221\")=\"\",\"\",IFERROR(INDIRECT(\"'Børn \"&U215&\"'!$c$221\",TRUE),\"\"))","v":{"$error":"#REF!"}},{"$f":"IF(INDIRECT(\"'Børn \"&U215&\"'!$c$244\")=\"\",\"\",IFERROR(INDIRECT(\"'Børn \"&U215&\"'!$c$244\",TRUE),\"\"))","v":{"$error":"#REF!"}}]
["Tilsyn 52","Status:  gul",{"$f":"COUNTIF(IF(ISERROR(INDIRECT(\"'Voksen \"&A216&\"'!$H$31\",TRUE)),\"\",INDIRECT(\"'Voksen \"&A216&\"'!$H$31\",TRUE)),2)","v":{"$error":"#VALUE!"}},{"$f":"COUNTIF(IF(ISERROR(INDIRECT(\"'Voksen \"&A216&\"'!$H$41\",TRUE)),\"\",INDIRECT(\"'Voksen \"&A216&\"'!$H$41\",TRUE)),2)","v":{"$error":"#VALUE!"}},{"$f":"COUNTIF(IF(ISERROR(INDIRECT(\"'Voksen \"&A216&\"'!$H$50\",TRUE)),\"\",INDIRECT(\"'Voksen \"&A216&\"'!$H$50\",TRUE)),2)","v":{"$error":"#VALUE!"}},{"$f":"COUNTIF(IF(ISERROR(INDIRECT(\"'Voksen \"&A216&\"'!$H$58\",TRUE)),\"\",INDIRECT(\"'Voksen \"&A216&\"'!$H$58\",TRUE)),2)","v":{"$error":"#VALUE!"}},{"$f":"COUNTIF(IF(ISERROR(INDIRECT(\"'Voksen \"&A216&\"'!$H$69\",TRUE)),\"\",INDIRECT(\"'Voksen \"&A216&\"'!$H$69\",TRUE)),2)","v":{"$error":"#VALUE!"}},{"$f":"COUNTIF(IF(ISERROR(INDIRECT(\"'Voksen \"&A216&\"'!$H$77\",TRUE)),\"\",INDIRECT(\"'Voksen \"&A216&\"'!$H$77\",TRUE)),2)","v":{"$error":"#VALUE!"}},null,null,{"$f":"COUNTIF(IF(ISERROR(INDIRECT(\"'Børn \"&A216&\"'!$H$31\",TRUE)),\"\",INDIRECT(\"'Børn \"&A216&\"'!$H$31\",TRUE)),2)","v":{"$error":"#VALUE!"}},{"$f":"COUNTIF(IF(ISERROR(INDIRECT(\"'Børn \"&A216&\"'!$H$44\",TRUE)),\"\",INDIRECT(\"'Børn \"&A216&\"'!$H$44\",TRUE)),2)","v":{"$error":"#VALUE!"}},{"$f":"COUNTIF(IF(ISERROR(INDIRECT(\"'Børn \"&A216&\"'!$H$53\",TRUE)),\"\",INDIRECT(\"'Børn \"&A216&\"'!$H$53\",TRUE)),2)","v":{"$error":"#VALUE!"}},{"$f":"COUNTIF(IF(ISERROR(INDIRECT(\"'Børn \"&A216&\"'!$H$61\",TRUE)),\"\",INDIRECT(\"'Børn \"&A216&\"'!$H$61\",TRUE)),2)","v":{"$error":"#VALUE!"}},{"$f":"COUNTIF(IF(ISERROR(INDIRECT(\"'Børn \"&A216&\"'!$H$68\",TRUE)),\"\",INDIRECT(\"'Børn \"&A216&\"'!$H$68\",TRUE)),2)","v":{"$error":"#VALUE!"}},{"$f":"COUNTIF(IF(ISERROR(INDIRECT(\"'Børn \"&A216&\"'!$H$79\",TRUE)),\"\",INDIRECT(\"'Børn \"&A216&\"'!$H$79\",TRUE)),2)","v":{"$error":"#VALUE!"}},{"$f":"COUNTIF(IF(ISERROR(INDIRECT(\"'Børn \"&A216&\"'!$H$87\",TRUE)),\"\",INDIRECT(\"'Børn \"&A216&\"'!$H$87\",TRUE)),2)","v":{"$error":"#VALUE!"}},null,null,null,"Tilsyn 78",{"$f":"IF(INDIRECT(\"'Voksen \"&U216&\"'!$c$112\")=\"\",\"\",IFERROR(INDIRECT(\"'Voksen \"&U216&\"'!$c$112\",TRUE),\"\"))","v":{"$error":"#REF!"}},{"$f":"IF(INDIRECT(\"'Voksen \"&U216&\"'!$c$133\")=\"\",\"\",IFERROR(INDIRECT(\"'Voksen \"&U216&\"'!$c$133\",TRUE),\"\"))","v":{"$error":"#REF!"}},{"$f":"IF(INDIRECT(\"'Voksen \"&U216&\"'!$c$154\")=\"\",\"\",IFERROR(INDIRECT(\"'Voksen \"&U216&\"'!$c$154\",TRUE),\"\"))","v":{"$error":"#REF!"}},{"$f":"IF(INDIRECT(\"'Voksen \"&U216&\"'!$c$169\")=\"\",\"\",IFERROR(INDIRECT(\"'Voksen \"&U216&\"'!$c$169\",TRUE),\"\"))","v":{"$error":"#REF!"}},{"$f":"IF(INDIRECT(\"'Voksen \"&U216&\"'!$c$186\")=\"\",\"\",IFERROR(INDIRECT(\"'Voksen \"&U216&\"'!$c$186\",TRUE),\"\"))","v":{"$error":"#REF!"}},{"$f":"IF(INDIRECT(\"'Voksen \"&U216&\"'!$c$207\")=\"\",\"\",IFERROR(INDIRECT(\"'Voksen \"&U216&\"'!$c$207\",TRUE),\"\"))","v":{"$error":"#REF!"}},{"$f":"IF(INDIRECT(\"'Voksen \"&U216&\"'!$c$229\")=\"\",\"\",IFERROR(INDIRECT(\"'Voksen \"&U216&\"'!$c$229\",TRUE),\"\"))","v":{"$error":"#REF!"}},{"$f":"IF(INDIRECT(\"'Voksen \"&U216&\"'!$c$255\")=\"\",\"\",IFERROR(INDIRECT(\"'Voksen \"&U216&\"'!$c$255\",TRUE),\"\"))","v":{"$error":"#REF!"}},null,{"$f":"IF(INDIRECT(\"'Børn \"&U216&\"'!$c$123\")=\"\",\"\",IFERROR(INDIRECT(\"'Børn \"&U216&\"'!$c$123\",TRUE),\"\"))","v":{"$error":"#REF!"}},{"$f":"IF(INDIRECT(\"'Børn \"&U216&\"'!$c$139\")=\"\",\"\",IFERROR(INDIRECT(\"'Børn \"&U216&\"'!$c$139\",TRUE),\"\"))","v":{"$error":"#REF!"}},{"$f":"IF(INDIRECT(\"'Børn \"&U216&\"'!$c$163\")=\"\",\"\",IFERROR(INDIRECT(\"'Børn \"&U216&\"'!$c$163\",TRUE),\"\"))","v":{"$error":"#REF!"}},{"$f":"IF(INDIRECT(\"'Børn \"&U216&\"'!$c$177\")=\"\",\"\",IFERROR(INDIRECT(\"'Børn \"&U216&\"'!$c$177\",TRUE),\"\"))","v":{"$error":"#REF!"}},{"$f":"IF(INDIRECT(\"'Børn \"&U216&\"'!$c$197\")=\"\",\"\",IFERROR(INDIRECT(\"'Børn \"&U216&\"'!$c$197\",TRUE),\"\"))","v":{"$error":"#REF!"}},{"$f":"IF(INDIRECT(\"'Børn \"&U216&\"'!$c$218\")=\"\",\"\",IFERROR(INDIRECT(\"'Børn \"&U216&\"'!$c$218\",TRUE),\"\"))","v":{"$error":"#REF!"}},{"$f":"IF(INDIRECT(\"'Børn \"&U216&\"'!$c$241\")=\"\",\"\",IFERROR(INDIRECT(\"'Børn \"&U216&\"'!$c$241\",TRUE),\"\"))","v":{"$error":"#REF!"}}]
["Tilsyn 52","Status:  rød",{"$f":"COUNTIF(IF(ISERROR(INDIRECT(\"'Voksen \"&A217&\"'!$H$31\",TRUE)),\"\",INDIRECT(\"'Voksen \"&A217&\"'!$H$31\",TRUE)),3)","v":{"$error":"#VALUE!"}},{"$f":"COUNTIF(IF(ISERROR(INDIRECT(\"'Voksen \"&A217&\"'!$H$41\",TRUE)),\"\",INDIRECT(\"'Voksen \"&A217&\"'!$H$41\",TRUE)),3)","v":{"$error":"#VALUE!"}},{"$f":"COUNTIF(IF(ISERROR(INDIRECT(\"'Voksen \"&A217&\"'!$H$50\",TRUE)),\"\",INDIRECT(\"'Voksen \"&A217&\"'!$H$50\",TRUE)),3)","v":{"$error":"#VALUE!"}},{"$f":"COUNTIF(IF(ISERROR(INDIRECT(\"'Voksen \"&A217&\"'!$H$58\",TRUE)),\"\",INDIRECT(\"'Voksen \"&A217&\"'!$H$58\",TRUE)),3)","v":{"$error":"#VALUE!"}},{"$f":"COUNTIF(IF(ISERROR(INDIRECT(\"'Voksen \"&A217&\"'!$H$69\",TRUE)),\"\",INDIRECT(\"'Voksen \"&A217&\"'!$H$69\",TRUE)),3)","v":{"$error":"#VALUE!"}},{"$f":"COUNTIF(IF(ISERROR(INDIRECT(\"'Voksen \"&A217&\"'!$H$77\",TRUE)),\"\",INDIRECT(\"'Voksen \"&A217&\"'!$H$77\",TRUE)),3)","v":{"$error":"#VALUE!"}},null,null,{"$f":"COUNTIF(IF(ISERROR(INDIRECT(\"'Børn \"&A217&\"'!$H$31\",TRUE)),\"\",INDIRECT(\"'Børn \"&A217&\"'!$H$31\",TRUE)),3)","v":{"$error":"#VALUE!"}},{"$f":"COUNTIF(IF(ISERROR(INDIRECT(\"'Børn \"&A217&\"'!$H$44\",TRUE)),\"\",INDIRECT(\"'Børn \"&A217&\"'!$H$44\",TRUE)),3)","v":{"$error":"#VALUE!"}},{"$f":"COUNTIF(IF(ISERROR(INDIRECT(\"'Børn \"&A217&\"'!$H$53\",TRUE)),\"\",INDIRECT(\"'Børn \"&A217&\"'!$H$53\",TRUE)),3)","v":{"$error":"#VALUE!"}},{"$f":"COUNTIF(IF(ISERROR(INDIRECT(\"'Børn \"&A217&\"'!$H$61\",TRUE)),\"\",INDIRECT(\"'Børn \"&A217&\"'!$H$61\",TRUE)),3)","v":{"$error":"#VALUE!"}},{"$f":"COUNTIF(IF(ISERROR(INDIRECT(\"'Børn \"&A217&\"'!$H$68\",TRUE)),\"\",INDIRECT(\"'Børn \"&A217&\"'!$H$68\",TRUE)),3)","v":{"$error":"#VALUE!"}},{"$f":"COUNTIF(IF(ISERROR(INDIRECT(\"'Børn \"&A217&\"'!$H$79\",TRUE)),\"\",INDIRECT(\"'Børn \"&A217&\"'!$H$79\",TRUE)),3)","v":{"$error":"#VALUE!"}},{"$f":"COUNTIF(IF(ISERROR(INDIRECT(\"'Børn \"&A217&\"'!$H$87\",TRUE)),\"\",INDIRECT(\"'Børn \"&A217&\"'!$H$87\",TRUE)),3)","v":{"$error":"#VALUE!"}},null,null,null,{"$f":"U216","v":"Tilsyn 78"},{"$f":"IF(INDIRECT(\"'Voksen \"&U217&\"'!$c$115\")=\"\",\"\",IFERROR(INDIRECT(\"'Voksen \"&U217&\"'!$c$115\",TRUE),\"\"))","v":{"$error":"#REF!"}},{"$f":"IF(INDIRECT(\"'Voksen \"&U217&\"'!$c$136\")=\"\",\"\",IFERROR(INDIRECT(\"'Voksen \"&U217&\"'!$c$136\",TRUE),\"\"))","v":{"$error":"#REF!"}},{"$f":"IF(INDIRECT(\"'Voksen \"&U217&\"'!$c$157\")=\"\",\"\",IFERROR(INDIRECT(\"'Voksen \"&U217&\"'!$c$157\",TRUE),\"\"))","v":{"$error":"#REF!"}},{"$f":"IF(INDIRECT(\"'Voksen \"&U217&\"'!$c$172\")=\"\",\"\",IFERROR(INDIRECT(\"'Voksen \"&U217&\"'!$c$172\",TRUE),\"\"))","v":{"$error":"#REF!"}},{"$f":"IF(INDIRECT(\"'Voksen \"&U217&\"'!$c$189\")=\"\",\"\",IFERROR(INDIRECT(\"'Voksen \"&U217&\"'!$c$189\",TRUE),\"\"))","v":{"$error":"#REF!"}},{"$f":"IF(INDIRECT(\"'Voksen \"&U217&\"'!$c$210\")=\"\",\"\",IFERROR(INDIRECT(\"'Voksen \"&U217&\"'!$c$210\",TRUE),\"\"))","v":{"$error":"#REF!"}},{"$f":"IF(INDIRECT(\"'Voksen \"&U217&\"'!$c$232\")=\"\",\"\",IFERROR(INDIRECT(\"'Voksen \"&U217&\"'!$c$232\",TRUE),\"\"))","v":{"$error":"#REF!"}},{"$f":"IF(INDIRECT(\"'Voksen \"&U217&\"'!$c$258\")=\"\",\"\",IFERROR(INDIRECT(\"'Voksen \"&U217&\"'!$c$258\",TRUE),\"\"))","v":{"$error":"#REF!"}},null,{"$f":"IF(INDIRECT(\"'Børn \"&U217&\"'!$c$126\")=\"\",\"\",IFERROR(INDIRECT(\"'Børn \"&U217&\"'!$c$126\",TRUE),\"\"))","v":{"$error":"#REF!"}},{"$f":"IF(INDIRECT(\"'Børn \"&U217&\"'!$c$142\")=\"\",\"\",IFERROR(INDIRECT(\"'Børn \"&U217&\"'!$c$142\",TRUE),\"\"))","v":{"$error":"#REF!"}},{"$f":"IF(INDIRECT(\"'Børn \"&U217&\"'!$c$166\")=\"\",\"\",IFERROR(INDIRECT(\"'Børn \"&U217&\"'!$c$166\",TRUE),\"\"))","v":{"$error":"#REF!"}},{"$f":"IF(INDIRECT(\"'Børn \"&U217&\"'!$c$180\")=\"\",\"\",IFERROR(INDIRECT(\"'Børn \"&U217&\"'!$c$180\",TRUE),\"\"))","v":{"$error":"#REF!"}},{"$f":"IF(INDIRECT(\"'Børn \"&U217&\"'!$c$200\")=\"\",\"\",IFERROR(INDIRECT(\"'Børn \"&U217&\"'!$c$200\",TRUE),\"\"))","v":{"$error":"#REF!"}},{"$f":"IF(INDIRECT(\"'Børn \"&U217&\"'!$c$221\")=\"\",\"\",IFERROR(INDIRECT(\"'Børn \"&U217&\"'!$c$221\",TRUE),\"\"))","v":{"$error":"#REF!"}},{"$f":"IF(INDIRECT(\"'Børn \"&U217&\"'!$c$244\")=\"\",\"\",IFERROR(INDIRECT(\"'Børn \"&U217&\"'!$c$244\",TRUE),\"\"))","v":{"$error":"#REF!"}}]
["Tilsyn 53","Status:  grøn",{"$f":"COUNTIF(IF(ISERROR(INDIRECT(\"'Voksen \"&A218&\"'!$H$31\",TRUE)),\"\",INDIRECT(\"'Voksen \"&A218&\"'!$H$31\",TRUE)),1)","v":{"$error":"#VALUE!"}},{"$f":"COUNTIF(IF(ISERROR(INDIRECT(\"'Voksen \"&A218&\"'!$H$41\",TRUE)),\"\",INDIRECT(\"'Voksen \"&A218&\"'!$H$41\",TRUE)),1)","v":{"$error":"#VALUE!"}},{"$f":"COUNTIF(IF(ISERROR(INDIRECT(\"'Voksen \"&A218&\"'!$H$50\",TRUE)),\"\",INDIRECT(\"'Voksen \"&A218&\"'!$H$50\",TRUE)),1)","v":{"$error":"#VALUE!"}},{"$f":"COUNTIF(IF(ISERROR(INDIRECT(\"'Voksen \"&A218&\"'!$H$58\",TRUE)),\"\",INDIRECT(\"'Voksen \"&A218&\"'!$H$58\",TRUE)),1)","v":{"$error":"#VALUE!"}},{"$f":"COUNTIF(IF(ISERROR(INDIRECT(\"'Voksen \"&A218&\"'!$H$69\",TRUE)),\"\",INDIRECT(\"'Voksen \"&A218&\"'!$H$69\",TRUE)),1)","v":{"$error":"#VALUE!"}},{"$f":"COUNTIF(IF(ISERROR(INDIRECT(\"'Voksen \"&A218&\"'!$H$77\",TRUE)),\"\",INDIRECT(\"'Voksen \"&A218&\"'!$H$77\",TRUE)),1)","v":{"$error":"#VALUE!"}},null,null,{"$f":"COUNTIF(IF(ISERROR(INDIRECT(\"'Børn \"&A218&\"'!$H$31\",TRUE)),\"\",INDIRECT(\"'Børn \"&A218&\"'!$H$31\",TRUE)),1)","v":{"$error":"#VALUE!"}},{"$f":"COUNTIF(IF(ISERROR(INDIRECT(\"'Børn \"&A218&\"'!$H$44\",TRUE)),\"\",INDIRECT(\"'Børn \"&A218&\"'!$H$44\",TRUE)),1)","v":{"$error":"#VALUE!"}},{"$f":"COUNTIF(IF(ISERROR(INDIRECT(\"'Børn \"&A218&\"'!$H$53\",TRUE)),\"\",INDIRECT(\"'Børn \"&A218&\"'!$H$53\",TRUE)),1)","v":{"$error":"#VALUE!"}},{"$f":"COUNTIF(IF(ISERROR(INDIRECT(\"'Børn \"&A218&\"'!$H$61\",TRUE)),\"\",INDIRECT(\"'Børn \"&A218&\"'!$H$61\",TRUE)),1)","v":{"$error":"#VALUE!"}},{"$f":"COUNTIF(IF(ISERROR(INDIRECT(\"'Børn \"&A218&\"'!$H$68\",TRUE)),\"\",INDIRECT(\"'Børn \"&A218&\"'!$H$68\",TRUE)),1)","v":{"$error":"#VALUE!"}},{"$f":"COUNTIF(IF(ISERROR(INDIRECT(\"'Børn \"&A218&\"'!$H$79\",TRUE)),\"\",INDIRECT(\"'Børn \"&A218&\"'!$H$79\",TRUE)),1)","v":{"$error":"#VALUE!"}},{"$f":"COUNTIF(IF(ISERROR(INDIRECT(\"'Børn \"&A218&\"'!$H$87\",TRUE)),\"\",INDIRECT(\"'Børn \"&A218&\"'!$H$87\",TRUE)),1)","v":{"$error":"#VALUE!"}},null,null,null,"Tilsyn 79",{"$f":"IF(INDIRECT(\"'Voksen \"&U218&\"'!$c$112\")=\"\",\"\",IFERROR(INDIRECT(\"'Voksen \"&U218&\"'!$c$112\",TRUE),\"\"))","v":{"$error":"#REF!"}},{"$f":"IF(INDIRECT(\"'Voksen \"&U218&\"'!$c$133\")=\"\",\"\",IFERROR(INDIRECT(\"'Voksen \"&U218&\"'!$c$133\",TRUE),\"\"))","v":{"$error":"#REF!"}},{"$f":"IF(INDIRECT(\"'Voksen \"&U218&\"'!$c$154\")=\"\",\"\",IFERROR(INDIRECT(\"'Voksen \"&U218&\"'!$c$154\",TRUE),\"\"))","v":{"$error":"#REF!"}},{"$f":"IF(INDIRECT(\"'Voksen \"&U218&\"'!$c$169\")=\"\",\"\",IFERROR(INDIRECT(\"'Voksen \"&U218&\"'!$c$169\",TRUE),\"\"))","v":{"$error":"#REF!"}},{"$f":"IF(INDIRECT(\"'Voksen \"&U218&\"'!$c$186\")=\"\",\"\",IFERROR(INDIRECT(\"'Voksen \"&U218&\"'!$c$186\",TRUE),\"\"))","v":{"$error":"#REF!"}},{"$f":"IF(INDIRECT(\"'Voksen \"&U218&\"'!$c$207\")=\"\",\"\",IFERROR(INDIRECT(\"'Voksen \"&U218&\"'!$c$207\",TRUE),\"\"))","v":{"$error":"#REF!"}},{"$f":"IF(INDIRECT(\"'Voksen \"&U218&\"'!$c$229\")=\"\",\"\",IFERROR(INDIRECT(\"'Voksen \"&U218&\"'!$c$229\",TRUE),\"\"))","v":{"$error":"#REF!"}},{"$f":"IF(INDIRECT(\"'Voksen \"&U218&\"'!$c$255\")=\"\",\"\",IFERROR(INDIRECT(\"'Voksen \"&U218&\"'!$c$255\",TRUE),\"\"))","v":{"$error":"#REF!"}},null,{"$f":"IF(INDIRECT(\"'Børn \"&U218&\"'!$c$123\")=\"\",\"\",IFERROR(INDIRECT(\"'Børn \"&U218&\"'!$c$123\",TRUE),\"\"))","v":{"$error":"#REF!"}},{"$f":"IF(INDIRECT(\"'Børn \"&U218&\"'!$c$139\")=\"\",\"\",IFERROR(INDIRECT(\"'Børn \"&U218&\"'!$c$139\",TRUE),\"\"))","v":{"$error":"#REF!"}},{"$f":"IF(INDIRECT(\"'Børn \"&U218&\"'!$c$163\")=\"\",\"\",IFERROR(INDIRECT(\"'Børn \"&U218&\"'!$c$163\",TRUE),\"\"))","v":{"$error":"#REF!"}},{"$f":"IF(INDIRECT(\"'Børn \"&U218&\"'!$c$177\")=\"\",\"\",IFERROR(INDIRECT(\"'Børn \"&U218&\"'!$c$177\",TRUE),\"\"))","v":{"$error":"#REF!"}},{"$f":"IF(INDIRECT(\"'Børn \"&U218&\"'!$c$197\")=\"\",\"\",IFERROR(INDIRECT(\"'Børn \"&U218&\"'!$c$197\",TRUE),\"\"))","v":{"$error":"#REF!"}},{"$f":"IF(INDIRECT(\"'Børn \"&U218&\"'!$c$218\")=\"\",\"\",IFERROR(INDIRECT(\"'Børn \"&U218&\"'!$c$218\",TRUE),\"\"))","v":{"$error":"#REF!"}},{"$f":"IF(INDIRECT(\"'Børn \"&U218&\"'!$c$241\")=\"\",\"\",IFERROR(INDIRECT(\"'Børn \"&U218&\"'!$c$241\",TRUE),\"\"))","v":{"$error":"#REF!"}}]
["Tilsyn 53","Status:  gul",{"$f":"COUNTIF(IF(ISERROR(INDIRECT(\"'Voksen \"&A219&\"'!$H$31\",TRUE)),\"\",INDIRECT(\"'Voksen \"&A219&\"'!$H$31\",TRUE)),2)","v":{"$error":"#VALUE!"}},{"$f":"COUNTIF(IF(ISERROR(INDIRECT(\"'Voksen \"&A219&\"'!$H$41\",TRUE)),\"\",INDIRECT(\"'Voksen \"&A219&\"'!$H$41\",TRUE)),2)","v":{"$error":"#VALUE!"}},{"$f":"COUNTIF(IF(ISERROR(INDIRECT(\"'Voksen \"&A219&\"'!$H$50\",TRUE)),\"\",INDIRECT(\"'Voksen \"&A219&\"'!$H$50\",TRUE)),2)","v":{"$error":"#VALUE!"}},{"$f":"COUNTIF(IF(ISERROR(INDIRECT(\"'Voksen \"&A219&\"'!$H$58\",TRUE)),\"\",INDIRECT(\"'Voksen \"&A219&\"'!$H$58\",TRUE)),2)","v":{"$error":"#VALUE!"}},{"$f":"COUNTIF(IF(ISERROR(INDIRECT(\"'Voksen \"&A219&\"'!$H$69\",TRUE)),\"\",INDIRECT(\"'Voksen \"&A219&\"'!$H$69\",TRUE)),2)","v":{"$error":"#VALUE!"}},{"$f":"COUNTIF(IF(ISERROR(INDIRECT(\"'Voksen \"&A219&\"'!$H$77\",TRUE)),\"\",INDIRECT(\"'Voksen \"&A219&\"'!$H$77\",TRUE)),2)","v":{"$error":"#VALUE!"}},null,null,{"$f":"COUNTIF(IF(ISERROR(INDIRECT(\"'Børn \"&A219&\"'!$H$31\",TRUE)),\"\",INDIRECT(\"'Børn \"&A219&\"'!$H$31\",TRUE)),2)","v":{"$error":"#VALUE!"}},{"$f":"COUNTIF(IF(ISERROR(INDIRECT(\"'Børn \"&A219&\"'!$H$44\",TRUE)),\"\",INDIRECT(\"'Børn \"&A219&\"'!$H$44\",TRUE)),2)","v":{"$error":"#VALUE!"}},{"$f":"COUNTIF(IF(ISERROR(INDIRECT(\"'Børn \"&A219&\"'!$H$53\",TRUE)),\"\",INDIRECT(\"'Børn \"&A219&\"'!$H$53\",TRUE)),2)","v":{"$error":"#VALUE!"}},{"$f":"COUNTIF(IF(ISERROR(INDIRECT(\"'Børn \"&A219&\"'!$H$61\",TRUE)),\"\",INDIRECT(\"'Børn \"&A219&\"'!$H$61\",TRUE)),2)","v":{"$error":"#VALUE!"}},{"$f":"COUNTIF(IF(ISERROR(INDIRECT(\"'Børn \"&A219&\"'!$H$68\",TRUE)),\"\",INDIRECT(\"'Børn \"&A219&\"'!$H$68\",TRUE)),2)","v":{"$error":"#VALUE!"}},{"$f":"COUNTIF(IF(ISERROR(INDIRECT(\"'Børn \"&A219&\"'!$H$79\",TRUE)),\"\",INDIRECT(\"'Børn \"&A219&\"'!$H$79\",TRUE)),2)","v":{"$error":"#VALUE!"}},{"$f":"COUNTIF(IF(ISERROR(INDIRECT(\"'Børn \"&A219&\"'!$H$87\",TRUE)),\"\",INDIRECT(\"'Børn \"&A219&\"'!$H$87\",TRUE)),2)","v":{"$error":"#VALUE!"}},null,null,null,{"$f":"U218","v":"Tilsyn 79"},{"$f":"IF(INDIRECT(\"'Voksen \"&U219&\"'!$c$115\")=\"\",\"\",IFERROR(INDIRECT(\"'Voksen \"&U219&\"'!$c$115\",TRUE),\"\"))","v":{"$error":"#REF!"}},{"$f":"IF(INDIRECT(\"'Voksen \"&U219&\"'!$c$136\")=\"\",\"\",IFERROR(INDIRECT(\"'Voksen \"&U219&\"'!$c$136\",TRUE),\"\"))","v":{"$error":"#REF!"}},{"$f":"IF(INDIRECT(\"'Voksen \"&U219&\"'!$c$157\")=\"\",\"\",IFERROR(INDIRECT(\"'Voksen \"&U219&\"'!$c$157\",TRUE),\"\"))","v":{"$error":"#REF!"}},{"$f":"IF(INDIRECT(\"'Voksen \"&U219&\"'!$c$172\")=\"\",\"\",IFERROR(INDIRECT(\"'Voksen \"&U219&\"'!$c$172\",TRUE),\"\"))","v":{"$error":"#REF!"}},{"$f":"IF(INDIRECT(\"'Voksen \"&U219&\"'!$c$189\")=\"\",\"\",IFERROR(INDIRECT(\"'Voksen \"&U219&\"'!$c$189\",TRUE),\"\"))","v":{"$error":"#REF!"}},{"$f":"IF(INDIRECT(\"'Voksen \"&U219&\"'!$c$210\")=\"\",\"\",IFERROR(INDIRECT(\"'Voksen \"&U219&\"'!$c$210\",TRUE),\"\"))","v":{"$error":"#REF!"}},{"$f":"IF(INDIRECT(\"'Voksen \"&U219&\"'!$c$232\")=\"\",\"\",IFERROR(INDIRECT(\"'Voksen \"&U219&\"'!$c$232\",TRUE),\"\"))","v":{"$error":"#REF!"}},{"$f":"IF(INDIRECT(\"'Voksen \"&U219&\"'!$c$258\")=\"\",\"\",IFERROR(INDIRECT(\"'Voksen \"&U219&\"'!$c$258\",TRUE),\"\"))","v":{"$error":"#REF!"}},null,{"$f":"IF(INDIRECT(\"'Børn \"&U219&\"'!$c$126\")=\"\",\"\",IFERROR(INDIRECT(\"'Børn \"&U219&\"'!$c$126\",TRUE),\"\"))","v":{"$error":"#REF!"}},{"$f":"IF(INDIRECT(\"'Børn \"&U219&\"'!$c$142\")=\"\",\"\",IFERROR(INDIRECT(\"'Børn \"&U219&\"'!$c$142\",TRUE),\"\"))","v":{"$error":"#REF!"}},{"$f":"IF(INDIRECT(\"'Børn \"&U219&\"'!$c$166\")=\"\",\"\",IFERROR(INDIRECT(\"'Børn \"&U219&\"'!$c$166\",TRUE),\"\"))","v":{"$error":"#REF!"}},{"$f":"IF(INDIRECT(\"'Børn \"&U219&\"'!$c$180\")=\"\",\"\",IFERROR(INDIRECT(\"'Børn \"&U219&\"'!$c$180\",TRUE),\"\"))","v":{"$error":"#REF!"}},{"$f":"IF(INDIRECT(\"'Børn \"&U219&\"'!$c$200\")=\"\",\"\",IFERROR(INDIRECT(\"'Børn \"&U219&\"'!$c$200\",TRUE),\"\"))","v":{"$error":"#REF!"}},{"$f":"IF(INDIRECT(\"'Børn \"&U219&\"'!$c$221\")=\"\",\"\",IFERROR(INDIRECT(\"'Børn \"&U219&\"'!$c$221\",TRUE),\"\"))","v":{"$error":"#REF!"}},{"$f":"IF(INDIRECT(\"'Børn \"&U219&\"'!$c$244\")=\"\",\"\",IFERROR(INDIRECT(\"'Børn \"&U219&\"'!$c$244\",TRUE),\"\"))","v":{"$error":"#REF!"}}]
["Tilsyn 53","Status:  rød",{"$f":"COUNTIF(IF(ISERROR(INDIRECT(\"'Voksen \"&A220&\"'!$H$31\",TRUE)),\"\",INDIRECT(\"'Voksen \"&A220&\"'!$H$31\",TRUE)),3)","v":{"$error":"#VALUE!"}},{"$f":"COUNTIF(IF(ISERROR(INDIRECT(\"'Voksen \"&A220&\"'!$H$41\",TRUE)),\"\",INDIRECT(\"'Voksen \"&A220&\"'!$H$41\",TRUE)),3)","v":{"$error":"#VALUE!"}},{"$f":"COUNTIF(IF(ISERROR(INDIRECT(\"'Voksen \"&A220&\"'!$H$50\",TRUE)),\"\",INDIRECT(\"'Voksen \"&A220&\"'!$H$50\",TRUE)),3)","v":{"$error":"#VALUE!"}},{"$f":"COUNTIF(IF(ISERROR(INDIRECT(\"'Voksen \"&A220&\"'!$H$58\",TRUE)),\"\",INDIRECT(\"'Voksen \"&A220&\"'!$H$58\",TRUE)),3)","v":{"$error":"#VALUE!"}},{"$f":"COUNTIF(IF(ISERROR(INDIRECT(\"'Voksen \"&A220&\"'!$H$69\",TRUE)),\"\",INDIRECT(\"'Voksen \"&A220&\"'!$H$69\",TRUE)),3)","v":{"$error":"#VALUE!"}},{"$f":"COUNTIF(IF(ISERROR(INDIRECT(\"'Voksen \"&A220&\"'!$H$77\",TRUE)),\"\",INDIRECT(\"'Voksen \"&A220&\"'!$H$77\",TRUE)),3)","v":{"$error":"#VALUE!"}},null,null,{"$f":"COUNTIF(IF(ISERROR(INDIRECT(\"'Børn \"&A220&\"'!$H$31\",TRUE)),\"\",INDIRECT(\"'Børn \"&A220&\"'!$H$31\",TRUE)),3)","v":{"$error":"#VALUE!"}},{"$f":"COUNTIF(IF(ISERROR(INDIRECT(\"'Børn \"&A220&\"'!$H$44\",TRUE)),\"\",INDIRECT(\"'Børn \"&A220&\"'!$H$44\",TRUE)),3)","v":{"$error":"#VALUE!"}},{"$f":"COUNTIF(IF(ISERROR(INDIRECT(\"'Børn \"&A220&\"'!$H$53\",TRUE)),\"\",INDIRECT(\"'Børn \"&A220&\"'!$H$53\",TRUE)),3)","v":{"$error":"#VALUE!"}},{"$f":"COUNTIF(IF(ISERROR(INDIRECT(\"'Børn \"&A220&\"'!$H$61\",TRUE)),\"\",INDIRECT(\"'Børn \"&A220&\"'!$H$61\",TRUE)),3)","v":{"$error":"#VALUE!"}},{"$f":"COUNTIF(IF(ISERROR(INDIRECT(\"'Børn \"&A220&\"'!$H$68\",TRUE)),\"\",INDIRECT(\"'Børn \"&A220&\"'!$H$68\",TRUE)),3)","v":{"$error":"#VALUE!"}},{"$f":"COUNTIF(IF(ISERROR(INDIRECT(\"'Børn \"&A220&\"'!$H$79\",TRUE)),\"\",INDIRECT(\"'Børn \"&A220&\"'!$H$79\",TRUE)),3)","v":{"$error":"#VALUE!"}},{"$f":"COUNTIF(IF(ISERROR(INDIRECT(\"'Børn \"&A220&\"'!$H$87\",TRUE)),\"\",INDIRECT(\"'Børn \"&A220&\"'!$H$87\",TRUE)),3)","v":{"$error":"#VALUE!"}},null,null,null,"Tilsyn 80",{"$f":"IF(INDIRECT(\"'Voksen \"&U220&\"'!$c$112\")=\"\",\"\",IFERROR(INDIRECT(\"'Voksen \"&U220&\"'!$c$112\",TRUE),\"\"))","v":{"$error":"#REF!"}},{"$f":"IF(INDIRECT(\"'Voksen \"&U220&\"'!$c$133\")=\"\",\"\",IFERROR(INDIRECT(\"'Voksen \"&U220&\"'!$c$133\",TRUE),\"\"))","v":{"$error":"#REF!"}},{"$f":"IF(INDIRECT(\"'Voksen \"&U220&\"'!$c$154\")=\"\",\"\",IFERROR(INDIRECT(\"'Voksen \"&U220&\"'!$c$154\",TRUE),\"\"))","v":{"$error":"#REF!"}},{"$f":"IF(INDIRECT(\"'Voksen \"&U220&\"'!$c$169\")=\"\",\"\",IFERROR(INDIRECT(\"'Voksen \"&U220&\"'!$c$169\",TRUE),\"\"))","v":{"$error":"#REF!"}},{"$f":"IF(INDIRECT(\"'Voksen \"&U220&\"'!$c$186\")=\"\",\"\",IFERROR(INDIRECT(\"'Voksen \"&U220&\"'!$c$186\",TRUE),\"\"))","v":{"$error":"#REF!"}},{"$f":"IF(INDIRECT(\"'Voksen \"&U220&\"'!$c$207\")=\"\",\"\",IFERROR(INDIRECT(\"'Voksen \"&U220&\"'!$c$207\",TRUE),\"\"))","v":{"$error":"#REF!"}},{"$f":"IF(INDIRECT(\"'Voksen \"&U220&\"'!$c$229\")=\"\",\"\",IFERROR(INDIRECT(\"'Voksen \"&U220&\"'!$c$229\",TRUE),\"\"))","v":{"$error":"#REF!"}},{"$f":"IF(INDIRECT(\"'Voksen \"&U220&\"'!$c$255\")=\"\",\"\",IFERROR(INDIRECT(\"'Voksen \"&U220&\"'!$c$255\",TRUE),\"\"))","v":{"$error":"#REF!"}},null,{"$f":"IF(INDIRECT(\"'Børn \"&U220&\"'!$c$123\")=\"\",\"\",IFERROR(INDIRECT(\"'Børn \"&U220&\"'!$c$123\",TRUE),\"\"))","v":{"$error":"#REF!"}},{"$f":"IF(INDIRECT(\"'Børn \"&U220&\"'!$c$139\")=\"\",\"\",IFERROR(INDIRECT(\"'Børn \"&U220&\"'!$c$139\",TRUE),\"\"))","v":{"$error":"#REF!"}},{"$f":"IF(INDIRECT(\"'Børn \"&U220&\"'!$c$163\")=\"\",\"\",IFERROR(INDIRECT(\"'Børn \"&U220&\"'!$c$163\",TRUE),\"\"))","v":{"$error":"#REF!"}},{"$f":"IF(INDIRECT(\"'Børn \"&U220&\"'!$c$177\")=\"\",\"\",IFERROR(INDIRECT(\"'Børn \"&U220&\"'!$c$177\",TRUE),\"\"))","v":{"$error":"#REF!"}},{"$f":"IF(INDIRECT(\"'Børn \"&U220&\"'!$c$197\")=\"\",\"\",IFERROR(INDIRECT(\"'Børn \"&U220&\"'!$c$197\",TRUE),\"\"))","v":{"$error":"#REF!"}},{"$f":"IF(INDIRECT(\"'Børn \"&U220&\"'!$c$218\")=\"\",\"\",IFERROR(INDIRECT(\"'Børn \"&U220&\"'!$c$218\",TRUE),\"\"))","v":{"$error":"#REF!"}},{"$f":"IF(INDIRECT(\"'Børn \"&U220&\"'!$c$241\")=\"\",\"\",IFERROR(INDIRECT(\"'Børn \"&U220&\"'!$c$241\",TRUE),\"\"))","v":{"$error":"#REF!"}}]
["Tilsyn 54","Status:  grøn",{"$f":"COUNTIF(IF(ISERROR(INDIRECT(\"'Voksen \"&A221&\"'!$H$31\",TRUE)),\"\",INDIRECT(\"'Voksen \"&A221&\"'!$H$31\",TRUE)),1)","v":{"$error":"#VALUE!"}},{"$f":"COUNTIF(IF(ISERROR(INDIRECT(\"'Voksen \"&A221&\"'!$H$41\",TRUE)),\"\",INDIRECT(\"'Voksen \"&A221&\"'!$H$41\",TRUE)),1)","v":{"$error":"#VALUE!"}},{"$f":"COUNTIF(IF(ISERROR(INDIRECT(\"'Voksen \"&A221&\"'!$H$50\",TRUE)),\"\",INDIRECT(\"'Voksen \"&A221&\"'!$H$50\",TRUE)),1)","v":{"$error":"#VALUE!"}},{"$f":"COUNTIF(IF(ISERROR(INDIRECT(\"'Voksen \"&A221&\"'!$H$58\",TRUE)),\"\",INDIRECT(\"'Voksen \"&A221&\"'!$H$58\",TRUE)),1)","v":{"$error":"#VALUE!"}},{"$f":"COUNTIF(IF(ISERROR(INDIRECT(\"'Voksen \"&A221&\"'!$H$69\",TRUE)),\"\",INDIRECT(\"'Voksen \"&A221&\"'!$H$69\",TRUE)),1)","v":{"$error":"#VALUE!"}},{"$f":"COUNTIF(IF(ISERROR(INDIRECT(\"'Voksen \"&A221&\"'!$H$77\",TRUE)),\"\",INDIRECT(\"'Voksen \"&A221&\"'!$H$77\",TRUE)),1)","v":{"$error":"#VALUE!"}},null,null,{"$f":"COUNTIF(IF(ISERROR(INDIRECT(\"'Børn \"&A221&\"'!$H$31\",TRUE)),\"\",INDIRECT(\"'Børn \"&A221&\"'!$H$31\",TRUE)),1)","v":{"$error":"#VALUE!"}},{"$f":"COUNTIF(IF(ISERROR(INDIRECT(\"'Børn \"&A221&\"'!$H$44\",TRUE)),\"\",INDIRECT(\"'Børn \"&A221&\"'!$H$44\",TRUE)),1)","v":{"$error":"#VALUE!"}},{"$f":"COUNTIF(IF(ISERROR(INDIRECT(\"'Børn \"&A221&\"'!$H$53\",TRUE)),\"\",INDIRECT(\"'Børn \"&A221&\"'!$H$53\",TRUE)),1)","v":{"$error":"#VALUE!"}},{"$f":"COUNTIF(IF(ISERROR(INDIRECT(\"'Børn \"&A221&\"'!$H$61\",TRUE)),\"\",INDIRECT(\"'Børn \"&A221&\"'!$H$61\",TRUE)),1)","v":{"$error":"#VALUE!"}},{"$f":"COUNTIF(IF(ISERROR(INDIRECT(\"'Børn \"&A221&\"'!$H$68\",TRUE)),\"\",INDIRECT(\"'Børn \"&A221&\"'!$H$68\",TRUE)),1)","v":{"$error":"#VALUE!"}},{"$f":"COUNTIF(IF(ISERROR(INDIRECT(\"'Børn \"&A221&\"'!$H$79\",TRUE)),\"\",INDIRECT(\"'Børn \"&A221&\"'!$H$79\",TRUE)),1)","v":{"$error":"#VALUE!"}},{"$f":"COUNTIF(IF(ISERROR(INDIRECT(\"'Børn \"&A221&\"'!$H$87\",TRUE)),\"\",INDIRECT(\"'Børn \"&A221&\"'!$H$87\",TRUE)),1)","v":{"$error":"#VALUE!"}},null,null,null,{"$f":"U220","v":"Tilsyn 80"},{"$f":"IF(INDIRECT(\"'Voksen \"&U221&\"'!$c$115\")=\"\",\"\",IFERROR(INDIRECT(\"'Voksen \"&U221&\"'!$c$115\",TRUE),\"\"))","v":{"$error":"#REF!"}},{"$f":"IF(INDIRECT(\"'Voksen \"&U221&\"'!$c$136\")=\"\",\"\",IFERROR(INDIRECT(\"'Voksen \"&U221&\"'!$c$136\",TRUE),\"\"))","v":{"$error":"#REF!"}},{"$f":"IF(INDIRECT(\"'Voksen \"&U221&\"'!$c$157\")=\"\",\"\",IFERROR(INDIRECT(\"'Voksen \"&U221&\"'!$c$157\",TRUE),\"\"))","v":{"$error":"#REF!"}},{"$f":"IF(INDIRECT(\"'Voksen \"&U221&\"'!$c$172\")=\"\",\"\",IFERROR(INDIRECT(\"'Voksen \"&U221&\"'!$c$172\",TRUE),\"\"))","v":{"$error":"#REF!"}},{"$f":"IF(INDIRECT(\"'Voksen \"&U221&\"'!$c$189\")=\"\",\"\",IFERROR(INDIRECT(\"'Voksen \"&U221&\"'!$c$189\",TRUE),\"\"))","v":{"$error":"#REF!"}},{"$f":"IF(INDIRECT(\"'Voksen \"&U221&\"'!$c$210\")=\"\",\"\",IFERROR(INDIRECT(\"'Voksen \"&U221&\"'!$c$210\",TRUE),\"\"))","v":{"$error":"#REF!"}},{"$f":"IF(INDIRECT(\"'Voksen \"&U221&\"'!$c$232\")=\"\",\"\",IFERROR(INDIRECT(\"'Voksen \"&U221&\"'!$c$232\",TRUE),\"\"))","v":{"$error":"#REF!"}},{"$f":"IF(INDIRECT(\"'Voksen \"&U221&\"'!$c$258\")=\"\",\"\",IFERROR(INDIRECT(\"'Voksen \"&U221&\"'!$c$258\",TRUE),\"\"))","v":{"$error":"#REF!"}},null,{"$f":"IF(INDIRECT(\"'Børn \"&U221&\"'!$c$126\")=\"\",\"\",IFERROR(INDIRECT(\"'Børn \"&U221&\"'!$c$126\",TRUE),\"\"))","v":{"$error":"#REF!"}},{"$f":"IF(INDIRECT(\"'Børn \"&U221&\"'!$c$142\")=\"\",\"\",IFERROR(INDIRECT(\"'Børn \"&U221&\"'!$c$142\",TRUE),\"\"))","v":{"$error":"#REF!"}},{"$f":"IF(INDIRECT(\"'Børn \"&U221&\"'!$c$166\")=\"\",\"\",IFERROR(INDIRECT(\"'Børn \"&U221&\"'!$c$166\",TRUE),\"\"))","v":{"$error":"#REF!"}},{"$f":"IF(INDIRECT(\"'Børn \"&U221&\"'!$c$180\")=\"\",\"\",IFERROR(INDIRECT(\"'Børn \"&U221&\"'!$c$180\",TRUE),\"\"))","v":{"$error":"#REF!"}},{"$f":"IF(INDIRECT(\"'Børn \"&U221&\"'!$c$200\")=\"\",\"\",IFERROR(INDIRECT(\"'Børn \"&U221&\"'!$c$200\",TRUE),\"\"))","v":{"$error":"#REF!"}},{"$f":"IF(INDIRECT(\"'Børn \"&U221&\"'!$c$221\")=\"\",\"\",IFERROR(INDIRECT(\"'Børn \"&U221&\"'!$c$221\",TRUE),\"\"))","v":{"$error":"#REF!"}},{"$f":"IF(INDIRECT(\"'Børn \"&U221&\"'!$c$244\")=\"\",\"\",IFERROR(INDIRECT(\"'Børn \"&U221&\"'!$c$244\",TRUE),\"\"))","v":{"$error":"#REF!"}}]
["Tilsyn 54","Status:  gul",{"$f":"COUNTIF(IF(ISERROR(INDIRECT(\"'Voksen \"&A222&\"'!$H$31\",TRUE)),\"\",INDIRECT(\"'Voksen \"&A222&\"'!$H$31\",TRUE)),2)","v":{"$error":"#VALUE!"}},{"$f":"COUNTIF(IF(ISERROR(INDIRECT(\"'Voksen \"&A222&\"'!$H$41\",TRUE)),\"\",INDIRECT(\"'Voksen \"&A222&\"'!$H$41\",TRUE)),2)","v":{"$error":"#VALUE!"}},{"$f":"COUNTIF(IF(ISERROR(INDIRECT(\"'Voksen \"&A222&\"'!$H$50\",TRUE)),\"\",INDIRECT(\"'Voksen \"&A222&\"'!$H$50\",TRUE)),2)","v":{"$error":"#VALUE!"}},{"$f":"COUNTIF(IF(ISERROR(INDIRECT(\"'Voksen \"&A222&\"'!$H$58\",TRUE)),\"\",INDIRECT(\"'Voksen \"&A222&\"'!$H$58\",TRUE)),2)","v":{"$error":"#VALUE!"}},{"$f":"COUNTIF(IF(ISERROR(INDIRECT(\"'Voksen \"&A222&\"'!$H$69\",TRUE)),\"\",INDIRECT(\"'Voksen \"&A222&\"'!$H$69\",TRUE)),2)","v":{"$error":"#VALUE!"}},{"$f":"COUNTIF(IF(ISERROR(INDIRECT(\"'Voksen \"&A222&\"'!$H$77\",TRUE)),\"\",INDIRECT(\"'Voksen \"&A222&\"'!$H$77\",TRUE)),2)","v":{"$error":"#VALUE!"}},null,null,{"$f":"COUNTIF(IF(ISERROR(INDIRECT(\"'Børn \"&A222&\"'!$H$31\",TRUE)),\"\",INDIRECT(\"'Børn \"&A222&\"'!$H$31\",TRUE)),2)","v":{"$error":"#VALUE!"}},{"$f":"COUNTIF(IF(ISERROR(INDIRECT(\"'Børn \"&A222&\"'!$H$44\",TRUE)),\"\",INDIRECT(\"'Børn \"&A222&\"'!$H$44\",TRUE)),2)","v":{"$error":"#VALUE!"}},{"$f":"COUNTIF(IF(ISERROR(INDIRECT(\"'Børn \"&A222&\"'!$H$53\",TRUE)),\"\",INDIRECT(\"'Børn \"&A222&\"'!$H$53\",TRUE)),2)","v":{"$error":"#VALUE!"}},{"$f":"COUNTIF(IF(ISERROR(INDIRECT(\"'Børn \"&A222&\"'!$H$61\",TRUE)),\"\",INDIRECT(\"'Børn \"&A222&\"'!$H$61\",TRUE)),2)","v":{"$error":"#VALUE!"}},{"$f":"COUNTIF(IF(ISERROR(INDIRECT(\"'Børn \"&A222&\"'!$H$68\",TRUE)),\"\",INDIRECT(\"'Børn \"&A222&\"'!$H$68\",TRUE)),2)","v":{"$error":"#VALUE!"}},{"$f":"COUNTIF(IF(ISERROR(INDIRECT(\"'Børn \"&A222&\"'!$H$79\",TRUE)),\"\",INDIRECT(\"'Børn \"&A222&\"'!$H$79\",TRUE)),2)","v":{"$error":"#VALUE!"}},{"$f":"COUNTIF(IF(ISERROR(INDIRECT(\"'Børn \"&A222&\"'!$H$87\",TRUE)),\"\",INDIRECT(\"'Børn \"&A222&\"'!$H$87\",TRUE)),2)","v":{"$error":"#VALUE!"}},null,null,null,"Tilsyn 81",{"$f":"IF(INDIRECT(\"'Voksen \"&U222&\"'!$c$112\")=\"\",\"\",IFERROR(INDIRECT(\"'Voksen \"&U222&\"'!$c$112\",TRUE),\"\"))","v":{"$error":"#REF!"}},{"$f":"IF(INDIRECT(\"'Voksen \"&U222&\"'!$c$133\")=\"\",\"\",IFERROR(INDIRECT(\"'Voksen \"&U222&\"'!$c$133\",TRUE),\"\"))","v":{"$error":"#REF!"}},{"$f":"IF(INDIRECT(\"'Voksen \"&U222&\"'!$c$154\")=\"\",\"\",IFERROR(INDIRECT(\"'Voksen \"&U222&\"'!$c$154\",TRUE),\"\"))","v":{"$error":"#REF!"}},{"$f":"IF(INDIRECT(\"'Voksen \"&U222&\"'!$c$169\")=\"\",\"\",IFERROR(INDIRECT(\"'Voksen \"&U222&\"'!$c$169\",TRUE),\"\"))","v":{"$error":"#REF!"}},{"$f":"IF(INDIRECT(\"'Voksen \"&U222&\"'!$c$186\")=\"\",\"\",IFERROR(INDIRECT(\"'Voksen \"&U222&\"'!$c$186\",TRUE),\"\"))","v":{"$error":"#REF!"}},{"$f":"IF(INDIRECT(\"'Voksen \"&U222&\"'!$c$207\")=\"\",\"\",IFERROR(INDIRECT(\"'Voksen \"&U222&\"'!$c$207\",TRUE),\"\"))","v":{"$error":"#REF!"}},{"$f":"IF(INDIRECT(\"'Voksen \"&U222&\"'!$c$229\")=\"\",\"\",IFERROR(INDIRECT(\"'Voksen \"&U222&\"'!$c$229\",TRUE),\"\"))","v":{"$error":"#REF!"}},{"$f":"IF(INDIRECT(\"'Voksen \"&U222&\"'!$c$255\")=\"\",\"\",IFERROR(INDIRECT(\"'Voksen \"&U222&\"'!$c$255\",TRUE),\"\"))","v":{"$error":"#REF!"}},null,{"$f":"IF(INDIRECT(\"'Børn \"&U222&\"'!$c$123\")=\"\",\"\",IFERROR(INDIRECT(\"'Børn \"&U222&\"'!$c$123\",TRUE),\"\"))","v":{"$error":"#REF!"}},{"$f":"IF(INDIRECT(\"'Børn \"&U222&\"'!$c$139\")=\"\",\"\",IFERROR(INDIRECT(\"'Børn \"&U222&\"'!$c$139\",TRUE),\"\"))","v":{"$error":"#REF!"}},{"$f":"IF(INDIRECT(\"'Børn \"&U222&\"'!$c$163\")=\"\",\"\",IFERROR(INDIRECT(\"'Børn \"&U222&\"'!$c$163\",TRUE),\"\"))","v":{"$error":"#REF!"}},{"$f":"IF(INDIRECT(\"'Børn \"&U222&\"'!$c$177\")=\"\",\"\",IFERROR(INDIRECT(\"'Børn \"&U222&\"'!$c$177\",TRUE),\"\"))","v":{"$error":"#REF!"}},{"$f":"IF(INDIRECT(\"'Børn \"&U222&\"'!$c$197\")=\"\",\"\",IFERROR(INDIRECT(\"'Børn \"&U222&\"'!$c$197\",TRUE),\"\"))","v":{"$error":"#REF!"}},{"$f":"IF(INDIRECT(\"'Børn \"&U222&\"'!$c$218\")=\"\",\"\",IFERROR(INDIRECT(\"'Børn \"&U222&\"'!$c$218\",TRUE),\"\"))","v":{"$error":"#REF!"}},{"$f":"IF(INDIRECT(\"'Børn \"&U222&\"'!$c$241\")=\"\",\"\",IFERROR(INDIRECT(\"'Børn \"&U222&\"'!$c$241\",TRUE),\"\"))","v":{"$error":"#REF!"}}]
["Tilsyn 54","Status:  rød",{"$f":"COUNTIF(IF(ISERROR(INDIRECT(\"'Voksen \"&A223&\"'!$H$31\",TRUE)),\"\",INDIRECT(\"'Voksen \"&A223&\"'!$H$31\",TRUE)),3)","v":{"$error":"#VALUE!"}},{"$f":"COUNTIF(IF(ISERROR(INDIRECT(\"'Voksen \"&A223&\"'!$H$41\",TRUE)),\"\",INDIRECT(\"'Voksen \"&A223&\"'!$H$41\",TRUE)),3)","v":{"$error":"#VALUE!"}},{"$f":"COUNTIF(IF(ISERROR(INDIRECT(\"'Voksen \"&A223&\"'!$H$50\",TRUE)),\"\",INDIRECT(\"'Voksen \"&A223&\"'!$H$50\",TRUE)),3)","v":{"$error":"#VALUE!"}},{"$f":"COUNTIF(IF(ISERROR(INDIRECT(\"'Voksen \"&A223&\"'!$H$58\",TRUE)),\"\",INDIRECT(\"'Voksen \"&A223&\"'!$H$58\",TRUE)),3)","v":{"$error":"#VALUE!"}},{"$f":"COUNTIF(IF(ISERROR(INDIRECT(\"'Voksen \"&A223&\"'!$H$69\",TRUE)),\"\",INDIRECT(\"'Voksen \"&A223&\"'!$H$69\",TRUE)),3)","v":{"$error":"#VALUE!"}},{"$f":"COUNTIF(IF(ISERROR(INDIRECT(\"'Voksen \"&A223&\"'!$H$77\",TRUE)),\"\",INDIRECT(\"'Voksen \"&A223&\"'!$H$77\",TRUE)),3)","v":{"$error":"#VALUE!"}},null,null,{"$f":"COUNTIF(IF(ISERROR(INDIRECT(\"'Børn \"&A223&\"'!$H$31\",TRUE)),\"\",INDIRECT(\"'Børn \"&A223&\"'!$H$31\",TRUE)),3)","v":{"$error":"#VALUE!"}},{"$f":"COUNTIF(IF(ISERROR(INDIRECT(\"'Børn \"&A223&\"'!$H$44\",TRUE)),\"\",INDIRECT(\"'Børn \"&A223&\"'!$H$44\",TRUE)),3)","v":{"$error":"#VALUE!"}},{"$f":"COUNTIF(IF(ISERROR(INDIRECT(\"'Børn \"&A223&\"'!$H$53\",TRUE)),\"\",INDIRECT(\"'Børn \"&A223&\"'!$H$53\",TRUE)),3)","v":{"$error":"#VALUE!"}},{"$f":"COUNTIF(IF(ISERROR(INDIRECT(\"'Børn \"&A223&\"'!$H$61\",TRUE)),\"\",INDIRECT(\"'Børn \"&A223&\"'!$H$61\",TRUE)),3)","v":{"$error":"#VALUE!"}},{"$f":"COUNTIF(IF(ISERROR(INDIRECT(\"'Børn \"&A223&\"'!$H$68\",TRUE)),\"\",INDIRECT(\"'Børn \"&A223&\"'!$H$68\",TRUE)),3)","v":{"$error":"#VALUE!"}},{"$f":"COUNTIF(IF(ISERROR(INDIRECT(\"'Børn \"&A223&\"'!$H$79\",TRUE)),\"\",INDIRECT(\"'Børn \"&A223&\"'!$H$79\",TRUE)),3)","v":{"$error":"#VALUE!"}},{"$f":"COUNTIF(IF(ISERROR(INDIRECT(\"'Børn \"&A223&\"'!$H$87\",TRUE)),\"\",INDIRECT(\"'Børn \"&A223&\"'!$H$87\",TRUE)),3)","v":{"$error":"#VALUE!"}},null,null,null,{"$f":"U222","v":"Tilsyn 81"},{"$f":"IF(INDIRECT(\"'Voksen \"&U223&\"'!$c$115\")=\"\",\"\",IFERROR(INDIRECT(\"'Voksen \"&U223&\"'!$c$115\",TRUE),\"\"))","v":{"$error":"#REF!"}},{"$f":"IF(INDIRECT(\"'Voksen \"&U223&\"'!$c$136\")=\"\",\"\",IFERROR(INDIRECT(\"'Voksen \"&U223&\"'!$c$136\",TRUE),\"\"))","v":{"$error":"#REF!"}},{"$f":"IF(INDIRECT(\"'Voksen \"&U223&\"'!$c$157\")=\"\",\"\",IFERROR(INDIRECT(\"'Voksen \"&U223&\"'!$c$157\",TRUE),\"\"))","v":{"$error":"#REF!"}},{"$f":"IF(INDIRECT(\"'Voksen \"&U223&\"'!$c$172\")=\"\",\"\",IFERROR(INDIRECT(\"'Voksen \"&U223&\"'!$c$172\",TRUE),\"\"))","v":{"$error":"#REF!"}},{"$f":"IF(INDIRECT(\"'Voksen \"&U223&\"'!$c$189\")=\"\",\"\",IFERROR(INDIRECT(\"'Voksen \"&U223&\"'!$c$189\",TRUE),\"\"))","v":{"$error":"#REF!"}},{"$f":"IF(INDIRECT(\"'Voksen \"&U223&\"'!$c$210\")=\"\",\"\",IFERROR(INDIRECT(\"'Voksen \"&U223&\"'!$c$210\",TRUE),\"\"))","v":{"$error":"#REF!"}},{"$f":"IF(INDIRECT(\"'Voksen \"&U223&\"'!$c$232\")=\"\",\"\",IFERROR(INDIRECT(\"'Voksen \"&U223&\"'!$c$232\",TRUE),\"\"))","v":{"$error":"#REF!"}},{"$f":"IF(INDIRECT(\"'Voksen \"&U223&\"'!$c$258\")=\"\",\"\",IFERROR(INDIRECT(\"'Voksen \"&U223&\"'!$c$258\",TRUE),\"\"))","v":{"$error":"#REF!"}},null,{"$f":"IF(INDIRECT(\"'Børn \"&U223&\"'!$c$126\")=\"\",\"\",IFERROR(INDIRECT(\"'Børn \"&U223&\"'!$c$126\",TRUE),\"\"))","v":{"$error":"#REF!"}},{"$f":"IF(INDIRECT(\"'Børn \"&U223&\"'!$c$142\")=\"\",\"\",IFERROR(INDIRECT(\"'Børn \"&U223&\"'!$c$142\",TRUE),\"\"))","v":{"$error":"#REF!"}},{"$f":"IF(INDIRECT(\"'Børn \"&U223&\"'!$c$166\")=\"\",\"\",IFERROR(INDIRECT(\"'Børn \"&U223&\"'!$c$166\",TRUE),\"\"))","v":{"$error":"#REF!"}},{"$f":"IF(INDIRECT(\"'Børn \"&U223&\"'!$c$180\")=\"\",\"\",IFERROR(INDIRECT(\"'Børn \"&U223&\"'!$c$180\",TRUE),\"\"))","v":{"$error":"#REF!"}},{"$f":"IF(INDIRECT(\"'Børn \"&U223&\"'!$c$200\")=\"\",\"\",IFERROR(INDIRECT(\"'Børn \"&U223&\"'!$c$200\",TRUE),\"\"))","v":{"$error":"#REF!"}},{"$f":"IF(INDIRECT(\"'Børn \"&U223&\"'!$c$221\")=\"\",\"\",IFERROR(INDIRECT(\"'Børn \"&U223&\"'!$c$221\",TRUE),\"\"))","v":{"$error":"#REF!"}},{"$f":"IF(INDIRECT(\"'Børn \"&U223&\"'!$c$244\")=\"\",\"\",IFERROR(INDIRECT(\"'Børn \"&U223&\"'!$c$244\",TRUE),\"\"))","v":{"$error":"#REF!"}}]
["Tilsyn 55","Status:  grøn",{"$f":"COUNTIF(IF(ISERROR(INDIRECT(\"'Voksen \"&A224&\"'!$H$31\",TRUE)),\"\",INDIRECT(\"'Voksen \"&A224&\"'!$H$31\",TRUE)),1)","v":{"$error":"#VALUE!"}},{"$f":"COUNTIF(IF(ISERROR(INDIRECT(\"'Voksen \"&A224&\"'!$H$41\",TRUE)),\"\",INDIRECT(\"'Voksen \"&A224&\"'!$H$41\",TRUE)),1)","v":{"$error":"#VALUE!"}},{"$f":"COUNTIF(IF(ISERROR(INDIRECT(\"'Voksen \"&A224&\"'!$H$50\",TRUE)),\"\",INDIRECT(\"'Voksen \"&A224&\"'!$H$50\",TRUE)),1)","v":{"$error":"#VALUE!"}},{"$f":"COUNTIF(IF(ISERROR(INDIRECT(\"'Voksen \"&A224&\"'!$H$58\",TRUE)),\"\",INDIRECT(\"'Voksen \"&A224&\"'!$H$58\",TRUE)),1)","v":{"$error":"#VALUE!"}},{"$f":"COUNTIF(IF(ISERROR(INDIRECT(\"'Voksen \"&A224&\"'!$H$69\",TRUE)),\"\",INDIRECT(\"'Voksen \"&A224&\"'!$H$69\",TRUE)),1)","v":{"$error":"#VALUE!"}},{"$f":"COUNTIF(IF(ISERROR(INDIRECT(\"'Voksen \"&A224&\"'!$H$77\",TRUE)),\"\",INDIRECT(\"'Voksen \"&A224&\"'!$H$77\",TRUE)),1)","v":{"$error":"#VALUE!"}},null,null,{"$f":"COUNTIF(IF(ISERROR(INDIRECT(\"'Børn \"&A224&\"'!$H$31\",TRUE)),\"\",INDIRECT(\"'Børn \"&A224&\"'!$H$31\",TRUE)),1)","v":{"$error":"#VALUE!"}},{"$f":"COUNTIF(IF(ISERROR(INDIRECT(\"'Børn \"&A224&\"'!$H$44\",TRUE)),\"\",INDIRECT(\"'Børn \"&A224&\"'!$H$44\",TRUE)),1)","v":{"$error":"#VALUE!"}},{"$f":"COUNTIF(IF(ISERROR(INDIRECT(\"'Børn \"&A224&\"'!$H$53\",TRUE)),\"\",INDIRECT(\"'Børn \"&A224&\"'!$H$53\",TRUE)),1)","v":{"$error":"#VALUE!"}},{"$f":"COUNTIF(IF(ISERROR(INDIRECT(\"'Børn \"&A224&\"'!$H$61\",TRUE)),\"\",INDIRECT(\"'Børn \"&A224&\"'!$H$61\",TRUE)),1)","v":{"$error":"#VALUE!"}},{"$f":"COUNTIF(IF(ISERROR(INDIRECT(\"'Børn \"&A224&\"'!$H$68\",TRUE)),\"\",INDIRECT(\"'Børn \"&A224&\"'!$H$68\",TRUE)),1)","v":{"$error":"#VALUE!"}},{"$f":"COUNTIF(IF(ISERROR(INDIRECT(\"'Børn \"&A224&\"'!$H$79\",TRUE)),\"\",INDIRECT(\"'Børn \"&A224&\"'!$H$79\",TRUE)),1)","v":{"$error":"#VALUE!"}},{"$f":"COUNTIF(IF(ISERROR(INDIRECT(\"'Børn \"&A224&\"'!$H$87\",TRUE)),\"\",INDIRECT(\"'Børn \"&A224&\"'!$H$87\",TRUE)),1)","v":{"$error":"#VALUE!"}},null,null,null,"Tilsyn 82",{"$f":"IF(INDIRECT(\"'Voksen \"&U224&\"'!$c$112\")=\"\",\"\",IFERROR(INDIRECT(\"'Voksen \"&U224&\"'!$c$112\",TRUE),\"\"))","v":{"$error":"#REF!"}},{"$f":"IF(INDIRECT(\"'Voksen \"&U224&\"'!$c$133\")=\"\",\"\",IFERROR(INDIRECT(\"'Voksen \"&U224&\"'!$c$133\",TRUE),\"\"))","v":{"$error":"#REF!"}},{"$f":"IF(INDIRECT(\"'Voksen \"&U224&\"'!$c$154\")=\"\",\"\",IFERROR(INDIRECT(\"'Voksen \"&U224&\"'!$c$154\",TRUE),\"\"))","v":{"$error":"#REF!"}},{"$f":"IF(INDIRECT(\"'Voksen \"&U224&\"'!$c$169\")=\"\",\"\",IFERROR(INDIRECT(\"'Voksen \"&U224&\"'!$c$169\",TRUE),\"\"))","v":{"$error":"#REF!"}},{"$f":"IF(INDIRECT(\"'Voksen \"&U224&\"'!$c$186\")=\"\",\"\",IFERROR(INDIRECT(\"'Voksen \"&U224&\"'!$c$186\",TRUE),\"\"))","v":{"$error":"#REF!"}},{"$f":"IF(INDIRECT(\"'Voksen \"&U224&\"'!$c$207\")=\"\",\"\",IFERROR(INDIRECT(\"'Voksen \"&U224&\"'!$c$207\",TRUE),\"\"))","v":{"$error":"#REF!"}},{"$f":"IF(INDIRECT(\"'Voksen \"&U224&\"'!$c$229\")=\"\",\"\",IFERROR(INDIRECT(\"'Voksen \"&U224&\"'!$c$229\",TRUE),\"\"))","v":{"$error":"#REF!"}},{"$f":"IF(INDIRECT(\"'Voksen \"&U224&\"'!$c$255\")=\"\",\"\",IFERROR(INDIRECT(\"'Voksen \"&U224&\"'!$c$255\",TRUE),\"\"))","v":{"$error":"#REF!"}},null,{"$f":"IF(INDIRECT(\"'Børn \"&U224&\"'!$c$123\")=\"\",\"\",IFERROR(INDIRECT(\"'Børn \"&U224&\"'!$c$123\",TRUE),\"\"))","v":{"$error":"#REF!"}},{"$f":"IF(INDIRECT(\"'Børn \"&U224&\"'!$c$139\")=\"\",\"\",IFERROR(INDIRECT(\"'Børn \"&U224&\"'!$c$139\",TRUE),\"\"))","v":{"$error":"#REF!"}},{"$f":"IF(INDIRECT(\"'Børn \"&U224&\"'!$c$163\")=\"\",\"\",IFERROR(INDIRECT(\"'Børn \"&U224&\"'!$c$163\",TRUE),\"\"))","v":{"$error":"#REF!"}},{"$f":"IF(INDIRECT(\"'Børn \"&U224&\"'!$c$177\")=\"\",\"\",IFERROR(INDIRECT(\"'Børn \"&U224&\"'!$c$177\",TRUE),\"\"))","v":{"$error":"#REF!"}},{"$f":"IF(INDIRECT(\"'Børn \"&U224&\"'!$c$197\")=\"\",\"\",IFERROR(INDIRECT(\"'Børn \"&U224&\"'!$c$197\",TRUE),\"\"))","v":{"$error":"#REF!"}},{"$f":"IF(INDIRECT(\"'Børn \"&U224&\"'!$c$218\")=\"\",\"\",IFERROR(INDIRECT(\"'Børn \"&U224&\"'!$c$218\",TRUE),\"\"))","v":{"$error":"#REF!"}},{"$f":"IF(INDIRECT(\"'Børn \"&U224&\"'!$c$241\")=\"\",\"\",IFERROR(INDIRECT(\"'Børn \"&U224&\"'!$c$241\",TRUE),\"\"))","v":{"$error":"#REF!"}}]
["Tilsyn 55","Status:  gul",{"$f":"COUNTIF(IF(ISERROR(INDIRECT(\"'Voksen \"&A225&\"'!$H$31\",TRUE)),\"\",INDIRECT(\"'Voksen \"&A225&\"'!$H$31\",TRUE)),2)","v":{"$error":"#VALUE!"}},{"$f":"COUNTIF(IF(ISERROR(INDIRECT(\"'Voksen \"&A225&\"'!$H$41\",TRUE)),\"\",INDIRECT(\"'Voksen \"&A225&\"'!$H$41\",TRUE)),2)","v":{"$error":"#VALUE!"}},{"$f":"COUNTIF(IF(ISERROR(INDIRECT(\"'Voksen \"&A225&\"'!$H$50\",TRUE)),\"\",INDIRECT(\"'Voksen \"&A225&\"'!$H$50\",TRUE)),2)","v":{"$error":"#VALUE!"}},{"$f":"COUNTIF(IF(ISERROR(INDIRECT(\"'Voksen \"&A225&\"'!$H$58\",TRUE)),\"\",INDIRECT(\"'Voksen \"&A225&\"'!$H$58\",TRUE)),2)","v":{"$error":"#VALUE!"}},{"$f":"COUNTIF(IF(ISERROR(INDIRECT(\"'Voksen \"&A225&\"'!$H$69\",TRUE)),\"\",INDIRECT(\"'Voksen \"&A225&\"'!$H$69\",TRUE)),2)","v":{"$error":"#VALUE!"}},{"$f":"COUNTIF(IF(ISERROR(INDIRECT(\"'Voksen \"&A225&\"'!$H$77\",TRUE)),\"\",INDIRECT(\"'Voksen \"&A225&\"'!$H$77\",TRUE)),2)","v":{"$error":"#VALUE!"}},null,null,{"$f":"COUNTIF(IF(ISERROR(INDIRECT(\"'Børn \"&A225&\"'!$H$31\",TRUE)),\"\",INDIRECT(\"'Børn \"&A225&\"'!$H$31\",TRUE)),2)","v":{"$error":"#VALUE!"}},{"$f":"COUNTIF(IF(ISERROR(INDIRECT(\"'Børn \"&A225&\"'!$H$44\",TRUE)),\"\",INDIRECT(\"'Børn \"&A225&\"'!$H$44\",TRUE)),2)","v":{"$error":"#VALUE!"}},{"$f":"COUNTIF(IF(ISERROR(INDIRECT(\"'Børn \"&A225&\"'!$H$53\",TRUE)),\"\",INDIRECT(\"'Børn \"&A225&\"'!$H$53\",TRUE)),2)","v":{"$error":"#VALUE!"}},{"$f":"COUNTIF(IF(ISERROR(INDIRECT(\"'Børn \"&A225&\"'!$H$61\",TRUE)),\"\",INDIRECT(\"'Børn \"&A225&\"'!$H$61\",TRUE)),2)","v":{"$error":"#VALUE!"}},{"$f":"COUNTIF(IF(ISERROR(INDIRECT(\"'Børn \"&A225&\"'!$H$68\",TRUE)),\"\",INDIRECT(\"'Børn \"&A225&\"'!$H$68\",TRUE)),2)","v":{"$error":"#VALUE!"}},{"$f":"COUNTIF(IF(ISERROR(INDIRECT(\"'Børn \"&A225&\"'!$H$79\",TRUE)),\"\",INDIRECT(\"'Børn \"&A225&\"'!$H$79\",TRUE)),2)","v":{"$error":"#VALUE!"}},{"$f":"COUNTIF(IF(ISERROR(INDIRECT(\"'Børn \"&A225&\"'!$H$87\",TRUE)),\"\",INDIRECT(\"'Børn \"&A225&\"'!$H$87\",TRUE)),2)","v":{"$error":"#VALUE!"}},null,null,null,{"$f":"U224","v":"Tilsyn 82"},{"$f":"IF(INDIRECT(\"'Voksen \"&U225&\"'!$c$115\")=\"\",\"\",IFERROR(INDIRECT(\"'Voksen \"&U225&\"'!$c$115\",TRUE),\"\"))","v":{"$error":"#REF!"}},{"$f":"IF(INDIRECT(\"'Voksen \"&U225&\"'!$c$136\")=\"\",\"\",IFERROR(INDIRECT(\"'Voksen \"&U225&\"'!$c$136\",TRUE),\"\"))","v":{"$error":"#REF!"}},{"$f":"IF(INDIRECT(\"'Voksen \"&U225&\"'!$c$157\")=\"\",\"\",IFERROR(INDIRECT(\"'Voksen \"&U225&\"'!$c$157\",TRUE),\"\"))","v":{"$error":"#REF!"}},{"$f":"IF(INDIRECT(\"'Voksen \"&U225&\"'!$c$172\")=\"\",\"\",IFERROR(INDIRECT(\"'Voksen \"&U225&\"'!$c$172\",TRUE),\"\"))","v":{"$error":"#REF!"}},{"$f":"IF(INDIRECT(\"'Voksen \"&U225&\"'!$c$189\")=\"\",\"\",IFERROR(INDIRECT(\"'Voksen \"&U225&\"'!$c$189\",TRUE),\"\"))","v":{"$error":"#REF!"}},{"$f":"IF(INDIRECT(\"'Voksen \"&U225&\"'!$c$210\")=\"\",\"\",IFERROR(INDIRECT(\"'Voksen \"&U225&\"'!$c$210\",TRUE),\"\"))","v":{"$error":"#REF!"}},{"$f":"IF(INDIRECT(\"'Voksen \"&U225&\"'!$c$232\")=\"\",\"\",IFERROR(INDIRECT(\"'Voksen \"&U225&\"'!$c$232\",TRUE),\"\"))","v":{"$error":"#REF!"}},{"$f":"IF(INDIRECT(\"'Voksen \"&U225&\"'!$c$258\")=\"\",\"\",IFERROR(INDIRECT(\"'Voksen \"&U225&\"'!$c$258\",TRUE),\"\"))","v":{"$error":"#REF!"}},null,{"$f":"IF(INDIRECT(\"'Børn \"&U225&\"'!$c$126\")=\"\",\"\",IFERROR(INDIRECT(\"'Børn \"&U225&\"'!$c$126\",TRUE),\"\"))","v":{"$error":"#REF!"}},{"$f":"IF(INDIRECT(\"'Børn \"&U225&\"'!$c$142\")=\"\",\"\",IFERROR(INDIRECT(\"'Børn \"&U225&\"'!$c$142\",TRUE),\"\"))","v":{"$error":"#REF!"}},{"$f":"IF(INDIRECT(\"'Børn \"&U225&\"'!$c$166\")=\"\",\"\",IFERROR(INDIRECT(\"'Børn \"&U225&\"'!$c$166\",TRUE),\"\"))","v":{"$error":"#REF!"}},{"$f":"IF(INDIRECT(\"'Børn \"&U225&\"'!$c$180\")=\"\",\"\",IFERROR(INDIRECT(\"'Børn \"&U225&\"'!$c$180\",TRUE),\"\"))","v":{"$error":"#REF!"}},{"$f":"IF(INDIRECT(\"'Børn \"&U225&\"'!$c$200\")=\"\",\"\",IFERROR(INDIRECT(\"'Børn \"&U225&\"'!$c$200\",TRUE),\"\"))","v":{"$error":"#REF!"}},{"$f":"IF(INDIRECT(\"'Børn \"&U225&\"'!$c$221\")=\"\",\"\",IFERROR(INDIRECT(\"'Børn \"&U225&\"'!$c$221\",TRUE),\"\"))","v":{"$error":"#REF!"}},{"$f":"IF(INDIRECT(\"'Børn \"&U225&\"'!$c$244\")=\"\",\"\",IFERROR(INDIRECT(\"'Børn \"&U225&\"'!$c$244\",TRUE),\"\"))","v":{"$error":"#REF!"}}]
["Tilsyn 55","Status:  rød",{"$f":"COUNTIF(IF(ISERROR(INDIRECT(\"'Voksen \"&A226&\"'!$H$31\",TRUE)),\"\",INDIRECT(\"'Voksen \"&A226&\"'!$H$31\",TRUE)),3)","v":{"$error":"#VALUE!"}},{"$f":"COUNTIF(IF(ISERROR(INDIRECT(\"'Voksen \"&A226&\"'!$H$41\",TRUE)),\"\",INDIRECT(\"'Voksen \"&A226&\"'!$H$41\",TRUE)),3)","v":{"$error":"#VALUE!"}},{"$f":"COUNTIF(IF(ISERROR(INDIRECT(\"'Voksen \"&A226&\"'!$H$50\",TRUE)),\"\",INDIRECT(\"'Voksen \"&A226&\"'!$H$50\",TRUE)),3)","v":{"$error":"#VALUE!"}},{"$f":"COUNTIF(IF(ISERROR(INDIRECT(\"'Voksen \"&A226&\"'!$H$58\",TRUE)),\"\",INDIRECT(\"'Voksen \"&A226&\"'!$H$58\",TRUE)),3)","v":{"$error":"#VALUE!"}},{"$f":"COUNTIF(IF(ISERROR(INDIRECT(\"'Voksen \"&A226&\"'!$H$69\",TRUE)),\"\",INDIRECT(\"'Voksen \"&A226&\"'!$H$69\",TRUE)),3)","v":{"$error":"#VALUE!"}},{"$f":"COUNTIF(IF(ISERROR(INDIRECT(\"'Voksen \"&A226&\"'!$H$77\",TRUE)),\"\",INDIRECT(\"'Voksen \"&A226&\"'!$H$77\",TRUE)),3)","v":{"$error":"#VALUE!"}},null,null,{"$f":"COUNTIF(IF(ISERROR(INDIRECT(\"'Børn \"&A226&\"'!$H$31\",TRUE)),\"\",INDIRECT(\"'Børn \"&A226&\"'!$H$31\",TRUE)),3)","v":{"$error":"#VALUE!"}},{"$f":"COUNTIF(IF(ISERROR(INDIRECT(\"'Børn \"&A226&\"'!$H$44\",TRUE)),\"\",INDIRECT(\"'Børn \"&A226&\"'!$H$44\",TRUE)),3)","v":{"$error":"#VALUE!"}},{"$f":"COUNTIF(IF(ISERROR(INDIRECT(\"'Børn \"&A226&\"'!$H$53\",TRUE)),\"\",INDIRECT(\"'Børn \"&A226&\"'!$H$53\",TRUE)),3)","v":{"$error":"#VALUE!"}},{"$f":"COUNTIF(IF(ISERROR(INDIRECT(\"'Børn \"&A226&\"'!$H$61\",TRUE)),\"\",INDIRECT(\"'Børn \"&A226&\"'!$H$61\",TRUE)),3)","v":{"$error":"#VALUE!"}},{"$f":"COUNTIF(IF(ISERROR(INDIRECT(\"'Børn \"&A226&\"'!$H$68\",TRUE)),\"\",INDIRECT(\"'Børn \"&A226&\"'!$H$68\",TRUE)),3)","v":{"$error":"#VALUE!"}},{"$f":"COUNTIF(IF(ISERROR(INDIRECT(\"'Børn \"&A226&\"'!$H$79\",TRUE)),\"\",INDIRECT(\"'Børn \"&A226&\"'!$H$79\",TRUE)),3)","v":{"$error":"#VALUE!"}},{"$f":"COUNTIF(IF(ISERROR(INDIRECT(\"'Børn \"&A226&\"'!$H$87\",TRUE)),\"\",INDIRECT(\"'Børn \"&A226&\"'!$H$87\",TRUE)),3)","v":{"$error":"#VALUE!"}},null,null,null,"Tilsyn 83",{"$f":"IF(INDIRECT(\"'Voksen \"&U226&\"'!$c$112\")=\"\",\"\",IFERROR(INDIRECT(\"'Voksen \"&U226&\"'!$c$112\",TRUE),\"\"))","v":{"$error":"#REF!"}},{"$f":"IF(INDIRECT(\"'Voksen \"&U226&\"'!$c$133\")=\"\",\"\",IFERROR(INDIRECT(\"'Voksen \"&U226&\"'!$c$133\",TRUE),\"\"))","v":{"$error":"#REF!"}},{"$f":"IF(INDIRECT(\"'Voksen \"&U226&\"'!$c$154\")=\"\",\"\",IFERROR(INDIRECT(\"'Voksen \"&U226&\"'!$c$154\",TRUE),\"\"))","v":{"$error":"#REF!"}},{"$f":"IF(INDIRECT(\"'Voksen \"&U226&\"'!$c$169\")=\"\",\"\",IFERROR(INDIRECT(\"'Voksen \"&U226&\"'!$c$169\",TRUE),\"\"))","v":{"$error":"#REF!"}},{"$f":"IF(INDIRECT(\"'Voksen \"&U226&\"'!$c$186\")=\"\",\"\",IFERROR(INDIRECT(\"'Voksen \"&U226&\"'!$c$186\",TRUE),\"\"))","v":{"$error":"#REF!"}},{"$f":"IF(INDIRECT(\"'Voksen \"&U226&\"'!$c$207\")=\"\",\"\",IFERROR(INDIRECT(\"'Voksen \"&U226&\"'!$c$207\",TRUE),\"\"))","v":{"$error":"#REF!"}},{"$f":"IF(INDIRECT(\"'Voksen \"&U226&\"'!$c$229\")=\"\",\"\",IFERROR(INDIRECT(\"'Voksen \"&U226&\"'!$c$229\",TRUE),\"\"))","v":{"$error":"#REF!"}},{"$f":"IF(INDIRECT(\"'Voksen \"&U226&\"'!$c$255\")=\"\",\"\",IFERROR(INDIRECT(\"'Voksen \"&U226&\"'!$c$255\",TRUE),\"\"))","v":{"$error":"#REF!"}},null,{"$f":"IF(INDIRECT(\"'Børn \"&U226&\"'!$c$123\")=\"\",\"\",IFERROR(INDIRECT(\"'Børn \"&U226&\"'!$c$123\",TRUE),\"\"))","v":{"$error":"#REF!"}},{"$f":"IF(INDIRECT(\"'Børn \"&U226&\"'!$c$139\")=\"\",\"\",IFERROR(INDIRECT(\"'Børn \"&U226&\"'!$c$139\",TRUE),\"\"))","v":{"$error":"#REF!"}},{"$f":"IF(INDIRECT(\"'Børn \"&U226&\"'!$c$163\")=\"\",\"\",IFERROR(INDIRECT(\"'Børn \"&U226&\"'!$c$163\",TRUE),\"\"))","v":{"$error":"#REF!"}},{"$f":"IF(INDIRECT(\"'Børn \"&U226&\"'!$c$177\")=\"\",\"\",IFERROR(INDIRECT(\"'Børn \"&U226&\"'!$c$177\",TRUE),\"\"))","v":{"$error":"#REF!"}},{"$f":"IF(INDIRECT(\"'Børn \"&U226&\"'!$c$197\")=\"\",\"\",IFERROR(INDIRECT(\"'Børn \"&U226&\"'!$c$197\",TRUE),\"\"))","v":{"$error":"#REF!"}},{"$f":"IF(INDIRECT(\"'Børn \"&U226&\"'!$c$218\")=\"\",\"\",IFERROR(INDIRECT(\"'Børn \"&U226&\"'!$c$218\",TRUE),\"\"))","v":{"$error":"#REF!"}},{"$f":"IF(INDIRECT(\"'Børn \"&U226&\"'!$c$241\")=\"\",\"\",IFERROR(INDIRECT(\"'Børn \"&U226&\"'!$c$241\",TRUE),\"\"))","v":{"$error":"#REF!"}}]
["Tilsyn 56","Status:  grøn",{"$f":"COUNTIF(IF(ISERROR(INDIRECT(\"'Voksen \"&A227&\"'!$H$31\",TRUE)),\"\",INDIRECT(\"'Voksen \"&A227&\"'!$H$31\",TRUE)),1)","v":{"$error":"#VALUE!"}},{"$f":"COUNTIF(IF(ISERROR(INDIRECT(\"'Voksen \"&A227&\"'!$H$41\",TRUE)),\"\",INDIRECT(\"'Voksen \"&A227&\"'!$H$41\",TRUE)),1)","v":{"$error":"#VALUE!"}},{"$f":"COUNTIF(IF(ISERROR(INDIRECT(\"'Voksen \"&A227&\"'!$H$50\",TRUE)),\"\",INDIRECT(\"'Voksen \"&A227&\"'!$H$50\",TRUE)),1)","v":{"$error":"#VALUE!"}},{"$f":"COUNTIF(IF(ISERROR(INDIRECT(\"'Voksen \"&A227&\"'!$H$58\",TRUE)),\"\",INDIRECT(\"'Voksen \"&A227&\"'!$H$58\",TRUE)),1)","v":{"$error":"#VALUE!"}},{"$f":"COUNTIF(IF(ISERROR(INDIRECT(\"'Voksen \"&A227&\"'!$H$69\",TRUE)),\"\",INDIRECT(\"'Voksen \"&A227&\"'!$H$69\",TRUE)),1)","v":{"$error":"#VALUE!"}},{"$f":"COUNTIF(IF(ISERROR(INDIRECT(\"'Voksen \"&A227&\"'!$H$77\",TRUE)),\"\",INDIRECT(\"'Voksen \"&A227&\"'!$H$77\",TRUE)),1)","v":{"$error":"#VALUE!"}},null,null,{"$f":"COUNTIF(IF(ISERROR(INDIRECT(\"'Børn \"&A227&\"'!$H$31\",TRUE)),\"\",INDIRECT(\"'Børn \"&A227&\"'!$H$31\",TRUE)),1)","v":{"$error":"#VALUE!"}},{"$f":"COUNTIF(IF(ISERROR(INDIRECT(\"'Børn \"&A227&\"'!$H$44\",TRUE)),\"\",INDIRECT(\"'Børn \"&A227&\"'!$H$44\",TRUE)),1)","v":{"$error":"#VALUE!"}},{"$f":"COUNTIF(IF(ISERROR(INDIRECT(\"'Børn \"&A227&\"'!$H$53\",TRUE)),\"\",INDIRECT(\"'Børn \"&A227&\"'!$H$53\",TRUE)),1)","v":{"$error":"#VALUE!"}},{"$f":"COUNTIF(IF(ISERROR(INDIRECT(\"'Børn \"&A227&\"'!$H$61\",TRUE)),\"\",INDIRECT(\"'Børn \"&A227&\"'!$H$61\",TRUE)),1)","v":{"$error":"#VALUE!"}},{"$f":"COUNTIF(IF(ISERROR(INDIRECT(\"'Børn \"&A227&\"'!$H$68\",TRUE)),\"\",INDIRECT(\"'Børn \"&A227&\"'!$H$68\",TRUE)),1)","v":{"$error":"#VALUE!"}},{"$f":"COUNTIF(IF(ISERROR(INDIRECT(\"'Børn \"&A227&\"'!$H$79\",TRUE)),\"\",INDIRECT(\"'Børn \"&A227&\"'!$H$79\",TRUE)),1)","v":{"$error":"#VALUE!"}},{"$f":"COUNTIF(IF(ISERROR(INDIRECT(\"'Børn \"&A227&\"'!$H$87\",TRUE)),\"\",INDIRECT(\"'Børn \"&A227&\"'!$H$87\",TRUE)),1)","v":{"$error":"#VALUE!"}},null,null,null,{"$f":"U226","v":"Tilsyn 83"},{"$f":"IF(INDIRECT(\"'Voksen \"&U227&\"'!$c$115\")=\"\",\"\",IFERROR(INDIRECT(\"'Voksen \"&U227&\"'!$c$115\",TRUE),\"\"))","v":{"$error":"#REF!"}},{"$f":"IF(INDIRECT(\"'Voksen \"&U227&\"'!$c$136\")=\"\",\"\",IFERROR(INDIRECT(\"'Voksen \"&U227&\"'!$c$136\",TRUE),\"\"))","v":{"$error":"#REF!"}},{"$f":"IF(INDIRECT(\"'Voksen \"&U227&\"'!$c$157\")=\"\",\"\",IFERROR(INDIRECT(\"'Voksen \"&U227&\"'!$c$157\",TRUE),\"\"))","v":{"$error":"#REF!"}},{"$f":"IF(INDIRECT(\"'Voksen \"&U227&\"'!$c$172\")=\"\",\"\",IFERROR(INDIRECT(\"'Voksen \"&U227&\"'!$c$172\",TRUE),\"\"))","v":{"$error":"#REF!"}},{"$f":"IF(INDIRECT(\"'Voksen \"&U227&\"'!$c$189\")=\"\",\"\",IFERROR(INDIRECT(\"'Voksen \"&U227&\"'!$c$189\",TRUE),\"\"))","v":{"$error":"#REF!"}},{"$f":"IF(INDIRECT(\"'Voksen \"&U227&\"'!$c$210\")=\"\",\"\",IFERROR(INDIRECT(\"'Voksen \"&U227&\"'!$c$210\",TRUE),\"\"))","v":{"$error":"#REF!"}},{"$f":"IF(INDIRECT(\"'Voksen \"&U227&\"'!$c$232\")=\"\",\"\",IFERROR(INDIRECT(\"'Voksen \"&U227&\"'!$c$232\",TRUE),\"\"))","v":{"$error":"#REF!"}},{"$f":"IF(INDIRECT(\"'Voksen \"&U227&\"'!$c$258\")=\"\",\"\",IFERROR(INDIRECT(\"'Voksen \"&U227&\"'!$c$258\",TRUE),\"\"))","v":{"$error":"#REF!"}},null,{"$f":"IF(INDIRECT(\"'Børn \"&U227&\"'!$c$126\")=\"\",\"\",IFERROR(INDIRECT(\"'Børn \"&U227&\"'!$c$126\",TRUE),\"\"))","v":{"$error":"#REF!"}},{"$f":"IF(INDIRECT(\"'Børn \"&U227&\"'!$c$142\")=\"\",\"\",IFERROR(INDIRECT(\"'Børn \"&U227&\"'!$c$142\",TRUE),\"\"))","v":{"$error":"#REF!"}},{"$f":"IF(INDIRECT(\"'Børn \"&U227&\"'!$c$166\")=\"\",\"\",IFERROR(INDIRECT(\"'Børn \"&U227&\"'!$c$166\",TRUE),\"\"))","v":{"$error":"#REF!"}},{"$f":"IF(INDIRECT(\"'Børn \"&U227&\"'!$c$180\")=\"\",\"\",IFERROR(INDIRECT(\"'Børn \"&U227&\"'!$c$180\",TRUE),\"\"))","v":{"$error":"#REF!"}},{"$f":"IF(INDIRECT(\"'Børn \"&U227&\"'!$c$200\")=\"\",\"\",IFERROR(INDIRECT(\"'Børn \"&U227&\"'!$c$200\",TRUE),\"\"))","v":{"$error":"#REF!"}},{"$f":"IF(INDIRECT(\"'Børn \"&U227&\"'!$c$221\")=\"\",\"\",IFERROR(INDIRECT(\"'Børn \"&U227&\"'!$c$221\",TRUE),\"\"))","v":{"$error":"#REF!"}},{"$f":"IF(INDIRECT(\"'Børn \"&U227&\"'!$c$244\")=\"\",\"\",IFERROR(INDIRECT(\"'Børn \"&U227&\"'!$c$244\",TRUE),\"\"))","v":{"$error":"#REF!"}}]
["Tilsyn 56","Status:  gul",{"$f":"COUNTIF(IF(ISERROR(INDIRECT(\"'Voksen \"&A228&\"'!$H$31\",TRUE)),\"\",INDIRECT(\"'Voksen \"&A228&\"'!$H$31\",TRUE)),2)","v":{"$error":"#VALUE!"}},{"$f":"COUNTIF(IF(ISERROR(INDIRECT(\"'Voksen \"&A228&\"'!$H$41\",TRUE)),\"\",INDIRECT(\"'Voksen \"&A228&\"'!$H$41\",TRUE)),2)","v":{"$error":"#VALUE!"}},{"$f":"COUNTIF(IF(ISERROR(INDIRECT(\"'Voksen \"&A228&\"'!$H$50\",TRUE)),\"\",INDIRECT(\"'Voksen \"&A228&\"'!$H$50\",TRUE)),2)","v":{"$error":"#VALUE!"}},{"$f":"COUNTIF(IF(ISERROR(INDIRECT(\"'Voksen \"&A228&\"'!$H$58\",TRUE)),\"\",INDIRECT(\"'Voksen \"&A228&\"'!$H$58\",TRUE)),2)","v":{"$error":"#VALUE!"}},{"$f":"COUNTIF(IF(ISERROR(INDIRECT(\"'Voksen \"&A228&\"'!$H$69\",TRUE)),\"\",INDIRECT(\"'Voksen \"&A228&\"'!$H$69\",TRUE)),2)","v":{"$error":"#VALUE!"}},{"$f":"COUNTIF(IF(ISERROR(INDIRECT(\"'Voksen \"&A228&\"'!$H$77\",TRUE)),\"\",INDIRECT(\"'Voksen \"&A228&\"'!$H$77\",TRUE)),2)","v":{"$error":"#VALUE!"}},null,null,{"$f":"COUNTIF(IF(ISERROR(INDIRECT(\"'Børn \"&A228&\"'!$H$31\",TRUE)),\"\",INDIRECT(\"'Børn \"&A228&\"'!$H$31\",TRUE)),2)","v":{"$error":"#VALUE!"}},{"$f":"COUNTIF(IF(ISERROR(INDIRECT(\"'Børn \"&A228&\"'!$H$44\",TRUE)),\"\",INDIRECT(\"'Børn \"&A228&\"'!$H$44\",TRUE)),2)","v":{"$error":"#VALUE!"}},{"$f":"COUNTIF(IF(ISERROR(INDIRECT(\"'Børn \"&A228&\"'!$H$53\",TRUE)),\"\",INDIRECT(\"'Børn \"&A228&\"'!$H$53\",TRUE)),2)","v":{"$error":"#VALUE!"}},{"$f":"COUNTIF(IF(ISERROR(INDIRECT(\"'Børn \"&A228&\"'!$H$61\",TRUE)),\"\",INDIRECT(\"'Børn \"&A228&\"'!$H$61\",TRUE)),2)","v":{"$error":"#VALUE!"}},{"$f":"COUNTIF(IF(ISERROR(INDIRECT(\"'Børn \"&A228&\"'!$H$68\",TRUE)),\"\",INDIRECT(\"'Børn \"&A228&\"'!$H$68\",TRUE)),2)","v":{"$error":"#VALUE!"}},{"$f":"COUNTIF(IF(ISERROR(INDIRECT(\"'Børn \"&A228&\"'!$H$79\",TRUE)),\"\",INDIRECT(\"'Børn \"&A228&\"'!$H$79\",TRUE)),2)","v":{"$error":"#VALUE!"}},{"$f":"COUNTIF(IF(ISERROR(INDIRECT(\"'Børn \"&A228&\"'!$H$87\",TRUE)),\"\",INDIRECT(\"'Børn \"&A228&\"'!$H$87\",TRUE)),2)","v":{"$error":"#VALUE!"}},null,null,null,"Tilsyn 84",{"$f":"IF(INDIRECT(\"'Voksen \"&U228&\"'!$c$112\")=\"\",\"\",IFERROR(INDIRECT(\"'Voksen \"&U228&\"'!$c$112\",TRUE),\"\"))","v":{"$error":"#REF!"}},{"$f":"IF(INDIRECT(\"'Voksen \"&U228&\"'!$c$133\")=\"\",\"\",IFERROR(INDIRECT(\"'Voksen \"&U228&\"'!$c$133\",TRUE),\"\"))","v":{"$error":"#REF!"}},{"$f":"IF(INDIRECT(\"'Voksen \"&U228&\"'!$c$154\")=\"\",\"\",IFERROR(INDIRECT(\"'Voksen \"&U228&\"'!$c$154\",TRUE),\"\"))","v":{"$error":"#REF!"}},{"$f":"IF(INDIRECT(\"'Voksen \"&U228&\"'!$c$169\")=\"\",\"\",IFERROR(INDIRECT(\"'Voksen \"&U228&\"'!$c$169\",TRUE),\"\"))","v":{"$error":"#REF!"}},{"$f":"IF(INDIRECT(\"'Voksen \"&U228&\"'!$c$186\")=\"\",\"\",IFERROR(INDIRECT(\"'Voksen \"&U228&\"'!$c$186\",TRUE),\"\"))","v":{"$error":"#REF!"}},{"$f":"IF(INDIRECT(\"'Voksen \"&U228&\"'!$c$207\")=\"\",\"\",IFERROR(INDIRECT(\"'Voksen \"&U228&\"'!$c$207\",TRUE),\"\"))","v":{"$error":"#REF!"}},{"$f":"IF(INDIRECT(\"'Voksen \"&U228&\"'!$c$229\")=\"\",\"\",IFERROR(INDIRECT(\"'Voksen \"&U228&\"'!$c$229\",TRUE),\"\"))","v":{"$error":"#REF!"}},{"$f":"IF(INDIRECT(\"'Voksen \"&U228&\"'!$c$255\")=\"\",\"\",IFERROR(INDIRECT(\"'Voksen \"&U228&\"'!$c$255\",TRUE),\"\"))","v":{"$error":"#REF!"}},null,{"$f":"IF(INDIRECT(\"'Børn \"&U228&\"'!$c$123\")=\"\",\"\",IFERROR(INDIRECT(\"'Børn \"&U228&\"'!$c$123\",TRUE),\"\"))","v":{"$error":"#REF!"}},{"$f":"IF(INDIRECT(\"'Børn \"&U228&\"'!$c$139\")=\"\",\"\",IFERROR(INDIRECT(\"'Børn \"&U228&\"'!$c$139\",TRUE),\"\"))","v":{"$error":"#REF!"}},{"$f":"IF(INDIRECT(\"'Børn \"&U228&\"'!$c$163\")=\"\",\"\",IFERROR(INDIRECT(\"'Børn \"&U228&\"'!$c$163\",TRUE),\"\"))","v":{"$error":"#REF!"}},{"$f":"IF(INDIRECT(\"'Børn \"&U228&\"'!$c$177\")=\"\",\"\",IFERROR(INDIRECT(\"'Børn \"&U228&\"'!$c$177\",TRUE),\"\"))","v":{"$error":"#REF!"}},{"$f":"IF(INDIRECT(\"'Børn \"&U228&\"'!$c$197\")=\"\",\"\",IFERROR(INDIRECT(\"'Børn \"&U228&\"'!$c$197\",TRUE),\"\"))","v":{"$error":"#REF!"}},{"$f":"IF(INDIRECT(\"'Børn \"&U228&\"'!$c$218\")=\"\",\"\",IFERROR(INDIRECT(\"'Børn \"&U228&\"'!$c$218\",TRUE),\"\"))","v":{"$error":"#REF!"}},{"$f":"IF(INDIRECT(\"'Børn \"&U228&\"'!$c$241\")=\"\",\"\",IFERROR(INDIRECT(\"'Børn \"&U228&\"'!$c$241\",TRUE),\"\"))","v":{"$error":"#REF!"}}]
["Tilsyn 56","Status:  rød",{"$f":"COUNTIF(IF(ISERROR(INDIRECT(\"'Voksen \"&A229&\"'!$H$31\",TRUE)),\"\",INDIRECT(\"'Voksen \"&A229&\"'!$H$31\",TRUE)),3)","v":{"$error":"#VALUE!"}},{"$f":"COUNTIF(IF(ISERROR(INDIRECT(\"'Voksen \"&A229&\"'!$H$41\",TRUE)),\"\",INDIRECT(\"'Voksen \"&A229&\"'!$H$41\",TRUE)),3)","v":{"$error":"#VALUE!"}},{"$f":"COUNTIF(IF(ISERROR(INDIRECT(\"'Voksen \"&A229&\"'!$H$50\",TRUE)),\"\",INDIRECT(\"'Voksen \"&A229&\"'!$H$50\",TRUE)),3)","v":{"$error":"#VALUE!"}},{"$f":"COUNTIF(IF(ISERROR(INDIRECT(\"'Voksen \"&A229&\"'!$H$58\",TRUE)),\"\",INDIRECT(\"'Voksen \"&A229&\"'!$H$58\",TRUE)),3)","v":{"$error":"#VALUE!"}},{"$f":"COUNTIF(IF(ISERROR(INDIRECT(\"'Voksen \"&A229&\"'!$H$69\",TRUE)),\"\",INDIRECT(\"'Voksen \"&A229&\"'!$H$69\",TRUE)),3)","v":{"$error":"#VALUE!"}},{"$f":"COUNTIF(IF(ISERROR(INDIRECT(\"'Voksen \"&A229&\"'!$H$77\",TRUE)),\"\",INDIRECT(\"'Voksen \"&A229&\"'!$H$77\",TRUE)),3)","v":{"$error":"#VALUE!"}},null,null,{"$f":"COUNTIF(IF(ISERROR(INDIRECT(\"'Børn \"&A229&\"'!$H$31\",TRUE)),\"\",INDIRECT(\"'Børn \"&A229&\"'!$H$31\",TRUE)),3)","v":{"$error":"#VALUE!"}},{"$f":"COUNTIF(IF(ISERROR(INDIRECT(\"'Børn \"&A229&\"'!$H$44\",TRUE)),\"\",INDIRECT(\"'Børn \"&A229&\"'!$H$44\",TRUE)),3)","v":{"$error":"#VALUE!"}},{"$f":"COUNTIF(IF(ISERROR(INDIRECT(\"'Børn \"&A229&\"'!$H$53\",TRUE)),\"\",INDIRECT(\"'Børn \"&A229&\"'!$H$53\",TRUE)),3)","v":{"$error":"#VALUE!"}},{"$f":"COUNTIF(IF(ISERROR(INDIRECT(\"'Børn \"&A229&\"'!$H$61\",TRUE)),\"\",INDIRECT(\"'Børn \"&A229&\"'!$H$61\",TRUE)),3)","v":{"$error":"#VALUE!"}},{"$f":"COUNTIF(IF(ISERROR(INDIRECT(\"'Børn \"&A229&\"'!$H$68\",TRUE)),\"\",INDIRECT(\"'Børn \"&A229&\"'!$H$68\",TRUE)),3)","v":{"$error":"#VALUE!"}},{"$f":"COUNTIF(IF(ISERROR(INDIRECT(\"'Børn \"&A229&\"'!$H$79\",TRUE)),\"\",INDIRECT(\"'Børn \"&A229&\"'!$H$79\",TRUE)),3)","v":{"$error":"#VALUE!"}},{"$f":"COUNTIF(IF(ISERROR(INDIRECT(\"'Børn \"&A229&\"'!$H$87\",TRUE)),\"\",INDIRECT(\"'Børn \"&A229&\"'!$H$87\",TRUE)),3)","v":{"$error":"#VALUE!"}},null,null,null,{"$f":"U228","v":"Tilsyn 84"},{"$f":"IF(INDIRECT(\"'Voksen \"&U229&\"'!$c$115\")=\"\",\"\",IFERROR(INDIRECT(\"'Voksen \"&U229&\"'!$c$115\",TRUE),\"\"))","v":{"$error":"#REF!"}},{"$f":"IF(INDIRECT(\"'Voksen \"&U229&\"'!$c$136\")=\"\",\"\",IFERROR(INDIRECT(\"'Voksen \"&U229&\"'!$c$136\",TRUE),\"\"))","v":{"$error":"#REF!"}},{"$f":"IF(INDIRECT(\"'Voksen \"&U229&\"'!$c$157\")=\"\",\"\",IFERROR(INDIRECT(\"'Voksen \"&U229&\"'!$c$157\",TRUE),\"\"))","v":{"$error":"#REF!"}},{"$f":"IF(INDIRECT(\"'Voksen \"&U229&\"'!$c$172\")=\"\",\"\",IFERROR(INDIRECT(\"'Voksen \"&U229&\"'!$c$172\",TRUE),\"\"))","v":{"$error":"#REF!"}},{"$f":"IF(INDIRECT(\"'Voksen \"&U229&\"'!$c$189\")=\"\",\"\",IFERROR(INDIRECT(\"'Voksen \"&U229&\"'!$c$189\",TRUE),\"\"))","v":{"$error":"#REF!"}},{"$f":"IF(INDIRECT(\"'Voksen \"&U229&\"'!$c$210\")=\"\",\"\",IFERROR(INDIRECT(\"'Voksen \"&U229&\"'!$c$210\",TRUE),\"\"))","v":{"$error":"#REF!"}},{"$f":"IF(INDIRECT(\"'Voksen \"&U229&\"'!$c$232\")=\"\",\"\",IFERROR(INDIRECT(\"'Voksen \"&U229&\"'!$c$232\",TRUE),\"\"))","v":{"$error":"#REF!"}},{"$f":"IF(INDIRECT(\"'Voksen \"&U229&\"'!$c$258\")=\"\",\"\",IFERROR(INDIRECT(\"'Voksen \"&U229&\"'!$c$258\",TRUE),\"\"))","v":{"$error":"#REF!"}},null,{"$f":"IF(INDIRECT(\"'Børn \"&U229&\"'!$c$126\")=\"\",\"\",IFERROR(INDIRECT(\"'Børn \"&U229&\"'!$c$126\",TRUE),\"\"))","v":{"$error":"#REF!"}},{"$f":"IF(INDIRECT(\"'Børn \"&U229&\"'!$c$142\")=\"\",\"\",IFERROR(INDIRECT(\"'Børn \"&U229&\"'!$c$142\",TRUE),\"\"))","v":{"$error":"#REF!"}},{"$f":"IF(INDIRECT(\"'Børn \"&U229&\"'!$c$166\")=\"\",\"\",IFERROR(INDIRECT(\"'Børn \"&U229&\"'!$c$166\",TRUE),\"\"))","v":{"$error":"#REF!"}},{"$f":"IF(INDIRECT(\"'Børn \"&U229&\"'!$c$180\")=\"\",\"\",IFERROR(INDIRECT(\"'Børn \"&U229&\"'!$c$180\",TRUE),\"\"))","v":{"$error":"#REF!"}},{"$f":"IF(INDIRECT(\"'Børn \"&U229&\"'!$c$200\")=\"\",\"\",IFERROR(INDIRECT(\"'Børn \"&U229&\"'!$c$200\",TRUE),\"\"))","v":{"$error":"#REF!"}},{"$f":"IF(INDIRECT(\"'Børn \"&U229&\"'!$c$221\")=\"\",\"\",IFERROR(INDIRECT(\"'Børn \"&U229&\"'!$c$221\",TRUE),\"\"))","v":{"$error":"#REF!"}},{"$f":"IF(INDIRECT(\"'Børn \"&U229&\"'!$c$244\")=\"\",\"\",IFERROR(INDIRECT(\"'Børn \"&U229&\"'!$c$244\",TRUE),\"\"))","v":{"$error":"#REF!"}}]
["Tilsyn 57","Status:  grøn",{"$f":"COUNTIF(IF(ISERROR(INDIRECT(\"'Voksen \"&A230&\"'!$H$31\",TRUE)),\"\",INDIRECT(\"'Voksen \"&A230&\"'!$H$31\",TRUE)),1)","v":{"$error":"#VALUE!"}},{"$f":"COUNTIF(IF(ISERROR(INDIRECT(\"'Voksen \"&A230&\"'!$H$41\",TRUE)),\"\",INDIRECT(\"'Voksen \"&A230&\"'!$H$41\",TRUE)),1)","v":{"$error":"#VALUE!"}},{"$f":"COUNTIF(IF(ISERROR(INDIRECT(\"'Voksen \"&A230&\"'!$H$50\",TRUE)),\"\",INDIRECT(\"'Voksen \"&A230&\"'!$H$50\",TRUE)),1)","v":{"$error":"#VALUE!"}},{"$f":"COUNTIF(IF(ISERROR(INDIRECT(\"'Voksen \"&A230&\"'!$H$58\",TRUE)),\"\",INDIRECT(\"'Voksen \"&A230&\"'!$H$58\",TRUE)),1)","v":{"$error":"#VALUE!"}},{"$f":"COUNTIF(IF(ISERROR(INDIRECT(\"'Voksen \"&A230&\"'!$H$69\",TRUE)),\"\",INDIRECT(\"'Voksen \"&A230&\"'!$H$69\",TRUE)),1)","v":{"$error":"#VALUE!"}},{"$f":"COUNTIF(IF(ISERROR(INDIRECT(\"'Voksen \"&A230&\"'!$H$77\",TRUE)),\"\",INDIRECT(\"'Voksen \"&A230&\"'!$H$77\",TRUE)),1)","v":{"$error":"#VALUE!"}},null,null,{"$f":"COUNTIF(IF(ISERROR(INDIRECT(\"'Børn \"&A230&\"'!$H$31\",TRUE)),\"\",INDIRECT(\"'Børn \"&A230&\"'!$H$31\",TRUE)),1)","v":{"$error":"#VALUE!"}},{"$f":"COUNTIF(IF(ISERROR(INDIRECT(\"'Børn \"&A230&\"'!$H$44\",TRUE)),\"\",INDIRECT(\"'Børn \"&A230&\"'!$H$44\",TRUE)),1)","v":{"$error":"#VALUE!"}},{"$f":"COUNTIF(IF(ISERROR(INDIRECT(\"'Børn \"&A230&\"'!$H$53\",TRUE)),\"\",INDIRECT(\"'Børn \"&A230&\"'!$H$53\",TRUE)),1)","v":{"$error":"#VALUE!"}},{"$f":"COUNTIF(IF(ISERROR(INDIRECT(\"'Børn \"&A230&\"'!$H$61\",TRUE)),\"\",INDIRECT(\"'Børn \"&A230&\"'!$H$61\",TRUE)),1)","v":{"$error":"#VALUE!"}},{"$f":"COUNTIF(IF(ISERROR(INDIRECT(\"'Børn \"&A230&\"'!$H$68\",TRUE)),\"\",INDIRECT(\"'Børn \"&A230&\"'!$H$68\",TRUE)),1)","v":{"$error":"#VALUE!"}},{"$f":"COUNTIF(IF(ISERROR(INDIRECT(\"'Børn \"&A230&\"'!$H$79\",TRUE)),\"\",INDIRECT(\"'Børn \"&A230&\"'!$H$79\",TRUE)),1)","v":{"$error":"#VALUE!"}},{"$f":"COUNTIF(IF(ISERROR(INDIRECT(\"'Børn \"&A230&\"'!$H$87\",TRUE)),\"\",INDIRECT(\"'Børn \"&A230&\"'!$H$87\",TRUE)),1)","v":{"$error":"#VALUE!"}},null,null,null,"Tilsyn 85",{"$f":"IF(INDIRECT(\"'Voksen \"&U230&\"'!$c$112\")=\"\",\"\",IFERROR(INDIRECT(\"'Voksen \"&U230&\"'!$c$112\",TRUE),\"\"))","v":{"$error":"#REF!"}},{"$f":"IF(INDIRECT(\"'Voksen \"&U230&\"'!$c$133\")=\"\",\"\",IFERROR(INDIRECT(\"'Voksen \"&U230&\"'!$c$133\",TRUE),\"\"))","v":{"$error":"#REF!"}},{"$f":"IF(INDIRECT(\"'Voksen \"&U230&\"'!$c$154\")=\"\",\"\",IFERROR(INDIRECT(\"'Voksen \"&U230&\"'!$c$154\",TRUE),\"\"))","v":{"$error":"#REF!"}},{"$f":"IF(INDIRECT(\"'Voksen \"&U230&\"'!$c$169\")=\"\",\"\",IFERROR(INDIRECT(\"'Voksen \"&U230&\"'!$c$169\",TRUE),\"\"))","v":{"$error":"#REF!"}},{"$f":"IF(INDIRECT(\"'Voksen \"&U230&\"'!$c$186\")=\"\",\"\",IFERROR(INDIRECT(\"'Voksen \"&U230&\"'!$c$186\",TRUE),\"\"))","v":{"$error":"#REF!"}},{"$f":"IF(INDIRECT(\"'Voksen \"&U230&\"'!$c$207\")=\"\",\"\",IFERROR(INDIRECT(\"'Voksen \"&U230&\"'!$c$207\",TRUE),\"\"))","v":{"$error":"#REF!"}},{"$f":"IF(INDIRECT(\"'Voksen \"&U230&\"'!$c$229\")=\"\",\"\",IFERROR(INDIRECT(\"'Voksen \"&U230&\"'!$c$229\",TRUE),\"\"))","v":{"$error":"#REF!"}},{"$f":"IF(INDIRECT(\"'Voksen \"&U230&\"'!$c$255\")=\"\",\"\",IFERROR(INDIRECT(\"'Voksen \"&U230&\"'!$c$255\",TRUE),\"\"))","v":{"$error":"#REF!"}},null,{"$f":"IF(INDIRECT(\"'Børn \"&U230&\"'!$c$123\")=\"\",\"\",IFERROR(INDIRECT(\"'Børn \"&U230&\"'!$c$123\",TRUE),\"\"))","v":{"$error":"#REF!"}},{"$f":"IF(INDIRECT(\"'Børn \"&U230&\"'!$c$139\")=\"\",\"\",IFERROR(INDIRECT(\"'Børn \"&U230&\"'!$c$139\",TRUE),\"\"))","v":{"$error":"#REF!"}},{"$f":"IF(INDIRECT(\"'Børn \"&U230&\"'!$c$163\")=\"\",\"\",IFERROR(INDIRECT(\"'Børn \"&U230&\"'!$c$163\",TRUE),\"\"))","v":{"$error":"#REF!"}},{"$f":"IF(INDIRECT(\"'Børn \"&U230&\"'!$c$177\")=\"\",\"\",IFERROR(INDIRECT(\"'Børn \"&U230&\"'!$c$177\",TRUE),\"\"))","v":{"$error":"#REF!"}},{"$f":"IF(INDIRECT(\"'Børn \"&U230&\"'!$c$197\")=\"\",\"\",IFERROR(INDIRECT(\"'Børn \"&U230&\"'!$c$197\",TRUE),\"\"))","v":{"$error":"#REF!"}},{"$f":"IF(INDIRECT(\"'Børn \"&U230&\"'!$c$218\")=\"\",\"\",IFERROR(INDIRECT(\"'Børn \"&U230&\"'!$c$218\",TRUE),\"\"))","v":{"$error":"#REF!"}},{"$f":"IF(INDIRECT(\"'Børn \"&U230&\"'!$c$241\")=\"\",\"\",IFERROR(INDIRECT(\"'Børn \"&U230&\"'!$c$241\",TRUE),\"\"))","v":{"$error":"#REF!"}}]
["Tilsyn 57","Status:  gul",{"$f":"COUNTIF(IF(ISERROR(INDIRECT(\"'Voksen \"&A231&\"'!$H$31\",TRUE)),\"\",INDIRECT(\"'Voksen \"&A231&\"'!$H$31\",TRUE)),2)","v":{"$error":"#VALUE!"}},{"$f":"COUNTIF(IF(ISERROR(INDIRECT(\"'Voksen \"&A231&\"'!$H$41\",TRUE)),\"\",INDIRECT(\"'Voksen \"&A231&\"'!$H$41\",TRUE)),2)","v":{"$error":"#VALUE!"}},{"$f":"COUNTIF(IF(ISERROR(INDIRECT(\"'Voksen \"&A231&\"'!$H$50\",TRUE)),\"\",INDIRECT(\"'Voksen \"&A231&\"'!$H$50\",TRUE)),2)","v":{"$error":"#VALUE!"}},{"$f":"COUNTIF(IF(ISERROR(INDIRECT(\"'Voksen \"&A231&\"'!$H$58\",TRUE)),\"\",INDIRECT(\"'Voksen \"&A231&\"'!$H$58\",TRUE)),2)","v":{"$error":"#VALUE!"}},{"$f":"COUNTIF(IF(ISERROR(INDIRECT(\"'Voksen \"&A231&\"'!$H$69\",TRUE)),\"\",INDIRECT(\"'Voksen \"&A231&\"'!$H$69\",TRUE)),2)","v":{"$error":"#VALUE!"}},{"$f":"COUNTIF(IF(ISERROR(INDIRECT(\"'Voksen \"&A231&\"'!$H$77\",TRUE)),\"\",INDIRECT(\"'Voksen \"&A231&\"'!$H$77\",TRUE)),2)","v":{"$error":"#VALUE!"}},null,null,{"$f":"COUNTIF(IF(ISERROR(INDIRECT(\"'Børn \"&A231&\"'!$H$31\",TRUE)),\"\",INDIRECT(\"'Børn \"&A231&\"'!$H$31\",TRUE)),2)","v":{"$error":"#VALUE!"}},{"$f":"COUNTIF(IF(ISERROR(INDIRECT(\"'Børn \"&A231&\"'!$H$44\",TRUE)),\"\",INDIRECT(\"'Børn \"&A231&\"'!$H$44\",TRUE)),2)","v":{"$error":"#VALUE!"}},{"$f":"COUNTIF(IF(ISERROR(INDIRECT(\"'Børn \"&A231&\"'!$H$53\",TRUE)),\"\",INDIRECT(\"'Børn \"&A231&\"'!$H$53\",TRUE)),2)","v":{"$error":"#VALUE!"}},{"$f":"COUNTIF(IF(ISERROR(INDIRECT(\"'Børn \"&A231&\"'!$H$61\",TRUE)),\"\",INDIRECT(\"'Børn \"&A231&\"'!$H$61\",TRUE)),2)","v":{"$error":"#VALUE!"}},{"$f":"COUNTIF(IF(ISERROR(INDIRECT(\"'Børn \"&A231&\"'!$H$68\",TRUE)),\"\",INDIRECT(\"'Børn \"&A231&\"'!$H$68\",TRUE)),2)","v":{"$error":"#VALUE!"}},{"$f":"COUNTIF(IF(ISERROR(INDIRECT(\"'Børn \"&A231&\"'!$H$79\",TRUE)),\"\",INDIRECT(\"'Børn \"&A231&\"'!$H$79\",TRUE)),2)","v":{"$error":"#VALUE!"}},{"$f":"COUNTIF(IF(ISERROR(INDIRECT(\"'Børn \"&A231&\"'!$H$87\",TRUE)),\"\",INDIRECT(\"'Børn \"&A231&\"'!$H$87\",TRUE)),2)","v":{"$error":"#VALUE!"}},null,null,null,{"$f":"U230","v":"Tilsyn 85"},{"$f":"IF(INDIRECT(\"'Voksen \"&U231&\"'!$c$115\")=\"\",\"\",IFERROR(INDIRECT(\"'Voksen \"&U231&\"'!$c$115\",TRUE),\"\"))","v":{"$error":"#REF!"}},{"$f":"IF(INDIRECT(\"'Voksen \"&U231&\"'!$c$136\")=\"\",\"\",IFERROR(INDIRECT(\"'Voksen \"&U231&\"'!$c$136\",TRUE),\"\"))","v":{"$error":"#REF!"}},{"$f":"IF(INDIRECT(\"'Voksen \"&U231&\"'!$c$157\")=\"\",\"\",IFERROR(INDIRECT(\"'Voksen \"&U231&\"'!$c$157\",TRUE),\"\"))","v":{"$error":"#REF!"}},{"$f":"IF(INDIRECT(\"'Voksen \"&U231&\"'!$c$172\")=\"\",\"\",IFERROR(INDIRECT(\"'Voksen \"&U231&\"'!$c$172\",TRUE),\"\"))","v":{"$error":"#REF!"}},{"$f":"IF(INDIRECT(\"'Voksen \"&U231&\"'!$c$189\")=\"\",\"\",IFERROR(INDIRECT(\"'Voksen \"&U231&\"'!$c$189\",TRUE),\"\"))","v":{"$error":"#REF!"}},{"$f":"IF(INDIRECT(\"'Voksen \"&U231&\"'!$c$210\")=\"\",\"\",IFERROR(INDIRECT(\"'Voksen \"&U231&\"'!$c$210\",TRUE),\"\"))","v":{"$error":"#REF!"}},{"$f":"IF(INDIRECT(\"'Voksen \"&U231&\"'!$c$232\")=\"\",\"\",IFERROR(INDIRECT(\"'Voksen \"&U231&\"'!$c$232\",TRUE),\"\"))","v":{"$error":"#REF!"}},{"$f":"IF(INDIRECT(\"'Voksen \"&U231&\"'!$c$258\")=\"\",\"\",IFERROR(INDIRECT(\"'Voksen \"&U231&\"'!$c$258\",TRUE),\"\"))","v":{"$error":"#REF!"}},null,{"$f":"IF(INDIRECT(\"'Børn \"&U231&\"'!$c$126\")=\"\",\"\",IFERROR(INDIRECT(\"'Børn \"&U231&\"'!$c$126\",TRUE),\"\"))","v":{"$error":"#REF!"}},{"$f":"IF(INDIRECT(\"'Børn \"&U231&\"'!$c$142\")=\"\",\"\",IFERROR(INDIRECT(\"'Børn \"&U231&\"'!$c$142\",TRUE),\"\"))","v":{"$error":"#REF!"}},{"$f":"IF(INDIRECT(\"'Børn \"&U231&\"'!$c$166\")=\"\",\"\",IFERROR(INDIRECT(\"'Børn \"&U231&\"'!$c$166\",TRUE),\"\"))","v":{"$error":"#REF!"}},{"$f":"IF(INDIRECT(\"'Børn \"&U231&\"'!$c$180\")=\"\",\"\",IFERROR(INDIRECT(\"'Børn \"&U231&\"'!$c$180\",TRUE),\"\"))","v":{"$error":"#REF!"}},{"$f":"IF(INDIRECT(\"'Børn \"&U231&\"'!$c$200\")=\"\",\"\",IFERROR(INDIRECT(\"'Børn \"&U231&\"'!$c$200\",TRUE),\"\"))","v":{"$error":"#REF!"}},{"$f":"IF(INDIRECT(\"'Børn \"&U231&\"'!$c$221\")=\"\",\"\",IFERROR(INDIRECT(\"'Børn \"&U231&\"'!$c$221\",TRUE),\"\"))","v":{"$error":"#REF!"}},{"$f":"IF(INDIRECT(\"'Børn \"&U231&\"'!$c$244\")=\"\",\"\",IFERROR(INDIRECT(\"'Børn \"&U231&\"'!$c$244\",TRUE),\"\"))","v":{"$error":"#REF!"}}]
["Tilsyn 57","Status:  rød",{"$f":"COUNTIF(IF(ISERROR(INDIRECT(\"'Voksen \"&A232&\"'!$H$31\",TRUE)),\"\",INDIRECT(\"'Voksen \"&A232&\"'!$H$31\",TRUE)),3)","v":{"$error":"#VALUE!"}},{"$f":"COUNTIF(IF(ISERROR(INDIRECT(\"'Voksen \"&A232&\"'!$H$41\",TRUE)),\"\",INDIRECT(\"'Voksen \"&A232&\"'!$H$41\",TRUE)),3)","v":{"$error":"#VALUE!"}},{"$f":"COUNTIF(IF(ISERROR(INDIRECT(\"'Voksen \"&A232&\"'!$H$50\",TRUE)),\"\",INDIRECT(\"'Voksen \"&A232&\"'!$H$50\",TRUE)),3)","v":{"$error":"#VALUE!"}},{"$f":"COUNTIF(IF(ISERROR(INDIRECT(\"'Voksen \"&A232&\"'!$H$58\",TRUE)),\"\",INDIRECT(\"'Voksen \"&A232&\"'!$H$58\",TRUE)),3)","v":{"$error":"#VALUE!"}},{"$f":"COUNTIF(IF(ISERROR(INDIRECT(\"'Voksen \"&A232&\"'!$H$69\",TRUE)),\"\",INDIRECT(\"'Voksen \"&A232&\"'!$H$69\",TRUE)),3)","v":{"$error":"#VALUE!"}},{"$f":"COUNTIF(IF(ISERROR(INDIRECT(\"'Voksen \"&A232&\"'!$H$77\",TRUE)),\"\",INDIRECT(\"'Voksen \"&A232&\"'!$H$77\",TRUE)),3)","v":{"$error":"#VALUE!"}},null,null,{"$f":"COUNTIF(IF(ISERROR(INDIRECT(\"'Børn \"&A232&\"'!$H$31\",TRUE)),\"\",INDIRECT(\"'Børn \"&A232&\"'!$H$31\",TRUE)),3)","v":{"$error":"#VALUE!"}},{"$f":"COUNTIF(IF(ISERROR(INDIRECT(\"'Børn \"&A232&\"'!$H$44\",TRUE)),\"\",INDIRECT(\"'Børn \"&A232&\"'!$H$44\",TRUE)),3)","v":{"$error":"#VALUE!"}},{"$f":"COUNTIF(IF(ISERROR(INDIRECT(\"'Børn \"&A232&\"'!$H$53\",TRUE)),\"\",INDIRECT(\"'Børn \"&A232&\"'!$H$53\",TRUE)),3)","v":{"$error":"#VALUE!"}},{"$f":"COUNTIF(IF(ISERROR(INDIRECT(\"'Børn \"&A232&\"'!$H$61\",TRUE)),\"\",INDIRECT(\"'Børn \"&A232&\"'!$H$61\",TRUE)),3)","v":{"$error":"#VALUE!"}},{"$f":"COUNTIF(IF(ISERROR(INDIRECT(\"'Børn \"&A232&\"'!$H$68\",TRUE)),\"\",INDIRECT(\"'Børn \"&A232&\"'!$H$68\",TRUE)),3)","v":{"$error":"#VALUE!"}},{"$f":"COUNTIF(IF(ISERROR(INDIRECT(\"'Børn \"&A232&\"'!$H$79\",TRUE)),\"\",INDIRECT(\"'Børn \"&A232&\"'!$H$79\",TRUE)),3)","v":{"$error":"#VALUE!"}},{"$f":"COUNTIF(IF(ISERROR(INDIRECT(\"'Børn \"&A232&\"'!$H$87\",TRUE)),\"\",INDIRECT(\"'Børn \"&A232&\"'!$H$87\",TRUE)),3)","v":{"$error":"#VALUE!"}},null,null,null,"Tilsyn 86",{"$f":"IF(INDIRECT(\"'Voksen \"&U232&\"'!$c$112\")=\"\",\"\",IFERROR(INDIRECT(\"'Voksen \"&U232&\"'!$c$112\",TRUE),\"\"))","v":{"$error":"#REF!"}},{"$f":"IF(INDIRECT(\"'Voksen \"&U232&\"'!$c$133\")=\"\",\"\",IFERROR(INDIRECT(\"'Voksen \"&U232&\"'!$c$133\",TRUE),\"\"))","v":{"$error":"#REF!"}},{"$f":"IF(INDIRECT(\"'Voksen \"&U232&\"'!$c$154\")=\"\",\"\",IFERROR(INDIRECT(\"'Voksen \"&U232&\"'!$c$154\",TRUE),\"\"))","v":{"$error":"#REF!"}},{"$f":"IF(INDIRECT(\"'Voksen \"&U232&\"'!$c$169\")=\"\",\"\",IFERROR(INDIRECT(\"'Voksen \"&U232&\"'!$c$169\",TRUE),\"\"))","v":{"$error":"#REF!"}},{"$f":"IF(INDIRECT(\"'Voksen \"&U232&\"'!$c$186\")=\"\",\"\",IFERROR(INDIRECT(\"'Voksen \"&U232&\"'!$c$186\",TRUE),\"\"))","v":{"$error":"#REF!"}},{"$f":"IF(INDIRECT(\"'Voksen \"&U232&\"'!$c$207\")=\"\",\"\",IFERROR(INDIRECT(\"'Voksen \"&U232&\"'!$c$207\",TRUE),\"\"))","v":{"$error":"#REF!"}},{"$f":"IF(INDIRECT(\"'Voksen \"&U232&\"'!$c$229\")=\"\",\"\",IFERROR(INDIRECT(\"'Voksen \"&U232&\"'!$c$229\",TRUE),\"\"))","v":{"$error":"#REF!"}},{"$f":"IF(INDIRECT(\"'Voksen \"&U232&\"'!$c$255\")=\"\",\"\",IFERROR(INDIRECT(\"'Voksen \"&U232&\"'!$c$255\",TRUE),\"\"))","v":{"$error":"#REF!"}},null,{"$f":"IF(INDIRECT(\"'Børn \"&U232&\"'!$c$123\")=\"\",\"\",IFERROR(INDIRECT(\"'Børn \"&U232&\"'!$c$123\",TRUE),\"\"))","v":{"$error":"#REF!"}},{"$f":"IF(INDIRECT(\"'Børn \"&U232&\"'!$c$139\")=\"\",\"\",IFERROR(INDIRECT(\"'Børn \"&U232&\"'!$c$139\",TRUE),\"\"))","v":{"$error":"#REF!"}},{"$f":"IF(INDIRECT(\"'Børn \"&U232&\"'!$c$163\")=\"\",\"\",IFERROR(INDIRECT(\"'Børn \"&U232&\"'!$c$163\",TRUE),\"\"))","v":{"$error":"#REF!"}},{"$f":"IF(INDIRECT(\"'Børn \"&U232&\"'!$c$177\")=\"\",\"\",IFERROR(INDIRECT(\"'Børn \"&U232&\"'!$c$177\",TRUE),\"\"))","v":{"$error":"#REF!"}},{"$f":"IF(INDIRECT(\"'Børn \"&U232&\"'!$c$197\")=\"\",\"\",IFERROR(INDIRECT(\"'Børn \"&U232&\"'!$c$197\",TRUE),\"\"))","v":{"$error":"#REF!"}},{"$f":"IF(INDIRECT(\"'Børn \"&U232&\"'!$c$218\")=\"\",\"\",IFERROR(INDIRECT(\"'Børn \"&U232&\"'!$c$218\",TRUE),\"\"))","v":{"$error":"#REF!"}},{"$f":"IF(INDIRECT(\"'Børn \"&U232&\"'!$c$241\")=\"\",\"\",IFERROR(INDIRECT(\"'Børn \"&U232&\"'!$c$241\",TRUE),\"\"))","v":{"$error":"#REF!"}}]
["Tilsyn 58","Status:  grøn",{"$f":"COUNTIF(IF(ISERROR(INDIRECT(\"'Voksen \"&A233&\"'!$H$31\",TRUE)),\"\",INDIRECT(\"'Voksen \"&A233&\"'!$H$31\",TRUE)),1)","v":{"$error":"#VALUE!"}},{"$f":"COUNTIF(IF(ISERROR(INDIRECT(\"'Voksen \"&A233&\"'!$H$41\",TRUE)),\"\",INDIRECT(\"'Voksen \"&A233&\"'!$H$41\",TRUE)),1)","v":{"$error":"#VALUE!"}},{"$f":"COUNTIF(IF(ISERROR(INDIRECT(\"'Voksen \"&A233&\"'!$H$50\",TRUE)),\"\",INDIRECT(\"'Voksen \"&A233&\"'!$H$50\",TRUE)),1)","v":{"$error":"#VALUE!"}},{"$f":"COUNTIF(IF(ISERROR(INDIRECT(\"'Voksen \"&A233&\"'!$H$58\",TRUE)),\"\",INDIRECT(\"'Voksen \"&A233&\"'!$H$58\",TRUE)),1)","v":{"$error":"#VALUE!"}},{"$f":"COUNTIF(IF(ISERROR(INDIRECT(\"'Voksen \"&A233&\"'!$H$69\",TRUE)),\"\",INDIRECT(\"'Voksen \"&A233&\"'!$H$69\",TRUE)),1)","v":{"$error":"#VALUE!"}},{"$f":"COUNTIF(IF(ISERROR(INDIRECT(\"'Voksen \"&A233&\"'!$H$77\",TRUE)),\"\",INDIRECT(\"'Voksen \"&A233&\"'!$H$77\",TRUE)),1)","v":{"$error":"#VALUE!"}},null,null,{"$f":"COUNTIF(IF(ISERROR(INDIRECT(\"'Børn \"&A233&\"'!$H$31\",TRUE)),\"\",INDIRECT(\"'Børn \"&A233&\"'!$H$31\",TRUE)),1)","v":{"$error":"#VALUE!"}},{"$f":"COUNTIF(IF(ISERROR(INDIRECT(\"'Børn \"&A233&\"'!$H$44\",TRUE)),\"\",INDIRECT(\"'Børn \"&A233&\"'!$H$44\",TRUE)),1)","v":{"$error":"#VALUE!"}},{"$f":"COUNTIF(IF(ISERROR(INDIRECT(\"'Børn \"&A233&\"'!$H$53\",TRUE)),\"\",INDIRECT(\"'Børn \"&A233&\"'!$H$53\",TRUE)),1)","v":{"$error":"#VALUE!"}},{"$f":"COUNTIF(IF(ISERROR(INDIRECT(\"'Børn \"&A233&\"'!$H$61\",TRUE)),\"\",INDIRECT(\"'Børn \"&A233&\"'!$H$61\",TRUE)),1)","v":{"$error":"#VALUE!"}},{"$f":"COUNTIF(IF(ISERROR(INDIRECT(\"'Børn \"&A233&\"'!$H$68\",TRUE)),\"\",INDIRECT(\"'Børn \"&A233&\"'!$H$68\",TRUE)),1)","v":{"$error":"#VALUE!"}},{"$f":"COUNTIF(IF(ISERROR(INDIRECT(\"'Børn \"&A233&\"'!$H$79\",TRUE)),\"\",INDIRECT(\"'Børn \"&A233&\"'!$H$79\",TRUE)),1)","v":{"$error":"#VALUE!"}},{"$f":"COUNTIF(IF(ISERROR(INDIRECT(\"'Børn \"&A233&\"'!$H$87\",TRUE)),\"\",INDIRECT(\"'Børn \"&A233&\"'!$H$87\",TRUE)),1)","v":{"$error":"#VALUE!"}},null,null,null,{"$f":"U232","v":"Tilsyn 86"},{"$f":"IF(INDIRECT(\"'Voksen \"&U233&\"'!$c$115\")=\"\",\"\",IFERROR(INDIRECT(\"'Voksen \"&U233&\"'!$c$115\",TRUE),\"\"))","v":{"$error":"#REF!"}},{"$f":"IF(INDIRECT(\"'Voksen \"&U233&\"'!$c$136\")=\"\",\"\",IFERROR(INDIRECT(\"'Voksen \"&U233&\"'!$c$136\",TRUE),\"\"))","v":{"$error":"#REF!"}},{"$f":"IF(INDIRECT(\"'Voksen \"&U233&\"'!$c$157\")=\"\",\"\",IFERROR(INDIRECT(\"'Voksen \"&U233&\"'!$c$157\",TRUE),\"\"))","v":{"$error":"#REF!"}},{"$f":"IF(INDIRECT(\"'Voksen \"&U233&\"'!$c$172\")=\"\",\"\",IFERROR(INDIRECT(\"'Voksen \"&U233&\"'!$c$172\",TRUE),\"\"))","v":{"$error":"#REF!"}},{"$f":"IF(INDIRECT(\"'Voksen \"&U233&\"'!$c$189\")=\"\",\"\",IFERROR(INDIRECT(\"'Voksen \"&U233&\"'!$c$189\",TRUE),\"\"))","v":{"$error":"#REF!"}},{"$f":"IF(INDIRECT(\"'Voksen \"&U233&\"'!$c$210\")=\"\",\"\",IFERROR(INDIRECT(\"'Voksen \"&U233&\"'!$c$210\",TRUE),\"\"))","v":{"$error":"#REF!"}},{"$f":"IF(INDIRECT(\"'Voksen \"&U233&\"'!$c$232\")=\"\",\"\",IFERROR(INDIRECT(\"'Voksen \"&U233&\"'!$c$232\",TRUE),\"\"))","v":{"$error":"#REF!"}},{"$f":"IF(INDIRECT(\"'Voksen \"&U233&\"'!$c$258\")=\"\",\"\",IFERROR(INDIRECT(\"'Voksen \"&U233&\"'!$c$258\",TRUE),\"\"))","v":{"$error":"#REF!"}},null,{"$f":"IF(INDIRECT(\"'Børn \"&U233&\"'!$c$126\")=\"\",\"\",IFERROR(INDIRECT(\"'Børn \"&U233&\"'!$c$126\",TRUE),\"\"))","v":{"$error":"#REF!"}},{"$f":"IF(INDIRECT(\"'Børn \"&U233&\"'!$c$142\")=\"\",\"\",IFERROR(INDIRECT(\"'Børn \"&U233&\"'!$c$142\",TRUE),\"\"))","v":{"$error":"#REF!"}},{"$f":"IF(INDIRECT(\"'Børn \"&U233&\"'!$c$166\")=\"\",\"\",IFERROR(INDIRECT(\"'Børn \"&U233&\"'!$c$166\",TRUE),\"\"))","v":{"$error":"#REF!"}},{"$f":"IF(INDIRECT(\"'Børn \"&U233&\"'!$c$180\")=\"\",\"\",IFERROR(INDIRECT(\"'Børn \"&U233&\"'!$c$180\",TRUE),\"\"))","v":{"$error":"#REF!"}},{"$f":"IF(INDIRECT(\"'Børn \"&U233&\"'!$c$200\")=\"\",\"\",IFERROR(INDIRECT(\"'Børn \"&U233&\"'!$c$200\",TRUE),\"\"))","v":{"$error":"#REF!"}},{"$f":"IF(INDIRECT(\"'Børn \"&U233&\"'!$c$221\")=\"\",\"\",IFERROR(INDIRECT(\"'Børn \"&U233&\"'!$c$221\",TRUE),\"\"))","v":{"$error":"#REF!"}},{"$f":"IF(INDIRECT(\"'Børn \"&U233&\"'!$c$244\")=\"\",\"\",IFERROR(INDIRECT(\"'Børn \"&U233&\"'!$c$244\",TRUE),\"\"))","v":{"$error":"#REF!"}}]
["Tilsyn 58","Status:  gul",{"$f":"COUNTIF(IF(ISERROR(INDIRECT(\"'Voksen \"&A234&\"'!$H$31\",TRUE)),\"\",INDIRECT(\"'Voksen \"&A234&\"'!$H$31\",TRUE)),2)","v":{"$error":"#VALUE!"}},{"$f":"COUNTIF(IF(ISERROR(INDIRECT(\"'Voksen \"&A234&\"'!$H$41\",TRUE)),\"\",INDIRECT(\"'Voksen \"&A234&\"'!$H$41\",TRUE)),2)","v":{"$error":"#VALUE!"}},{"$f":"COUNTIF(IF(ISERROR(INDIRECT(\"'Voksen \"&A234&\"'!$H$50\",TRUE)),\"\",INDIRECT(\"'Voksen \"&A234&\"'!$H$50\",TRUE)),2)","v":{"$error":"#VALUE!"}},{"$f":"COUNTIF(IF(ISERROR(INDIRECT(\"'Voksen \"&A234&\"'!$H$58\",TRUE)),\"\",INDIRECT(\"'Voksen \"&A234&\"'!$H$58\",TRUE)),2)","v":{"$error":"#VALUE!"}},{"$f":"COUNTIF(IF(ISERROR(INDIRECT(\"'Voksen \"&A234&\"'!$H$69\",TRUE)),\"\",INDIRECT(\"'Voksen \"&A234&\"'!$H$69\",TRUE)),2)","v":{"$error":"#VALUE!"}},{"$f":"COUNTIF(IF(ISERROR(INDIRECT(\"'Voksen \"&A234&\"'!$H$77\",TRUE)),\"\",INDIRECT(\"'Voksen \"&A234&\"'!$H$77\",TRUE)),2)","v":{"$error":"#VALUE!"}},null,null,{"$f":"COUNTIF(IF(ISERROR(INDIRECT(\"'Børn \"&A234&\"'!$H$31\",TRUE)),\"\",INDIRECT(\"'Børn \"&A234&\"'!$H$31\",TRUE)),2)","v":{"$error":"#VALUE!"}},{"$f":"COUNTIF(IF(ISERROR(INDIRECT(\"'Børn \"&A234&\"'!$H$44\",TRUE)),\"\",INDIRECT(\"'Børn \"&A234&\"'!$H$44\",TRUE)),2)","v":{"$error":"#VALUE!"}},{"$f":"COUNTIF(IF(ISERROR(INDIRECT(\"'Børn \"&A234&\"'!$H$53\",TRUE)),\"\",INDIRECT(\"'Børn \"&A234&\"'!$H$53\",TRUE)),2)","v":{"$error":"#VALUE!"}},{"$f":"COUNTIF(IF(ISERROR(INDIRECT(\"'Børn \"&A234&\"'!$H$61\",TRUE)),\"\",INDIRECT(\"'Børn \"&A234&\"'!$H$61\",TRUE)),2)","v":{"$error":"#VALUE!"}},{"$f":"COUNTIF(IF(ISERROR(INDIRECT(\"'Børn \"&A234&\"'!$H$68\",TRUE)),\"\",INDIRECT(\"'Børn \"&A234&\"'!$H$68\",TRUE)),2)","v":{"$error":"#VALUE!"}},{"$f":"COUNTIF(IF(ISERROR(INDIRECT(\"'Børn \"&A234&\"'!$H$79\",TRUE)),\"\",INDIRECT(\"'Børn \"&A234&\"'!$H$79\",TRUE)),2)","v":{"$error":"#VALUE!"}},{"$f":"COUNTIF(IF(ISERROR(INDIRECT(\"'Børn \"&A234&\"'!$H$87\",TRUE)),\"\",INDIRECT(\"'Børn \"&A234&\"'!$H$87\",TRUE)),2)","v":{"$error":"#VALUE!"}},null,null,null,"Tilsyn 87",{"$f":"IF(INDIRECT(\"'Voksen \"&U234&\"'!$c$112\")=\"\",\"\",IFERROR(INDIRECT(\"'Voksen \"&U234&\"'!$c$112\",TRUE),\"\"))","v":{"$error":"#REF!"}},{"$f":"IF(INDIRECT(\"'Voksen \"&U234&\"'!$c$133\")=\"\",\"\",IFERROR(INDIRECT(\"'Voksen \"&U234&\"'!$c$133\",TRUE),\"\"))","v":{"$error":"#REF!"}},{"$f":"IF(INDIRECT(\"'Voksen \"&U234&\"'!$c$154\")=\"\",\"\",IFERROR(INDIRECT(\"'Voksen \"&U234&\"'!$c$154\",TRUE),\"\"))","v":{"$error":"#REF!"}},{"$f":"IF(INDIRECT(\"'Voksen \"&U234&\"'!$c$169\")=\"\",\"\",IFERROR(INDIRECT(\"'Voksen \"&U234&\"'!$c$169\",TRUE),\"\"))","v":{"$error":"#REF!"}},{"$f":"IF(INDIRECT(\"'Voksen \"&U234&\"'!$c$186\")=\"\",\"\",IFERROR(INDIRECT(\"'Voksen \"&U234&\"'!$c$186\",TRUE),\"\"))","v":{"$error":"#REF!"}},{"$f":"IF(INDIRECT(\"'Voksen \"&U234&\"'!$c$207\")=\"\",\"\",IFERROR(INDIRECT(\"'Voksen \"&U234&\"'!$c$207\",TRUE),\"\"))","v":{"$error":"#REF!"}},{"$f":"IF(INDIRECT(\"'Voksen \"&U234&\"'!$c$229\")=\"\",\"\",IFERROR(INDIRECT(\"'Voksen \"&U234&\"'!$c$229\",TRUE),\"\"))","v":{"$error":"#REF!"}},{"$f":"IF(INDIRECT(\"'Voksen \"&U234&\"'!$c$255\")=\"\",\"\",IFERROR(INDIRECT(\"'Voksen \"&U234&\"'!$c$255\",TRUE),\"\"))","v":{"$error":"#REF!"}},null,{"$f":"IF(INDIRECT(\"'Børn \"&U234&\"'!$c$123\")=\"\",\"\",IFERROR(INDIRECT(\"'Børn \"&U234&\"'!$c$123\",TRUE),\"\"))","v":{"$error":"#REF!"}},{"$f":"IF(INDIRECT(\"'Børn \"&U234&\"'!$c$139\")=\"\",\"\",IFERROR(INDIRECT(\"'Børn \"&U234&\"'!$c$139\",TRUE),\"\"))","v":{"$error":"#REF!"}},{"$f":"IF(INDIRECT(\"'Børn \"&U234&\"'!$c$163\")=\"\",\"\",IFERROR(INDIRECT(\"'Børn \"&U234&\"'!$c$163\",TRUE),\"\"))","v":{"$error":"#REF!"}},{"$f":"IF(INDIRECT(\"'Børn \"&U234&\"'!$c$177\")=\"\",\"\",IFERROR(INDIRECT(\"'Børn \"&U234&\"'!$c$177\",TRUE),\"\"))","v":{"$error":"#REF!"}},{"$f":"IF(INDIRECT(\"'Børn \"&U234&\"'!$c$197\")=\"\",\"\",IFERROR(INDIRECT(\"'Børn \"&U234&\"'!$c$197\",TRUE),\"\"))","v":{"$error":"#REF!"}},{"$f":"IF(INDIRECT(\"'Børn \"&U234&\"'!$c$218\")=\"\",\"\",IFERROR(INDIRECT(\"'Børn \"&U234&\"'!$c$218\",TRUE),\"\"))","v":{"$error":"#REF!"}},{"$f":"IF(INDIRECT(\"'Børn \"&U234&\"'!$c$241\")=\"\",\"\",IFERROR(INDIRECT(\"'Børn \"&U234&\"'!$c$241\",TRUE),\"\"))","v":{"$error":"#REF!"}}]
["Tilsyn 58","Status:  rød",{"$f":"COUNTIF(IF(ISERROR(INDIRECT(\"'Voksen \"&A235&\"'!$H$31\",TRUE)),\"\",INDIRECT(\"'Voksen \"&A235&\"'!$H$31\",TRUE)),3)","v":{"$error":"#VALUE!"}},{"$f":"COUNTIF(IF(ISERROR(INDIRECT(\"'Voksen \"&A235&\"'!$H$41\",TRUE)),\"\",INDIRECT(\"'Voksen \"&A235&\"'!$H$41\",TRUE)),3)","v":{"$error":"#VALUE!"}},{"$f":"COUNTIF(IF(ISERROR(INDIRECT(\"'Voksen \"&A235&\"'!$H$50\",TRUE)),\"\",INDIRECT(\"'Voksen \"&A235&\"'!$H$50\",TRUE)),3)","v":{"$error":"#VALUE!"}},{"$f":"COUNTIF(IF(ISERROR(INDIRECT(\"'Voksen \"&A235&\"'!$H$58\",TRUE)),\"\",INDIRECT(\"'Voksen \"&A235&\"'!$H$58\",TRUE)),3)","v":{"$error":"#VALUE!"}},{"$f":"COUNTIF(IF(ISERROR(INDIRECT(\"'Voksen \"&A235&\"'!$H$69\",TRUE)),\"\",INDIRECT(\"'Voksen \"&A235&\"'!$H$69\",TRUE)),3)","v":{"$error":"#VALUE!"}},{"$f":"COUNTIF(IF(ISERROR(INDIRECT(\"'Voksen \"&A235&\"'!$H$77\",TRUE)),\"\",INDIRECT(\"'Voksen \"&A235&\"'!$H$77\",TRUE)),3)","v":{"$error":"#VALUE!"}},null,null,{"$f":"COUNTIF(IF(ISERROR(INDIRECT(\"'Børn \"&A235&\"'!$H$31\",TRUE)),\"\",INDIRECT(\"'Børn \"&A235&\"'!$H$31\",TRUE)),3)","v":{"$error":"#VALUE!"}},{"$f":"COUNTIF(IF(ISERROR(INDIRECT(\"'Børn \"&A235&\"'!$H$44\",TRUE)),\"\",INDIRECT(\"'Børn \"&A235&\"'!$H$44\",TRUE)),3)","v":{"$error":"#VALUE!"}},{"$f":"COUNTIF(IF(ISERROR(INDIRECT(\"'Børn \"&A235&\"'!$H$53\",TRUE)),\"\",INDIRECT(\"'Børn \"&A235&\"'!$H$53\",TRUE)),3)","v":{"$error":"#VALUE!"}},{"$f":"COUNTIF(IF(ISERROR(INDIRECT(\"'Børn \"&A235&\"'!$H$61\",TRUE)),\"\",INDIRECT(\"'Børn \"&A235&\"'!$H$61\",TRUE)),3)","v":{"$error":"#VALUE!"}},{"$f":"COUNTIF(IF(ISERROR(INDIRECT(\"'Børn \"&A235&\"'!$H$68\",TRUE)),\"\",INDIRECT(\"'Børn \"&A235&\"'!$H$68\",TRUE)),3)","v":{"$error":"#VALUE!"}},{"$f":"COUNTIF(IF(ISERROR(INDIRECT(\"'Børn \"&A235&\"'!$H$79\",TRUE)),\"\",INDIRECT(\"'Børn \"&A235&\"'!$H$79\",TRUE)),3)","v":{"$error":"#VALUE!"}},{"$f":"COUNTIF(IF(ISERROR(INDIRECT(\"'Børn \"&A235&\"'!$H$87\",TRUE)),\"\",INDIRECT(\"'Børn \"&A235&\"'!$H$87\",TRUE)),3)","v":{"$error":"#VALUE!"}},null,null,null,{"$f":"U234","v":"Tilsyn 87"},{"$f":"IF(INDIRECT(\"'Voksen \"&U235&\"'!$c$115\")=\"\",\"\",IFERROR(INDIRECT(\"'Voksen \"&U235&\"'!$c$115\",TRUE),\"\"))","v":{"$error":"#REF!"}},{"$f":"IF(INDIRECT(\"'Voksen \"&U235&\"'!$c$136\")=\"\",\"\",IFERROR(INDIRECT(\"'Voksen \"&U235&\"'!$c$136\",TRUE),\"\"))","v":{"$error":"#REF!"}},{"$f":"IF(INDIRECT(\"'Voksen \"&U235&\"'!$c$157\")=\"\",\"\",IFERROR(INDIRECT(\"'Voksen \"&U235&\"'!$c$157\",TRUE),\"\"))","v":{"$error":"#REF!"}},{"$f":"IF(INDIRECT(\"'Voksen \"&U235&\"'!$c$172\")=\"\",\"\",IFERROR(INDIRECT(\"'Voksen \"&U235&\"'!$c$172\",TRUE),\"\"))","v":{"$error":"#REF!"}},{"$f":"IF(INDIRECT(\"'Voksen \"&U235&\"'!$c$189\")=\"\",\"\",IFERROR(INDIRECT(\"'Voksen \"&U235&\"'!$c$189\",TRUE),\"\"))","v":{"$error":"#REF!"}},{"$f":"IF(INDIRECT(\"'Voksen \"&U235&\"'!$c$210\")=\"\",\"\",IFERROR(INDIRECT(\"'Voksen \"&U235&\"'!$c$210\",TRUE),\"\"))","v":{"$error":"#REF!"}},{"$f":"IF(INDIRECT(\"'Voksen \"&U235&\"'!$c$232\")=\"\",\"\",IFERROR(INDIRECT(\"'Voksen \"&U235&\"'!$c$232\",TRUE),\"\"))","v":{"$error":"#REF!"}},{"$f":"IF(INDIRECT(\"'Voksen \"&U235&\"'!$c$258\")=\"\",\"\",IFERROR(INDIRECT(\"'Voksen \"&U235&\"'!$c$258\",TRUE),\"\"))","v":{"$error":"#REF!"}},null,{"$f":"IF(INDIRECT(\"'Børn \"&U235&\"'!$c$126\")=\"\",\"\",IFERROR(INDIRECT(\"'Børn \"&U235&\"'!$c$126\",TRUE),\"\"))","v":{"$error":"#REF!"}},{"$f":"IF(INDIRECT(\"'Børn \"&U235&\"'!$c$142\")=\"\",\"\",IFERROR(INDIRECT(\"'Børn \"&U235&\"'!$c$142\",TRUE),\"\"))","v":{"$error":"#REF!"}},{"$f":"IF(INDIRECT(\"'Børn \"&U235&\"'!$c$166\")=\"\",\"\",IFERROR(INDIRECT(\"'Børn \"&U235&\"'!$c$166\",TRUE),\"\"))","v":{"$error":"#REF!"}},{"$f":"IF(INDIRECT(\"'Børn \"&U235&\"'!$c$180\")=\"\",\"\",IFERROR(INDIRECT(\"'Børn \"&U235&\"'!$c$180\",TRUE),\"\"))","v":{"$error":"#REF!"}},{"$f":"IF(INDIRECT(\"'Børn \"&U235&\"'!$c$200\")=\"\",\"\",IFERROR(INDIRECT(\"'Børn \"&U235&\"'!$c$200\",TRUE),\"\"))","v":{"$error":"#REF!"}},{"$f":"IF(INDIRECT(\"'Børn \"&U235&\"'!$c$221\")=\"\",\"\",IFERROR(INDIRECT(\"'Børn \"&U235&\"'!$c$221\",TRUE),\"\"))","v":{"$error":"#REF!"}},{"$f":"IF(INDIRECT(\"'Børn \"&U235&\"'!$c$244\")=\"\",\"\",IFERROR(INDIRECT(\"'Børn \"&U235&\"'!$c$244\",TRUE),\"\"))","v":{"$error":"#REF!"}}]
["Tilsyn 59","Status:  grøn",{"$f":"COUNTIF(IF(ISERROR(INDIRECT(\"'Voksen \"&A236&\"'!$H$31\",TRUE)),\"\",INDIRECT(\"'Voksen \"&A236&\"'!$H$31\",TRUE)),1)","v":{"$error":"#VALUE!"}},{"$f":"COUNTIF(IF(ISERROR(INDIRECT(\"'Voksen \"&A236&\"'!$H$41\",TRUE)),\"\",INDIRECT(\"'Voksen \"&A236&\"'!$H$41\",TRUE)),1)","v":{"$error":"#VALUE!"}},{"$f":"COUNTIF(IF(ISERROR(INDIRECT(\"'Voksen \"&A236&\"'!$H$50\",TRUE)),\"\",INDIRECT(\"'Voksen \"&A236&\"'!$H$50\",TRUE)),1)","v":{"$error":"#VALUE!"}},{"$f":"COUNTIF(IF(ISERROR(INDIRECT(\"'Voksen \"&A236&\"'!$H$58\",TRUE)),\"\",INDIRECT(\"'Voksen \"&A236&\"'!$H$58\",TRUE)),1)","v":{"$error":"#VALUE!"}},{"$f":"COUNTIF(IF(ISERROR(INDIRECT(\"'Voksen \"&A236&\"'!$H$69\",TRUE)),\"\",INDIRECT(\"'Voksen \"&A236&\"'!$H$69\",TRUE)),1)","v":{"$error":"#VALUE!"}},{"$f":"COUNTIF(IF(ISERROR(INDIRECT(\"'Voksen \"&A236&\"'!$H$77\",TRUE)),\"\",INDIRECT(\"'Voksen \"&A236&\"'!$H$77\",TRUE)),1)","v":{"$error":"#VALUE!"}},null,null,{"$f":"COUNTIF(IF(ISERROR(INDIRECT(\"'Børn \"&A236&\"'!$H$31\",TRUE)),\"\",INDIRECT(\"'Børn \"&A236&\"'!$H$31\",TRUE)),1)","v":{"$error":"#VALUE!"}},{"$f":"COUNTIF(IF(ISERROR(INDIRECT(\"'Børn \"&A236&\"'!$H$44\",TRUE)),\"\",INDIRECT(\"'Børn \"&A236&\"'!$H$44\",TRUE)),1)","v":{"$error":"#VALUE!"}},{"$f":"COUNTIF(IF(ISERROR(INDIRECT(\"'Børn \"&A236&\"'!$H$53\",TRUE)),\"\",INDIRECT(\"'Børn \"&A236&\"'!$H$53\",TRUE)),1)","v":{"$error":"#VALUE!"}},{"$f":"COUNTIF(IF(ISERROR(INDIRECT(\"'Børn \"&A236&\"'!$H$61\",TRUE)),\"\",INDIRECT(\"'Børn \"&A236&\"'!$H$61\",TRUE)),1)","v":{"$error":"#VALUE!"}},{"$f":"COUNTIF(IF(ISERROR(INDIRECT(\"'Børn \"&A236&\"'!$H$68\",TRUE)),\"\",INDIRECT(\"'Børn \"&A236&\"'!$H$68\",TRUE)),1)","v":{"$error":"#VALUE!"}},{"$f":"COUNTIF(IF(ISERROR(INDIRECT(\"'Børn \"&A236&\"'!$H$79\",TRUE)),\"\",INDIRECT(\"'Børn \"&A236&\"'!$H$79\",TRUE)),1)","v":{"$error":"#VALUE!"}},{"$f":"COUNTIF(IF(ISERROR(INDIRECT(\"'Børn \"&A236&\"'!$H$87\",TRUE)),\"\",INDIRECT(\"'Børn \"&A236&\"'!$H$87\",TRUE)),1)","v":{"$error":"#VALUE!"}},null,null,null,"Tilsyn 88",{"$f":"IF(INDIRECT(\"'Voksen \"&U236&\"'!$c$112\")=\"\",\"\",IFERROR(INDIRECT(\"'Voksen \"&U236&\"'!$c$112\",TRUE),\"\"))","v":{"$error":"#REF!"}},{"$f":"IF(INDIRECT(\"'Voksen \"&U236&\"'!$c$133\")=\"\",\"\",IFERROR(INDIRECT(\"'Voksen \"&U236&\"'!$c$133\",TRUE),\"\"))","v":{"$error":"#REF!"}},{"$f":"IF(INDIRECT(\"'Voksen \"&U236&\"'!$c$154\")=\"\",\"\",IFERROR(INDIRECT(\"'Voksen \"&U236&\"'!$c$154\",TRUE),\"\"))","v":{"$error":"#REF!"}},{"$f":"IF(INDIRECT(\"'Voksen \"&U236&\"'!$c$169\")=\"\",\"\",IFERROR(INDIRECT(\"'Voksen \"&U236&\"'!$c$169\",TRUE),\"\"))","v":{"$error":"#REF!"}},{"$f":"IF(INDIRECT(\"'Voksen \"&U236&\"'!$c$186\")=\"\",\"\",IFERROR(INDIRECT(\"'Voksen \"&U236&\"'!$c$186\",TRUE),\"\"))","v":{"$error":"#REF!"}},{"$f":"IF(INDIRECT(\"'Voksen \"&U236&\"'!$c$207\")=\"\",\"\",IFERROR(INDIRECT(\"'Voksen \"&U236&\"'!$c$207\",TRUE),\"\"))","v":{"$error":"#REF!"}},{"$f":"IF(INDIRECT(\"'Voksen \"&U236&\"'!$c$229\")=\"\",\"\",IFERROR(INDIRECT(\"'Voksen \"&U236&\"'!$c$229\",TRUE),\"\"))","v":{"$error":"#REF!"}},{"$f":"IF(INDIRECT(\"'Voksen \"&U236&\"'!$c$255\")=\"\",\"\",IFERROR(INDIRECT(\"'Voksen \"&U236&\"'!$c$255\",TRUE),\"\"))","v":{"$error":"#REF!"}},null,{"$f":"IF(INDIRECT(\"'Børn \"&U236&\"'!$c$123\")=\"\",\"\",IFERROR(INDIRECT(\"'Børn \"&U236&\"'!$c$123\",TRUE),\"\"))","v":{"$error":"#REF!"}},{"$f":"IF(INDIRECT(\"'Børn \"&U236&\"'!$c$139\")=\"\",\"\",IFERROR(INDIRECT(\"'Børn \"&U236&\"'!$c$139\",TRUE),\"\"))","v":{"$error":"#REF!"}},{"$f":"IF(INDIRECT(\"'Børn \"&U236&\"'!$c$163\")=\"\",\"\",IFERROR(INDIRECT(\"'Børn \"&U236&\"'!$c$163\",TRUE),\"\"))","v":{"$error":"#REF!"}},{"$f":"IF(INDIRECT(\"'Børn \"&U236&\"'!$c$177\")=\"\",\"\",IFERROR(INDIRECT(\"'Børn \"&U236&\"'!$c$177\",TRUE),\"\"))","v":{"$error":"#REF!"}},{"$f":"IF(INDIRECT(\"'Børn \"&U236&\"'!$c$197\")=\"\",\"\",IFERROR(INDIRECT(\"'Børn \"&U236&\"'!$c$197\",TRUE),\"\"))","v":{"$error":"#REF!"}},{"$f":"IF(INDIRECT(\"'Børn \"&U236&\"'!$c$218\")=\"\",\"\",IFERROR(INDIRECT(\"'Børn \"&U236&\"'!$c$218\",TRUE),\"\"))","v":{"$error":"#REF!"}},{"$f":"IF(INDIRECT(\"'Børn \"&U236&\"'!$c$241\")=\"\",\"\",IFERROR(INDIRECT(\"'Børn \"&U236&\"'!$c$241\",TRUE),\"\"))","v":{"$error":"#REF!"}}]
["Tilsyn 59","Status:  gul",{"$f":"COUNTIF(IF(ISERROR(INDIRECT(\"'Voksen \"&A237&\"'!$H$31\",TRUE)),\"\",INDIRECT(\"'Voksen \"&A237&\"'!$H$31\",TRUE)),2)","v":{"$error":"#VALUE!"}},{"$f":"COUNTIF(IF(ISERROR(INDIRECT(\"'Voksen \"&A237&\"'!$H$41\",TRUE)),\"\",INDIRECT(\"'Voksen \"&A237&\"'!$H$41\",TRUE)),2)","v":{"$error":"#VALUE!"}},{"$f":"COUNTIF(IF(ISERROR(INDIRECT(\"'Voksen \"&A237&\"'!$H$50\",TRUE)),\"\",INDIRECT(\"'Voksen \"&A237&\"'!$H$50\",TRUE)),2)","v":{"$error":"#VALUE!"}},{"$f":"COUNTIF(IF(ISERROR(INDIRECT(\"'Voksen \"&A237&\"'!$H$58\",TRUE)),\"\",INDIRECT(\"'Voksen \"&A237&\"'!$H$58\",TRUE)),2)","v":{"$error":"#VALUE!"}},{"$f":"COUNTIF(IF(ISERROR(INDIRECT(\"'Voksen \"&A237&\"'!$H$69\",TRUE)),\"\",INDIRECT(\"'Voksen \"&A237&\"'!$H$69\",TRUE)),2)","v":{"$error":"#VALUE!"}},{"$f":"COUNTIF(IF(ISERROR(INDIRECT(\"'Voksen \"&A237&\"'!$H$77\",TRUE)),\"\",INDIRECT(\"'Voksen \"&A237&\"'!$H$77\",TRUE)),2)","v":{"$error":"#VALUE!"}},null,null,{"$f":"COUNTIF(IF(ISERROR(INDIRECT(\"'Børn \"&A237&\"'!$H$31\",TRUE)),\"\",INDIRECT(\"'Børn \"&A237&\"'!$H$31\",TRUE)),2)","v":{"$error":"#VALUE!"}},{"$f":"COUNTIF(IF(ISERROR(INDIRECT(\"'Børn \"&A237&\"'!$H$44\",TRUE)),\"\",INDIRECT(\"'Børn \"&A237&\"'!$H$44\",TRUE)),2)","v":{"$error":"#VALUE!"}},{"$f":"COUNTIF(IF(ISERROR(INDIRECT(\"'Børn \"&A237&\"'!$H$53\",TRUE)),\"\",INDIRECT(\"'Børn \"&A237&\"'!$H$53\",TRUE)),2)","v":{"$error":"#VALUE!"}},{"$f":"COUNTIF(IF(ISERROR(INDIRECT(\"'Børn \"&A237&\"'!$H$61\",TRUE)),\"\",INDIRECT(\"'Børn \"&A237&\"'!$H$61\",TRUE)),2)","v":{"$error":"#VALUE!"}},{"$f":"COUNTIF(IF(ISERROR(INDIRECT(\"'Børn \"&A237&\"'!$H$68\",TRUE)),\"\",INDIRECT(\"'Børn \"&A237&\"'!$H$68\",TRUE)),2)","v":{"$error":"#VALUE!"}},{"$f":"COUNTIF(IF(ISERROR(INDIRECT(\"'Børn \"&A237&\"'!$H$79\",TRUE)),\"\",INDIRECT(\"'Børn \"&A237&\"'!$H$79\",TRUE)),2)","v":{"$error":"#VALUE!"}},{"$f":"COUNTIF(IF(ISERROR(INDIRECT(\"'Børn \"&A237&\"'!$H$87\",TRUE)),\"\",INDIRECT(\"'Børn \"&A237&\"'!$H$87\",TRUE)),2)","v":{"$error":"#VALUE!"}},null,null,null,{"$f":"U236","v":"Tilsyn 88"},{"$f":"IF(INDIRECT(\"'Voksen \"&U237&\"'!$c$115\")=\"\",\"\",IFERROR(INDIRECT(\"'Voksen \"&U237&\"'!$c$115\",TRUE),\"\"))","v":{"$error":"#REF!"}},{"$f":"IF(INDIRECT(\"'Voksen \"&U237&\"'!$c$136\")=\"\",\"\",IFERROR(INDIRECT(\"'Voksen \"&U237&\"'!$c$136\",TRUE),\"\"))","v":{"$error":"#REF!"}},{"$f":"IF(INDIRECT(\"'Voksen \"&U237&\"'!$c$157\")=\"\",\"\",IFERROR(INDIRECT(\"'Voksen \"&U237&\"'!$c$157\",TRUE),\"\"))","v":{"$error":"#REF!"}},{"$f":"IF(INDIRECT(\"'Voksen \"&U237&\"'!$c$172\")=\"\",\"\",IFERROR(INDIRECT(\"'Voksen \"&U237&\"'!$c$172\",TRUE),\"\"))","v":{"$error":"#REF!"}},{"$f":"IF(INDIRECT(\"'Voksen \"&U237&\"'!$c$189\")=\"\",\"\",IFERROR(INDIRECT(\"'Voksen \"&U237&\"'!$c$189\",TRUE),\"\"))","v":{"$error":"#REF!"}},{"$f":"IF(INDIRECT(\"'Voksen \"&U237&\"'!$c$210\")=\"\",\"\",IFERROR(INDIRECT(\"'Voksen \"&U237&\"'!$c$210\",TRUE),\"\"))","v":{"$error":"#REF!"}},{"$f":"IF(INDIRECT(\"'Voksen \"&U237&\"'!$c$232\")=\"\",\"\",IFERROR(INDIRECT(\"'Voksen \"&U237&\"'!$c$232\",TRUE),\"\"))","v":{"$error":"#REF!"}},{"$f":"IF(INDIRECT(\"'Voksen \"&U237&\"'!$c$258\")=\"\",\"\",IFERROR(INDIRECT(\"'Voksen \"&U237&\"'!$c$258\",TRUE),\"\"))","v":{"$error":"#REF!"}},null,{"$f":"IF(INDIRECT(\"'Børn \"&U237&\"'!$c$126\")=\"\",\"\",IFERROR(INDIRECT(\"'Børn \"&U237&\"'!$c$126\",TRUE),\"\"))","v":{"$error":"#REF!"}},{"$f":"IF(INDIRECT(\"'Børn \"&U237&\"'!$c$142\")=\"\",\"\",IFERROR(INDIRECT(\"'Børn \"&U237&\"'!$c$142\",TRUE),\"\"))","v":{"$error":"#REF!"}},{"$f":"IF(INDIRECT(\"'Børn \"&U237&\"'!$c$166\")=\"\",\"\",IFERROR(INDIRECT(\"'Børn \"&U237&\"'!$c$166\",TRUE),\"\"))","v":{"$error":"#REF!"}},{"$f":"IF(INDIRECT(\"'Børn \"&U237&\"'!$c$180\")=\"\",\"\",IFERROR(INDIRECT(\"'Børn \"&U237&\"'!$c$180\",TRUE),\"\"))","v":{"$error":"#REF!"}},{"$f":"IF(INDIRECT(\"'Børn \"&U237&\"'!$c$200\")=\"\",\"\",IFERROR(INDIRECT(\"'Børn \"&U237&\"'!$c$200\",TRUE),\"\"))","v":{"$error":"#REF!"}},{"$f":"IF(INDIRECT(\"'Børn \"&U237&\"'!$c$221\")=\"\",\"\",IFERROR(INDIRECT(\"'Børn \"&U237&\"'!$c$221\",TRUE),\"\"))","v":{"$error":"#REF!"}},{"$f":"IF(INDIRECT(\"'Børn \"&U237&\"'!$c$244\")=\"\",\"\",IFERROR(INDIRECT(\"'Børn \"&U237&\"'!$c$244\",TRUE),\"\"))","v":{"$error":"#REF!"}}]
["Tilsyn 59","Status:  rød",{"$f":"COUNTIF(IF(ISERROR(INDIRECT(\"'Voksen \"&A238&\"'!$H$31\",TRUE)),\"\",INDIRECT(\"'Voksen \"&A238&\"'!$H$31\",TRUE)),3)","v":{"$error":"#VALUE!"}},{"$f":"COUNTIF(IF(ISERROR(INDIRECT(\"'Voksen \"&A238&\"'!$H$41\",TRUE)),\"\",INDIRECT(\"'Voksen \"&A238&\"'!$H$41\",TRUE)),3)","v":{"$error":"#VALUE!"}},{"$f":"COUNTIF(IF(ISERROR(INDIRECT(\"'Voksen \"&A238&\"'!$H$50\",TRUE)),\"\",INDIRECT(\"'Voksen \"&A238&\"'!$H$50\",TRUE)),3)","v":{"$error":"#VALUE!"}},{"$f":"COUNTIF(IF(ISERROR(INDIRECT(\"'Voksen \"&A238&\"'!$H$58\",TRUE)),\"\",INDIRECT(\"'Voksen \"&A238&\"'!$H$58\",TRUE)),3)","v":{"$error":"#VALUE!"}},{"$f":"COUNTIF(IF(ISERROR(INDIRECT(\"'Voksen \"&A238&\"'!$H$69\",TRUE)),\"\",INDIRECT(\"'Voksen \"&A238&\"'!$H$69\",TRUE)),3)","v":{"$error":"#VALUE!"}},{"$f":"COUNTIF(IF(ISERROR(INDIRECT(\"'Voksen \"&A238&\"'!$H$77\",TRUE)),\"\",INDIRECT(\"'Voksen \"&A238&\"'!$H$77\",TRUE)),3)","v":{"$error":"#VALUE!"}},null,null,{"$f":"COUNTIF(IF(ISERROR(INDIRECT(\"'Børn \"&A238&\"'!$H$31\",TRUE)),\"\",INDIRECT(\"'Børn \"&A238&\"'!$H$31\",TRUE)),3)","v":{"$error":"#VALUE!"}},{"$f":"COUNTIF(IF(ISERROR(INDIRECT(\"'Børn \"&A238&\"'!$H$44\",TRUE)),\"\",INDIRECT(\"'Børn \"&A238&\"'!$H$44\",TRUE)),3)","v":{"$error":"#VALUE!"}},{"$f":"COUNTIF(IF(ISERROR(INDIRECT(\"'Børn \"&A238&\"'!$H$53\",TRUE)),\"\",INDIRECT(\"'Børn \"&A238&\"'!$H$53\",TRUE)),3)","v":{"$error":"#VALUE!"}},{"$f":"COUNTIF(IF(ISERROR(INDIRECT(\"'Børn \"&A238&\"'!$H$61\",TRUE)),\"\",INDIRECT(\"'Børn \"&A238&\"'!$H$61\",TRUE)),3)","v":{"$error":"#VALUE!"}},{"$f":"COUNTIF(IF(ISERROR(INDIRECT(\"'Børn \"&A238&\"'!$H$68\",TRUE)),\"\",INDIRECT(\"'Børn \"&A238&\"'!$H$68\",TRUE)),3)","v":{"$error":"#VALUE!"}},{"$f":"COUNTIF(IF(ISERROR(INDIRECT(\"'Børn \"&A238&\"'!$H$79\",TRUE)),\"\",INDIRECT(\"'Børn \"&A238&\"'!$H$79\",TRUE)),3)","v":{"$error":"#VALUE!"}},{"$f":"COUNTIF(IF(ISERROR(INDIRECT(\"'Børn \"&A238&\"'!$H$87\",TRUE)),\"\",INDIRECT(\"'Børn \"&A238&\"'!$H$87\",TRUE)),3)","v":{"$error":"#VALUE!"}},null,null,null,"Tilsyn 89",{"$f":"IF(INDIRECT(\"'Voksen \"&U238&\"'!$c$112\")=\"\",\"\",IFERROR(INDIRECT(\"'Voksen \"&U238&\"'!$c$112\",TRUE),\"\"))","v":{"$error":"#REF!"}},{"$f":"IF(INDIRECT(\"'Voksen \"&U238&\"'!$c$133\")=\"\",\"\",IFERROR(INDIRECT(\"'Voksen \"&U238&\"'!$c$133\",TRUE),\"\"))","v":{"$error":"#REF!"}},{"$f":"IF(INDIRECT(\"'Voksen \"&U238&\"'!$c$154\")=\"\",\"\",IFERROR(INDIRECT(\"'Voksen \"&U238&\"'!$c$154\",TRUE),\"\"))","v":{"$error":"#REF!"}},{"$f":"IF(INDIRECT(\"'Voksen \"&U238&\"'!$c$169\")=\"\",\"\",IFERROR(INDIRECT(\"'Voksen \"&U238&\"'!$c$169\",TRUE),\"\"))","v":{"$error":"#REF!"}},{"$f":"IF(INDIRECT(\"'Voksen \"&U238&\"'!$c$186\")=\"\",\"\",IFERROR(INDIRECT(\"'Voksen \"&U238&\"'!$c$186\",TRUE),\"\"))","v":{"$error":"#REF!"}},{"$f":"IF(INDIRECT(\"'Voksen \"&U238&\"'!$c$207\")=\"\",\"\",IFERROR(INDIRECT(\"'Voksen \"&U238&\"'!$c$207\",TRUE),\"\"))","v":{"$error":"#REF!"}},{"$f":"IF(INDIRECT(\"'Voksen \"&U238&\"'!$c$229\")=\"\",\"\",IFERROR(INDIRECT(\"'Voksen \"&U238&\"'!$c$229\",TRUE),\"\"))","v":{"$error":"#REF!"}},{"$f":"IF(INDIRECT(\"'Voksen \"&U238&\"'!$c$255\")=\"\",\"\",IFERROR(INDIRECT(\"'Voksen \"&U238&\"'!$c$255\",TRUE),\"\"))","v":{"$error":"#REF!"}},null,{"$f":"IF(INDIRECT(\"'Børn \"&U238&\"'!$c$123\")=\"\",\"\",IFERROR(INDIRECT(\"'Børn \"&U238&\"'!$c$123\",TRUE),\"\"))","v":{"$error":"#REF!"}},{"$f":"IF(INDIRECT(\"'Børn \"&U238&\"'!$c$139\")=\"\",\"\",IFERROR(INDIRECT(\"'Børn \"&U238&\"'!$c$139\",TRUE),\"\"))","v":{"$error":"#REF!"}},{"$f":"IF(INDIRECT(\"'Børn \"&U238&\"'!$c$163\")=\"\",\"\",IFERROR(INDIRECT(\"'Børn \"&U238&\"'!$c$163\",TRUE),\"\"))","v":{"$error":"#REF!"}},{"$f":"IF(INDIRECT(\"'Børn \"&U238&\"'!$c$177\")=\"\",\"\",IFERROR(INDIRECT(\"'Børn \"&U238&\"'!$c$177\",TRUE),\"\"))","v":{"$error":"#REF!"}},{"$f":"IF(INDIRECT(\"'Børn \"&U238&\"'!$c$197\")=\"\",\"\",IFERROR(INDIRECT(\"'Børn \"&U238&\"'!$c$197\",TRUE),\"\"))","v":{"$error":"#REF!"}},{"$f":"IF(INDIRECT(\"'Børn \"&U238&\"'!$c$218\")=\"\",\"\",IFERROR(INDIRECT(\"'Børn \"&U238&\"'!$c$218\",TRUE),\"\"))","v":{"$error":"#REF!"}},{"$f":"IF(INDIRECT(\"'Børn \"&U238&\"'!$c$241\")=\"\",\"\",IFERROR(INDIRECT(\"'Børn \"&U238&\"'!$c$241\",TRUE),\"\"))","v":{"$error":"#REF!"}}]
["Tilsyn 60","Status:  grøn",{"$f":"COUNTIF(IF(ISERROR(INDIRECT(\"'Voksen \"&A239&\"'!$H$31\",TRUE)),\"\",INDIRECT(\"'Voksen \"&A239&\"'!$H$31\",TRUE)),1)","v":{"$error":"#VALUE!"}},{"$f":"COUNTIF(IF(ISERROR(INDIRECT(\"'Voksen \"&A239&\"'!$H$41\",TRUE)),\"\",INDIRECT(\"'Voksen \"&A239&\"'!$H$41\",TRUE)),1)","v":{"$error":"#VALUE!"}},{"$f":"COUNTIF(IF(ISERROR(INDIRECT(\"'Voksen \"&A239&\"'!$H$50\",TRUE)),\"\",INDIRECT(\"'Voksen \"&A239&\"'!$H$50\",TRUE)),1)","v":{"$error":"#VALUE!"}},{"$f":"COUNTIF(IF(ISERROR(INDIRECT(\"'Voksen \"&A239&\"'!$H$58\",TRUE)),\"\",INDIRECT(\"'Voksen \"&A239&\"'!$H$58\",TRUE)),1)","v":{"$error":"#VALUE!"}},{"$f":"COUNTIF(IF(ISERROR(INDIRECT(\"'Voksen \"&A239&\"'!$H$69\",TRUE)),\"\",INDIRECT(\"'Voksen \"&A239&\"'!$H$69\",TRUE)),1)","v":{"$error":"#VALUE!"}},{"$f":"COUNTIF(IF(ISERROR(INDIRECT(\"'Voksen \"&A239&\"'!$H$77\",TRUE)),\"\",INDIRECT(\"'Voksen \"&A239&\"'!$H$77\",TRUE)),1)","v":{"$error":"#VALUE!"}},null,null,{"$f":"COUNTIF(IF(ISERROR(INDIRECT(\"'Børn \"&A239&\"'!$H$31\",TRUE)),\"\",INDIRECT(\"'Børn \"&A239&\"'!$H$31\",TRUE)),1)","v":{"$error":"#VALUE!"}},{"$f":"COUNTIF(IF(ISERROR(INDIRECT(\"'Børn \"&A239&\"'!$H$44\",TRUE)),\"\",INDIRECT(\"'Børn \"&A239&\"'!$H$44\",TRUE)),1)","v":{"$error":"#VALUE!"}},{"$f":"COUNTIF(IF(ISERROR(INDIRECT(\"'Børn \"&A239&\"'!$H$53\",TRUE)),\"\",INDIRECT(\"'Børn \"&A239&\"'!$H$53\",TRUE)),1)","v":{"$error":"#VALUE!"}},{"$f":"COUNTIF(IF(ISERROR(INDIRECT(\"'Børn \"&A239&\"'!$H$61\",TRUE)),\"\",INDIRECT(\"'Børn \"&A239&\"'!$H$61\",TRUE)),1)","v":{"$error":"#VALUE!"}},{"$f":"COUNTIF(IF(ISERROR(INDIRECT(\"'Børn \"&A239&\"'!$H$68\",TRUE)),\"\",INDIRECT(\"'Børn \"&A239&\"'!$H$68\",TRUE)),1)","v":{"$error":"#VALUE!"}},{"$f":"COUNTIF(IF(ISERROR(INDIRECT(\"'Børn \"&A239&\"'!$H$79\",TRUE)),\"\",INDIRECT(\"'Børn \"&A239&\"'!$H$79\",TRUE)),1)","v":{"$error":"#VALUE!"}},{"$f":"COUNTIF(IF(ISERROR(INDIRECT(\"'Børn \"&A239&\"'!$H$87\",TRUE)),\"\",INDIRECT(\"'Børn \"&A239&\"'!$H$87\",TRUE)),1)","v":{"$error":"#VALUE!"}},null,null,null,{"$f":"U238","v":"Tilsyn 89"},{"$f":"IF(INDIRECT(\"'Voksen \"&U239&\"'!$c$115\")=\"\",\"\",IFERROR(INDIRECT(\"'Voksen \"&U239&\"'!$c$115\",TRUE),\"\"))","v":{"$error":"#REF!"}},{"$f":"IF(INDIRECT(\"'Voksen \"&U239&\"'!$c$136\")=\"\",\"\",IFERROR(INDIRECT(\"'Voksen \"&U239&\"'!$c$136\",TRUE),\"\"))","v":{"$error":"#REF!"}},{"$f":"IF(INDIRECT(\"'Voksen \"&U239&\"'!$c$157\")=\"\",\"\",IFERROR(INDIRECT(\"'Voksen \"&U239&\"'!$c$157\",TRUE),\"\"))","v":{"$error":"#REF!"}},{"$f":"IF(INDIRECT(\"'Voksen \"&U239&\"'!$c$172\")=\"\",\"\",IFERROR(INDIRECT(\"'Voksen \"&U239&\"'!$c$172\",TRUE),\"\"))","v":{"$error":"#REF!"}},{"$f":"IF(INDIRECT(\"'Voksen \"&U239&\"'!$c$189\")=\"\",\"\",IFERROR(INDIRECT(\"'Voksen \"&U239&\"'!$c$189\",TRUE),\"\"))","v":{"$error":"#REF!"}},{"$f":"IF(INDIRECT(\"'Voksen \"&U239&\"'!$c$210\")=\"\",\"\",IFERROR(INDIRECT(\"'Voksen \"&U239&\"'!$c$210\",TRUE),\"\"))","v":{"$error":"#REF!"}},{"$f":"IF(INDIRECT(\"'Voksen \"&U239&\"'!$c$232\")=\"\",\"\",IFERROR(INDIRECT(\"'Voksen \"&U239&\"'!$c$232\",TRUE),\"\"))","v":{"$error":"#REF!"}},{"$f":"IF(INDIRECT(\"'Voksen \"&U239&\"'!$c$258\")=\"\",\"\",IFERROR(INDIRECT(\"'Voksen \"&U239&\"'!$c$258\",TRUE),\"\"))","v":{"$error":"#REF!"}},null,{"$f":"IF(INDIRECT(\"'Børn \"&U239&\"'!$c$126\")=\"\",\"\",IFERROR(INDIRECT(\"'Børn \"&U239&\"'!$c$126\",TRUE),\"\"))","v":{"$error":"#REF!"}},{"$f":"IF(INDIRECT(\"'Børn \"&U239&\"'!$c$142\")=\"\",\"\",IFERROR(INDIRECT(\"'Børn \"&U239&\"'!$c$142\",TRUE),\"\"))","v":{"$error":"#REF!"}},{"$f":"IF(INDIRECT(\"'Børn \"&U239&\"'!$c$166\")=\"\",\"\",IFERROR(INDIRECT(\"'Børn \"&U239&\"'!$c$166\",TRUE),\"\"))","v":{"$error":"#REF!"}},{"$f":"IF(INDIRECT(\"'Børn \"&U239&\"'!$c$180\")=\"\",\"\",IFERROR(INDIRECT(\"'Børn \"&U239&\"'!$c$180\",TRUE),\"\"))","v":{"$error":"#REF!"}},{"$f":"IF(INDIRECT(\"'Børn \"&U239&\"'!$c$200\")=\"\",\"\",IFERROR(INDIRECT(\"'Børn \"&U239&\"'!$c$200\",TRUE),\"\"))","v":{"$error":"#REF!"}},{"$f":"IF(INDIRECT(\"'Børn \"&U239&\"'!$c$221\")=\"\",\"\",IFERROR(INDIRECT(\"'Børn \"&U239&\"'!$c$221\",TRUE),\"\"))","v":{"$error":"#REF!"}},{"$f":"IF(INDIRECT(\"'Børn \"&U239&\"'!$c$244\")=\"\",\"\",IFERROR(INDIRECT(\"'Børn \"&U239&\"'!$c$244\",TRUE),\"\"))","v":{"$error":"#REF!"}}]
["Tilsyn 60","Status:  gul",{"$f":"COUNTIF(IF(ISERROR(INDIRECT(\"'Voksen \"&A240&\"'!$H$31\",TRUE)),\"\",INDIRECT(\"'Voksen \"&A240&\"'!$H$31\",TRUE)),2)","v":{"$error":"#VALUE!"}},{"$f":"COUNTIF(IF(ISERROR(INDIRECT(\"'Voksen \"&A240&\"'!$H$41\",TRUE)),\"\",INDIRECT(\"'Voksen \"&A240&\"'!$H$41\",TRUE)),2)","v":{"$error":"#VALUE!"}},{"$f":"COUNTIF(IF(ISERROR(INDIRECT(\"'Voksen \"&A240&\"'!$H$50\",TRUE)),\"\",INDIRECT(\"'Voksen \"&A240&\"'!$H$50\",TRUE)),2)","v":{"$error":"#VALUE!"}},{"$f":"COUNTIF(IF(ISERROR(INDIRECT(\"'Voksen \"&A240&\"'!$H$58\",TRUE)),\"\",INDIRECT(\"'Voksen \"&A240&\"'!$H$58\",TRUE)),2)","v":{"$error":"#VALUE!"}},{"$f":"COUNTIF(IF(ISERROR(INDIRECT(\"'Voksen \"&A240&\"'!$H$69\",TRUE)),\"\",INDIRECT(\"'Voksen \"&A240&\"'!$H$69\",TRUE)),2)","v":{"$error":"#VALUE!"}},{"$f":"COUNTIF(IF(ISERROR(INDIRECT(\"'Voksen \"&A240&\"'!$H$77\",TRUE)),\"\",INDIRECT(\"'Voksen \"&A240&\"'!$H$77\",TRUE)),2)","v":{"$error":"#VALUE!"}},null,null,{"$f":"COUNTIF(IF(ISERROR(INDIRECT(\"'Børn \"&A240&\"'!$H$31\",TRUE)),\"\",INDIRECT(\"'Børn \"&A240&\"'!$H$31\",TRUE)),2)","v":{"$error":"#VALUE!"}},{"$f":"COUNTIF(IF(ISERROR(INDIRECT(\"'Børn \"&A240&\"'!$H$44\",TRUE)),\"\",INDIRECT(\"'Børn \"&A240&\"'!$H$44\",TRUE)),2)","v":{"$error":"#VALUE!"}},{"$f":"COUNTIF(IF(ISERROR(INDIRECT(\"'Børn \"&A240&\"'!$H$53\",TRUE)),\"\",INDIRECT(\"'Børn \"&A240&\"'!$H$53\",TRUE)),2)","v":{"$error":"#VALUE!"}},{"$f":"COUNTIF(IF(ISERROR(INDIRECT(\"'Børn \"&A240&\"'!$H$61\",TRUE)),\"\",INDIRECT(\"'Børn \"&A240&\"'!$H$61\",TRUE)),2)","v":{"$error":"#VALUE!"}},{"$f":"COUNTIF(IF(ISERROR(INDIRECT(\"'Børn \"&A240&\"'!$H$68\",TRUE)),\"\",INDIRECT(\"'Børn \"&A240&\"'!$H$68\",TRUE)),2)","v":{"$error":"#VALUE!"}},{"$f":"COUNTIF(IF(ISERROR(INDIRECT(\"'Børn \"&A240&\"'!$H$79\",TRUE)),\"\",INDIRECT(\"'Børn \"&A240&\"'!$H$79\",TRUE)),2)","v":{"$error":"#VALUE!"}},{"$f":"COUNTIF(IF(ISERROR(INDIRECT(\"'Børn \"&A240&\"'!$H$87\",TRUE)),\"\",INDIRECT(\"'Børn \"&A240&\"'!$H$87\",TRUE)),2)","v":{"$error":"#VALUE!"}},null,null,null,"Tilsyn 90",{"$f":"IF(INDIRECT(\"'Voksen \"&U240&\"'!$c$112\")=\"\",\"\",IFERROR(INDIRECT(\"'Voksen \"&U240&\"'!$c$112\",TRUE),\"\"))","v":{"$error":"#REF!"}},{"$f":"IF(INDIRECT(\"'Voksen \"&U240&\"'!$c$133\")=\"\",\"\",IFERROR(INDIRECT(\"'Voksen \"&U240&\"'!$c$133\",TRUE),\"\"))","v":{"$error":"#REF!"}},{"$f":"IF(INDIRECT(\"'Voksen \"&U240&\"'!$c$154\")=\"\",\"\",IFERROR(INDIRECT(\"'Voksen \"&U240&\"'!$c$154\",TRUE),\"\"))","v":{"$error":"#REF!"}},{"$f":"IF(INDIRECT(\"'Voksen \"&U240&\"'!$c$169\")=\"\",\"\",IFERROR(INDIRECT(\"'Voksen \"&U240&\"'!$c$169\",TRUE),\"\"))","v":{"$error":"#REF!"}},{"$f":"IF(INDIRECT(\"'Voksen \"&U240&\"'!$c$186\")=\"\",\"\",IFERROR(INDIRECT(\"'Voksen \"&U240&\"'!$c$186\",TRUE),\"\"))","v":{"$error":"#REF!"}},{"$f":"IF(INDIRECT(\"'Voksen \"&U240&\"'!$c$207\")=\"\",\"\",IFERROR(INDIRECT(\"'Voksen \"&U240&\"'!$c$207\",TRUE),\"\"))","v":{"$error":"#REF!"}},{"$f":"IF(INDIRECT(\"'Voksen \"&U240&\"'!$c$229\")=\"\",\"\",IFERROR(INDIRECT(\"'Voksen \"&U240&\"'!$c$229\",TRUE),\"\"))","v":{"$error":"#REF!"}},{"$f":"IF(INDIRECT(\"'Voksen \"&U240&\"'!$c$255\")=\"\",\"\",IFERROR(INDIRECT(\"'Voksen \"&U240&\"'!$c$255\",TRUE),\"\"))","v":{"$error":"#REF!"}},null,{"$f":"IF(INDIRECT(\"'Børn \"&U240&\"'!$c$123\")=\"\",\"\",IFERROR(INDIRECT(\"'Børn \"&U240&\"'!$c$123\",TRUE),\"\"))","v":{"$error":"#REF!"}},{"$f":"IF(INDIRECT(\"'Børn \"&U240&\"'!$c$139\")=\"\",\"\",IFERROR(INDIRECT(\"'Børn \"&U240&\"'!$c$139\",TRUE),\"\"))","v":{"$error":"#REF!"}},{"$f":"IF(INDIRECT(\"'Børn \"&U240&\"'!$c$163\")=\"\",\"\",IFERROR(INDIRECT(\"'Børn \"&U240&\"'!$c$163\",TRUE),\"\"))","v":{"$error":"#REF!"}},{"$f":"IF(INDIRECT(\"'Børn \"&U240&\"'!$c$177\")=\"\",\"\",IFERROR(INDIRECT(\"'Børn \"&U240&\"'!$c$177\",TRUE),\"\"))","v":{"$error":"#REF!"}},{"$f":"IF(INDIRECT(\"'Børn \"&U240&\"'!$c$197\")=\"\",\"\",IFERROR(INDIRECT(\"'Børn \"&U240&\"'!$c$197\",TRUE),\"\"))","v":{"$error":"#REF!"}},{"$f":"IF(INDIRECT(\"'Børn \"&U240&\"'!$c$218\")=\"\",\"\",IFERROR(INDIRECT(\"'Børn \"&U240&\"'!$c$218\",TRUE),\"\"))","v":{"$error":"#REF!"}},{"$f":"IF(INDIRECT(\"'Børn \"&U240&\"'!$c$241\")=\"\",\"\",IFERROR(INDIRECT(\"'Børn \"&U240&\"'!$c$241\",TRUE),\"\"))","v":{"$error":"#REF!"}}]
["Tilsyn 60","Status:  rød",{"$f":"COUNTIF(IF(ISERROR(INDIRECT(\"'Voksen \"&A241&\"'!$H$31\",TRUE)),\"\",INDIRECT(\"'Voksen \"&A241&\"'!$H$31\",TRUE)),3)","v":{"$error":"#VALUE!"}},{"$f":"COUNTIF(IF(ISERROR(INDIRECT(\"'Voksen \"&A241&\"'!$H$41\",TRUE)),\"\",INDIRECT(\"'Voksen \"&A241&\"'!$H$41\",TRUE)),3)","v":{"$error":"#VALUE!"}},{"$f":"COUNTIF(IF(ISERROR(INDIRECT(\"'Voksen \"&A241&\"'!$H$50\",TRUE)),\"\",INDIRECT(\"'Voksen \"&A241&\"'!$H$50\",TRUE)),3)","v":{"$error":"#VALUE!"}},{"$f":"COUNTIF(IF(ISERROR(INDIRECT(\"'Voksen \"&A241&\"'!$H$58\",TRUE)),\"\",INDIRECT(\"'Voksen \"&A241&\"'!$H$58\",TRUE)),3)","v":{"$error":"#VALUE!"}},{"$f":"COUNTIF(IF(ISERROR(INDIRECT(\"'Voksen \"&A241&\"'!$H$69\",TRUE)),\"\",INDIRECT(\"'Voksen \"&A241&\"'!$H$69\",TRUE)),3)","v":{"$error":"#VALUE!"}},{"$f":"COUNTIF(IF(ISERROR(INDIRECT(\"'Voksen \"&A241&\"'!$H$77\",TRUE)),\"\",INDIRECT(\"'Voksen \"&A241&\"'!$H$77\",TRUE)),3)","v":{"$error":"#VALUE!"}},null,null,{"$f":"COUNTIF(IF(ISERROR(INDIRECT(\"'Børn \"&A241&\"'!$H$31\",TRUE)),\"\",INDIRECT(\"'Børn \"&A241&\"'!$H$31\",TRUE)),3)","v":{"$error":"#VALUE!"}},{"$f":"COUNTIF(IF(ISERROR(INDIRECT(\"'Børn \"&A241&\"'!$H$44\",TRUE)),\"\",INDIRECT(\"'Børn \"&A241&\"'!$H$44\",TRUE)),3)","v":{"$error":"#VALUE!"}},{"$f":"COUNTIF(IF(ISERROR(INDIRECT(\"'Børn \"&A241&\"'!$H$53\",TRUE)),\"\",INDIRECT(\"'Børn \"&A241&\"'!$H$53\",TRUE)),3)","v":{"$error":"#VALUE!"}},{"$f":"COUNTIF(IF(ISERROR(INDIRECT(\"'Børn \"&A241&\"'!$H$61\",TRUE)),\"\",INDIRECT(\"'Børn \"&A241&\"'!$H$61\",TRUE)),3)","v":{"$error":"#VALUE!"}},{"$f":"COUNTIF(IF(ISERROR(INDIRECT(\"'Børn \"&A241&\"'!$H$68\",TRUE)),\"\",INDIRECT(\"'Børn \"&A241&\"'!$H$68\",TRUE)),3)","v":{"$error":"#VALUE!"}},{"$f":"COUNTIF(IF(ISERROR(INDIRECT(\"'Børn \"&A241&\"'!$H$79\",TRUE)),\"\",INDIRECT(\"'Børn \"&A241&\"'!$H$79\",TRUE)),3)","v":{"$error":"#VALUE!"}},{"$f":"COUNTIF(IF(ISERROR(INDIRECT(\"'Børn \"&A241&\"'!$H$87\",TRUE)),\"\",INDIRECT(\"'Børn \"&A241&\"'!$H$87\",TRUE)),3)","v":{"$error":"#VALUE!"}},null,null,null,{"$f":"U240","v":"Tilsyn 90"},{"$f":"IF(INDIRECT(\"'Voksen \"&U241&\"'!$c$115\")=\"\",\"\",IFERROR(INDIRECT(\"'Voksen \"&U241&\"'!$c$115\",TRUE),\"\"))","v":{"$error":"#REF!"}},{"$f":"IF(INDIRECT(\"'Voksen \"&U241&\"'!$c$136\")=\"\",\"\",IFERROR(INDIRECT(\"'Voksen \"&U241&\"'!$c$136\",TRUE),\"\"))","v":{"$error":"#REF!"}},{"$f":"IF(INDIRECT(\"'Voksen \"&U241&\"'!$c$157\")=\"\",\"\",IFERROR(INDIRECT(\"'Voksen \"&U241&\"'!$c$157\",TRUE),\"\"))","v":{"$error":"#REF!"}},{"$f":"IF(INDIRECT(\"'Voksen \"&U241&\"'!$c$172\")=\"\",\"\",IFERROR(INDIRECT(\"'Voksen \"&U241&\"'!$c$172\",TRUE),\"\"))","v":{"$error":"#REF!"}},{"$f":"IF(INDIRECT(\"'Voksen \"&U241&\"'!$c$189\")=\"\",\"\",IFERROR(INDIRECT(\"'Voksen \"&U241&\"'!$c$189\",TRUE),\"\"))","v":{"$error":"#REF!"}},{"$f":"IF(INDIRECT(\"'Voksen \"&U241&\"'!$c$210\")=\"\",\"\",IFERROR(INDIRECT(\"'Voksen \"&U241&\"'!$c$210\",TRUE),\"\"))","v":{"$error":"#REF!"}},{"$f":"IF(INDIRECT(\"'Voksen \"&U241&\"'!$c$232\")=\"\",\"\",IFERROR(INDIRECT(\"'Voksen \"&U241&\"'!$c$232\",TRUE),\"\"))","v":{"$error":"#REF!"}},{"$f":"IF(INDIRECT(\"'Voksen \"&U241&\"'!$c$258\")=\"\",\"\",IFERROR(INDIRECT(\"'Voksen \"&U241&\"'!$c$258\",TRUE),\"\"))","v":{"$error":"#REF!"}},null,{"$f":"IF(INDIRECT(\"'Børn \"&U241&\"'!$c$126\")=\"\",\"\",IFERROR(INDIRECT(\"'Børn \"&U241&\"'!$c$126\",TRUE),\"\"))","v":{"$error":"#REF!"}},{"$f":"IF(INDIRECT(\"'Børn \"&U241&\"'!$c$142\")=\"\",\"\",IFERROR(INDIRECT(\"'Børn \"&U241&\"'!$c$142\",TRUE),\"\"))","v":{"$error":"#REF!"}},{"$f":"IF(INDIRECT(\"'Børn \"&U241&\"'!$c$166\")=\"\",\"\",IFERROR(INDIRECT(\"'Børn \"&U241&\"'!$c$166\",TRUE),\"\"))","v":{"$error":"#REF!"}},{"$f":"IF(INDIRECT(\"'Børn \"&U241&\"'!$c$180\")=\"\",\"\",IFERROR(INDIRECT(\"'Børn \"&U241&\"'!$c$180\",TRUE),\"\"))","v":{"$error":"#REF!"}},{"$f":"IF(INDIRECT(\"'Børn \"&U241&\"'!$c$200\")=\"\",\"\",IFERROR(INDIRECT(\"'Børn \"&U241&\"'!$c$200\",TRUE),\"\"))","v":{"$error":"#REF!"}},{"$f":"IF(INDIRECT(\"'Børn \"&U241&\"'!$c$221\")=\"\",\"\",IFERROR(INDIRECT(\"'Børn \"&U241&\"'!$c$221\",TRUE),\"\"))","v":{"$error":"#REF!"}},{"$f":"IF(INDIRECT(\"'Børn \"&U241&\"'!$c$244\")=\"\",\"\",IFERROR(INDIRECT(\"'Børn \"&U241&\"'!$c$244\",TRUE),\"\"))","v":{"$error":"#REF!"}}]
["Tilsyn 61","Status:  grøn",{"$f":"COUNTIF(IF(ISERROR(INDIRECT(\"'Voksen \"&A242&\"'!$H$31\",TRUE)),\"\",INDIRECT(\"'Voksen \"&A242&\"'!$H$31\",TRUE)),1)","v":{"$error":"#VALUE!"}},{"$f":"COUNTIF(IF(ISERROR(INDIRECT(\"'Voksen \"&A242&\"'!$H$41\",TRUE)),\"\",INDIRECT(\"'Voksen \"&A242&\"'!$H$41\",TRUE)),1)","v":{"$error":"#VALUE!"}},{"$f":"COUNTIF(IF(ISERROR(INDIRECT(\"'Voksen \"&A242&\"'!$H$50\",TRUE)),\"\",INDIRECT(\"'Voksen \"&A242&\"'!$H$50\",TRUE)),1)","v":{"$error":"#VALUE!"}},{"$f":"COUNTIF(IF(ISERROR(INDIRECT(\"'Voksen \"&A242&\"'!$H$58\",TRUE)),\"\",INDIRECT(\"'Voksen \"&A242&\"'!$H$58\",TRUE)),1)","v":{"$error":"#VALUE!"}},{"$f":"COUNTIF(IF(ISERROR(INDIRECT(\"'Voksen \"&A242&\"'!$H$69\",TRUE)),\"\",INDIRECT(\"'Voksen \"&A242&\"'!$H$69\",TRUE)),1)","v":{"$error":"#VALUE!"}},{"$f":"COUNTIF(IF(ISERROR(INDIRECT(\"'Voksen \"&A242&\"'!$H$77\",TRUE)),\"\",INDIRECT(\"'Voksen \"&A242&\"'!$H$77\",TRUE)),1)","v":{"$error":"#VALUE!"}},null,null,{"$f":"COUNTIF(IF(ISERROR(INDIRECT(\"'Børn \"&A242&\"'!$H$31\",TRUE)),\"\",INDIRECT(\"'Børn \"&A242&\"'!$H$31\",TRUE)),1)","v":{"$error":"#VALUE!"}},{"$f":"COUNTIF(IF(ISERROR(INDIRECT(\"'Børn \"&A242&\"'!$H$44\",TRUE)),\"\",INDIRECT(\"'Børn \"&A242&\"'!$H$44\",TRUE)),1)","v":{"$error":"#VALUE!"}},{"$f":"COUNTIF(IF(ISERROR(INDIRECT(\"'Børn \"&A242&\"'!$H$53\",TRUE)),\"\",INDIRECT(\"'Børn \"&A242&\"'!$H$53\",TRUE)),1)","v":{"$error":"#VALUE!"}},{"$f":"COUNTIF(IF(ISERROR(INDIRECT(\"'Børn \"&A242&\"'!$H$61\",TRUE)),\"\",INDIRECT(\"'Børn \"&A242&\"'!$H$61\",TRUE)),1)","v":{"$error":"#VALUE!"}},{"$f":"COUNTIF(IF(ISERROR(INDIRECT(\"'Børn \"&A242&\"'!$H$68\",TRUE)),\"\",INDIRECT(\"'Børn \"&A242&\"'!$H$68\",TRUE)),1)","v":{"$error":"#VALUE!"}},{"$f":"COUNTIF(IF(ISERROR(INDIRECT(\"'Børn \"&A242&\"'!$H$79\",TRUE)),\"\",INDIRECT(\"'Børn \"&A242&\"'!$H$79\",TRUE)),1)","v":{"$error":"#VALUE!"}},{"$f":"COUNTIF(IF(ISERROR(INDIRECT(\"'Børn \"&A242&\"'!$H$87\",TRUE)),\"\",INDIRECT(\"'Børn \"&A242&\"'!$H$87\",TRUE)),1)","v":{"$error":"#VALUE!"}},null,null,null,"Tilsyn 91",{"$f":"IF(INDIRECT(\"'Voksen \"&U242&\"'!$c$112\")=\"\",\"\",IFERROR(INDIRECT(\"'Voksen \"&U242&\"'!$c$112\",TRUE),\"\"))","v":{"$error":"#REF!"}},{"$f":"IF(INDIRECT(\"'Voksen \"&U242&\"'!$c$133\")=\"\",\"\",IFERROR(INDIRECT(\"'Voksen \"&U242&\"'!$c$133\",TRUE),\"\"))","v":{"$error":"#REF!"}},{"$f":"IF(INDIRECT(\"'Voksen \"&U242&\"'!$c$154\")=\"\",\"\",IFERROR(INDIRECT(\"'Voksen \"&U242&\"'!$c$154\",TRUE),\"\"))","v":{"$error":"#REF!"}},{"$f":"IF(INDIRECT(\"'Voksen \"&U242&\"'!$c$169\")=\"\",\"\",IFERROR(INDIRECT(\"'Voksen \"&U242&\"'!$c$169\",TRUE),\"\"))","v":{"$error":"#REF!"}},{"$f":"IF(INDIRECT(\"'Voksen \"&U242&\"'!$c$186\")=\"\",\"\",IFERROR(INDIRECT(\"'Voksen \"&U242&\"'!$c$186\",TRUE),\"\"))","v":{"$error":"#REF!"}},{"$f":"IF(INDIRECT(\"'Voksen \"&U242&\"'!$c$207\")=\"\",\"\",IFERROR(INDIRECT(\"'Voksen \"&U242&\"'!$c$207\",TRUE),\"\"))","v":{"$error":"#REF!"}},{"$f":"IF(INDIRECT(\"'Voksen \"&U242&\"'!$c$229\")=\"\",\"\",IFERROR(INDIRECT(\"'Voksen \"&U242&\"'!$c$229\",TRUE),\"\"))","v":{"$error":"#REF!"}},{"$f":"IF(INDIRECT(\"'Voksen \"&U242&\"'!$c$255\")=\"\",\"\",IFERROR(INDIRECT(\"'Voksen \"&U242&\"'!$c$255\",TRUE),\"\"))","v":{"$error":"#REF!"}},null,{"$f":"IF(INDIRECT(\"'Børn \"&U242&\"'!$c$123\")=\"\",\"\",IFERROR(INDIRECT(\"'Børn \"&U242&\"'!$c$123\",TRUE),\"\"))","v":{"$error":"#REF!"}},{"$f":"IF(INDIRECT(\"'Børn \"&U242&\"'!$c$139\")=\"\",\"\",IFERROR(INDIRECT(\"'Børn \"&U242&\"'!$c$139\",TRUE),\"\"))","v":{"$error":"#REF!"}},{"$f":"IF(INDIRECT(\"'Børn \"&U242&\"'!$c$163\")=\"\",\"\",IFERROR(INDIRECT(\"'Børn \"&U242&\"'!$c$163\",TRUE),\"\"))","v":{"$error":"#REF!"}},{"$f":"IF(INDIRECT(\"'Børn \"&U242&\"'!$c$177\")=\"\",\"\",IFERROR(INDIRECT(\"'Børn \"&U242&\"'!$c$177\",TRUE),\"\"))","v":{"$error":"#REF!"}},{"$f":"IF(INDIRECT(\"'Børn \"&U242&\"'!$c$197\")=\"\",\"\",IFERROR(INDIRECT(\"'Børn \"&U242&\"'!$c$197\",TRUE),\"\"))","v":{"$error":"#REF!"}},{"$f":"IF(INDIRECT(\"'Børn \"&U242&\"'!$c$218\")=\"\",\"\",IFERROR(INDIRECT(\"'Børn \"&U242&\"'!$c$218\",TRUE),\"\"))","v":{"$error":"#REF!"}},{"$f":"IF(INDIRECT(\"'Børn \"&U242&\"'!$c$241\")=\"\",\"\",IFERROR(INDIRECT(\"'Børn \"&U242&\"'!$c$241\",TRUE),\"\"))","v":{"$error":"#REF!"}}]
["Tilsyn 61","Status:  gul",{"$f":"COUNTIF(IF(ISERROR(INDIRECT(\"'Voksen \"&A243&\"'!$H$31\",TRUE)),\"\",INDIRECT(\"'Voksen \"&A243&\"'!$H$31\",TRUE)),2)","v":{"$error":"#VALUE!"}},{"$f":"COUNTIF(IF(ISERROR(INDIRECT(\"'Voksen \"&A243&\"'!$H$41\",TRUE)),\"\",INDIRECT(\"'Voksen \"&A243&\"'!$H$41\",TRUE)),2)","v":{"$error":"#VALUE!"}},{"$f":"COUNTIF(IF(ISERROR(INDIRECT(\"'Voksen \"&A243&\"'!$H$50\",TRUE)),\"\",INDIRECT(\"'Voksen \"&A243&\"'!$H$50\",TRUE)),2)","v":{"$error":"#VALUE!"}},{"$f":"COUNTIF(IF(ISERROR(INDIRECT(\"'Voksen \"&A243&\"'!$H$58\",TRUE)),\"\",INDIRECT(\"'Voksen \"&A243&\"'!$H$58\",TRUE)),2)","v":{"$error":"#VALUE!"}},{"$f":"COUNTIF(IF(ISERROR(INDIRECT(\"'Voksen \"&A243&\"'!$H$69\",TRUE)),\"\",INDIRECT(\"'Voksen \"&A243&\"'!$H$69\",TRUE)),2)","v":{"$error":"#VALUE!"}},{"$f":"COUNTIF(IF(ISERROR(INDIRECT(\"'Voksen \"&A243&\"'!$H$77\",TRUE)),\"\",INDIRECT(\"'Voksen \"&A243&\"'!$H$77\",TRUE)),2)","v":{"$error":"#VALUE!"}},null,null,{"$f":"COUNTIF(IF(ISERROR(INDIRECT(\"'Børn \"&A243&\"'!$H$31\",TRUE)),\"\",INDIRECT(\"'Børn \"&A243&\"'!$H$31\",TRUE)),2)","v":{"$error":"#VALUE!"}},{"$f":"COUNTIF(IF(ISERROR(INDIRECT(\"'Børn \"&A243&\"'!$H$44\",TRUE)),\"\",INDIRECT(\"'Børn \"&A243&\"'!$H$44\",TRUE)),2)","v":{"$error":"#VALUE!"}},{"$f":"COUNTIF(IF(ISERROR(INDIRECT(\"'Børn \"&A243&\"'!$H$53\",TRUE)),\"\",INDIRECT(\"'Børn \"&A243&\"'!$H$53\",TRUE)),2)","v":{"$error":"#VALUE!"}},{"$f":"COUNTIF(IF(ISERROR(INDIRECT(\"'Børn \"&A243&\"'!$H$61\",TRUE)),\"\",INDIRECT(\"'Børn \"&A243&\"'!$H$61\",TRUE)),2)","v":{"$error":"#VALUE!"}},{"$f":"COUNTIF(IF(ISERROR(INDIRECT(\"'Børn \"&A243&\"'!$H$68\",TRUE)),\"\",INDIRECT(\"'Børn \"&A243&\"'!$H$68\",TRUE)),2)","v":{"$error":"#VALUE!"}},{"$f":"COUNTIF(IF(ISERROR(INDIRECT(\"'Børn \"&A243&\"'!$H$79\",TRUE)),\"\",INDIRECT(\"'Børn \"&A243&\"'!$H$79\",TRUE)),2)","v":{"$error":"#VALUE!"}},{"$f":"COUNTIF(IF(ISERROR(INDIRECT(\"'Børn \"&A243&\"'!$H$87\",TRUE)),\"\",INDIRECT(\"'Børn \"&A243&\"'!$H$87\",TRUE)),2)","v":{"$error":"#VALUE!"}},null,null,null,{"$f":"U242","v":"Tilsyn 91"},{"$f":"IF(INDIRECT(\"'Voksen \"&U243&\"'!$c$115\")=\"\",\"\",IFERROR(INDIRECT(\"'Voksen \"&U243&\"'!$c$115\",TRUE),\"\"))","v":{"$error":"#REF!"}},{"$f":"IF(INDIRECT(\"'Voksen \"&U243&\"'!$c$136\")=\"\",\"\",IFERROR(INDIRECT(\"'Voksen \"&U243&\"'!$c$136\",TRUE),\"\"))","v":{"$error":"#REF!"}},{"$f":"IF(INDIRECT(\"'Voksen \"&U243&\"'!$c$157\")=\"\",\"\",IFERROR(INDIRECT(\"'Voksen \"&U243&\"'!$c$157\",TRUE),\"\"))","v":{"$error":"#REF!"}},{"$f":"IF(INDIRECT(\"'Voksen \"&U243&\"'!$c$172\")=\"\",\"\",IFERROR(INDIRECT(\"'Voksen \"&U243&\"'!$c$172\",TRUE),\"\"))","v":{"$error":"#REF!"}},{"$f":"IF(INDIRECT(\"'Voksen \"&U243&\"'!$c$189\")=\"\",\"\",IFERROR(INDIRECT(\"'Voksen \"&U243&\"'!$c$189\",TRUE),\"\"))","v":{"$error":"#REF!"}},{"$f":"IF(INDIRECT(\"'Voksen \"&U243&\"'!$c$210\")=\"\",\"\",IFERROR(INDIRECT(\"'Voksen \"&U243&\"'!$c$210\",TRUE),\"\"))","v":{"$error":"#REF!"}},{"$f":"IF(INDIRECT(\"'Voksen \"&U243&\"'!$c$232\")=\"\",\"\",IFERROR(INDIRECT(\"'Voksen \"&U243&\"'!$c$232\",TRUE),\"\"))","v":{"$error":"#REF!"}},{"$f":"IF(INDIRECT(\"'Voksen \"&U243&\"'!$c$258\")=\"\",\"\",IFERROR(INDIRECT(\"'Voksen \"&U243&\"'!$c$258\",TRUE),\"\"))","v":{"$error":"#REF!"}},null,{"$f":"IF(INDIRECT(\"'Børn \"&U243&\"'!$c$126\")=\"\",\"\",IFERROR(INDIRECT(\"'Børn \"&U243&\"'!$c$126\",TRUE),\"\"))","v":{"$error":"#REF!"}},{"$f":"IF(INDIRECT(\"'Børn \"&U243&\"'!$c$142\")=\"\",\"\",IFERROR(INDIRECT(\"'Børn \"&U243&\"'!$c$142\",TRUE),\"\"))","v":{"$error":"#REF!"}},{"$f":"IF(INDIRECT(\"'Børn \"&U243&\"'!$c$166\")=\"\",\"\",IFERROR(INDIRECT(\"'Børn \"&U243&\"'!$c$166\",TRUE),\"\"))","v":{"$error":"#REF!"}},{"$f":"IF(INDIRECT(\"'Børn \"&U243&\"'!$c$180\")=\"\",\"\",IFERROR(INDIRECT(\"'Børn \"&U243&\"'!$c$180\",TRUE),\"\"))","v":{"$error":"#REF!"}},{"$f":"IF(INDIRECT(\"'Børn \"&U243&\"'!$c$200\")=\"\",\"\",IFERROR(INDIRECT(\"'Børn \"&U243&\"'!$c$200\",TRUE),\"\"))","v":{"$error":"#REF!"}},{"$f":"IF(INDIRECT(\"'Børn \"&U243&\"'!$c$221\")=\"\",\"\",IFERROR(INDIRECT(\"'Børn \"&U243&\"'!$c$221\",TRUE),\"\"))","v":{"$error":"#REF!"}},{"$f":"IF(INDIRECT(\"'Børn \"&U243&\"'!$c$244\")=\"\",\"\",IFERROR(INDIRECT(\"'Børn \"&U243&\"'!$c$244\",TRUE),\"\"))","v":{"$error":"#REF!"}}]
["Tilsyn 61","Status:  rød",{"$f":"COUNTIF(IF(ISERROR(INDIRECT(\"'Voksen \"&A244&\"'!$H$31\",TRUE)),\"\",INDIRECT(\"'Voksen \"&A244&\"'!$H$31\",TRUE)),3)","v":{"$error":"#VALUE!"}},{"$f":"COUNTIF(IF(ISERROR(INDIRECT(\"'Voksen \"&A244&\"'!$H$41\",TRUE)),\"\",INDIRECT(\"'Voksen \"&A244&\"'!$H$41\",TRUE)),3)","v":{"$error":"#VALUE!"}},{"$f":"COUNTIF(IF(ISERROR(INDIRECT(\"'Voksen \"&A244&\"'!$H$50\",TRUE)),\"\",INDIRECT(\"'Voksen \"&A244&\"'!$H$50\",TRUE)),3)","v":{"$error":"#VALUE!"}},{"$f":"COUNTIF(IF(ISERROR(INDIRECT(\"'Voksen \"&A244&\"'!$H$58\",TRUE)),\"\",INDIRECT(\"'Voksen \"&A244&\"'!$H$58\",TRUE)),3)","v":{"$error":"#VALUE!"}},{"$f":"COUNTIF(IF(ISERROR(INDIRECT(\"'Voksen \"&A244&\"'!$H$69\",TRUE)),\"\",INDIRECT(\"'Voksen \"&A244&\"'!$H$69\",TRUE)),3)","v":{"$error":"#VALUE!"}},{"$f":"COUNTIF(IF(ISERROR(INDIRECT(\"'Voksen \"&A244&\"'!$H$77\",TRUE)),\"\",INDIRECT(\"'Voksen \"&A244&\"'!$H$77\",TRUE)),3)","v":{"$error":"#VALUE!"}},null,null,{"$f":"COUNTIF(IF(ISERROR(INDIRECT(\"'Børn \"&A244&\"'!$H$31\",TRUE)),\"\",INDIRECT(\"'Børn \"&A244&\"'!$H$31\",TRUE)),3)","v":{"$error":"#VALUE!"}},{"$f":"COUNTIF(IF(ISERROR(INDIRECT(\"'Børn \"&A244&\"'!$H$44\",TRUE)),\"\",INDIRECT(\"'Børn \"&A244&\"'!$H$44\",TRUE)),3)","v":{"$error":"#VALUE!"}},{"$f":"COUNTIF(IF(ISERROR(INDIRECT(\"'Børn \"&A244&\"'!$H$53\",TRUE)),\"\",INDIRECT(\"'Børn \"&A244&\"'!$H$53\",TRUE)),3)","v":{"$error":"#VALUE!"}},{"$f":"COUNTIF(IF(ISERROR(INDIRECT(\"'Børn \"&A244&\"'!$H$61\",TRUE)),\"\",INDIRECT(\"'Børn \"&A244&\"'!$H$61\",TRUE)),3)","v":{"$error":"#VALUE!"}},{"$f":"COUNTIF(IF(ISERROR(INDIRECT(\"'Børn \"&A244&\"'!$H$68\",TRUE)),\"\",INDIRECT(\"'Børn \"&A244&\"'!$H$68\",TRUE)),3)","v":{"$error":"#VALUE!"}},{"$f":"COUNTIF(IF(ISERROR(INDIRECT(\"'Børn \"&A244&\"'!$H$79\",TRUE)),\"\",INDIRECT(\"'Børn \"&A244&\"'!$H$79\",TRUE)),3)","v":{"$error":"#VALUE!"}},{"$f":"COUNTIF(IF(ISERROR(INDIRECT(\"'Børn \"&A244&\"'!$H$87\",TRUE)),\"\",INDIRECT(\"'Børn \"&A244&\"'!$H$87\",TRUE)),3)","v":{"$error":"#VALUE!"}},null,null,null,"Tilsyn 92",{"$f":"IF(INDIRECT(\"'Voksen \"&U244&\"'!$c$112\")=\"\",\"\",IFERROR(INDIRECT(\"'Voksen \"&U244&\"'!$c$112\",TRUE),\"\"))","v":{"$error":"#REF!"}},{"$f":"IF(INDIRECT(\"'Voksen \"&U244&\"'!$c$133\")=\"\",\"\",IFERROR(INDIRECT(\"'Voksen \"&U244&\"'!$c$133\",TRUE),\"\"))","v":{"$error":"#REF!"}},{"$f":"IF(INDIRECT(\"'Voksen \"&U244&\"'!$c$154\")=\"\",\"\",IFERROR(INDIRECT(\"'Voksen \"&U244&\"'!$c$154\",TRUE),\"\"))","v":{"$error":"#REF!"}},{"$f":"IF(INDIRECT(\"'Voksen \"&U244&\"'!$c$169\")=\"\",\"\",IFERROR(INDIRECT(\"'Voksen \"&U244&\"'!$c$169\",TRUE),\"\"))","v":{"$error":"#REF!"}},{"$f":"IF(INDIRECT(\"'Voksen \"&U244&\"'!$c$186\")=\"\",\"\",IFERROR(INDIRECT(\"'Voksen \"&U244&\"'!$c$186\",TRUE),\"\"))","v":{"$error":"#REF!"}},{"$f":"IF(INDIRECT(\"'Voksen \"&U244&\"'!$c$207\")=\"\",\"\",IFERROR(INDIRECT(\"'Voksen \"&U244&\"'!$c$207\",TRUE),\"\"))","v":{"$error":"#REF!"}},{"$f":"IF(INDIRECT(\"'Voksen \"&U244&\"'!$c$229\")=\"\",\"\",IFERROR(INDIRECT(\"'Voksen \"&U244&\"'!$c$229\",TRUE),\"\"))","v":{"$error":"#REF!"}},{"$f":"IF(INDIRECT(\"'Voksen \"&U244&\"'!$c$255\")=\"\",\"\",IFERROR(INDIRECT(\"'Voksen \"&U244&\"'!$c$255\",TRUE),\"\"))","v":{"$error":"#REF!"}},null,{"$f":"IF(INDIRECT(\"'Børn \"&U244&\"'!$c$123\")=\"\",\"\",IFERROR(INDIRECT(\"'Børn \"&U244&\"'!$c$123\",TRUE),\"\"))","v":{"$error":"#REF!"}},{"$f":"IF(INDIRECT(\"'Børn \"&U244&\"'!$c$139\")=\"\",\"\",IFERROR(INDIRECT(\"'Børn \"&U244&\"'!$c$139\",TRUE),\"\"))","v":{"$error":"#REF!"}},{"$f":"IF(INDIRECT(\"'Børn \"&U244&\"'!$c$163\")=\"\",\"\",IFERROR(INDIRECT(\"'Børn \"&U244&\"'!$c$163\",TRUE),\"\"))","v":{"$error":"#REF!"}},{"$f":"IF(INDIRECT(\"'Børn \"&U244&\"'!$c$177\")=\"\",\"\",IFERROR(INDIRECT(\"'Børn \"&U244&\"'!$c$177\",TRUE),\"\"))","v":{"$error":"#REF!"}},{"$f":"IF(INDIRECT(\"'Børn \"&U244&\"'!$c$197\")=\"\",\"\",IFERROR(INDIRECT(\"'Børn \"&U244&\"'!$c$197\",TRUE),\"\"))","v":{"$error":"#REF!"}},{"$f":"IF(INDIRECT(\"'Børn \"&U244&\"'!$c$218\")=\"\",\"\",IFERROR(INDIRECT(\"'Børn \"&U244&\"'!$c$218\",TRUE),\"\"))","v":{"$error":"#REF!"}},{"$f":"IF(INDIRECT(\"'Børn \"&U244&\"'!$c$241\")=\"\",\"\",IFERROR(INDIRECT(\"'Børn \"&U244&\"'!$c$241\",TRUE),\"\"))","v":{"$error":"#REF!"}}]
["Tilsyn 62","Status:  grøn",{"$f":"COUNTIF(IF(ISERROR(INDIRECT(\"'Voksen \"&A245&\"'!$H$31\",TRUE)),\"\",INDIRECT(\"'Voksen \"&A245&\"'!$H$31\",TRUE)),1)","v":{"$error":"#VALUE!"}},{"$f":"COUNTIF(IF(ISERROR(INDIRECT(\"'Voksen \"&A245&\"'!$H$41\",TRUE)),\"\",INDIRECT(\"'Voksen \"&A245&\"'!$H$41\",TRUE)),1)","v":{"$error":"#VALUE!"}},{"$f":"COUNTIF(IF(ISERROR(INDIRECT(\"'Voksen \"&A245&\"'!$H$50\",TRUE)),\"\",INDIRECT(\"'Voksen \"&A245&\"'!$H$50\",TRUE)),1)","v":{"$error":"#VALUE!"}},{"$f":"COUNTIF(IF(ISERROR(INDIRECT(\"'Voksen \"&A245&\"'!$H$58\",TRUE)),\"\",INDIRECT(\"'Voksen \"&A245&\"'!$H$58\",TRUE)),1)","v":{"$error":"#VALUE!"}},{"$f":"COUNTIF(IF(ISERROR(INDIRECT(\"'Voksen \"&A245&\"'!$H$69\",TRUE)),\"\",INDIRECT(\"'Voksen \"&A245&\"'!$H$69\",TRUE)),1)","v":{"$error":"#VALUE!"}},{"$f":"COUNTIF(IF(ISERROR(INDIRECT(\"'Voksen \"&A245&\"'!$H$77\",TRUE)),\"\",INDIRECT(\"'Voksen \"&A245&\"'!$H$77\",TRUE)),1)","v":{"$error":"#VALUE!"}},null,null,{"$f":"COUNTIF(IF(ISERROR(INDIRECT(\"'Børn \"&A245&\"'!$H$31\",TRUE)),\"\",INDIRECT(\"'Børn \"&A245&\"'!$H$31\",TRUE)),1)","v":{"$error":"#VALUE!"}},{"$f":"COUNTIF(IF(ISERROR(INDIRECT(\"'Børn \"&A245&\"'!$H$44\",TRUE)),\"\",INDIRECT(\"'Børn \"&A245&\"'!$H$44\",TRUE)),1)","v":{"$error":"#VALUE!"}},{"$f":"COUNTIF(IF(ISERROR(INDIRECT(\"'Børn \"&A245&\"'!$H$53\",TRUE)),\"\",INDIRECT(\"'Børn \"&A245&\"'!$H$53\",TRUE)),1)","v":{"$error":"#VALUE!"}},{"$f":"COUNTIF(IF(ISERROR(INDIRECT(\"'Børn \"&A245&\"'!$H$61\",TRUE)),\"\",INDIRECT(\"'Børn \"&A245&\"'!$H$61\",TRUE)),1)","v":{"$error":"#VALUE!"}},{"$f":"COUNTIF(IF(ISERROR(INDIRECT(\"'Børn \"&A245&\"'!$H$68\",TRUE)),\"\",INDIRECT(\"'Børn \"&A245&\"'!$H$68\",TRUE)),1)","v":{"$error":"#VALUE!"}},{"$f":"COUNTIF(IF(ISERROR(INDIRECT(\"'Børn \"&A245&\"'!$H$79\",TRUE)),\"\",INDIRECT(\"'Børn \"&A245&\"'!$H$79\",TRUE)),1)","v":{"$error":"#VALUE!"}},{"$f":"COUNTIF(IF(ISERROR(INDIRECT(\"'Børn \"&A245&\"'!$H$87\",TRUE)),\"\",INDIRECT(\"'Børn \"&A245&\"'!$H$87\",TRUE)),1)","v":{"$error":"#VALUE!"}},null,null,null,{"$f":"U244","v":"Tilsyn 92"},{"$f":"IF(INDIRECT(\"'Voksen \"&U245&\"'!$c$115\")=\"\",\"\",IFERROR(INDIRECT(\"'Voksen \"&U245&\"'!$c$115\",TRUE),\"\"))","v":{"$error":"#REF!"}},{"$f":"IF(INDIRECT(\"'Voksen \"&U245&\"'!$c$136\")=\"\",\"\",IFERROR(INDIRECT(\"'Voksen \"&U245&\"'!$c$136\",TRUE),\"\"))","v":{"$error":"#REF!"}},{"$f":"IF(INDIRECT(\"'Voksen \"&U245&\"'!$c$157\")=\"\",\"\",IFERROR(INDIRECT(\"'Voksen \"&U245&\"'!$c$157\",TRUE),\"\"))","v":{"$error":"#REF!"}},{"$f":"IF(INDIRECT(\"'Voksen \"&U245&\"'!$c$172\")=\"\",\"\",IFERROR(INDIRECT(\"'Voksen \"&U245&\"'!$c$172\",TRUE),\"\"))","v":{"$error":"#REF!"}},{"$f":"IF(INDIRECT(\"'Voksen \"&U245&\"'!$c$189\")=\"\",\"\",IFERROR(INDIRECT(\"'Voksen \"&U245&\"'!$c$189\",TRUE),\"\"))","v":{"$error":"#REF!"}},{"$f":"IF(INDIRECT(\"'Voksen \"&U245&\"'!$c$210\")=\"\",\"\",IFERROR(INDIRECT(\"'Voksen \"&U245&\"'!$c$210\",TRUE),\"\"))","v":{"$error":"#REF!"}},{"$f":"IF(INDIRECT(\"'Voksen \"&U245&\"'!$c$232\")=\"\",\"\",IFERROR(INDIRECT(\"'Voksen \"&U245&\"'!$c$232\",TRUE),\"\"))","v":{"$error":"#REF!"}},{"$f":"IF(INDIRECT(\"'Voksen \"&U245&\"'!$c$258\")=\"\",\"\",IFERROR(INDIRECT(\"'Voksen \"&U245&\"'!$c$258\",TRUE),\"\"))","v":{"$error":"#REF!"}},null,{"$f":"IF(INDIRECT(\"'Børn \"&U245&\"'!$c$126\")=\"\",\"\",IFERROR(INDIRECT(\"'Børn \"&U245&\"'!$c$126\",TRUE),\"\"))","v":{"$error":"#REF!"}},{"$f":"IF(INDIRECT(\"'Børn \"&U245&\"'!$c$142\")=\"\",\"\",IFERROR(INDIRECT(\"'Børn \"&U245&\"'!$c$142\",TRUE),\"\"))","v":{"$error":"#REF!"}},{"$f":"IF(INDIRECT(\"'Børn \"&U245&\"'!$c$166\")=\"\",\"\",IFERROR(INDIRECT(\"'Børn \"&U245&\"'!$c$166\",TRUE),\"\"))","v":{"$error":"#REF!"}},{"$f":"IF(INDIRECT(\"'Børn \"&U245&\"'!$c$180\")=\"\",\"\",IFERROR(INDIRECT(\"'Børn \"&U245&\"'!$c$180\",TRUE),\"\"))","v":{"$error":"#REF!"}},{"$f":"IF(INDIRECT(\"'Børn \"&U245&\"'!$c$200\")=\"\",\"\",IFERROR(INDIRECT(\"'Børn \"&U245&\"'!$c$200\",TRUE),\"\"))","v":{"$error":"#REF!"}},{"$f":"IF(INDIRECT(\"'Børn \"&U245&\"'!$c$221\")=\"\",\"\",IFERROR(INDIRECT(\"'Børn \"&U245&\"'!$c$221\",TRUE),\"\"))","v":{"$error":"#REF!"}},{"$f":"IF(INDIRECT(\"'Børn \"&U245&\"'!$c$244\")=\"\",\"\",IFERROR(INDIRECT(\"'Børn \"&U245&\"'!$c$244\",TRUE),\"\"))","v":{"$error":"#REF!"}}]
["Tilsyn 62","Status:  gul",{"$f":"COUNTIF(IF(ISERROR(INDIRECT(\"'Voksen \"&A246&\"'!$H$31\",TRUE)),\"\",INDIRECT(\"'Voksen \"&A246&\"'!$H$31\",TRUE)),2)","v":{"$error":"#VALUE!"}},{"$f":"COUNTIF(IF(ISERROR(INDIRECT(\"'Voksen \"&A246&\"'!$H$41\",TRUE)),\"\",INDIRECT(\"'Voksen \"&A246&\"'!$H$41\",TRUE)),2)","v":{"$error":"#VALUE!"}},{"$f":"COUNTIF(IF(ISERROR(INDIRECT(\"'Voksen \"&A246&\"'!$H$50\",TRUE)),\"\",INDIRECT(\"'Voksen \"&A246&\"'!$H$50\",TRUE)),2)","v":{"$error":"#VALUE!"}},{"$f":"COUNTIF(IF(ISERROR(INDIRECT(\"'Voksen \"&A246&\"'!$H$58\",TRUE)),\"\",INDIRECT(\"'Voksen \"&A246&\"'!$H$58\",TRUE)),2)","v":{"$error":"#VALUE!"}},{"$f":"COUNTIF(IF(ISERROR(INDIRECT(\"'Voksen \"&A246&\"'!$H$69\",TRUE)),\"\",INDIRECT(\"'Voksen \"&A246&\"'!$H$69\",TRUE)),2)","v":{"$error":"#VALUE!"}},{"$f":"COUNTIF(IF(ISERROR(INDIRECT(\"'Voksen \"&A246&\"'!$H$77\",TRUE)),\"\",INDIRECT(\"'Voksen \"&A246&\"'!$H$77\",TRUE)),2)","v":{"$error":"#VALUE!"}},null,null,{"$f":"COUNTIF(IF(ISERROR(INDIRECT(\"'Børn \"&A246&\"'!$H$31\",TRUE)),\"\",INDIRECT(\"'Børn \"&A246&\"'!$H$31\",TRUE)),2)","v":{"$error":"#VALUE!"}},{"$f":"COUNTIF(IF(ISERROR(INDIRECT(\"'Børn \"&A246&\"'!$H$44\",TRUE)),\"\",INDIRECT(\"'Børn \"&A246&\"'!$H$44\",TRUE)),2)","v":{"$error":"#VALUE!"}},{"$f":"COUNTIF(IF(ISERROR(INDIRECT(\"'Børn \"&A246&\"'!$H$53\",TRUE)),\"\",INDIRECT(\"'Børn \"&A246&\"'!$H$53\",TRUE)),2)","v":{"$error":"#VALUE!"}},{"$f":"COUNTIF(IF(ISERROR(INDIRECT(\"'Børn \"&A246&\"'!$H$61\",TRUE)),\"\",INDIRECT(\"'Børn \"&A246&\"'!$H$61\",TRUE)),2)","v":{"$error":"#VALUE!"}},{"$f":"COUNTIF(IF(ISERROR(INDIRECT(\"'Børn \"&A246&\"'!$H$68\",TRUE)),\"\",INDIRECT(\"'Børn \"&A246&\"'!$H$68\",TRUE)),2)","v":{"$error":"#VALUE!"}},{"$f":"COUNTIF(IF(ISERROR(INDIRECT(\"'Børn \"&A246&\"'!$H$79\",TRUE)),\"\",INDIRECT(\"'Børn \"&A246&\"'!$H$79\",TRUE)),2)","v":{"$error":"#VALUE!"}},{"$f":"COUNTIF(IF(ISERROR(INDIRECT(\"'Børn \"&A246&\"'!$H$87\",TRUE)),\"\",INDIRECT(\"'Børn \"&A246&\"'!$H$87\",TRUE)),2)","v":{"$error":"#VALUE!"}},null,null,null,"Tilsyn 93",{"$f":"IF(INDIRECT(\"'Voksen \"&U246&\"'!$c$112\")=\"\",\"\",IFERROR(INDIRECT(\"'Voksen \"&U246&\"'!$c$112\",TRUE),\"\"))","v":{"$error":"#REF!"}},{"$f":"IF(INDIRECT(\"'Voksen \"&U246&\"'!$c$133\")=\"\",\"\",IFERROR(INDIRECT(\"'Voksen \"&U246&\"'!$c$133\",TRUE),\"\"))","v":{"$error":"#REF!"}},{"$f":"IF(INDIRECT(\"'Voksen \"&U246&\"'!$c$154\")=\"\",\"\",IFERROR(INDIRECT(\"'Voksen \"&U246&\"'!$c$154\",TRUE),\"\"))","v":{"$error":"#REF!"}},{"$f":"IF(INDIRECT(\"'Voksen \"&U246&\"'!$c$169\")=\"\",\"\",IFERROR(INDIRECT(\"'Voksen \"&U246&\"'!$c$169\",TRUE),\"\"))","v":{"$error":"#REF!"}},{"$f":"IF(INDIRECT(\"'Voksen \"&U246&\"'!$c$186\")=\"\",\"\",IFERROR(INDIRECT(\"'Voksen \"&U246&\"'!$c$186\",TRUE),\"\"))","v":{"$error":"#REF!"}},{"$f":"IF(INDIRECT(\"'Voksen \"&U246&\"'!$c$207\")=\"\",\"\",IFERROR(INDIRECT(\"'Voksen \"&U246&\"'!$c$207\",TRUE),\"\"))","v":{"$error":"#REF!"}},{"$f":"IF(INDIRECT(\"'Voksen \"&U246&\"'!$c$229\")=\"\",\"\",IFERROR(INDIRECT(\"'Voksen \"&U246&\"'!$c$229\",TRUE),\"\"))","v":{"$error":"#REF!"}},{"$f":"IF(INDIRECT(\"'Voksen \"&U246&\"'!$c$255\")=\"\",\"\",IFERROR(INDIRECT(\"'Voksen \"&U246&\"'!$c$255\",TRUE),\"\"))","v":{"$error":"#REF!"}},null,{"$f":"IF(INDIRECT(\"'Børn \"&U246&\"'!$c$123\")=\"\",\"\",IFERROR(INDIRECT(\"'Børn \"&U246&\"'!$c$123\",TRUE),\"\"))","v":{"$error":"#REF!"}},{"$f":"IF(INDIRECT(\"'Børn \"&U246&\"'!$c$139\")=\"\",\"\",IFERROR(INDIRECT(\"'Børn \"&U246&\"'!$c$139\",TRUE),\"\"))","v":{"$error":"#REF!"}},{"$f":"IF(INDIRECT(\"'Børn \"&U246&\"'!$c$163\")=\"\",\"\",IFERROR(INDIRECT(\"'Børn \"&U246&\"'!$c$163\",TRUE),\"\"))","v":{"$error":"#REF!"}},{"$f":"IF(INDIRECT(\"'Børn \"&U246&\"'!$c$177\")=\"\",\"\",IFERROR(INDIRECT(\"'Børn \"&U246&\"'!$c$177\",TRUE),\"\"))","v":{"$error":"#REF!"}},{"$f":"IF(INDIRECT(\"'Børn \"&U246&\"'!$c$197\")=\"\",\"\",IFERROR(INDIRECT(\"'Børn \"&U246&\"'!$c$197\",TRUE),\"\"))","v":{"$error":"#REF!"}},{"$f":"IF(INDIRECT(\"'Børn \"&U246&\"'!$c$218\")=\"\",\"\",IFERROR(INDIRECT(\"'Børn \"&U246&\"'!$c$218\",TRUE),\"\"))","v":{"$error":"#REF!"}},{"$f":"IF(INDIRECT(\"'Børn \"&U246&\"'!$c$241\")=\"\",\"\",IFERROR(INDIRECT(\"'Børn \"&U246&\"'!$c$241\",TRUE),\"\"))","v":{"$error":"#REF!"}}]
["Tilsyn 62","Status:  rød",{"$f":"COUNTIF(IF(ISERROR(INDIRECT(\"'Voksen \"&A247&\"'!$H$31\",TRUE)),\"\",INDIRECT(\"'Voksen \"&A247&\"'!$H$31\",TRUE)),3)","v":{"$error":"#VALUE!"}},{"$f":"COUNTIF(IF(ISERROR(INDIRECT(\"'Voksen \"&A247&\"'!$H$41\",TRUE)),\"\",INDIRECT(\"'Voksen \"&A247&\"'!$H$41\",TRUE)),3)","v":{"$error":"#VALUE!"}},{"$f":"COUNTIF(IF(ISERROR(INDIRECT(\"'Voksen \"&A247&\"'!$H$50\",TRUE)),\"\",INDIRECT(\"'Voksen \"&A247&\"'!$H$50\",TRUE)),3)","v":{"$error":"#VALUE!"}},{"$f":"COUNTIF(IF(ISERROR(INDIRECT(\"'Voksen \"&A247&\"'!$H$58\",TRUE)),\"\",INDIRECT(\"'Voksen \"&A247&\"'!$H$58\",TRUE)),3)","v":{"$error":"#VALUE!"}},{"$f":"COUNTIF(IF(ISERROR(INDIRECT(\"'Voksen \"&A247&\"'!$H$69\",TRUE)),\"\",INDIRECT(\"'Voksen \"&A247&\"'!$H$69\",TRUE)),3)","v":{"$error":"#VALUE!"}},{"$f":"COUNTIF(IF(ISERROR(INDIRECT(\"'Voksen \"&A247&\"'!$H$77\",TRUE)),\"\",INDIRECT(\"'Voksen \"&A247&\"'!$H$77\",TRUE)),3)","v":{"$error":"#VALUE!"}},null,null,{"$f":"COUNTIF(IF(ISERROR(INDIRECT(\"'Børn \"&A247&\"'!$H$31\",TRUE)),\"\",INDIRECT(\"'Børn \"&A247&\"'!$H$31\",TRUE)),3)","v":{"$error":"#VALUE!"}},{"$f":"COUNTIF(IF(ISERROR(INDIRECT(\"'Børn \"&A247&\"'!$H$44\",TRUE)),\"\",INDIRECT(\"'Børn \"&A247&\"'!$H$44\",TRUE)),3)","v":{"$error":"#VALUE!"}},{"$f":"COUNTIF(IF(ISERROR(INDIRECT(\"'Børn \"&A247&\"'!$H$53\",TRUE)),\"\",INDIRECT(\"'Børn \"&A247&\"'!$H$53\",TRUE)),3)","v":{"$error":"#VALUE!"}},{"$f":"COUNTIF(IF(ISERROR(INDIRECT(\"'Børn \"&A247&\"'!$H$61\",TRUE)),\"\",INDIRECT(\"'Børn \"&A247&\"'!$H$61\",TRUE)),3)","v":{"$error":"#VALUE!"}},{"$f":"COUNTIF(IF(ISERROR(INDIRECT(\"'Børn \"&A247&\"'!$H$68\",TRUE)),\"\",INDIRECT(\"'Børn \"&A247&\"'!$H$68\",TRUE)),3)","v":{"$error":"#VALUE!"}},{"$f":"COUNTIF(IF(ISERROR(INDIRECT(\"'Børn \"&A247&\"'!$H$79\",TRUE)),\"\",INDIRECT(\"'Børn \"&A247&\"'!$H$79\",TRUE)),3)","v":{"$error":"#VALUE!"}},{"$f":"COUNTIF(IF(ISERROR(INDIRECT(\"'Børn \"&A247&\"'!$H$87\",TRUE)),\"\",INDIRECT(\"'Børn \"&A247&\"'!$H$87\",TRUE)),3)","v":{"$error":"#VALUE!"}},null,null,null,{"$f":"U246","v":"Tilsyn 93"},{"$f":"IF(INDIRECT(\"'Voksen \"&U247&\"'!$c$115\")=\"\",\"\",IFERROR(INDIRECT(\"'Voksen \"&U247&\"'!$c$115\",TRUE),\"\"))","v":{"$error":"#REF!"}},{"$f":"IF(INDIRECT(\"'Voksen \"&U247&\"'!$c$136\")=\"\",\"\",IFERROR(INDIRECT(\"'Voksen \"&U247&\"'!$c$136\",TRUE),\"\"))","v":{"$error":"#REF!"}},{"$f":"IF(INDIRECT(\"'Voksen \"&U247&\"'!$c$157\")=\"\",\"\",IFERROR(INDIRECT(\"'Voksen \"&U247&\"'!$c$157\",TRUE),\"\"))","v":{"$error":"#REF!"}},{"$f":"IF(INDIRECT(\"'Voksen \"&U247&\"'!$c$172\")=\"\",\"\",IFERROR(INDIRECT(\"'Voksen \"&U247&\"'!$c$172\",TRUE),\"\"))","v":{"$error":"#REF!"}},{"$f":"IF(INDIRECT(\"'Voksen \"&U247&\"'!$c$189\")=\"\",\"\",IFERROR(INDIRECT(\"'Voksen \"&U247&\"'!$c$189\",TRUE),\"\"))","v":{"$error":"#REF!"}},{"$f":"IF(INDIRECT(\"'Voksen \"&U247&\"'!$c$210\")=\"\",\"\",IFERROR(INDIRECT(\"'Voksen \"&U247&\"'!$c$210\",TRUE),\"\"))","v":{"$error":"#REF!"}},{"$f":"IF(INDIRECT(\"'Voksen \"&U247&\"'!$c$232\")=\"\",\"\",IFERROR(INDIRECT(\"'Voksen \"&U247&\"'!$c$232\",TRUE),\"\"))","v":{"$error":"#REF!"}},{"$f":"IF(INDIRECT(\"'Voksen \"&U247&\"'!$c$258\")=\"\",\"\",IFERROR(INDIRECT(\"'Voksen \"&U247&\"'!$c$258\",TRUE),\"\"))","v":{"$error":"#REF!"}},null,{"$f":"IF(INDIRECT(\"'Børn \"&U247&\"'!$c$126\")=\"\",\"\",IFERROR(INDIRECT(\"'Børn \"&U247&\"'!$c$126\",TRUE),\"\"))","v":{"$error":"#REF!"}},{"$f":"IF(INDIRECT(\"'Børn \"&U247&\"'!$c$142\")=\"\",\"\",IFERROR(INDIRECT(\"'Børn \"&U247&\"'!$c$142\",TRUE),\"\"))","v":{"$error":"#REF!"}},{"$f":"IF(INDIRECT(\"'Børn \"&U247&\"'!$c$166\")=\"\",\"\",IFERROR(INDIRECT(\"'Børn \"&U247&\"'!$c$166\",TRUE),\"\"))","v":{"$error":"#REF!"}},{"$f":"IF(INDIRECT(\"'Børn \"&U247&\"'!$c$180\")=\"\",\"\",IFERROR(INDIRECT(\"'Børn \"&U247&\"'!$c$180\",TRUE),\"\"))","v":{"$error":"#REF!"}},{"$f":"IF(INDIRECT(\"'Børn \"&U247&\"'!$c$200\")=\"\",\"\",IFERROR(INDIRECT(\"'Børn \"&U247&\"'!$c$200\",TRUE),\"\"))","v":{"$error":"#REF!"}},{"$f":"IF(INDIRECT(\"'Børn \"&U247&\"'!$c$221\")=\"\",\"\",IFERROR(INDIRECT(\"'Børn \"&U247&\"'!$c$221\",TRUE),\"\"))","v":{"$error":"#REF!"}},{"$f":"IF(INDIRECT(\"'Børn \"&U247&\"'!$c$244\")=\"\",\"\",IFERROR(INDIRECT(\"'Børn \"&U247&\"'!$c$244\",TRUE),\"\"))","v":{"$error":"#REF!"}}]
["Tilsyn 63","Status:  grøn",{"$f":"COUNTIF(IF(ISERROR(INDIRECT(\"'Voksen \"&A248&\"'!$H$31\",TRUE)),\"\",INDIRECT(\"'Voksen \"&A248&\"'!$H$31\",TRUE)),1)","v":{"$error":"#VALUE!"}},{"$f":"COUNTIF(IF(ISERROR(INDIRECT(\"'Voksen \"&A248&\"'!$H$41\",TRUE)),\"\",INDIRECT(\"'Voksen \"&A248&\"'!$H$41\",TRUE)),1)","v":{"$error":"#VALUE!"}},{"$f":"COUNTIF(IF(ISERROR(INDIRECT(\"'Voksen \"&A248&\"'!$H$50\",TRUE)),\"\",INDIRECT(\"'Voksen \"&A248&\"'!$H$50\",TRUE)),1)","v":{"$error":"#VALUE!"}},{"$f":"COUNTIF(IF(ISERROR(INDIRECT(\"'Voksen \"&A248&\"'!$H$58\",TRUE)),\"\",INDIRECT(\"'Voksen \"&A248&\"'!$H$58\",TRUE)),1)","v":{"$error":"#VALUE!"}},{"$f":"COUNTIF(IF(ISERROR(INDIRECT(\"'Voksen \"&A248&\"'!$H$69\",TRUE)),\"\",INDIRECT(\"'Voksen \"&A248&\"'!$H$69\",TRUE)),1)","v":{"$error":"#VALUE!"}},{"$f":"COUNTIF(IF(ISERROR(INDIRECT(\"'Voksen \"&A248&\"'!$H$77\",TRUE)),\"\",INDIRECT(\"'Voksen \"&A248&\"'!$H$77\",TRUE)),1)","v":{"$error":"#VALUE!"}},null,null,{"$f":"COUNTIF(IF(ISERROR(INDIRECT(\"'Børn \"&A248&\"'!$H$31\",TRUE)),\"\",INDIRECT(\"'Børn \"&A248&\"'!$H$31\",TRUE)),1)","v":{"$error":"#VALUE!"}},{"$f":"COUNTIF(IF(ISERROR(INDIRECT(\"'Børn \"&A248&\"'!$H$44\",TRUE)),\"\",INDIRECT(\"'Børn \"&A248&\"'!$H$44\",TRUE)),1)","v":{"$error":"#VALUE!"}},{"$f":"COUNTIF(IF(ISERROR(INDIRECT(\"'Børn \"&A248&\"'!$H$53\",TRUE)),\"\",INDIRECT(\"'Børn \"&A248&\"'!$H$53\",TRUE)),1)","v":{"$error":"#VALUE!"}},{"$f":"COUNTIF(IF(ISERROR(INDIRECT(\"'Børn \"&A248&\"'!$H$61\",TRUE)),\"\",INDIRECT(\"'Børn \"&A248&\"'!$H$61\",TRUE)),1)","v":{"$error":"#VALUE!"}},{"$f":"COUNTIF(IF(ISERROR(INDIRECT(\"'Børn \"&A248&\"'!$H$68\",TRUE)),\"\",INDIRECT(\"'Børn \"&A248&\"'!$H$68\",TRUE)),1)","v":{"$error":"#VALUE!"}},{"$f":"COUNTIF(IF(ISERROR(INDIRECT(\"'Børn \"&A248&\"'!$H$79\",TRUE)),\"\",INDIRECT(\"'Børn \"&A248&\"'!$H$79\",TRUE)),1)","v":{"$error":"#VALUE!"}},{"$f":"COUNTIF(IF(ISERROR(INDIRECT(\"'Børn \"&A248&\"'!$H$87\",TRUE)),\"\",INDIRECT(\"'Børn \"&A248&\"'!$H$87\",TRUE)),1)","v":{"$error":"#VALUE!"}},null,null,null,"Tilsyn 94",{"$f":"IF(INDIRECT(\"'Voksen \"&U248&\"'!$c$112\")=\"\",\"\",IFERROR(INDIRECT(\"'Voksen \"&U248&\"'!$c$112\",TRUE),\"\"))","v":{"$error":"#REF!"}},{"$f":"IF(INDIRECT(\"'Voksen \"&U248&\"'!$c$133\")=\"\",\"\",IFERROR(INDIRECT(\"'Voksen \"&U248&\"'!$c$133\",TRUE),\"\"))","v":{"$error":"#REF!"}},{"$f":"IF(INDIRECT(\"'Voksen \"&U248&\"'!$c$154\")=\"\",\"\",IFERROR(INDIRECT(\"'Voksen \"&U248&\"'!$c$154\",TRUE),\"\"))","v":{"$error":"#REF!"}},{"$f":"IF(INDIRECT(\"'Voksen \"&U248&\"'!$c$169\")=\"\",\"\",IFERROR(INDIRECT(\"'Voksen \"&U248&\"'!$c$169\",TRUE),\"\"))","v":{"$error":"#REF!"}},{"$f":"IF(INDIRECT(\"'Voksen \"&U248&\"'!$c$186\")=\"\",\"\",IFERROR(INDIRECT(\"'Voksen \"&U248&\"'!$c$186\",TRUE),\"\"))","v":{"$error":"#REF!"}},{"$f":"IF(INDIRECT(\"'Voksen \"&U248&\"'!$c$207\")=\"\",\"\",IFERROR(INDIRECT(\"'Voksen \"&U248&\"'!$c$207\",TRUE),\"\"))","v":{"$error":"#REF!"}},{"$f":"IF(INDIRECT(\"'Voksen \"&U248&\"'!$c$229\")=\"\",\"\",IFERROR(INDIRECT(\"'Voksen \"&U248&\"'!$c$229\",TRUE),\"\"))","v":{"$error":"#REF!"}},{"$f":"IF(INDIRECT(\"'Voksen \"&U248&\"'!$c$255\")=\"\",\"\",IFERROR(INDIRECT(\"'Voksen \"&U248&\"'!$c$255\",TRUE),\"\"))","v":{"$error":"#REF!"}},null,{"$f":"IF(INDIRECT(\"'Børn \"&U248&\"'!$c$123\")=\"\",\"\",IFERROR(INDIRECT(\"'Børn \"&U248&\"'!$c$123\",TRUE),\"\"))","v":{"$error":"#REF!"}},{"$f":"IF(INDIRECT(\"'Børn \"&U248&\"'!$c$139\")=\"\",\"\",IFERROR(INDIRECT(\"'Børn \"&U248&\"'!$c$139\",TRUE),\"\"))","v":{"$error":"#REF!"}},{"$f":"IF(INDIRECT(\"'Børn \"&U248&\"'!$c$163\")=\"\",\"\",IFERROR(INDIRECT(\"'Børn \"&U248&\"'!$c$163\",TRUE),\"\"))","v":{"$error":"#REF!"}},{"$f":"IF(INDIRECT(\"'Børn \"&U248&\"'!$c$177\")=\"\",\"\",IFERROR(INDIRECT(\"'Børn \"&U248&\"'!$c$177\",TRUE),\"\"))","v":{"$error":"#REF!"}},{"$f":"IF(INDIRECT(\"'Børn \"&U248&\"'!$c$197\")=\"\",\"\",IFERROR(INDIRECT(\"'Børn \"&U248&\"'!$c$197\",TRUE),\"\"))","v":{"$error":"#REF!"}},{"$f":"IF(INDIRECT(\"'Børn \"&U248&\"'!$c$218\")=\"\",\"\",IFERROR(INDIRECT(\"'Børn \"&U248&\"'!$c$218\",TRUE),\"\"))","v":{"$error":"#REF!"}},{"$f":"IF(INDIRECT(\"'Børn \"&U248&\"'!$c$241\")=\"\",\"\",IFERROR(INDIRECT(\"'Børn \"&U248&\"'!$c$241\",TRUE),\"\"))","v":{"$error":"#REF!"}}]
["Tilsyn 63","Status:  gul",{"$f":"COUNTIF(IF(ISERROR(INDIRECT(\"'Voksen \"&A249&\"'!$H$31\",TRUE)),\"\",INDIRECT(\"'Voksen \"&A249&\"'!$H$31\",TRUE)),2)","v":{"$error":"#VALUE!"}},{"$f":"COUNTIF(IF(ISERROR(INDIRECT(\"'Voksen \"&A249&\"'!$H$41\",TRUE)),\"\",INDIRECT(\"'Voksen \"&A249&\"'!$H$41\",TRUE)),2)","v":{"$error":"#VALUE!"}},{"$f":"COUNTIF(IF(ISERROR(INDIRECT(\"'Voksen \"&A249&\"'!$H$50\",TRUE)),\"\",INDIRECT(\"'Voksen \"&A249&\"'!$H$50\",TRUE)),2)","v":{"$error":"#VALUE!"}},{"$f":"COUNTIF(IF(ISERROR(INDIRECT(\"'Voksen \"&A249&\"'!$H$58\",TRUE)),\"\",INDIRECT(\"'Voksen \"&A249&\"'!$H$58\",TRUE)),2)","v":{"$error":"#VALUE!"}},{"$f":"COUNTIF(IF(ISERROR(INDIRECT(\"'Voksen \"&A249&\"'!$H$69\",TRUE)),\"\",INDIRECT(\"'Voksen \"&A249&\"'!$H$69\",TRUE)),2)","v":{"$error":"#VALUE!"}},{"$f":"COUNTIF(IF(ISERROR(INDIRECT(\"'Voksen \"&A249&\"'!$H$77\",TRUE)),\"\",INDIRECT(\"'Voksen \"&A249&\"'!$H$77\",TRUE)),2)","v":{"$error":"#VALUE!"}},null,null,{"$f":"COUNTIF(IF(ISERROR(INDIRECT(\"'Børn \"&A249&\"'!$H$31\",TRUE)),\"\",INDIRECT(\"'Børn \"&A249&\"'!$H$31\",TRUE)),2)","v":{"$error":"#VALUE!"}},{"$f":"COUNTIF(IF(ISERROR(INDIRECT(\"'Børn \"&A249&\"'!$H$44\",TRUE)),\"\",INDIRECT(\"'Børn \"&A249&\"'!$H$44\",TRUE)),2)","v":{"$error":"#VALUE!"}},{"$f":"COUNTIF(IF(ISERROR(INDIRECT(\"'Børn \"&A249&\"'!$H$53\",TRUE)),\"\",INDIRECT(\"'Børn \"&A249&\"'!$H$53\",TRUE)),2)","v":{"$error":"#VALUE!"}},{"$f":"COUNTIF(IF(ISERROR(INDIRECT(\"'Børn \"&A249&\"'!$H$61\",TRUE)),\"\",INDIRECT(\"'Børn \"&A249&\"'!$H$61\",TRUE)),2)","v":{"$error":"#VALUE!"}},{"$f":"COUNTIF(IF(ISERROR(INDIRECT(\"'Børn \"&A249&\"'!$H$68\",TRUE)),\"\",INDIRECT(\"'Børn \"&A249&\"'!$H$68\",TRUE)),2)","v":{"$error":"#VALUE!"}},{"$f":"COUNTIF(IF(ISERROR(INDIRECT(\"'Børn \"&A249&\"'!$H$79\",TRUE)),\"\",INDIRECT(\"'Børn \"&A249&\"'!$H$79\",TRUE)),2)","v":{"$error":"#VALUE!"}},{"$f":"COUNTIF(IF(ISERROR(INDIRECT(\"'Børn \"&A249&\"'!$H$87\",TRUE)),\"\",INDIRECT(\"'Børn \"&A249&\"'!$H$87\",TRUE)),2)","v":{"$error":"#VALUE!"}},null,null,null,{"$f":"U248","v":"Tilsyn 94"},{"$f":"IF(INDIRECT(\"'Voksen \"&U249&\"'!$c$115\")=\"\",\"\",IFERROR(INDIRECT(\"'Voksen \"&U249&\"'!$c$115\",TRUE),\"\"))","v":{"$error":"#REF!"}},{"$f":"IF(INDIRECT(\"'Voksen \"&U249&\"'!$c$136\")=\"\",\"\",IFERROR(INDIRECT(\"'Voksen \"&U249&\"'!$c$136\",TRUE),\"\"))","v":{"$error":"#REF!"}},{"$f":"IF(INDIRECT(\"'Voksen \"&U249&\"'!$c$157\")=\"\",\"\",IFERROR(INDIRECT(\"'Voksen \"&U249&\"'!$c$157\",TRUE),\"\"))","v":{"$error":"#REF!"}},{"$f":"IF(INDIRECT(\"'Voksen \"&U249&\"'!$c$172\")=\"\",\"\",IFERROR(INDIRECT(\"'Voksen \"&U249&\"'!$c$172\",TRUE),\"\"))","v":{"$error":"#REF!"}},{"$f":"IF(INDIRECT(\"'Voksen \"&U249&\"'!$c$189\")=\"\",\"\",IFERROR(INDIRECT(\"'Voksen \"&U249&\"'!$c$189\",TRUE),\"\"))","v":{"$error":"#REF!"}},{"$f":"IF(INDIRECT(\"'Voksen \"&U249&\"'!$c$210\")=\"\",\"\",IFERROR(INDIRECT(\"'Voksen \"&U249&\"'!$c$210\",TRUE),\"\"))","v":{"$error":"#REF!"}},{"$f":"IF(INDIRECT(\"'Voksen \"&U249&\"'!$c$232\")=\"\",\"\",IFERROR(INDIRECT(\"'Voksen \"&U249&\"'!$c$232\",TRUE),\"\"))","v":{"$error":"#REF!"}},{"$f":"IF(INDIRECT(\"'Voksen \"&U249&\"'!$c$258\")=\"\",\"\",IFERROR(INDIRECT(\"'Voksen \"&U249&\"'!$c$258\",TRUE),\"\"))","v":{"$error":"#REF!"}},null,{"$f":"IF(INDIRECT(\"'Børn \"&U249&\"'!$c$126\")=\"\",\"\",IFERROR(INDIRECT(\"'Børn \"&U249&\"'!$c$126\",TRUE),\"\"))","v":{"$error":"#REF!"}},{"$f":"IF(INDIRECT(\"'Børn \"&U249&\"'!$c$142\")=\"\",\"\",IFERROR(INDIRECT(\"'Børn \"&U249&\"'!$c$142\",TRUE),\"\"))","v":{"$error":"#REF!"}},{"$f":"IF(INDIRECT(\"'Børn \"&U249&\"'!$c$166\")=\"\",\"\",IFERROR(INDIRECT(\"'Børn \"&U249&\"'!$c$166\",TRUE),\"\"))","v":{"$error":"#REF!"}},{"$f":"IF(INDIRECT(\"'Børn \"&U249&\"'!$c$180\")=\"\",\"\",IFERROR(INDIRECT(\"'Børn \"&U249&\"'!$c$180\",TRUE),\"\"))","v":{"$error":"#REF!"}},{"$f":"IF(INDIRECT(\"'Børn \"&U249&\"'!$c$200\")=\"\",\"\",IFERROR(INDIRECT(\"'Børn \"&U249&\"'!$c$200\",TRUE),\"\"))","v":{"$error":"#REF!"}},{"$f":"IF(INDIRECT(\"'Børn \"&U249&\"'!$c$221\")=\"\",\"\",IFERROR(INDIRECT(\"'Børn \"&U249&\"'!$c$221\",TRUE),\"\"))","v":{"$error":"#REF!"}},{"$f":"IF(INDIRECT(\"'Børn \"&U249&\"'!$c$244\")=\"\",\"\",IFERROR(INDIRECT(\"'Børn \"&U249&\"'!$c$244\",TRUE),\"\"))","v":{"$error":"#REF!"}}]
["Tilsyn 63","Status:  rød",{"$f":"COUNTIF(IF(ISERROR(INDIRECT(\"'Voksen \"&A250&\"'!$H$31\",TRUE)),\"\",INDIRECT(\"'Voksen \"&A250&\"'!$H$31\",TRUE)),3)","v":{"$error":"#VALUE!"}},{"$f":"COUNTIF(IF(ISERROR(INDIRECT(\"'Voksen \"&A250&\"'!$H$41\",TRUE)),\"\",INDIRECT(\"'Voksen \"&A250&\"'!$H$41\",TRUE)),3)","v":{"$error":"#VALUE!"}},{"$f":"COUNTIF(IF(ISERROR(INDIRECT(\"'Voksen \"&A250&\"'!$H$50\",TRUE)),\"\",INDIRECT(\"'Voksen \"&A250&\"'!$H$50\",TRUE)),3)","v":{"$error":"#VALUE!"}},{"$f":"COUNTIF(IF(ISERROR(INDIRECT(\"'Voksen \"&A250&\"'!$H$58\",TRUE)),\"\",INDIRECT(\"'Voksen \"&A250&\"'!$H$58\",TRUE)),3)","v":{"$error":"#VALUE!"}},{"$f":"COUNTIF(IF(ISERROR(INDIRECT(\"'Voksen \"&A250&\"'!$H$69\",TRUE)),\"\",INDIRECT(\"'Voksen \"&A250&\"'!$H$69\",TRUE)),3)","v":{"$error":"#VALUE!"}},{"$f":"COUNTIF(IF(ISERROR(INDIRECT(\"'Voksen \"&A250&\"'!$H$77\",TRUE)),\"\",INDIRECT(\"'Voksen \"&A250&\"'!$H$77\",TRUE)),3)","v":{"$error":"#VALUE!"}},null,null,{"$f":"COUNTIF(IF(ISERROR(INDIRECT(\"'Børn \"&A250&\"'!$H$31\",TRUE)),\"\",INDIRECT(\"'Børn \"&A250&\"'!$H$31\",TRUE)),3)","v":{"$error":"#VALUE!"}},{"$f":"COUNTIF(IF(ISERROR(INDIRECT(\"'Børn \"&A250&\"'!$H$44\",TRUE)),\"\",INDIRECT(\"'Børn \"&A250&\"'!$H$44\",TRUE)),3)","v":{"$error":"#VALUE!"}},{"$f":"COUNTIF(IF(ISERROR(INDIRECT(\"'Børn \"&A250&\"'!$H$53\",TRUE)),\"\",INDIRECT(\"'Børn \"&A250&\"'!$H$53\",TRUE)),3)","v":{"$error":"#VALUE!"}},{"$f":"COUNTIF(IF(ISERROR(INDIRECT(\"'Børn \"&A250&\"'!$H$61\",TRUE)),\"\",INDIRECT(\"'Børn \"&A250&\"'!$H$61\",TRUE)),3)","v":{"$error":"#VALUE!"}},{"$f":"COUNTIF(IF(ISERROR(INDIRECT(\"'Børn \"&A250&\"'!$H$68\",TRUE)),\"\",INDIRECT(\"'Børn \"&A250&\"'!$H$68\",TRUE)),3)","v":{"$error":"#VALUE!"}},{"$f":"COUNTIF(IF(ISERROR(INDIRECT(\"'Børn \"&A250&\"'!$H$79\",TRUE)),\"\",INDIRECT(\"'Børn \"&A250&\"'!$H$79\",TRUE)),3)","v":{"$error":"#VALUE!"}},{"$f":"COUNTIF(IF(ISERROR(INDIRECT(\"'Børn \"&A250&\"'!$H$87\",TRUE)),\"\",INDIRECT(\"'Børn \"&A250&\"'!$H$87\",TRUE)),3)","v":{"$error":"#VALUE!"}},null,null,null,"Tilsyn 95",{"$f":"IF(INDIRECT(\"'Voksen \"&U250&\"'!$c$112\")=\"\",\"\",IFERROR(INDIRECT(\"'Voksen \"&U250&\"'!$c$112\",TRUE),\"\"))","v":{"$error":"#REF!"}},{"$f":"IF(INDIRECT(\"'Voksen \"&U250&\"'!$c$133\")=\"\",\"\",IFERROR(INDIRECT(\"'Voksen \"&U250&\"'!$c$133\",TRUE),\"\"))","v":{"$error":"#REF!"}},{"$f":"IF(INDIRECT(\"'Voksen \"&U250&\"'!$c$154\")=\"\",\"\",IFERROR(INDIRECT(\"'Voksen \"&U250&\"'!$c$154\",TRUE),\"\"))","v":{"$error":"#REF!"}},{"$f":"IF(INDIRECT(\"'Voksen \"&U250&\"'!$c$169\")=\"\",\"\",IFERROR(INDIRECT(\"'Voksen \"&U250&\"'!$c$169\",TRUE),\"\"))","v":{"$error":"#REF!"}},{"$f":"IF(INDIRECT(\"'Voksen \"&U250&\"'!$c$186\")=\"\",\"\",IFERROR(INDIRECT(\"'Voksen \"&U250&\"'!$c$186\",TRUE),\"\"))","v":{"$error":"#REF!"}},{"$f":"IF(INDIRECT(\"'Voksen \"&U250&\"'!$c$207\")=\"\",\"\",IFERROR(INDIRECT(\"'Voksen \"&U250&\"'!$c$207\",TRUE),\"\"))","v":{"$error":"#REF!"}},{"$f":"IF(INDIRECT(\"'Voksen \"&U250&\"'!$c$229\")=\"\",\"\",IFERROR(INDIRECT(\"'Voksen \"&U250&\"'!$c$229\",TRUE),\"\"))","v":{"$error":"#REF!"}},{"$f":"IF(INDIRECT(\"'Voksen \"&U250&\"'!$c$255\")=\"\",\"\",IFERROR(INDIRECT(\"'Voksen \"&U250&\"'!$c$255\",TRUE),\"\"))","v":{"$error":"#REF!"}},null,{"$f":"IF(INDIRECT(\"'Børn \"&U250&\"'!$c$123\")=\"\",\"\",IFERROR(INDIRECT(\"'Børn \"&U250&\"'!$c$123\",TRUE),\"\"))","v":{"$error":"#REF!"}},{"$f":"IF(INDIRECT(\"'Børn \"&U250&\"'!$c$139\")=\"\",\"\",IFERROR(INDIRECT(\"'Børn \"&U250&\"'!$c$139\",TRUE),\"\"))","v":{"$error":"#REF!"}},{"$f":"IF(INDIRECT(\"'Børn \"&U250&\"'!$c$163\")=\"\",\"\",IFERROR(INDIRECT(\"'Børn \"&U250&\"'!$c$163\",TRUE),\"\"))","v":{"$error":"#REF!"}},{"$f":"IF(INDIRECT(\"'Børn \"&U250&\"'!$c$177\")=\"\",\"\",IFERROR(INDIRECT(\"'Børn \"&U250&\"'!$c$177\",TRUE),\"\"))","v":{"$error":"#REF!"}},{"$f":"IF(INDIRECT(\"'Børn \"&U250&\"'!$c$197\")=\"\",\"\",IFERROR(INDIRECT(\"'Børn \"&U250&\"'!$c$197\",TRUE),\"\"))","v":{"$error":"#REF!"}},{"$f":"IF(INDIRECT(\"'Børn \"&U250&\"'!$c$218\")=\"\",\"\",IFERROR(INDIRECT(\"'Børn \"&U250&\"'!$c$218\",TRUE),\"\"))","v":{"$error":"#REF!"}},{"$f":"IF(INDIRECT(\"'Børn \"&U250&\"'!$c$241\")=\"\",\"\",IFERROR(INDIRECT(\"'Børn \"&U250&\"'!$c$241\",TRUE),\"\"))","v":{"$error":"#REF!"}}]
["Tilsyn 64","Status:  grøn",{"$f":"COUNTIF(IF(ISERROR(INDIRECT(\"'Voksen \"&A251&\"'!$H$31\",TRUE)),\"\",INDIRECT(\"'Voksen \"&A251&\"'!$H$31\",TRUE)),1)","v":{"$error":"#VALUE!"}},{"$f":"COUNTIF(IF(ISERROR(INDIRECT(\"'Voksen \"&A251&\"'!$H$41\",TRUE)),\"\",INDIRECT(\"'Voksen \"&A251&\"'!$H$41\",TRUE)),1)","v":{"$error":"#VALUE!"}},{"$f":"COUNTIF(IF(ISERROR(INDIRECT(\"'Voksen \"&A251&\"'!$H$50\",TRUE)),\"\",INDIRECT(\"'Voksen \"&A251&\"'!$H$50\",TRUE)),1)","v":{"$error":"#VALUE!"}},{"$f":"COUNTIF(IF(ISERROR(INDIRECT(\"'Voksen \"&A251&\"'!$H$58\",TRUE)),\"\",INDIRECT(\"'Voksen \"&A251&\"'!$H$58\",TRUE)),1)","v":{"$error":"#VALUE!"}},{"$f":"COUNTIF(IF(ISERROR(INDIRECT(\"'Voksen \"&A251&\"'!$H$69\",TRUE)),\"\",INDIRECT(\"'Voksen \"&A251&\"'!$H$69\",TRUE)),1)","v":{"$error":"#VALUE!"}},{"$f":"COUNTIF(IF(ISERROR(INDIRECT(\"'Voksen \"&A251&\"'!$H$77\",TRUE)),\"\",INDIRECT(\"'Voksen \"&A251&\"'!$H$77\",TRUE)),1)","v":{"$error":"#VALUE!"}},null,null,{"$f":"COUNTIF(IF(ISERROR(INDIRECT(\"'Børn \"&A251&\"'!$H$31\",TRUE)),\"\",INDIRECT(\"'Børn \"&A251&\"'!$H$31\",TRUE)),1)","v":{"$error":"#VALUE!"}},{"$f":"COUNTIF(IF(ISERROR(INDIRECT(\"'Børn \"&A251&\"'!$H$44\",TRUE)),\"\",INDIRECT(\"'Børn \"&A251&\"'!$H$44\",TRUE)),1)","v":{"$error":"#VALUE!"}},{"$f":"COUNTIF(IF(ISERROR(INDIRECT(\"'Børn \"&A251&\"'!$H$53\",TRUE)),\"\",INDIRECT(\"'Børn \"&A251&\"'!$H$53\",TRUE)),1)","v":{"$error":"#VALUE!"}},{"$f":"COUNTIF(IF(ISERROR(INDIRECT(\"'Børn \"&A251&\"'!$H$61\",TRUE)),\"\",INDIRECT(\"'Børn \"&A251&\"'!$H$61\",TRUE)),1)","v":{"$error":"#VALUE!"}},{"$f":"COUNTIF(IF(ISERROR(INDIRECT(\"'Børn \"&A251&\"'!$H$68\",TRUE)),\"\",INDIRECT(\"'Børn \"&A251&\"'!$H$68\",TRUE)),1)","v":{"$error":"#VALUE!"}},{"$f":"COUNTIF(IF(ISERROR(INDIRECT(\"'Børn \"&A251&\"'!$H$79\",TRUE)),\"\",INDIRECT(\"'Børn \"&A251&\"'!$H$79\",TRUE)),1)","v":{"$error":"#VALUE!"}},{"$f":"COUNTIF(IF(ISERROR(INDIRECT(\"'Børn \"&A251&\"'!$H$87\",TRUE)),\"\",INDIRECT(\"'Børn \"&A251&\"'!$H$87\",TRUE)),1)","v":{"$error":"#VALUE!"}},null,null,null,{"$f":"U250","v":"Tilsyn 95"},{"$f":"IF(INDIRECT(\"'Voksen \"&U251&\"'!$c$115\")=\"\",\"\",IFERROR(INDIRECT(\"'Voksen \"&U251&\"'!$c$115\",TRUE),\"\"))","v":{"$error":"#REF!"}},{"$f":"IF(INDIRECT(\"'Voksen \"&U251&\"'!$c$136\")=\"\",\"\",IFERROR(INDIRECT(\"'Voksen \"&U251&\"'!$c$136\",TRUE),\"\"))","v":{"$error":"#REF!"}},{"$f":"IF(INDIRECT(\"'Voksen \"&U251&\"'!$c$157\")=\"\",\"\",IFERROR(INDIRECT(\"'Voksen \"&U251&\"'!$c$157\",TRUE),\"\"))","v":{"$error":"#REF!"}},{"$f":"IF(INDIRECT(\"'Voksen \"&U251&\"'!$c$172\")=\"\",\"\",IFERROR(INDIRECT(\"'Voksen \"&U251&\"'!$c$172\",TRUE),\"\"))","v":{"$error":"#REF!"}},{"$f":"IF(INDIRECT(\"'Voksen \"&U251&\"'!$c$189\")=\"\",\"\",IFERROR(INDIRECT(\"'Voksen \"&U251&\"'!$c$189\",TRUE),\"\"))","v":{"$error":"#REF!"}},{"$f":"IF(INDIRECT(\"'Voksen \"&U251&\"'!$c$210\")=\"\",\"\",IFERROR(INDIRECT(\"'Voksen \"&U251&\"'!$c$210\",TRUE),\"\"))","v":{"$error":"#REF!"}},{"$f":"IF(INDIRECT(\"'Voksen \"&U251&\"'!$c$232\")=\"\",\"\",IFERROR(INDIRECT(\"'Voksen \"&U251&\"'!$c$232\",TRUE),\"\"))","v":{"$error":"#REF!"}},{"$f":"IF(INDIRECT(\"'Voksen \"&U251&\"'!$c$258\")=\"\",\"\",IFERROR(INDIRECT(\"'Voksen \"&U251&\"'!$c$258\",TRUE),\"\"))","v":{"$error":"#REF!"}},null,{"$f":"IF(INDIRECT(\"'Børn \"&U251&\"'!$c$126\")=\"\",\"\",IFERROR(INDIRECT(\"'Børn \"&U251&\"'!$c$126\",TRUE),\"\"))","v":{"$error":"#REF!"}},{"$f":"IF(INDIRECT(\"'Børn \"&U251&\"'!$c$142\")=\"\",\"\",IFERROR(INDIRECT(\"'Børn \"&U251&\"'!$c$142\",TRUE),\"\"))","v":{"$error":"#REF!"}},{"$f":"IF(INDIRECT(\"'Børn \"&U251&\"'!$c$166\")=\"\",\"\",IFERROR(INDIRECT(\"'Børn \"&U251&\"'!$c$166\",TRUE),\"\"))","v":{"$error":"#REF!"}},{"$f":"IF(INDIRECT(\"'Børn \"&U251&\"'!$c$180\")=\"\",\"\",IFERROR(INDIRECT(\"'Børn \"&U251&\"'!$c$180\",TRUE),\"\"))","v":{"$error":"#REF!"}},{"$f":"IF(INDIRECT(\"'Børn \"&U251&\"'!$c$200\")=\"\",\"\",IFERROR(INDIRECT(\"'Børn \"&U251&\"'!$c$200\",TRUE),\"\"))","v":{"$error":"#REF!"}},{"$f":"IF(INDIRECT(\"'Børn \"&U251&\"'!$c$221\")=\"\",\"\",IFERROR(INDIRECT(\"'Børn \"&U251&\"'!$c$221\",TRUE),\"\"))","v":{"$error":"#REF!"}},{"$f":"IF(INDIRECT(\"'Børn \"&U251&\"'!$c$244\")=\"\",\"\",IFERROR(INDIRECT(\"'Børn \"&U251&\"'!$c$244\",TRUE),\"\"))","v":{"$error":"#REF!"}}]
["Tilsyn 64","Status:  gul",{"$f":"COUNTIF(IF(ISERROR(INDIRECT(\"'Voksen \"&A252&\"'!$H$31\",TRUE)),\"\",INDIRECT(\"'Voksen \"&A252&\"'!$H$31\",TRUE)),2)","v":{"$error":"#VALUE!"}},{"$f":"COUNTIF(IF(ISERROR(INDIRECT(\"'Voksen \"&A252&\"'!$H$41\",TRUE)),\"\",INDIRECT(\"'Voksen \"&A252&\"'!$H$41\",TRUE)),2)","v":{"$error":"#VALUE!"}},{"$f":"COUNTIF(IF(ISERROR(INDIRECT(\"'Voksen \"&A252&\"'!$H$50\",TRUE)),\"\",INDIRECT(\"'Voksen \"&A252&\"'!$H$50\",TRUE)),2)","v":{"$error":"#VALUE!"}},{"$f":"COUNTIF(IF(ISERROR(INDIRECT(\"'Voksen \"&A252&\"'!$H$58\",TRUE)),\"\",INDIRECT(\"'Voksen \"&A252&\"'!$H$58\",TRUE)),2)","v":{"$error":"#VALUE!"}},{"$f":"COUNTIF(IF(ISERROR(INDIRECT(\"'Voksen \"&A252&\"'!$H$69\",TRUE)),\"\",INDIRECT(\"'Voksen \"&A252&\"'!$H$69\",TRUE)),2)","v":{"$error":"#VALUE!"}},{"$f":"COUNTIF(IF(ISERROR(INDIRECT(\"'Voksen \"&A252&\"'!$H$77\",TRUE)),\"\",INDIRECT(\"'Voksen \"&A252&\"'!$H$77\",TRUE)),2)","v":{"$error":"#VALUE!"}},null,null,{"$f":"COUNTIF(IF(ISERROR(INDIRECT(\"'Børn \"&A252&\"'!$H$31\",TRUE)),\"\",INDIRECT(\"'Børn \"&A252&\"'!$H$31\",TRUE)),2)","v":{"$error":"#VALUE!"}},{"$f":"COUNTIF(IF(ISERROR(INDIRECT(\"'Børn \"&A252&\"'!$H$44\",TRUE)),\"\",INDIRECT(\"'Børn \"&A252&\"'!$H$44\",TRUE)),2)","v":{"$error":"#VALUE!"}},{"$f":"COUNTIF(IF(ISERROR(INDIRECT(\"'Børn \"&A252&\"'!$H$53\",TRUE)),\"\",INDIRECT(\"'Børn \"&A252&\"'!$H$53\",TRUE)),2)","v":{"$error":"#VALUE!"}},{"$f":"COUNTIF(IF(ISERROR(INDIRECT(\"'Børn \"&A252&\"'!$H$61\",TRUE)),\"\",INDIRECT(\"'Børn \"&A252&\"'!$H$61\",TRUE)),2)","v":{"$error":"#VALUE!"}},{"$f":"COUNTIF(IF(ISERROR(INDIRECT(\"'Børn \"&A252&\"'!$H$68\",TRUE)),\"\",INDIRECT(\"'Børn \"&A252&\"'!$H$68\",TRUE)),2)","v":{"$error":"#VALUE!"}},{"$f":"COUNTIF(IF(ISERROR(INDIRECT(\"'Børn \"&A252&\"'!$H$79\",TRUE)),\"\",INDIRECT(\"'Børn \"&A252&\"'!$H$79\",TRUE)),2)","v":{"$error":"#VALUE!"}},{"$f":"COUNTIF(IF(ISERROR(INDIRECT(\"'Børn \"&A252&\"'!$H$87\",TRUE)),\"\",INDIRECT(\"'Børn \"&A252&\"'!$H$87\",TRUE)),2)","v":{"$error":"#VALUE!"}},null,null,null,"Tilsyn 96",{"$f":"IF(INDIRECT(\"'Voksen \"&U252&\"'!$c$112\")=\"\",\"\",IFERROR(INDIRECT(\"'Voksen \"&U252&\"'!$c$112\",TRUE),\"\"))","v":{"$error":"#REF!"}},{"$f":"IF(INDIRECT(\"'Voksen \"&U252&\"'!$c$133\")=\"\",\"\",IFERROR(INDIRECT(\"'Voksen \"&U252&\"'!$c$133\",TRUE),\"\"))","v":{"$error":"#REF!"}},{"$f":"IF(INDIRECT(\"'Voksen \"&U252&\"'!$c$154\")=\"\",\"\",IFERROR(INDIRECT(\"'Voksen \"&U252&\"'!$c$154\",TRUE),\"\"))","v":{"$error":"#REF!"}},{"$f":"IF(INDIRECT(\"'Voksen \"&U252&\"'!$c$169\")=\"\",\"\",IFERROR(INDIRECT(\"'Voksen \"&U252&\"'!$c$169\",TRUE),\"\"))","v":{"$error":"#REF!"}},{"$f":"IF(INDIRECT(\"'Voksen \"&U252&\"'!$c$186\")=\"\",\"\",IFERROR(INDIRECT(\"'Voksen \"&U252&\"'!$c$186\",TRUE),\"\"))","v":{"$error":"#REF!"}},{"$f":"IF(INDIRECT(\"'Voksen \"&U252&\"'!$c$207\")=\"\",\"\",IFERROR(INDIRECT(\"'Voksen \"&U252&\"'!$c$207\",TRUE),\"\"))","v":{"$error":"#REF!"}},{"$f":"IF(INDIRECT(\"'Voksen \"&U252&\"'!$c$229\")=\"\",\"\",IFERROR(INDIRECT(\"'Voksen \"&U252&\"'!$c$229\",TRUE),\"\"))","v":{"$error":"#REF!"}},{"$f":"IF(INDIRECT(\"'Voksen \"&U252&\"'!$c$255\")=\"\",\"\",IFERROR(INDIRECT(\"'Voksen \"&U252&\"'!$c$255\",TRUE),\"\"))","v":{"$error":"#REF!"}},null,{"$f":"IF(INDIRECT(\"'Børn \"&U252&\"'!$c$123\")=\"\",\"\",IFERROR(INDIRECT(\"'Børn \"&U252&\"'!$c$123\",TRUE),\"\"))","v":{"$error":"#REF!"}},{"$f":"IF(INDIRECT(\"'Børn \"&U252&\"'!$c$139\")=\"\",\"\",IFERROR(INDIRECT(\"'Børn \"&U252&\"'!$c$139\",TRUE),\"\"))","v":{"$error":"#REF!"}},{"$f":"IF(INDIRECT(\"'Børn \"&U252&\"'!$c$163\")=\"\",\"\",IFERROR(INDIRECT(\"'Børn \"&U252&\"'!$c$163\",TRUE),\"\"))","v":{"$error":"#REF!"}},{"$f":"IF(INDIRECT(\"'Børn \"&U252&\"'!$c$177\")=\"\",\"\",IFERROR(INDIRECT(\"'Børn \"&U252&\"'!$c$177\",TRUE),\"\"))","v":{"$error":"#REF!"}},{"$f":"IF(INDIRECT(\"'Børn \"&U252&\"'!$c$197\")=\"\",\"\",IFERROR(INDIRECT(\"'Børn \"&U252&\"'!$c$197\",TRUE),\"\"))","v":{"$error":"#REF!"}},{"$f":"IF(INDIRECT(\"'Børn \"&U252&\"'!$c$218\")=\"\",\"\",IFERROR(INDIRECT(\"'Børn \"&U252&\"'!$c$218\",TRUE),\"\"))","v":{"$error":"#REF!"}},{"$f":"IF(INDIRECT(\"'Børn \"&U252&\"'!$c$241\")=\"\",\"\",IFERROR(INDIRECT(\"'Børn \"&U252&\"'!$c$241\",TRUE),\"\"))","v":{"$error":"#REF!"}}]
["Tilsyn 64","Status:  rød",{"$f":"COUNTIF(IF(ISERROR(INDIRECT(\"'Voksen \"&A253&\"'!$H$31\",TRUE)),\"\",INDIRECT(\"'Voksen \"&A253&\"'!$H$31\",TRUE)),3)","v":{"$error":"#VALUE!"}},{"$f":"COUNTIF(IF(ISERROR(INDIRECT(\"'Voksen \"&A253&\"'!$H$41\",TRUE)),\"\",INDIRECT(\"'Voksen \"&A253&\"'!$H$41\",TRUE)),3)","v":{"$error":"#VALUE!"}},{"$f":"COUNTIF(IF(ISERROR(INDIRECT(\"'Voksen \"&A253&\"'!$H$50\",TRUE)),\"\",INDIRECT(\"'Voksen \"&A253&\"'!$H$50\",TRUE)),3)","v":{"$error":"#VALUE!"}},{"$f":"COUNTIF(IF(ISERROR(INDIRECT(\"'Voksen \"&A253&\"'!$H$58\",TRUE)),\"\",INDIRECT(\"'Voksen \"&A253&\"'!$H$58\",TRUE)),3)","v":{"$error":"#VALUE!"}},{"$f":"COUNTIF(IF(ISERROR(INDIRECT(\"'Voksen \"&A253&\"'!$H$69\",TRUE)),\"\",INDIRECT(\"'Voksen \"&A253&\"'!$H$69\",TRUE)),3)","v":{"$error":"#VALUE!"}},{"$f":"COUNTIF(IF(ISERROR(INDIRECT(\"'Voksen \"&A253&\"'!$H$77\",TRUE)),\"\",INDIRECT(\"'Voksen \"&A253&\"'!$H$77\",TRUE)),3)","v":{"$error":"#VALUE!"}},null,null,{"$f":"COUNTIF(IF(ISERROR(INDIRECT(\"'Børn \"&A253&\"'!$H$31\",TRUE)),\"\",INDIRECT(\"'Børn \"&A253&\"'!$H$31\",TRUE)),3)","v":{"$error":"#VALUE!"}},{"$f":"COUNTIF(IF(ISERROR(INDIRECT(\"'Børn \"&A253&\"'!$H$44\",TRUE)),\"\",INDIRECT(\"'Børn \"&A253&\"'!$H$44\",TRUE)),3)","v":{"$error":"#VALUE!"}},{"$f":"COUNTIF(IF(ISERROR(INDIRECT(\"'Børn \"&A253&\"'!$H$53\",TRUE)),\"\",INDIRECT(\"'Børn \"&A253&\"'!$H$53\",TRUE)),3)","v":{"$error":"#VALUE!"}},{"$f":"COUNTIF(IF(ISERROR(INDIRECT(\"'Børn \"&A253&\"'!$H$61\",TRUE)),\"\",INDIRECT(\"'Børn \"&A253&\"'!$H$61\",TRUE)),3)","v":{"$error":"#VALUE!"}},{"$f":"COUNTIF(IF(ISERROR(INDIRECT(\"'Børn \"&A253&\"'!$H$68\",TRUE)),\"\",INDIRECT(\"'Børn \"&A253&\"'!$H$68\",TRUE)),3)","v":{"$error":"#VALUE!"}},{"$f":"COUNTIF(IF(ISERROR(INDIRECT(\"'Børn \"&A253&\"'!$H$79\",TRUE)),\"\",INDIRECT(\"'Børn \"&A253&\"'!$H$79\",TRUE)),3)","v":{"$error":"#VALUE!"}},{"$f":"COUNTIF(IF(ISERROR(INDIRECT(\"'Børn \"&A253&\"'!$H$87\",TRUE)),\"\",INDIRECT(\"'Børn \"&A253&\"'!$H$87\",TRUE)),3)","v":{"$error":"#VALUE!"}},null,null,null,{"$f":"U252","v":"Tilsyn 96"},{"$f":"IF(INDIRECT(\"'Voksen \"&U253&\"'!$c$115\")=\"\",\"\",IFERROR(INDIRECT(\"'Voksen \"&U253&\"'!$c$115\",TRUE),\"\"))","v":{"$error":"#REF!"}},{"$f":"IF(INDIRECT(\"'Voksen \"&U253&\"'!$c$136\")=\"\",\"\",IFERROR(INDIRECT(\"'Voksen \"&U253&\"'!$c$136\",TRUE),\"\"))","v":{"$error":"#REF!"}},{"$f":"IF(INDIRECT(\"'Voksen \"&U253&\"'!$c$157\")=\"\",\"\",IFERROR(INDIRECT(\"'Voksen \"&U253&\"'!$c$157\",TRUE),\"\"))","v":{"$error":"#REF!"}},{"$f":"IF(INDIRECT(\"'Voksen \"&U253&\"'!$c$172\")=\"\",\"\",IFERROR(INDIRECT(\"'Voksen \"&U253&\"'!$c$172\",TRUE),\"\"))","v":{"$error":"#REF!"}},{"$f":"IF(INDIRECT(\"'Voksen \"&U253&\"'!$c$189\")=\"\",\"\",IFERROR(INDIRECT(\"'Voksen \"&U253&\"'!$c$189\",TRUE),\"\"))","v":{"$error":"#REF!"}},{"$f":"IF(INDIRECT(\"'Voksen \"&U253&\"'!$c$210\")=\"\",\"\",IFERROR(INDIRECT(\"'Voksen \"&U253&\"'!$c$210\",TRUE),\"\"))","v":{"$error":"#REF!"}},{"$f":"IF(INDIRECT(\"'Voksen \"&U253&\"'!$c$232\")=\"\",\"\",IFERROR(INDIRECT(\"'Voksen \"&U253&\"'!$c$232\",TRUE),\"\"))","v":{"$error":"#REF!"}},{"$f":"IF(INDIRECT(\"'Voksen \"&U253&\"'!$c$258\")=\"\",\"\",IFERROR(INDIRECT(\"'Voksen \"&U253&\"'!$c$258\",TRUE),\"\"))","v":{"$error":"#REF!"}},null,{"$f":"IF(INDIRECT(\"'Børn \"&U253&\"'!$c$126\")=\"\",\"\",IFERROR(INDIRECT(\"'Børn \"&U253&\"'!$c$126\",TRUE),\"\"))","v":{"$error":"#REF!"}},{"$f":"IF(INDIRECT(\"'Børn \"&U253&\"'!$c$142\")=\"\",\"\",IFERROR(INDIRECT(\"'Børn \"&U253&\"'!$c$142\",TRUE),\"\"))","v":{"$error":"#REF!"}},{"$f":"IF(INDIRECT(\"'Børn \"&U253&\"'!$c$166\")=\"\",\"\",IFERROR(INDIRECT(\"'Børn \"&U253&\"'!$c$166\",TRUE),\"\"))","v":{"$error":"#REF!"}},{"$f":"IF(INDIRECT(\"'Børn \"&U253&\"'!$c$180\")=\"\",\"\",IFERROR(INDIRECT(\"'Børn \"&U253&\"'!$c$180\",TRUE),\"\"))","v":{"$error":"#REF!"}},{"$f":"IF(INDIRECT(\"'Børn \"&U253&\"'!$c$200\")=\"\",\"\",IFERROR(INDIRECT(\"'Børn \"&U253&\"'!$c$200\",TRUE),\"\"))","v":{"$error":"#REF!"}},{"$f":"IF(INDIRECT(\"'Børn \"&U253&\"'!$c$221\")=\"\",\"\",IFERROR(INDIRECT(\"'Børn \"&U253&\"'!$c$221\",TRUE),\"\"))","v":{"$error":"#REF!"}},{"$f":"IF(INDIRECT(\"'Børn \"&U253&\"'!$c$244\")=\"\",\"\",IFERROR(INDIRECT(\"'Børn \"&U253&\"'!$c$244\",TRUE),\"\"))","v":{"$error":"#REF!"}}]
["Tilsyn 65","Status:  grøn",{"$f":"COUNTIF(IF(ISERROR(INDIRECT(\"'Voksen \"&A254&\"'!$H$31\",TRUE)),\"\",INDIRECT(\"'Voksen \"&A254&\"'!$H$31\",TRUE)),1)","v":{"$error":"#VALUE!"}},{"$f":"COUNTIF(IF(ISERROR(INDIRECT(\"'Voksen \"&A254&\"'!$H$41\",TRUE)),\"\",INDIRECT(\"'Voksen \"&A254&\"'!$H$41\",TRUE)),1)","v":{"$error":"#VALUE!"}},{"$f":"COUNTIF(IF(ISERROR(INDIRECT(\"'Voksen \"&A254&\"'!$H$50\",TRUE)),\"\",INDIRECT(\"'Voksen \"&A254&\"'!$H$50\",TRUE)),1)","v":{"$error":"#VALUE!"}},{"$f":"COUNTIF(IF(ISERROR(INDIRECT(\"'Voksen \"&A254&\"'!$H$58\",TRUE)),\"\",INDIRECT(\"'Voksen \"&A254&\"'!$H$58\",TRUE)),1)","v":{"$error":"#VALUE!"}},{"$f":"COUNTIF(IF(ISERROR(INDIRECT(\"'Voksen \"&A254&\"'!$H$69\",TRUE)),\"\",INDIRECT(\"'Voksen \"&A254&\"'!$H$69\",TRUE)),1)","v":{"$error":"#VALUE!"}},{"$f":"COUNTIF(IF(ISERROR(INDIRECT(\"'Voksen \"&A254&\"'!$H$77\",TRUE)),\"\",INDIRECT(\"'Voksen \"&A254&\"'!$H$77\",TRUE)),1)","v":{"$error":"#VALUE!"}},null,null,{"$f":"COUNTIF(IF(ISERROR(INDIRECT(\"'Børn \"&A254&\"'!$H$31\",TRUE)),\"\",INDIRECT(\"'Børn \"&A254&\"'!$H$31\",TRUE)),1)","v":{"$error":"#VALUE!"}},{"$f":"COUNTIF(IF(ISERROR(INDIRECT(\"'Børn \"&A254&\"'!$H$44\",TRUE)),\"\",INDIRECT(\"'Børn \"&A254&\"'!$H$44\",TRUE)),1)","v":{"$error":"#VALUE!"}},{"$f":"COUNTIF(IF(ISERROR(INDIRECT(\"'Børn \"&A254&\"'!$H$53\",TRUE)),\"\",INDIRECT(\"'Børn \"&A254&\"'!$H$53\",TRUE)),1)","v":{"$error":"#VALUE!"}},{"$f":"COUNTIF(IF(ISERROR(INDIRECT(\"'Børn \"&A254&\"'!$H$61\",TRUE)),\"\",INDIRECT(\"'Børn \"&A254&\"'!$H$61\",TRUE)),1)","v":{"$error":"#VALUE!"}},{"$f":"COUNTIF(IF(ISERROR(INDIRECT(\"'Børn \"&A254&\"'!$H$68\",TRUE)),\"\",INDIRECT(\"'Børn \"&A254&\"'!$H$68\",TRUE)),1)","v":{"$error":"#VALUE!"}},{"$f":"COUNTIF(IF(ISERROR(INDIRECT(\"'Børn \"&A254&\"'!$H$79\",TRUE)),\"\",INDIRECT(\"'Børn \"&A254&\"'!$H$79\",TRUE)),1)","v":{"$error":"#VALUE!"}},{"$f":"COUNTIF(IF(ISERROR(INDIRECT(\"'Børn \"&A254&\"'!$H$87\",TRUE)),\"\",INDIRECT(\"'Børn \"&A254&\"'!$H$87\",TRUE)),1)","v":{"$error":"#VALUE!"}},null,null,null,"Tilsyn 97",{"$f":"IF(INDIRECT(\"'Voksen \"&U254&\"'!$c$112\")=\"\",\"\",IFERROR(INDIRECT(\"'Voksen \"&U254&\"'!$c$112\",TRUE),\"\"))","v":{"$error":"#REF!"}},{"$f":"IF(INDIRECT(\"'Voksen \"&U254&\"'!$c$133\")=\"\",\"\",IFERROR(INDIRECT(\"'Voksen \"&U254&\"'!$c$133\",TRUE),\"\"))","v":{"$error":"#REF!"}},{"$f":"IF(INDIRECT(\"'Voksen \"&U254&\"'!$c$154\")=\"\",\"\",IFERROR(INDIRECT(\"'Voksen \"&U254&\"'!$c$154\",TRUE),\"\"))","v":{"$error":"#REF!"}},{"$f":"IF(INDIRECT(\"'Voksen \"&U254&\"'!$c$169\")=\"\",\"\",IFERROR(INDIRECT(\"'Voksen \"&U254&\"'!$c$169\",TRUE),\"\"))","v":{"$error":"#REF!"}},{"$f":"IF(INDIRECT(\"'Voksen \"&U254&\"'!$c$186\")=\"\",\"\",IFERROR(INDIRECT(\"'Voksen \"&U254&\"'!$c$186\",TRUE),\"\"))","v":{"$error":"#REF!"}},{"$f":"IF(INDIRECT(\"'Voksen \"&U254&\"'!$c$207\")=\"\",\"\",IFERROR(INDIRECT(\"'Voksen \"&U254&\"'!$c$207\",TRUE),\"\"))","v":{"$error":"#REF!"}},{"$f":"IF(INDIRECT(\"'Voksen \"&U254&\"'!$c$229\")=\"\",\"\",IFERROR(INDIRECT(\"'Voksen \"&U254&\"'!$c$229\",TRUE),\"\"))","v":{"$error":"#REF!"}},{"$f":"IF(INDIRECT(\"'Voksen \"&U254&\"'!$c$255\")=\"\",\"\",IFERROR(INDIRECT(\"'Voksen \"&U254&\"'!$c$255\",TRUE),\"\"))","v":{"$error":"#REF!"}},null,{"$f":"IF(INDIRECT(\"'Børn \"&U254&\"'!$c$123\")=\"\",\"\",IFERROR(INDIRECT(\"'Børn \"&U254&\"'!$c$123\",TRUE),\"\"))","v":{"$error":"#REF!"}},{"$f":"IF(INDIRECT(\"'Børn \"&U254&\"'!$c$139\")=\"\",\"\",IFERROR(INDIRECT(\"'Børn \"&U254&\"'!$c$139\",TRUE),\"\"))","v":{"$error":"#REF!"}},{"$f":"IF(INDIRECT(\"'Børn \"&U254&\"'!$c$163\")=\"\",\"\",IFERROR(INDIRECT(\"'Børn \"&U254&\"'!$c$163\",TRUE),\"\"))","v":{"$error":"#REF!"}},{"$f":"IF(INDIRECT(\"'Børn \"&U254&\"'!$c$177\")=\"\",\"\",IFERROR(INDIRECT(\"'Børn \"&U254&\"'!$c$177\",TRUE),\"\"))","v":{"$error":"#REF!"}},{"$f":"IF(INDIRECT(\"'Børn \"&U254&\"'!$c$197\")=\"\",\"\",IFERROR(INDIRECT(\"'Børn \"&U254&\"'!$c$197\",TRUE),\"\"))","v":{"$error":"#REF!"}},{"$f":"IF(INDIRECT(\"'Børn \"&U254&\"'!$c$218\")=\"\",\"\",IFERROR(INDIRECT(\"'Børn \"&U254&\"'!$c$218\",TRUE),\"\"))","v":{"$error":"#REF!"}},{"$f":"IF(INDIRECT(\"'Børn \"&U254&\"'!$c$241\")=\"\",\"\",IFERROR(INDIRECT(\"'Børn \"&U254&\"'!$c$241\",TRUE),\"\"))","v":{"$error":"#REF!"}}]
["Tilsyn 65","Status:  gul",{"$f":"COUNTIF(IF(ISERROR(INDIRECT(\"'Voksen \"&A255&\"'!$H$31\",TRUE)),\"\",INDIRECT(\"'Voksen \"&A255&\"'!$H$31\",TRUE)),2)","v":{"$error":"#VALUE!"}},{"$f":"COUNTIF(IF(ISERROR(INDIRECT(\"'Voksen \"&A255&\"'!$H$41\",TRUE)),\"\",INDIRECT(\"'Voksen \"&A255&\"'!$H$41\",TRUE)),2)","v":{"$error":"#VALUE!"}},{"$f":"COUNTIF(IF(ISERROR(INDIRECT(\"'Voksen \"&A255&\"'!$H$50\",TRUE)),\"\",INDIRECT(\"'Voksen \"&A255&\"'!$H$50\",TRUE)),2)","v":{"$error":"#VALUE!"}},{"$f":"COUNTIF(IF(ISERROR(INDIRECT(\"'Voksen \"&A255&\"'!$H$58\",TRUE)),\"\",INDIRECT(\"'Voksen \"&A255&\"'!$H$58\",TRUE)),2)","v":{"$error":"#VALUE!"}},{"$f":"COUNTIF(IF(ISERROR(INDIRECT(\"'Voksen \"&A255&\"'!$H$69\",TRUE)),\"\",INDIRECT(\"'Voksen \"&A255&\"'!$H$69\",TRUE)),2)","v":{"$error":"#VALUE!"}},{"$f":"COUNTIF(IF(ISERROR(INDIRECT(\"'Voksen \"&A255&\"'!$H$77\",TRUE)),\"\",INDIRECT(\"'Voksen \"&A255&\"'!$H$77\",TRUE)),2)","v":{"$error":"#VALUE!"}},null,null,{"$f":"COUNTIF(IF(ISERROR(INDIRECT(\"'Børn \"&A255&\"'!$H$31\",TRUE)),\"\",INDIRECT(\"'Børn \"&A255&\"'!$H$31\",TRUE)),2)","v":{"$error":"#VALUE!"}},{"$f":"COUNTIF(IF(ISERROR(INDIRECT(\"'Børn \"&A255&\"'!$H$44\",TRUE)),\"\",INDIRECT(\"'Børn \"&A255&\"'!$H$44\",TRUE)),2)","v":{"$error":"#VALUE!"}},{"$f":"COUNTIF(IF(ISERROR(INDIRECT(\"'Børn \"&A255&\"'!$H$53\",TRUE)),\"\",INDIRECT(\"'Børn \"&A255&\"'!$H$53\",TRUE)),2)","v":{"$error":"#VALUE!"}},{"$f":"COUNTIF(IF(ISERROR(INDIRECT(\"'Børn \"&A255&\"'!$H$61\",TRUE)),\"\",INDIRECT(\"'Børn \"&A255&\"'!$H$61\",TRUE)),2)","v":{"$error":"#VALUE!"}},{"$f":"COUNTIF(IF(ISERROR(INDIRECT(\"'Børn \"&A255&\"'!$H$68\",TRUE)),\"\",INDIRECT(\"'Børn \"&A255&\"'!$H$68\",TRUE)),2)","v":{"$error":"#VALUE!"}},{"$f":"COUNTIF(IF(ISERROR(INDIRECT(\"'Børn \"&A255&\"'!$H$79\",TRUE)),\"\",INDIRECT(\"'Børn \"&A255&\"'!$H$79\",TRUE)),2)","v":{"$error":"#VALUE!"}},{"$f":"COUNTIF(IF(ISERROR(INDIRECT(\"'Børn \"&A255&\"'!$H$87\",TRUE)),\"\",INDIRECT(\"'Børn \"&A255&\"'!$H$87\",TRUE)),2)","v":{"$error":"#VALUE!"}},null,null,null,{"$f":"U254","v":"Tilsyn 97"},{"$f":"IF(INDIRECT(\"'Voksen \"&U255&\"'!$c$115\")=\"\",\"\",IFERROR(INDIRECT(\"'Voksen \"&U255&\"'!$c$115\",TRUE),\"\"))","v":{"$error":"#REF!"}},{"$f":"IF(INDIRECT(\"'Voksen \"&U255&\"'!$c$136\")=\"\",\"\",IFERROR(INDIRECT(\"'Voksen \"&U255&\"'!$c$136\",TRUE),\"\"))","v":{"$error":"#REF!"}},{"$f":"IF(INDIRECT(\"'Voksen \"&U255&\"'!$c$157\")=\"\",\"\",IFERROR(INDIRECT(\"'Voksen \"&U255&\"'!$c$157\",TRUE),\"\"))","v":{"$error":"#REF!"}},{"$f":"IF(INDIRECT(\"'Voksen \"&U255&\"'!$c$172\")=\"\",\"\",IFERROR(INDIRECT(\"'Voksen \"&U255&\"'!$c$172\",TRUE),\"\"))","v":{"$error":"#REF!"}},{"$f":"IF(INDIRECT(\"'Voksen \"&U255&\"'!$c$189\")=\"\",\"\",IFERROR(INDIRECT(\"'Voksen \"&U255&\"'!$c$189\",TRUE),\"\"))","v":{"$error":"#REF!"}},{"$f":"IF(INDIRECT(\"'Voksen \"&U255&\"'!$c$210\")=\"\",\"\",IFERROR(INDIRECT(\"'Voksen \"&U255&\"'!$c$210\",TRUE),\"\"))","v":{"$error":"#REF!"}},{"$f":"IF(INDIRECT(\"'Voksen \"&U255&\"'!$c$232\")=\"\",\"\",IFERROR(INDIRECT(\"'Voksen \"&U255&\"'!$c$232\",TRUE),\"\"))","v":{"$error":"#REF!"}},{"$f":"IF(INDIRECT(\"'Voksen \"&U255&\"'!$c$258\")=\"\",\"\",IFERROR(INDIRECT(\"'Voksen \"&U255&\"'!$c$258\",TRUE),\"\"))","v":{"$error":"#REF!"}},null,{"$f":"IF(INDIRECT(\"'Børn \"&U255&\"'!$c$126\")=\"\",\"\",IFERROR(INDIRECT(\"'Børn \"&U255&\"'!$c$126\",TRUE),\"\"))","v":{"$error":"#REF!"}},{"$f":"IF(INDIRECT(\"'Børn \"&U255&\"'!$c$142\")=\"\",\"\",IFERROR(INDIRECT(\"'Børn \"&U255&\"'!$c$142\",TRUE),\"\"))","v":{"$error":"#REF!"}},{"$f":"IF(INDIRECT(\"'Børn \"&U255&\"'!$c$166\")=\"\",\"\",IFERROR(INDIRECT(\"'Børn \"&U255&\"'!$c$166\",TRUE),\"\"))","v":{"$error":"#REF!"}},{"$f":"IF(INDIRECT(\"'Børn \"&U255&\"'!$c$180\")=\"\",\"\",IFERROR(INDIRECT(\"'Børn \"&U255&\"'!$c$180\",TRUE),\"\"))","v":{"$error":"#REF!"}},{"$f":"IF(INDIRECT(\"'Børn \"&U255&\"'!$c$200\")=\"\",\"\",IFERROR(INDIRECT(\"'Børn \"&U255&\"'!$c$200\",TRUE),\"\"))","v":{"$error":"#REF!"}},{"$f":"IF(INDIRECT(\"'Børn \"&U255&\"'!$c$221\")=\"\",\"\",IFERROR(INDIRECT(\"'Børn \"&U255&\"'!$c$221\",TRUE),\"\"))","v":{"$error":"#REF!"}},{"$f":"IF(INDIRECT(\"'Børn \"&U255&\"'!$c$244\")=\"\",\"\",IFERROR(INDIRECT(\"'Børn \"&U255&\"'!$c$244\",TRUE),\"\"))","v":{"$error":"#REF!"}}]
["Tilsyn 65","Status:  rød",{"$f":"COUNTIF(IF(ISERROR(INDIRECT(\"'Voksen \"&A256&\"'!$H$31\",TRUE)),\"\",INDIRECT(\"'Voksen \"&A256&\"'!$H$31\",TRUE)),3)","v":{"$error":"#VALUE!"}},{"$f":"COUNTIF(IF(ISERROR(INDIRECT(\"'Voksen \"&A256&\"'!$H$41\",TRUE)),\"\",INDIRECT(\"'Voksen \"&A256&\"'!$H$41\",TRUE)),3)","v":{"$error":"#VALUE!"}},{"$f":"COUNTIF(IF(ISERROR(INDIRECT(\"'Voksen \"&A256&\"'!$H$50\",TRUE)),\"\",INDIRECT(\"'Voksen \"&A256&\"'!$H$50\",TRUE)),3)","v":{"$error":"#VALUE!"}},{"$f":"COUNTIF(IF(ISERROR(INDIRECT(\"'Voksen \"&A256&\"'!$H$58\",TRUE)),\"\",INDIRECT(\"'Voksen \"&A256&\"'!$H$58\",TRUE)),3)","v":{"$error":"#VALUE!"}},{"$f":"COUNTIF(IF(ISERROR(INDIRECT(\"'Voksen \"&A256&\"'!$H$69\",TRUE)),\"\",INDIRECT(\"'Voksen \"&A256&\"'!$H$69\",TRUE)),3)","v":{"$error":"#VALUE!"}},{"$f":"COUNTIF(IF(ISERROR(INDIRECT(\"'Voksen \"&A256&\"'!$H$77\",TRUE)),\"\",INDIRECT(\"'Voksen \"&A256&\"'!$H$77\",TRUE)),3)","v":{"$error":"#VALUE!"}},null,null,{"$f":"COUNTIF(IF(ISERROR(INDIRECT(\"'Børn \"&A256&\"'!$H$31\",TRUE)),\"\",INDIRECT(\"'Børn \"&A256&\"'!$H$31\",TRUE)),3)","v":{"$error":"#VALUE!"}},{"$f":"COUNTIF(IF(ISERROR(INDIRECT(\"'Børn \"&A256&\"'!$H$44\",TRUE)),\"\",INDIRECT(\"'Børn \"&A256&\"'!$H$44\",TRUE)),3)","v":{"$error":"#VALUE!"}},{"$f":"COUNTIF(IF(ISERROR(INDIRECT(\"'Børn \"&A256&\"'!$H$53\",TRUE)),\"\",INDIRECT(\"'Børn \"&A256&\"'!$H$53\",TRUE)),3)","v":{"$error":"#VALUE!"}},{"$f":"COUNTIF(IF(ISERROR(INDIRECT(\"'Børn \"&A256&\"'!$H$61\",TRUE)),\"\",INDIRECT(\"'Børn \"&A256&\"'!$H$61\",TRUE)),3)","v":{"$error":"#VALUE!"}},{"$f":"COUNTIF(IF(ISERROR(INDIRECT(\"'Børn \"&A256&\"'!$H$68\",TRUE)),\"\",INDIRECT(\"'Børn \"&A256&\"'!$H$68\",TRUE)),3)","v":{"$error":"#VALUE!"}},{"$f":"COUNTIF(IF(ISERROR(INDIRECT(\"'Børn \"&A256&\"'!$H$79\",TRUE)),\"\",INDIRECT(\"'Børn \"&A256&\"'!$H$79\",TRUE)),3)","v":{"$error":"#VALUE!"}},{"$f":"COUNTIF(IF(ISERROR(INDIRECT(\"'Børn \"&A256&\"'!$H$87\",TRUE)),\"\",INDIRECT(\"'Børn \"&A256&\"'!$H$87\",TRUE)),3)","v":{"$error":"#VALUE!"}},null,null,null,"Tilsyn 98",{"$f":"IF(INDIRECT(\"'Voksen \"&U256&\"'!$c$112\")=\"\",\"\",IFERROR(INDIRECT(\"'Voksen \"&U256&\"'!$c$112\",TRUE),\"\"))","v":{"$error":"#REF!"}},{"$f":"IF(INDIRECT(\"'Voksen \"&U256&\"'!$c$133\")=\"\",\"\",IFERROR(INDIRECT(\"'Voksen \"&U256&\"'!$c$133\",TRUE),\"\"))","v":{"$error":"#REF!"}},{"$f":"IF(INDIRECT(\"'Voksen \"&U256&\"'!$c$154\")=\"\",\"\",IFERROR(INDIRECT(\"'Voksen \"&U256&\"'!$c$154\",TRUE),\"\"))","v":{"$error":"#REF!"}},{"$f":"IF(INDIRECT(\"'Voksen \"&U256&\"'!$c$169\")=\"\",\"\",IFERROR(INDIRECT(\"'Voksen \"&U256&\"'!$c$169\",TRUE),\"\"))","v":{"$error":"#REF!"}},{"$f":"IF(INDIRECT(\"'Voksen \"&U256&\"'!$c$186\")=\"\",\"\",IFERROR(INDIRECT(\"'Voksen \"&U256&\"'!$c$186\",TRUE),\"\"))","v":{"$error":"#REF!"}},{"$f":"IF(INDIRECT(\"'Voksen \"&U256&\"'!$c$207\")=\"\",\"\",IFERROR(INDIRECT(\"'Voksen \"&U256&\"'!$c$207\",TRUE),\"\"))","v":{"$error":"#REF!"}},{"$f":"IF(INDIRECT(\"'Voksen \"&U256&\"'!$c$229\")=\"\",\"\",IFERROR(INDIRECT(\"'Voksen \"&U256&\"'!$c$229\",TRUE),\"\"))","v":{"$error":"#REF!"}},{"$f":"IF(INDIRECT(\"'Voksen \"&U256&\"'!$c$255\")=\"\",\"\",IFERROR(INDIRECT(\"'Voksen \"&U256&\"'!$c$255\",TRUE),\"\"))","v":{"$error":"#REF!"}},null,{"$f":"IF(INDIRECT(\"'Børn \"&U256&\"'!$c$123\")=\"\",\"\",IFERROR(INDIRECT(\"'Børn \"&U256&\"'!$c$123\",TRUE),\"\"))","v":{"$error":"#REF!"}},{"$f":"IF(INDIRECT(\"'Børn \"&U256&\"'!$c$139\")=\"\",\"\",IFERROR(INDIRECT(\"'Børn \"&U256&\"'!$c$139\",TRUE),\"\"))","v":{"$error":"#REF!"}},{"$f":"IF(INDIRECT(\"'Børn \"&U256&\"'!$c$163\")=\"\",\"\",IFERROR(INDIRECT(\"'Børn \"&U256&\"'!$c$163\",TRUE),\"\"))","v":{"$error":"#REF!"}},{"$f":"IF(INDIRECT(\"'Børn \"&U256&\"'!$c$177\")=\"\",\"\",IFERROR(INDIRECT(\"'Børn \"&U256&\"'!$c$177\",TRUE),\"\"))","v":{"$error":"#REF!"}},{"$f":"IF(INDIRECT(\"'Børn \"&U256&\"'!$c$197\")=\"\",\"\",IFERROR(INDIRECT(\"'Børn \"&U256&\"'!$c$197\",TRUE),\"\"))","v":{"$error":"#REF!"}},{"$f":"IF(INDIRECT(\"'Børn \"&U256&\"'!$c$218\")=\"\",\"\",IFERROR(INDIRECT(\"'Børn \"&U256&\"'!$c$218\",TRUE),\"\"))","v":{"$error":"#REF!"}},{"$f":"IF(INDIRECT(\"'Børn \"&U256&\"'!$c$241\")=\"\",\"\",IFERROR(INDIRECT(\"'Børn \"&U256&\"'!$c$241\",TRUE),\"\"))","v":{"$error":"#REF!"}}]
["Tilsyn 66","Status:  grøn",{"$f":"COUNTIF(IF(ISERROR(INDIRECT(\"'Voksen \"&A257&\"'!$H$31\",TRUE)),\"\",INDIRECT(\"'Voksen \"&A257&\"'!$H$31\",TRUE)),1)","v":{"$error":"#VALUE!"}},{"$f":"COUNTIF(IF(ISERROR(INDIRECT(\"'Voksen \"&A257&\"'!$H$41\",TRUE)),\"\",INDIRECT(\"'Voksen \"&A257&\"'!$H$41\",TRUE)),1)","v":{"$error":"#VALUE!"}},{"$f":"COUNTIF(IF(ISERROR(INDIRECT(\"'Voksen \"&A257&\"'!$H$50\",TRUE)),\"\",INDIRECT(\"'Voksen \"&A257&\"'!$H$50\",TRUE)),1)","v":{"$error":"#VALUE!"}},{"$f":"COUNTIF(IF(ISERROR(INDIRECT(\"'Voksen \"&A257&\"'!$H$58\",TRUE)),\"\",INDIRECT(\"'Voksen \"&A257&\"'!$H$58\",TRUE)),1)","v":{"$error":"#VALUE!"}},{"$f":"COUNTIF(IF(ISERROR(INDIRECT(\"'Voksen \"&A257&\"'!$H$69\",TRUE)),\"\",INDIRECT(\"'Voksen \"&A257&\"'!$H$69\",TRUE)),1)","v":{"$error":"#VALUE!"}},{"$f":"COUNTIF(IF(ISERROR(INDIRECT(\"'Voksen \"&A257&\"'!$H$77\",TRUE)),\"\",INDIRECT(\"'Voksen \"&A257&\"'!$H$77\",TRUE)),1)","v":{"$error":"#VALUE!"}},null,null,{"$f":"COUNTIF(IF(ISERROR(INDIRECT(\"'Børn \"&A257&\"'!$H$31\",TRUE)),\"\",INDIRECT(\"'Børn \"&A257&\"'!$H$31\",TRUE)),1)","v":{"$error":"#VALUE!"}},{"$f":"COUNTIF(IF(ISERROR(INDIRECT(\"'Børn \"&A257&\"'!$H$44\",TRUE)),\"\",INDIRECT(\"'Børn \"&A257&\"'!$H$44\",TRUE)),1)","v":{"$error":"#VALUE!"}},{"$f":"COUNTIF(IF(ISERROR(INDIRECT(\"'Børn \"&A257&\"'!$H$53\",TRUE)),\"\",INDIRECT(\"'Børn \"&A257&\"'!$H$53\",TRUE)),1)","v":{"$error":"#VALUE!"}},{"$f":"COUNTIF(IF(ISERROR(INDIRECT(\"'Børn \"&A257&\"'!$H$61\",TRUE)),\"\",INDIRECT(\"'Børn \"&A257&\"'!$H$61\",TRUE)),1)","v":{"$error":"#VALUE!"}},{"$f":"COUNTIF(IF(ISERROR(INDIRECT(\"'Børn \"&A257&\"'!$H$68\",TRUE)),\"\",INDIRECT(\"'Børn \"&A257&\"'!$H$68\",TRUE)),1)","v":{"$error":"#VALUE!"}},{"$f":"COUNTIF(IF(ISERROR(INDIRECT(\"'Børn \"&A257&\"'!$H$79\",TRUE)),\"\",INDIRECT(\"'Børn \"&A257&\"'!$H$79\",TRUE)),1)","v":{"$error":"#VALUE!"}},{"$f":"COUNTIF(IF(ISERROR(INDIRECT(\"'Børn \"&A257&\"'!$H$87\",TRUE)),\"\",INDIRECT(\"'Børn \"&A257&\"'!$H$87\",TRUE)),1)","v":{"$error":"#VALUE!"}},null,null,null,{"$f":"U256","v":"Tilsyn 98"},{"$f":"IF(INDIRECT(\"'Voksen \"&U257&\"'!$c$115\")=\"\",\"\",IFERROR(INDIRECT(\"'Voksen \"&U257&\"'!$c$115\",TRUE),\"\"))","v":{"$error":"#REF!"}},{"$f":"IF(INDIRECT(\"'Voksen \"&U257&\"'!$c$136\")=\"\",\"\",IFERROR(INDIRECT(\"'Voksen \"&U257&\"'!$c$136\",TRUE),\"\"))","v":{"$error":"#REF!"}},{"$f":"IF(INDIRECT(\"'Voksen \"&U257&\"'!$c$157\")=\"\",\"\",IFERROR(INDIRECT(\"'Voksen \"&U257&\"'!$c$157\",TRUE),\"\"))","v":{"$error":"#REF!"}},{"$f":"IF(INDIRECT(\"'Voksen \"&U257&\"'!$c$172\")=\"\",\"\",IFERROR(INDIRECT(\"'Voksen \"&U257&\"'!$c$172\",TRUE),\"\"))","v":{"$error":"#REF!"}},{"$f":"IF(INDIRECT(\"'Voksen \"&U257&\"'!$c$189\")=\"\",\"\",IFERROR(INDIRECT(\"'Voksen \"&U257&\"'!$c$189\",TRUE),\"\"))","v":{"$error":"#REF!"}},{"$f":"IF(INDIRECT(\"'Voksen \"&U257&\"'!$c$210\")=\"\",\"\",IFERROR(INDIRECT(\"'Voksen \"&U257&\"'!$c$210\",TRUE),\"\"))","v":{"$error":"#REF!"}},{"$f":"IF(INDIRECT(\"'Voksen \"&U257&\"'!$c$232\")=\"\",\"\",IFERROR(INDIRECT(\"'Voksen \"&U257&\"'!$c$232\",TRUE),\"\"))","v":{"$error":"#REF!"}},{"$f":"IF(INDIRECT(\"'Voksen \"&U257&\"'!$c$258\")=\"\",\"\",IFERROR(INDIRECT(\"'Voksen \"&U257&\"'!$c$258\",TRUE),\"\"))","v":{"$error":"#REF!"}},null,{"$f":"IF(INDIRECT(\"'Børn \"&U257&\"'!$c$126\")=\"\",\"\",IFERROR(INDIRECT(\"'Børn \"&U257&\"'!$c$126\",TRUE),\"\"))","v":{"$error":"#REF!"}},{"$f":"IF(INDIRECT(\"'Børn \"&U257&\"'!$c$142\")=\"\",\"\",IFERROR(INDIRECT(\"'Børn \"&U257&\"'!$c$142\",TRUE),\"\"))","v":{"$error":"#REF!"}},{"$f":"IF(INDIRECT(\"'Børn \"&U257&\"'!$c$166\")=\"\",\"\",IFERROR(INDIRECT(\"'Børn \"&U257&\"'!$c$166\",TRUE),\"\"))","v":{"$error":"#REF!"}},{"$f":"IF(INDIRECT(\"'Børn \"&U257&\"'!$c$180\")=\"\",\"\",IFERROR(INDIRECT(\"'Børn \"&U257&\"'!$c$180\",TRUE),\"\"))","v":{"$error":"#REF!"}},{"$f":"IF(INDIRECT(\"'Børn \"&U257&\"'!$c$200\")=\"\",\"\",IFERROR(INDIRECT(\"'Børn \"&U257&\"'!$c$200\",TRUE),\"\"))","v":{"$error":"#REF!"}},{"$f":"IF(INDIRECT(\"'Børn \"&U257&\"'!$c$221\")=\"\",\"\",IFERROR(INDIRECT(\"'Børn \"&U257&\"'!$c$221\",TRUE),\"\"))","v":{"$error":"#REF!"}},{"$f":"IF(INDIRECT(\"'Børn \"&U257&\"'!$c$244\")=\"\",\"\",IFERROR(INDIRECT(\"'Børn \"&U257&\"'!$c$244\",TRUE),\"\"))","v":{"$error":"#REF!"}}]
["Tilsyn 66","Status:  gul",{"$f":"COUNTIF(IF(ISERROR(INDIRECT(\"'Voksen \"&A258&\"'!$H$31\",TRUE)),\"\",INDIRECT(\"'Voksen \"&A258&\"'!$H$31\",TRUE)),2)","v":{"$error":"#VALUE!"}},{"$f":"COUNTIF(IF(ISERROR(INDIRECT(\"'Voksen \"&A258&\"'!$H$41\",TRUE)),\"\",INDIRECT(\"'Voksen \"&A258&\"'!$H$41\",TRUE)),2)","v":{"$error":"#VALUE!"}},{"$f":"COUNTIF(IF(ISERROR(INDIRECT(\"'Voksen \"&A258&\"'!$H$50\",TRUE)),\"\",INDIRECT(\"'Voksen \"&A258&\"'!$H$50\",TRUE)),2)","v":{"$error":"#VALUE!"}},{"$f":"COUNTIF(IF(ISERROR(INDIRECT(\"'Voksen \"&A258&\"'!$H$58\",TRUE)),\"\",INDIRECT(\"'Voksen \"&A258&\"'!$H$58\",TRUE)),2)","v":{"$error":"#VALUE!"}},{"$f":"COUNTIF(IF(ISERROR(INDIRECT(\"'Voksen \"&A258&\"'!$H$69\",TRUE)),\"\",INDIRECT(\"'Voksen \"&A258&\"'!$H$69\",TRUE)),2)","v":{"$error":"#VALUE!"}},{"$f":"COUNTIF(IF(ISERROR(INDIRECT(\"'Voksen \"&A258&\"'!$H$77\",TRUE)),\"\",INDIRECT(\"'Voksen \"&A258&\"'!$H$77\",TRUE)),2)","v":{"$error":"#VALUE!"}},null,null,{"$f":"COUNTIF(IF(ISERROR(INDIRECT(\"'Børn \"&A258&\"'!$H$31\",TRUE)),\"\",INDIRECT(\"'Børn \"&A258&\"'!$H$31\",TRUE)),2)","v":{"$error":"#VALUE!"}},{"$f":"COUNTIF(IF(ISERROR(INDIRECT(\"'Børn \"&A258&\"'!$H$44\",TRUE)),\"\",INDIRECT(\"'Børn \"&A258&\"'!$H$44\",TRUE)),2)","v":{"$error":"#VALUE!"}},{"$f":"COUNTIF(IF(ISERROR(INDIRECT(\"'Børn \"&A258&\"'!$H$53\",TRUE)),\"\",INDIRECT(\"'Børn \"&A258&\"'!$H$53\",TRUE)),2)","v":{"$error":"#VALUE!"}},{"$f":"COUNTIF(IF(ISERROR(INDIRECT(\"'Børn \"&A258&\"'!$H$61\",TRUE)),\"\",INDIRECT(\"'Børn \"&A258&\"'!$H$61\",TRUE)),2)","v":{"$error":"#VALUE!"}},{"$f":"COUNTIF(IF(ISERROR(INDIRECT(\"'Børn \"&A258&\"'!$H$68\",TRUE)),\"\",INDIRECT(\"'Børn \"&A258&\"'!$H$68\",TRUE)),2)","v":{"$error":"#VALUE!"}},{"$f":"COUNTIF(IF(ISERROR(INDIRECT(\"'Børn \"&A258&\"'!$H$79\",TRUE)),\"\",INDIRECT(\"'Børn \"&A258&\"'!$H$79\",TRUE)),2)","v":{"$error":"#VALUE!"}},{"$f":"COUNTIF(IF(ISERROR(INDIRECT(\"'Børn \"&A258&\"'!$H$87\",TRUE)),\"\",INDIRECT(\"'Børn \"&A258&\"'!$H$87\",TRUE)),2)","v":{"$error":"#VALUE!"}},null,null,null,"Tilsyn 99",{"$f":"IF(INDIRECT(\"'Voksen \"&U258&\"'!$c$112\")=\"\",\"\",IFERROR(INDIRECT(\"'Voksen \"&U258&\"'!$c$112\",TRUE),\"\"))","v":{"$error":"#REF!"}},{"$f":"IF(INDIRECT(\"'Voksen \"&U258&\"'!$c$133\")=\"\",\"\",IFERROR(INDIRECT(\"'Voksen \"&U258&\"'!$c$133\",TRUE),\"\"))","v":{"$error":"#REF!"}},{"$f":"IF(INDIRECT(\"'Voksen \"&U258&\"'!$c$154\")=\"\",\"\",IFERROR(INDIRECT(\"'Voksen \"&U258&\"'!$c$154\",TRUE),\"\"))","v":{"$error":"#REF!"}},{"$f":"IF(INDIRECT(\"'Voksen \"&U258&\"'!$c$169\")=\"\",\"\",IFERROR(INDIRECT(\"'Voksen \"&U258&\"'!$c$169\",TRUE),\"\"))","v":{"$error":"#REF!"}},{"$f":"IF(INDIRECT(\"'Voksen \"&U258&\"'!$c$186\")=\"\",\"\",IFERROR(INDIRECT(\"'Voksen \"&U258&\"'!$c$186\",TRUE),\"\"))","v":{"$error":"#REF!"}},{"$f":"IF(INDIRECT(\"'Voksen \"&U258&\"'!$c$207\")=\"\",\"\",IFERROR(INDIRECT(\"'Voksen \"&U258&\"'!$c$207\",TRUE),\"\"))","v":{"$error":"#REF!"}},{"$f":"IF(INDIRECT(\"'Voksen \"&U258&\"'!$c$229\")=\"\",\"\",IFERROR(INDIRECT(\"'Voksen \"&U258&\"'!$c$229\",TRUE),\"\"))","v":{"$error":"#REF!"}},{"$f":"IF(INDIRECT(\"'Voksen \"&U258&\"'!$c$255\")=\"\",\"\",IFERROR(INDIRECT(\"'Voksen \"&U258&\"'!$c$255\",TRUE),\"\"))","v":{"$error":"#REF!"}},null,{"$f":"IF(INDIRECT(\"'Børn \"&U258&\"'!$c$123\")=\"\",\"\",IFERROR(INDIRECT(\"'Børn \"&U258&\"'!$c$123\",TRUE),\"\"))","v":{"$error":"#REF!"}},{"$f":"IF(INDIRECT(\"'Børn \"&U258&\"'!$c$139\")=\"\",\"\",IFERROR(INDIRECT(\"'Børn \"&U258&\"'!$c$139\",TRUE),\"\"))","v":{"$error":"#REF!"}},{"$f":"IF(INDIRECT(\"'Børn \"&U258&\"'!$c$163\")=\"\",\"\",IFERROR(INDIRECT(\"'Børn \"&U258&\"'!$c$163\",TRUE),\"\"))","v":{"$error":"#REF!"}},{"$f":"IF(INDIRECT(\"'Børn \"&U258&\"'!$c$177\")=\"\",\"\",IFERROR(INDIRECT(\"'Børn \"&U258&\"'!$c$177\",TRUE),\"\"))","v":{"$error":"#REF!"}},{"$f":"IF(INDIRECT(\"'Børn \"&U258&\"'!$c$197\")=\"\",\"\",IFERROR(INDIRECT(\"'Børn \"&U258&\"'!$c$197\",TRUE),\"\"))","v":{"$error":"#REF!"}},{"$f":"IF(INDIRECT(\"'Børn \"&U258&\"'!$c$218\")=\"\",\"\",IFERROR(INDIRECT(\"'Børn \"&U258&\"'!$c$218\",TRUE),\"\"))","v":{"$error":"#REF!"}},{"$f":"IF(INDIRECT(\"'Børn \"&U258&\"'!$c$241\")=\"\",\"\",IFERROR(INDIRECT(\"'Børn \"&U258&\"'!$c$241\",TRUE),\"\"))","v":{"$error":"#REF!"}}]
["Tilsyn 66","Status:  rød",{"$f":"COUNTIF(IF(ISERROR(INDIRECT(\"'Voksen \"&A259&\"'!$H$31\",TRUE)),\"\",INDIRECT(\"'Voksen \"&A259&\"'!$H$31\",TRUE)),3)","v":{"$error":"#VALUE!"}},{"$f":"COUNTIF(IF(ISERROR(INDIRECT(\"'Voksen \"&A259&\"'!$H$41\",TRUE)),\"\",INDIRECT(\"'Voksen \"&A259&\"'!$H$41\",TRUE)),3)","v":{"$error":"#VALUE!"}},{"$f":"COUNTIF(IF(ISERROR(INDIRECT(\"'Voksen \"&A259&\"'!$H$50\",TRUE)),\"\",INDIRECT(\"'Voksen \"&A259&\"'!$H$50\",TRUE)),3)","v":{"$error":"#VALUE!"}},{"$f":"COUNTIF(IF(ISERROR(INDIRECT(\"'Voksen \"&A259&\"'!$H$58\",TRUE)),\"\",INDIRECT(\"'Voksen \"&A259&\"'!$H$58\",TRUE)),3)","v":{"$error":"#VALUE!"}},{"$f":"COUNTIF(IF(ISERROR(INDIRECT(\"'Voksen \"&A259&\"'!$H$69\",TRUE)),\"\",INDIRECT(\"'Voksen \"&A259&\"'!$H$69\",TRUE)),3)","v":{"$error":"#VALUE!"}},{"$f":"COUNTIF(IF(ISERROR(INDIRECT(\"'Voksen \"&A259&\"'!$H$77\",TRUE)),\"\",INDIRECT(\"'Voksen \"&A259&\"'!$H$77\",TRUE)),3)","v":{"$error":"#VALUE!"}},null,null,{"$f":"COUNTIF(IF(ISERROR(INDIRECT(\"'Børn \"&A259&\"'!$H$31\",TRUE)),\"\",INDIRECT(\"'Børn \"&A259&\"'!$H$31\",TRUE)),3)","v":{"$error":"#VALUE!"}},{"$f":"COUNTIF(IF(ISERROR(INDIRECT(\"'Børn \"&A259&\"'!$H$44\",TRUE)),\"\",INDIRECT(\"'Børn \"&A259&\"'!$H$44\",TRUE)),3)","v":{"$error":"#VALUE!"}},{"$f":"COUNTIF(IF(ISERROR(INDIRECT(\"'Børn \"&A259&\"'!$H$53\",TRUE)),\"\",INDIRECT(\"'Børn \"&A259&\"'!$H$53\",TRUE)),3)","v":{"$error":"#VALUE!"}},{"$f":"COUNTIF(IF(ISERROR(INDIRECT(\"'Børn \"&A259&\"'!$H$61\",TRUE)),\"\",INDIRECT(\"'Børn \"&A259&\"'!$H$61\",TRUE)),3)","v":{"$error":"#VALUE!"}},{"$f":"COUNTIF(IF(ISERROR(INDIRECT(\"'Børn \"&A259&\"'!$H$68\",TRUE)),\"\",INDIRECT(\"'Børn \"&A259&\"'!$H$68\",TRUE)),3)","v":{"$error":"#VALUE!"}},{"$f":"COUNTIF(IF(ISERROR(INDIRECT(\"'Børn \"&A259&\"'!$H$79\",TRUE)),\"\",INDIRECT(\"'Børn \"&A259&\"'!$H$79\",TRUE)),3)","v":{"$error":"#VALUE!"}},{"$f":"COUNTIF(IF(ISERROR(INDIRECT(\"'Børn \"&A259&\"'!$H$87\",TRUE)),\"\",INDIRECT(\"'Børn \"&A259&\"'!$H$87\",TRUE)),3)","v":{"$error":"#VALUE!"}},null,null,null,{"$f":"U258","v":"Tilsyn 99"},{"$f":"IF(INDIRECT(\"'Voksen \"&U259&\"'!$c$115\")=\"\",\"\",IFERROR(INDIRECT(\"'Voksen \"&U259&\"'!$c$115\",TRUE),\"\"))","v":{"$error":"#REF!"}},{"$f":"IF(INDIRECT(\"'Voksen \"&U259&\"'!$c$136\")=\"\",\"\",IFERROR(INDIRECT(\"'Voksen \"&U259&\"'!$c$136\",TRUE),\"\"))","v":{"$error":"#REF!"}},{"$f":"IF(INDIRECT(\"'Voksen \"&U259&\"'!$c$157\")=\"\",\"\",IFERROR(INDIRECT(\"'Voksen \"&U259&\"'!$c$157\",TRUE),\"\"))","v":{"$error":"#REF!"}},{"$f":"IF(INDIRECT(\"'Voksen \"&U259&\"'!$c$172\")=\"\",\"\",IFERROR(INDIRECT(\"'Voksen \"&U259&\"'!$c$172\",TRUE),\"\"))","v":{"$error":"#REF!"}},{"$f":"IF(INDIRECT(\"'Voksen \"&U259&\"'!$c$189\")=\"\",\"\",IFERROR(INDIRECT(\"'Voksen \"&U259&\"'!$c$189\",TRUE),\"\"))","v":{"$error":"#REF!"}},{"$f":"IF(INDIRECT(\"'Voksen \"&U259&\"'!$c$210\")=\"\",\"\",IFERROR(INDIRECT(\"'Voksen \"&U259&\"'!$c$210\",TRUE),\"\"))","v":{"$error":"#REF!"}},{"$f":"IF(INDIRECT(\"'Voksen \"&U259&\"'!$c$232\")=\"\",\"\",IFERROR(INDIRECT(\"'Voksen \"&U259&\"'!$c$232\",TRUE),\"\"))","v":{"$error":"#REF!"}},{"$f":"IF(INDIRECT(\"'Voksen \"&U259&\"'!$c$258\")=\"\",\"\",IFERROR(INDIRECT(\"'Voksen \"&U259&\"'!$c$258\",TRUE),\"\"))","v":{"$error":"#REF!"}},null,{"$f":"IF(INDIRECT(\"'Børn \"&U259&\"'!$c$126\")=\"\",\"\",IFERROR(INDIRECT(\"'Børn \"&U259&\"'!$c$126\",TRUE),\"\"))","v":{"$error":"#REF!"}},{"$f":"IF(INDIRECT(\"'Børn \"&U259&\"'!$c$142\")=\"\",\"\",IFERROR(INDIRECT(\"'Børn \"&U259&\"'!$c$142\",TRUE),\"\"))","v":{"$error":"#REF!"}},{"$f":"IF(INDIRECT(\"'Børn \"&U259&\"'!$c$166\")=\"\",\"\",IFERROR(INDIRECT(\"'Børn \"&U259&\"'!$c$166\",TRUE),\"\"))","v":{"$error":"#REF!"}},{"$f":"IF(INDIRECT(\"'Børn \"&U259&\"'!$c$180\")=\"\",\"\",IFERROR(INDIRECT(\"'Børn \"&U259&\"'!$c$180\",TRUE),\"\"))","v":{"$error":"#REF!"}},{"$f":"IF(INDIRECT(\"'Børn \"&U259&\"'!$c$200\")=\"\",\"\",IFERROR(INDIRECT(\"'Børn \"&U259&\"'!$c$200\",TRUE),\"\"))","v":{"$error":"#REF!"}},{"$f":"IF(INDIRECT(\"'Børn \"&U259&\"'!$c$221\")=\"\",\"\",IFERROR(INDIRECT(\"'Børn \"&U259&\"'!$c$221\",TRUE),\"\"))","v":{"$error":"#REF!"}},{"$f":"IF(INDIRECT(\"'Børn \"&U259&\"'!$c$244\")=\"\",\"\",IFERROR(INDIRECT(\"'Børn \"&U259&\"'!$c$244\",TRUE),\"\"))","v":{"$error":"#REF!"}}]
["Tilsyn 67","Status:  grøn",{"$f":"COUNTIF(IF(ISERROR(INDIRECT(\"'Voksen \"&A260&\"'!$H$31\",TRUE)),\"\",INDIRECT(\"'Voksen \"&A260&\"'!$H$31\",TRUE)),1)","v":{"$error":"#VALUE!"}},{"$f":"COUNTIF(IF(ISERROR(INDIRECT(\"'Voksen \"&A260&\"'!$H$41\",TRUE)),\"\",INDIRECT(\"'Voksen \"&A260&\"'!$H$41\",TRUE)),1)","v":{"$error":"#VALUE!"}},{"$f":"COUNTIF(IF(ISERROR(INDIRECT(\"'Voksen \"&A260&\"'!$H$50\",TRUE)),\"\",INDIRECT(\"'Voksen \"&A260&\"'!$H$50\",TRUE)),1)","v":{"$error":"#VALUE!"}},{"$f":"COUNTIF(IF(ISERROR(INDIRECT(\"'Voksen \"&A260&\"'!$H$58\",TRUE)),\"\",INDIRECT(\"'Voksen \"&A260&\"'!$H$58\",TRUE)),1)","v":{"$error":"#VALUE!"}},{"$f":"COUNTIF(IF(ISERROR(INDIRECT(\"'Voksen \"&A260&\"'!$H$69\",TRUE)),\"\",INDIRECT(\"'Voksen \"&A260&\"'!$H$69\",TRUE)),1)","v":{"$error":"#VALUE!"}},{"$f":"COUNTIF(IF(ISERROR(INDIRECT(\"'Voksen \"&A260&\"'!$H$77\",TRUE)),\"\",INDIRECT(\"'Voksen \"&A260&\"'!$H$77\",TRUE)),1)","v":{"$error":"#VALUE!"}},null,null,{"$f":"COUNTIF(IF(ISERROR(INDIRECT(\"'Børn \"&A260&\"'!$H$31\",TRUE)),\"\",INDIRECT(\"'Børn \"&A260&\"'!$H$31\",TRUE)),1)","v":{"$error":"#VALUE!"}},{"$f":"COUNTIF(IF(ISERROR(INDIRECT(\"'Børn \"&A260&\"'!$H$44\",TRUE)),\"\",INDIRECT(\"'Børn \"&A260&\"'!$H$44\",TRUE)),1)","v":{"$error":"#VALUE!"}},{"$f":"COUNTIF(IF(ISERROR(INDIRECT(\"'Børn \"&A260&\"'!$H$53\",TRUE)),\"\",INDIRECT(\"'Børn \"&A260&\"'!$H$53\",TRUE)),1)","v":{"$error":"#VALUE!"}},{"$f":"COUNTIF(IF(ISERROR(INDIRECT(\"'Børn \"&A260&\"'!$H$61\",TRUE)),\"\",INDIRECT(\"'Børn \"&A260&\"'!$H$61\",TRUE)),1)","v":{"$error":"#VALUE!"}},{"$f":"COUNTIF(IF(ISERROR(INDIRECT(\"'Børn \"&A260&\"'!$H$68\",TRUE)),\"\",INDIRECT(\"'Børn \"&A260&\"'!$H$68\",TRUE)),1)","v":{"$error":"#VALUE!"}},{"$f":"COUNTIF(IF(ISERROR(INDIRECT(\"'Børn \"&A260&\"'!$H$79\",TRUE)),\"\",INDIRECT(\"'Børn \"&A260&\"'!$H$79\",TRUE)),1)","v":{"$error":"#VALUE!"}},{"$f":"COUNTIF(IF(ISERROR(INDIRECT(\"'Børn \"&A260&\"'!$H$87\",TRUE)),\"\",INDIRECT(\"'Børn \"&A260&\"'!$H$87\",TRUE)),1)","v":{"$error":"#VALUE!"}},null,null,null,"Tilsyn 100",{"$f":"IF(INDIRECT(\"'Voksen \"&U260&\"'!$c$112\")=\"\",\"\",IFERROR(INDIRECT(\"'Voksen \"&U260&\"'!$c$112\",TRUE),\"\"))","v":{"$error":"#REF!"}},{"$f":"IF(INDIRECT(\"'Voksen \"&U260&\"'!$c$133\")=\"\",\"\",IFERROR(INDIRECT(\"'Voksen \"&U260&\"'!$c$133\",TRUE),\"\"))","v":{"$error":"#REF!"}},{"$f":"IF(INDIRECT(\"'Voksen \"&U260&\"'!$c$154\")=\"\",\"\",IFERROR(INDIRECT(\"'Voksen \"&U260&\"'!$c$154\",TRUE),\"\"))","v":{"$error":"#REF!"}},{"$f":"IF(INDIRECT(\"'Voksen \"&U260&\"'!$c$169\")=\"\",\"\",IFERROR(INDIRECT(\"'Voksen \"&U260&\"'!$c$169\",TRUE),\"\"))","v":{"$error":"#REF!"}},{"$f":"IF(INDIRECT(\"'Voksen \"&U260&\"'!$c$186\")=\"\",\"\",IFERROR(INDIRECT(\"'Voksen \"&U260&\"'!$c$186\",TRUE),\"\"))","v":{"$error":"#REF!"}},{"$f":"IF(INDIRECT(\"'Voksen \"&U260&\"'!$c$207\")=\"\",\"\",IFERROR(INDIRECT(\"'Voksen \"&U260&\"'!$c$207\",TRUE),\"\"))","v":{"$error":"#REF!"}},{"$f":"IF(INDIRECT(\"'Voksen \"&U260&\"'!$c$229\")=\"\",\"\",IFERROR(INDIRECT(\"'Voksen \"&U260&\"'!$c$229\",TRUE),\"\"))","v":{"$error":"#REF!"}},{"$f":"IF(INDIRECT(\"'Voksen \"&U260&\"'!$c$255\")=\"\",\"\",IFERROR(INDIRECT(\"'Voksen \"&U260&\"'!$c$255\",TRUE),\"\"))","v":{"$error":"#REF!"}},null,{"$f":"IF(INDIRECT(\"'Børn \"&U260&\"'!$c$123\")=\"\",\"\",IFERROR(INDIRECT(\"'Børn \"&U260&\"'!$c$123\",TRUE),\"\"))","v":{"$error":"#REF!"}},{"$f":"IF(INDIRECT(\"'Børn \"&U260&\"'!$c$139\")=\"\",\"\",IFERROR(INDIRECT(\"'Børn \"&U260&\"'!$c$139\",TRUE),\"\"))","v":{"$error":"#REF!"}},{"$f":"IF(INDIRECT(\"'Børn \"&U260&\"'!$c$163\")=\"\",\"\",IFERROR(INDIRECT(\"'Børn \"&U260&\"'!$c$163\",TRUE),\"\"))","v":{"$error":"#REF!"}},{"$f":"IF(INDIRECT(\"'Børn \"&U260&\"'!$c$177\")=\"\",\"\",IFERROR(INDIRECT(\"'Børn \"&U260&\"'!$c$177\",TRUE),\"\"))","v":{"$error":"#REF!"}},{"$f":"IF(INDIRECT(\"'Børn \"&U260&\"'!$c$197\")=\"\",\"\",IFERROR(INDIRECT(\"'Børn \"&U260&\"'!$c$197\",TRUE),\"\"))","v":{"$error":"#REF!"}},{"$f":"IF(INDIRECT(\"'Børn \"&U260&\"'!$c$218\")=\"\",\"\",IFERROR(INDIRECT(\"'Børn \"&U260&\"'!$c$218\",TRUE),\"\"))","v":{"$error":"#REF!"}},{"$f":"IF(INDIRECT(\"'Børn \"&U260&\"'!$c$241\")=\"\",\"\",IFERROR(INDIRECT(\"'Børn \"&U260&\"'!$c$241\",TRUE),\"\"))","v":{"$error":"#REF!"}}]
["Tilsyn 67","Status:  gul",{"$f":"COUNTIF(IF(ISERROR(INDIRECT(\"'Voksen \"&A261&\"'!$H$31\",TRUE)),\"\",INDIRECT(\"'Voksen \"&A261&\"'!$H$31\",TRUE)),2)","v":{"$error":"#VALUE!"}},{"$f":"COUNTIF(IF(ISERROR(INDIRECT(\"'Voksen \"&A261&\"'!$H$41\",TRUE)),\"\",INDIRECT(\"'Voksen \"&A261&\"'!$H$41\",TRUE)),2)","v":{"$error":"#VALUE!"}},{"$f":"COUNTIF(IF(ISERROR(INDIRECT(\"'Voksen \"&A261&\"'!$H$50\",TRUE)),\"\",INDIRECT(\"'Voksen \"&A261&\"'!$H$50\",TRUE)),2)","v":{"$error":"#VALUE!"}},{"$f":"COUNTIF(IF(ISERROR(INDIRECT(\"'Voksen \"&A261&\"'!$H$58\",TRUE)),\"\",INDIRECT(\"'Voksen \"&A261&\"'!$H$58\",TRUE)),2)","v":{"$error":"#VALUE!"}},{"$f":"COUNTIF(IF(ISERROR(INDIRECT(\"'Voksen \"&A261&\"'!$H$69\",TRUE)),\"\",INDIRECT(\"'Voksen \"&A261&\"'!$H$69\",TRUE)),2)","v":{"$error":"#VALUE!"}},{"$f":"COUNTIF(IF(ISERROR(INDIRECT(\"'Voksen \"&A261&\"'!$H$77\",TRUE)),\"\",INDIRECT(\"'Voksen \"&A261&\"'!$H$77\",TRUE)),2)","v":{"$error":"#VALUE!"}},null,null,{"$f":"COUNTIF(IF(ISERROR(INDIRECT(\"'Børn \"&A261&\"'!$H$31\",TRUE)),\"\",INDIRECT(\"'Børn \"&A261&\"'!$H$31\",TRUE)),2)","v":{"$error":"#VALUE!"}},{"$f":"COUNTIF(IF(ISERROR(INDIRECT(\"'Børn \"&A261&\"'!$H$44\",TRUE)),\"\",INDIRECT(\"'Børn \"&A261&\"'!$H$44\",TRUE)),2)","v":{"$error":"#VALUE!"}},{"$f":"COUNTIF(IF(ISERROR(INDIRECT(\"'Børn \"&A261&\"'!$H$53\",TRUE)),\"\",INDIRECT(\"'Børn \"&A261&\"'!$H$53\",TRUE)),2)","v":{"$error":"#VALUE!"}},{"$f":"COUNTIF(IF(ISERROR(INDIRECT(\"'Børn \"&A261&\"'!$H$61\",TRUE)),\"\",INDIRECT(\"'Børn \"&A261&\"'!$H$61\",TRUE)),2)","v":{"$error":"#VALUE!"}},{"$f":"COUNTIF(IF(ISERROR(INDIRECT(\"'Børn \"&A261&\"'!$H$68\",TRUE)),\"\",INDIRECT(\"'Børn \"&A261&\"'!$H$68\",TRUE)),2)","v":{"$error":"#VALUE!"}},{"$f":"COUNTIF(IF(ISERROR(INDIRECT(\"'Børn \"&A261&\"'!$H$79\",TRUE)),\"\",INDIRECT(\"'Børn \"&A261&\"'!$H$79\",TRUE)),2)","v":{"$error":"#VALUE!"}},{"$f":"COUNTIF(IF(ISERROR(INDIRECT(\"'Børn \"&A261&\"'!$H$87\",TRUE)),\"\",INDIRECT(\"'Børn \"&A261&\"'!$H$87\",TRUE)),2)","v":{"$error":"#VALUE!"}},null,null,null,{"$f":"U260","v":"Tilsyn 100"},{"$f":"IF(INDIRECT(\"'Voksen \"&U261&\"'!$c$115\")=\"\",\"\",IFERROR(INDIRECT(\"'Voksen \"&U261&\"'!$c$115\",TRUE),\"\"))","v":{"$error":"#REF!"}},{"$f":"IF(INDIRECT(\"'Voksen \"&U261&\"'!$c$136\")=\"\",\"\",IFERROR(INDIRECT(\"'Voksen \"&U261&\"'!$c$136\",TRUE),\"\"))","v":{"$error":"#REF!"}},{"$f":"IF(INDIRECT(\"'Voksen \"&U261&\"'!$c$157\")=\"\",\"\",IFERROR(INDIRECT(\"'Voksen \"&U261&\"'!$c$157\",TRUE),\"\"))","v":{"$error":"#REF!"}},{"$f":"IF(INDIRECT(\"'Voksen \"&U261&\"'!$c$172\")=\"\",\"\",IFERROR(INDIRECT(\"'Voksen \"&U261&\"'!$c$172\",TRUE),\"\"))","v":{"$error":"#REF!"}},{"$f":"IF(INDIRECT(\"'Voksen \"&U261&\"'!$c$189\")=\"\",\"\",IFERROR(INDIRECT(\"'Voksen \"&U261&\"'!$c$189\",TRUE),\"\"))","v":{"$error":"#REF!"}},{"$f":"IF(INDIRECT(\"'Voksen \"&U261&\"'!$c$210\")=\"\",\"\",IFERROR(INDIRECT(\"'Voksen \"&U261&\"'!$c$210\",TRUE),\"\"))","v":{"$error":"#REF!"}},{"$f":"IF(INDIRECT(\"'Voksen \"&U261&\"'!$c$232\")=\"\",\"\",IFERROR(INDIRECT(\"'Voksen \"&U261&\"'!$c$232\",TRUE),\"\"))","v":{"$error":"#REF!"}},{"$f":"IF(INDIRECT(\"'Voksen \"&U261&\"'!$c$258\")=\"\",\"\",IFERROR(INDIRECT(\"'Voksen \"&U261&\"'!$c$258\",TRUE),\"\"))","v":{"$error":"#REF!"}},null,{"$f":"IF(INDIRECT(\"'Børn \"&U261&\"'!$c$126\")=\"\",\"\",IFERROR(INDIRECT(\"'Børn \"&U261&\"'!$c$126\",TRUE),\"\"))","v":{"$error":"#REF!"}},{"$f":"IF(INDIRECT(\"'Børn \"&U261&\"'!$c$142\")=\"\",\"\",IFERROR(INDIRECT(\"'Børn \"&U261&\"'!$c$142\",TRUE),\"\"))","v":{"$error":"#REF!"}},{"$f":"IF(INDIRECT(\"'Børn \"&U261&\"'!$c$166\")=\"\",\"\",IFERROR(INDIRECT(\"'Børn \"&U261&\"'!$c$166\",TRUE),\"\"))","v":{"$error":"#REF!"}},{"$f":"IF(INDIRECT(\"'Børn \"&U261&\"'!$c$180\")=\"\",\"\",IFERROR(INDIRECT(\"'Børn \"&U261&\"'!$c$180\",TRUE),\"\"))","v":{"$error":"#REF!"}},{"$f":"IF(INDIRECT(\"'Børn \"&U261&\"'!$c$200\")=\"\",\"\",IFERROR(INDIRECT(\"'Børn \"&U261&\"'!$c$200\",TRUE),\"\"))","v":{"$error":"#REF!"}},{"$f":"IF(INDIRECT(\"'Børn \"&U261&\"'!$c$221\")=\"\",\"\",IFERROR(INDIRECT(\"'Børn \"&U261&\"'!$c$221\",TRUE),\"\"))","v":{"$error":"#REF!"}},{"$f":"IF(INDIRECT(\"'Børn \"&U261&\"'!$c$244\")=\"\",\"\",IFERROR(INDIRECT(\"'Børn \"&U261&\"'!$c$244\",TRUE),\"\"))","v":{"$error":"#REF!"}}]
["Tilsyn 67","Status:  rød",{"$f":"COUNTIF(IF(ISERROR(INDIRECT(\"'Voksen \"&A262&\"'!$H$31\",TRUE)),\"\",INDIRECT(\"'Voksen \"&A262&\"'!$H$31\",TRUE)),3)","v":{"$error":"#VALUE!"}},{"$f":"COUNTIF(IF(ISERROR(INDIRECT(\"'Voksen \"&A262&\"'!$H$41\",TRUE)),\"\",INDIRECT(\"'Voksen \"&A262&\"'!$H$41\",TRUE)),3)","v":{"$error":"#VALUE!"}},{"$f":"COUNTIF(IF(ISERROR(INDIRECT(\"'Voksen \"&A262&\"'!$H$50\",TRUE)),\"\",INDIRECT(\"'Voksen \"&A262&\"'!$H$50\",TRUE)),3)","v":{"$error":"#VALUE!"}},{"$f":"COUNTIF(IF(ISERROR(INDIRECT(\"'Voksen \"&A262&\"'!$H$58\",TRUE)),\"\",INDIRECT(\"'Voksen \"&A262&\"'!$H$58\",TRUE)),3)","v":{"$error":"#VALUE!"}},{"$f":"COUNTIF(IF(ISERROR(INDIRECT(\"'Voksen \"&A262&\"'!$H$69\",TRUE)),\"\",INDIRECT(\"'Voksen \"&A262&\"'!$H$69\",TRUE)),3)","v":{"$error":"#VALUE!"}},{"$f":"COUNTIF(IF(ISERROR(INDIRECT(\"'Voksen \"&A262&\"'!$H$77\",TRUE)),\"\",INDIRECT(\"'Voksen \"&A262&\"'!$H$77\",TRUE)),3)","v":{"$error":"#VALUE!"}},null,null,{"$f":"COUNTIF(IF(ISERROR(INDIRECT(\"'Børn \"&A262&\"'!$H$31\",TRUE)),\"\",INDIRECT(\"'Børn \"&A262&\"'!$H$31\",TRUE)),3)","v":{"$error":"#VALUE!"}},{"$f":"COUNTIF(IF(ISERROR(INDIRECT(\"'Børn \"&A262&\"'!$H$44\",TRUE)),\"\",INDIRECT(\"'Børn \"&A262&\"'!$H$44\",TRUE)),3)","v":{"$error":"#VALUE!"}},{"$f":"COUNTIF(IF(ISERROR(INDIRECT(\"'Børn \"&A262&\"'!$H$53\",TRUE)),\"\",INDIRECT(\"'Børn \"&A262&\"'!$H$53\",TRUE)),3)","v":{"$error":"#VALUE!"}},{"$f":"COUNTIF(IF(ISERROR(INDIRECT(\"'Børn \"&A262&\"'!$H$61\",TRUE)),\"\",INDIRECT(\"'Børn \"&A262&\"'!$H$61\",TRUE)),3)","v":{"$error":"#VALUE!"}},{"$f":"COUNTIF(IF(ISERROR(INDIRECT(\"'Børn \"&A262&\"'!$H$68\",TRUE)),\"\",INDIRECT(\"'Børn \"&A262&\"'!$H$68\",TRUE)),3)","v":{"$error":"#VALUE!"}},{"$f":"COUNTIF(IF(ISERROR(INDIRECT(\"'Børn \"&A262&\"'!$H$79\",TRUE)),\"\",INDIRECT(\"'Børn \"&A262&\"'!$H$79\",TRUE)),3)","v":{"$error":"#VALUE!"}},{"$f":"COUNTIF(IF(ISERROR(INDIRECT(\"'Børn \"&A262&\"'!$H$87\",TRUE)),\"\",INDIRECT(\"'Børn \"&A262&\"'!$H$87\",TRUE)),3)","v":{"$error":"#VALUE!"}}]
["Tilsyn 68","Status:  grøn",{"$f":"COUNTIF(IF(ISERROR(INDIRECT(\"'Voksen \"&A263&\"'!$H$31\",TRUE)),\"\",INDIRECT(\"'Voksen \"&A263&\"'!$H$31\",TRUE)),1)","v":{"$error":"#VALUE!"}},{"$f":"COUNTIF(IF(ISERROR(INDIRECT(\"'Voksen \"&A263&\"'!$H$41\",TRUE)),\"\",INDIRECT(\"'Voksen \"&A263&\"'!$H$41\",TRUE)),1)","v":{"$error":"#VALUE!"}},{"$f":"COUNTIF(IF(ISERROR(INDIRECT(\"'Voksen \"&A263&\"'!$H$50\",TRUE)),\"\",INDIRECT(\"'Voksen \"&A263&\"'!$H$50\",TRUE)),1)","v":{"$error":"#VALUE!"}},{"$f":"COUNTIF(IF(ISERROR(INDIRECT(\"'Voksen \"&A263&\"'!$H$58\",TRUE)),\"\",INDIRECT(\"'Voksen \"&A263&\"'!$H$58\",TRUE)),1)","v":{"$error":"#VALUE!"}},{"$f":"COUNTIF(IF(ISERROR(INDIRECT(\"'Voksen \"&A263&\"'!$H$69\",TRUE)),\"\",INDIRECT(\"'Voksen \"&A263&\"'!$H$69\",TRUE)),1)","v":{"$error":"#VALUE!"}},{"$f":"COUNTIF(IF(ISERROR(INDIRECT(\"'Voksen \"&A263&\"'!$H$77\",TRUE)),\"\",INDIRECT(\"'Voksen \"&A263&\"'!$H$77\",TRUE)),1)","v":{"$error":"#VALUE!"}},null,null,{"$f":"COUNTIF(IF(ISERROR(INDIRECT(\"'Børn \"&A263&\"'!$H$31\",TRUE)),\"\",INDIRECT(\"'Børn \"&A263&\"'!$H$31\",TRUE)),1)","v":{"$error":"#VALUE!"}},{"$f":"COUNTIF(IF(ISERROR(INDIRECT(\"'Børn \"&A263&\"'!$H$44\",TRUE)),\"\",INDIRECT(\"'Børn \"&A263&\"'!$H$44\",TRUE)),1)","v":{"$error":"#VALUE!"}},{"$f":"COUNTIF(IF(ISERROR(INDIRECT(\"'Børn \"&A263&\"'!$H$53\",TRUE)),\"\",INDIRECT(\"'Børn \"&A263&\"'!$H$53\",TRUE)),1)","v":{"$error":"#VALUE!"}},{"$f":"COUNTIF(IF(ISERROR(INDIRECT(\"'Børn \"&A263&\"'!$H$61\",TRUE)),\"\",INDIRECT(\"'Børn \"&A263&\"'!$H$61\",TRUE)),1)","v":{"$error":"#VALUE!"}},{"$f":"COUNTIF(IF(ISERROR(INDIRECT(\"'Børn \"&A263&\"'!$H$68\",TRUE)),\"\",INDIRECT(\"'Børn \"&A263&\"'!$H$68\",TRUE)),1)","v":{"$error":"#VALUE!"}},{"$f":"COUNTIF(IF(ISERROR(INDIRECT(\"'Børn \"&A263&\"'!$H$79\",TRUE)),\"\",INDIRECT(\"'Børn \"&A263&\"'!$H$79\",TRUE)),1)","v":{"$error":"#VALUE!"}},{"$f":"COUNTIF(IF(ISERROR(INDIRECT(\"'Børn \"&A263&\"'!$H$87\",TRUE)),\"\",INDIRECT(\"'Børn \"&A263&\"'!$H$87\",TRUE)),1)","v":{"$error":"#VALUE!"}}]
["Tilsyn 68","Status:  gul",{"$f":"COUNTIF(IF(ISERROR(INDIRECT(\"'Voksen \"&A264&\"'!$H$31\",TRUE)),\"\",INDIRECT(\"'Voksen \"&A264&\"'!$H$31\",TRUE)),2)","v":{"$error":"#VALUE!"}},{"$f":"COUNTIF(IF(ISERROR(INDIRECT(\"'Voksen \"&A264&\"'!$H$41\",TRUE)),\"\",INDIRECT(\"'Voksen \"&A264&\"'!$H$41\",TRUE)),2)","v":{"$error":"#VALUE!"}},{"$f":"COUNTIF(IF(ISERROR(INDIRECT(\"'Voksen \"&A264&\"'!$H$50\",TRUE)),\"\",INDIRECT(\"'Voksen \"&A264&\"'!$H$50\",TRUE)),2)","v":{"$error":"#VALUE!"}},{"$f":"COUNTIF(IF(ISERROR(INDIRECT(\"'Voksen \"&A264&\"'!$H$58\",TRUE)),\"\",INDIRECT(\"'Voksen \"&A264&\"'!$H$58\",TRUE)),2)","v":{"$error":"#VALUE!"}},{"$f":"COUNTIF(IF(ISERROR(INDIRECT(\"'Voksen \"&A264&\"'!$H$69\",TRUE)),\"\",INDIRECT(\"'Voksen \"&A264&\"'!$H$69\",TRUE)),2)","v":{"$error":"#VALUE!"}},{"$f":"COUNTIF(IF(ISERROR(INDIRECT(\"'Voksen \"&A264&\"'!$H$77\",TRUE)),\"\",INDIRECT(\"'Voksen \"&A264&\"'!$H$77\",TRUE)),2)","v":{"$error":"#VALUE!"}},null,null,{"$f":"COUNTIF(IF(ISERROR(INDIRECT(\"'Børn \"&A264&\"'!$H$31\",TRUE)),\"\",INDIRECT(\"'Børn \"&A264&\"'!$H$31\",TRUE)),2)","v":{"$error":"#VALUE!"}},{"$f":"COUNTIF(IF(ISERROR(INDIRECT(\"'Børn \"&A264&\"'!$H$44\",TRUE)),\"\",INDIRECT(\"'Børn \"&A264&\"'!$H$44\",TRUE)),2)","v":{"$error":"#VALUE!"}},{"$f":"COUNTIF(IF(ISERROR(INDIRECT(\"'Børn \"&A264&\"'!$H$53\",TRUE)),\"\",INDIRECT(\"'Børn \"&A264&\"'!$H$53\",TRUE)),2)","v":{"$error":"#VALUE!"}},{"$f":"COUNTIF(IF(ISERROR(INDIRECT(\"'Børn \"&A264&\"'!$H$61\",TRUE)),\"\",INDIRECT(\"'Børn \"&A264&\"'!$H$61\",TRUE)),2)","v":{"$error":"#VALUE!"}},{"$f":"COUNTIF(IF(ISERROR(INDIRECT(\"'Børn \"&A264&\"'!$H$68\",TRUE)),\"\",INDIRECT(\"'Børn \"&A264&\"'!$H$68\",TRUE)),2)","v":{"$error":"#VALUE!"}},{"$f":"COUNTIF(IF(ISERROR(INDIRECT(\"'Børn \"&A264&\"'!$H$79\",TRUE)),\"\",INDIRECT(\"'Børn \"&A264&\"'!$H$79\",TRUE)),2)","v":{"$error":"#VALUE!"}},{"$f":"COUNTIF(IF(ISERROR(INDIRECT(\"'Børn \"&A264&\"'!$H$87\",TRUE)),\"\",INDIRECT(\"'Børn \"&A264&\"'!$H$87\",TRUE)),2)","v":{"$error":"#VALUE!"}}]
["Tilsyn 68","Status:  rød",{"$f":"COUNTIF(IF(ISERROR(INDIRECT(\"'Voksen \"&A265&\"'!$H$31\",TRUE)),\"\",INDIRECT(\"'Voksen \"&A265&\"'!$H$31\",TRUE)),3)","v":{"$error":"#VALUE!"}},{"$f":"COUNTIF(IF(ISERROR(INDIRECT(\"'Voksen \"&A265&\"'!$H$41\",TRUE)),\"\",INDIRECT(\"'Voksen \"&A265&\"'!$H$41\",TRUE)),3)","v":{"$error":"#VALUE!"}},{"$f":"COUNTIF(IF(ISERROR(INDIRECT(\"'Voksen \"&A265&\"'!$H$50\",TRUE)),\"\",INDIRECT(\"'Voksen \"&A265&\"'!$H$50\",TRUE)),3)","v":{"$error":"#VALUE!"}},{"$f":"COUNTIF(IF(ISERROR(INDIRECT(\"'Voksen \"&A265&\"'!$H$58\",TRUE)),\"\",INDIRECT(\"'Voksen \"&A265&\"'!$H$58\",TRUE)),3)","v":{"$error":"#VALUE!"}},{"$f":"COUNTIF(IF(ISERROR(INDIRECT(\"'Voksen \"&A265&\"'!$H$69\",TRUE)),\"\",INDIRECT(\"'Voksen \"&A265&\"'!$H$69\",TRUE)),3)","v":{"$error":"#VALUE!"}},{"$f":"COUNTIF(IF(ISERROR(INDIRECT(\"'Voksen \"&A265&\"'!$H$77\",TRUE)),\"\",INDIRECT(\"'Voksen \"&A265&\"'!$H$77\",TRUE)),3)","v":{"$error":"#VALUE!"}},null,null,{"$f":"COUNTIF(IF(ISERROR(INDIRECT(\"'Børn \"&A265&\"'!$H$31\",TRUE)),\"\",INDIRECT(\"'Børn \"&A265&\"'!$H$31\",TRUE)),3)","v":{"$error":"#VALUE!"}},{"$f":"COUNTIF(IF(ISERROR(INDIRECT(\"'Børn \"&A265&\"'!$H$44\",TRUE)),\"\",INDIRECT(\"'Børn \"&A265&\"'!$H$44\",TRUE)),3)","v":{"$error":"#VALUE!"}},{"$f":"COUNTIF(IF(ISERROR(INDIRECT(\"'Børn \"&A265&\"'!$H$53\",TRUE)),\"\",INDIRECT(\"'Børn \"&A265&\"'!$H$53\",TRUE)),3)","v":{"$error":"#VALUE!"}},{"$f":"COUNTIF(IF(ISERROR(INDIRECT(\"'Børn \"&A265&\"'!$H$61\",TRUE)),\"\",INDIRECT(\"'Børn \"&A265&\"'!$H$61\",TRUE)),3)","v":{"$error":"#VALUE!"}},{"$f":"COUNTIF(IF(ISERROR(INDIRECT(\"'Børn \"&A265&\"'!$H$68\",TRUE)),\"\",INDIRECT(\"'Børn \"&A265&\"'!$H$68\",TRUE)),3)","v":{"$error":"#VALUE!"}},{"$f":"COUNTIF(IF(ISERROR(INDIRECT(\"'Børn \"&A265&\"'!$H$79\",TRUE)),\"\",INDIRECT(\"'Børn \"&A265&\"'!$H$79\",TRUE)),3)","v":{"$error":"#VALUE!"}},{"$f":"COUNTIF(IF(ISERROR(INDIRECT(\"'Børn \"&A265&\"'!$H$87\",TRUE)),\"\",INDIRECT(\"'Børn \"&A265&\"'!$H$87\",TRUE)),3)","v":{"$error":"#VALUE!"}}]
["Tilsyn 69","Status:  grøn",{"$f":"COUNTIF(IF(ISERROR(INDIRECT(\"'Voksen \"&A266&\"'!$H$31\",TRUE)),\"\",INDIRECT(\"'Voksen \"&A266&\"'!$H$31\",TRUE)),1)","v":{"$error":"#VALUE!"}},{"$f":"COUNTIF(IF(ISERROR(INDIRECT(\"'Voksen \"&A266&\"'!$H$41\",TRUE)),\"\",INDIRECT(\"'Voksen \"&A266&\"'!$H$41\",TRUE)),1)","v":{"$error":"#VALUE!"}},{"$f":"COUNTIF(IF(ISERROR(INDIRECT(\"'Voksen \"&A266&\"'!$H$50\",TRUE)),\"\",INDIRECT(\"'Voksen \"&A266&\"'!$H$50\",TRUE)),1)","v":{"$error":"#VALUE!"}},{"$f":"COUNTIF(IF(ISERROR(INDIRECT(\"'Voksen \"&A266&\"'!$H$58\",TRUE)),\"\",INDIRECT(\"'Voksen \"&A266&\"'!$H$58\",TRUE)),1)","v":{"$error":"#VALUE!"}},{"$f":"COUNTIF(IF(ISERROR(INDIRECT(\"'Voksen \"&A266&\"'!$H$69\",TRUE)),\"\",INDIRECT(\"'Voksen \"&A266&\"'!$H$69\",TRUE)),1)","v":{"$error":"#VALUE!"}},{"$f":"COUNTIF(IF(ISERROR(INDIRECT(\"'Voksen \"&A266&\"'!$H$77\",TRUE)),\"\",INDIRECT(\"'Voksen \"&A266&\"'!$H$77\",TRUE)),1)","v":{"$error":"#VALUE!"}},null,null,{"$f":"COUNTIF(IF(ISERROR(INDIRECT(\"'Børn \"&A266&\"'!$H$31\",TRUE)),\"\",INDIRECT(\"'Børn \"&A266&\"'!$H$31\",TRUE)),1)","v":{"$error":"#VALUE!"}},{"$f":"COUNTIF(IF(ISERROR(INDIRECT(\"'Børn \"&A266&\"'!$H$44\",TRUE)),\"\",INDIRECT(\"'Børn \"&A266&\"'!$H$44\",TRUE)),1)","v":{"$error":"#VALUE!"}},{"$f":"COUNTIF(IF(ISERROR(INDIRECT(\"'Børn \"&A266&\"'!$H$53\",TRUE)),\"\",INDIRECT(\"'Børn \"&A266&\"'!$H$53\",TRUE)),1)","v":{"$error":"#VALUE!"}},{"$f":"COUNTIF(IF(ISERROR(INDIRECT(\"'Børn \"&A266&\"'!$H$61\",TRUE)),\"\",INDIRECT(\"'Børn \"&A266&\"'!$H$61\",TRUE)),1)","v":{"$error":"#VALUE!"}},{"$f":"COUNTIF(IF(ISERROR(INDIRECT(\"'Børn \"&A266&\"'!$H$68\",TRUE)),\"\",INDIRECT(\"'Børn \"&A266&\"'!$H$68\",TRUE)),1)","v":{"$error":"#VALUE!"}},{"$f":"COUNTIF(IF(ISERROR(INDIRECT(\"'Børn \"&A266&\"'!$H$79\",TRUE)),\"\",INDIRECT(\"'Børn \"&A266&\"'!$H$79\",TRUE)),1)","v":{"$error":"#VALUE!"}},{"$f":"COUNTIF(IF(ISERROR(INDIRECT(\"'Børn \"&A266&\"'!$H$87\",TRUE)),\"\",INDIRECT(\"'Børn \"&A266&\"'!$H$87\",TRUE)),1)","v":{"$error":"#VALUE!"}}]
["Tilsyn 69","Status:  gul",{"$f":"COUNTIF(IF(ISERROR(INDIRECT(\"'Voksen \"&A267&\"'!$H$31\",TRUE)),\"\",INDIRECT(\"'Voksen \"&A267&\"'!$H$31\",TRUE)),2)","v":{"$error":"#VALUE!"}},{"$f":"COUNTIF(IF(ISERROR(INDIRECT(\"'Voksen \"&A267&\"'!$H$41\",TRUE)),\"\",INDIRECT(\"'Voksen \"&A267&\"'!$H$41\",TRUE)),2)","v":{"$error":"#VALUE!"}},{"$f":"COUNTIF(IF(ISERROR(INDIRECT(\"'Voksen \"&A267&\"'!$H$50\",TRUE)),\"\",INDIRECT(\"'Voksen \"&A267&\"'!$H$50\",TRUE)),2)","v":{"$error":"#VALUE!"}},{"$f":"COUNTIF(IF(ISERROR(INDIRECT(\"'Voksen \"&A267&\"'!$H$58\",TRUE)),\"\",INDIRECT(\"'Voksen \"&A267&\"'!$H$58\",TRUE)),2)","v":{"$error":"#VALUE!"}},{"$f":"COUNTIF(IF(ISERROR(INDIRECT(\"'Voksen \"&A267&\"'!$H$69\",TRUE)),\"\",INDIRECT(\"'Voksen \"&A267&\"'!$H$69\",TRUE)),2)","v":{"$error":"#VALUE!"}},{"$f":"COUNTIF(IF(ISERROR(INDIRECT(\"'Voksen \"&A267&\"'!$H$77\",TRUE)),\"\",INDIRECT(\"'Voksen \"&A267&\"'!$H$77\",TRUE)),2)","v":{"$error":"#VALUE!"}},null,null,{"$f":"COUNTIF(IF(ISERROR(INDIRECT(\"'Børn \"&A267&\"'!$H$31\",TRUE)),\"\",INDIRECT(\"'Børn \"&A267&\"'!$H$31\",TRUE)),2)","v":{"$error":"#VALUE!"}},{"$f":"COUNTIF(IF(ISERROR(INDIRECT(\"'Børn \"&A267&\"'!$H$44\",TRUE)),\"\",INDIRECT(\"'Børn \"&A267&\"'!$H$44\",TRUE)),2)","v":{"$error":"#VALUE!"}},{"$f":"COUNTIF(IF(ISERROR(INDIRECT(\"'Børn \"&A267&\"'!$H$53\",TRUE)),\"\",INDIRECT(\"'Børn \"&A267&\"'!$H$53\",TRUE)),2)","v":{"$error":"#VALUE!"}},{"$f":"COUNTIF(IF(ISERROR(INDIRECT(\"'Børn \"&A267&\"'!$H$61\",TRUE)),\"\",INDIRECT(\"'Børn \"&A267&\"'!$H$61\",TRUE)),2)","v":{"$error":"#VALUE!"}},{"$f":"COUNTIF(IF(ISERROR(INDIRECT(\"'Børn \"&A267&\"'!$H$68\",TRUE)),\"\",INDIRECT(\"'Børn \"&A267&\"'!$H$68\",TRUE)),2)","v":{"$error":"#VALUE!"}},{"$f":"COUNTIF(IF(ISERROR(INDIRECT(\"'Børn \"&A267&\"'!$H$79\",TRUE)),\"\",INDIRECT(\"'Børn \"&A267&\"'!$H$79\",TRUE)),2)","v":{"$error":"#VALUE!"}},{"$f":"COUNTIF(IF(ISERROR(INDIRECT(\"'Børn \"&A267&\"'!$H$87\",TRUE)),\"\",INDIRECT(\"'Børn \"&A267&\"'!$H$87\",TRUE)),2)","v":{"$error":"#VALUE!"}}]
["Tilsyn 69","Status:  rød",{"$f":"COUNTIF(IF(ISERROR(INDIRECT(\"'Voksen \"&A268&\"'!$H$31\",TRUE)),\"\",INDIRECT(\"'Voksen \"&A268&\"'!$H$31\",TRUE)),3)","v":{"$error":"#VALUE!"}},{"$f":"COUNTIF(IF(ISERROR(INDIRECT(\"'Voksen \"&A268&\"'!$H$41\",TRUE)),\"\",INDIRECT(\"'Voksen \"&A268&\"'!$H$41\",TRUE)),3)","v":{"$error":"#VALUE!"}},{"$f":"COUNTIF(IF(ISERROR(INDIRECT(\"'Voksen \"&A268&\"'!$H$50\",TRUE)),\"\",INDIRECT(\"'Voksen \"&A268&\"'!$H$50\",TRUE)),3)","v":{"$error":"#VALUE!"}},{"$f":"COUNTIF(IF(ISERROR(INDIRECT(\"'Voksen \"&A268&\"'!$H$58\",TRUE)),\"\",INDIRECT(\"'Voksen \"&A268&\"'!$H$58\",TRUE)),3)","v":{"$error":"#VALUE!"}},{"$f":"COUNTIF(IF(ISERROR(INDIRECT(\"'Voksen \"&A268&\"'!$H$69\",TRUE)),\"\",INDIRECT(\"'Voksen \"&A268&\"'!$H$69\",TRUE)),3)","v":{"$error":"#VALUE!"}},{"$f":"COUNTIF(IF(ISERROR(INDIRECT(\"'Voksen \"&A268&\"'!$H$77\",TRUE)),\"\",INDIRECT(\"'Voksen \"&A268&\"'!$H$77\",TRUE)),3)","v":{"$error":"#VALUE!"}},null,null,{"$f":"COUNTIF(IF(ISERROR(INDIRECT(\"'Børn \"&A268&\"'!$H$31\",TRUE)),\"\",INDIRECT(\"'Børn \"&A268&\"'!$H$31\",TRUE)),3)","v":{"$error":"#VALUE!"}},{"$f":"COUNTIF(IF(ISERROR(INDIRECT(\"'Børn \"&A268&\"'!$H$44\",TRUE)),\"\",INDIRECT(\"'Børn \"&A268&\"'!$H$44\",TRUE)),3)","v":{"$error":"#VALUE!"}},{"$f":"COUNTIF(IF(ISERROR(INDIRECT(\"'Børn \"&A268&\"'!$H$53\",TRUE)),\"\",INDIRECT(\"'Børn \"&A268&\"'!$H$53\",TRUE)),3)","v":{"$error":"#VALUE!"}},{"$f":"COUNTIF(IF(ISERROR(INDIRECT(\"'Børn \"&A268&\"'!$H$61\",TRUE)),\"\",INDIRECT(\"'Børn \"&A268&\"'!$H$61\",TRUE)),3)","v":{"$error":"#VALUE!"}},{"$f":"COUNTIF(IF(ISERROR(INDIRECT(\"'Børn \"&A268&\"'!$H$68\",TRUE)),\"\",INDIRECT(\"'Børn \"&A268&\"'!$H$68\",TRUE)),3)","v":{"$error":"#VALUE!"}},{"$f":"COUNTIF(IF(ISERROR(INDIRECT(\"'Børn \"&A268&\"'!$H$79\",TRUE)),\"\",INDIRECT(\"'Børn \"&A268&\"'!$H$79\",TRUE)),3)","v":{"$error":"#VALUE!"}},{"$f":"COUNTIF(IF(ISERROR(INDIRECT(\"'Børn \"&A268&\"'!$H$87\",TRUE)),\"\",INDIRECT(\"'Børn \"&A268&\"'!$H$87\",TRUE)),3)","v":{"$error":"#VALUE!"}}]
["Tilsyn 70","Status:  grøn",{"$f":"COUNTIF(IF(ISERROR(INDIRECT(\"'Voksen \"&A269&\"'!$H$31\",TRUE)),\"\",INDIRECT(\"'Voksen \"&A269&\"'!$H$31\",TRUE)),1)","v":{"$error":"#VALUE!"}},{"$f":"COUNTIF(IF(ISERROR(INDIRECT(\"'Voksen \"&A269&\"'!$H$41\",TRUE)),\"\",INDIRECT(\"'Voksen \"&A269&\"'!$H$41\",TRUE)),1)","v":{"$error":"#VALUE!"}},{"$f":"COUNTIF(IF(ISERROR(INDIRECT(\"'Voksen \"&A269&\"'!$H$50\",TRUE)),\"\",INDIRECT(\"'Voksen \"&A269&\"'!$H$50\",TRUE)),1)","v":{"$error":"#VALUE!"}},{"$f":"COUNTIF(IF(ISERROR(INDIRECT(\"'Voksen \"&A269&\"'!$H$58\",TRUE)),\"\",INDIRECT(\"'Voksen \"&A269&\"'!$H$58\",TRUE)),1)","v":{"$error":"#VALUE!"}},{"$f":"COUNTIF(IF(ISERROR(INDIRECT(\"'Voksen \"&A269&\"'!$H$69\",TRUE)),\"\",INDIRECT(\"'Voksen \"&A269&\"'!$H$69\",TRUE)),1)","v":{"$error":"#VALUE!"}},{"$f":"COUNTIF(IF(ISERROR(INDIRECT(\"'Voksen \"&A269&\"'!$H$77\",TRUE)),\"\",INDIRECT(\"'Voksen \"&A269&\"'!$H$77\",TRUE)),1)","v":{"$error":"#VALUE!"}},null,null,{"$f":"COUNTIF(IF(ISERROR(INDIRECT(\"'Børn \"&A269&\"'!$H$31\",TRUE)),\"\",INDIRECT(\"'Børn \"&A269&\"'!$H$31\",TRUE)),1)","v":{"$error":"#VALUE!"}},{"$f":"COUNTIF(IF(ISERROR(INDIRECT(\"'Børn \"&A269&\"'!$H$44\",TRUE)),\"\",INDIRECT(\"'Børn \"&A269&\"'!$H$44\",TRUE)),1)","v":{"$error":"#VALUE!"}},{"$f":"COUNTIF(IF(ISERROR(INDIRECT(\"'Børn \"&A269&\"'!$H$53\",TRUE)),\"\",INDIRECT(\"'Børn \"&A269&\"'!$H$53\",TRUE)),1)","v":{"$error":"#VALUE!"}},{"$f":"COUNTIF(IF(ISERROR(INDIRECT(\"'Børn \"&A269&\"'!$H$61\",TRUE)),\"\",INDIRECT(\"'Børn \"&A269&\"'!$H$61\",TRUE)),1)","v":{"$error":"#VALUE!"}},{"$f":"COUNTIF(IF(ISERROR(INDIRECT(\"'Børn \"&A269&\"'!$H$68\",TRUE)),\"\",INDIRECT(\"'Børn \"&A269&\"'!$H$68\",TRUE)),1)","v":{"$error":"#VALUE!"}},{"$f":"COUNTIF(IF(ISERROR(INDIRECT(\"'Børn \"&A269&\"'!$H$79\",TRUE)),\"\",INDIRECT(\"'Børn \"&A269&\"'!$H$79\",TRUE)),1)","v":{"$error":"#VALUE!"}},{"$f":"COUNTIF(IF(ISERROR(INDIRECT(\"'Børn \"&A269&\"'!$H$87\",TRUE)),\"\",INDIRECT(\"'Børn \"&A269&\"'!$H$87\",TRUE)),1)","v":{"$error":"#VALUE!"}}]
["Tilsyn 70","Status:  gul",{"$f":"COUNTIF(IF(ISERROR(INDIRECT(\"'Voksen \"&A270&\"'!$H$31\",TRUE)),\"\",INDIRECT(\"'Voksen \"&A270&\"'!$H$31\",TRUE)),2)","v":{"$error":"#VALUE!"}},{"$f":"COUNTIF(IF(ISERROR(INDIRECT(\"'Voksen \"&A270&\"'!$H$41\",TRUE)),\"\",INDIRECT(\"'Voksen \"&A270&\"'!$H$41\",TRUE)),2)","v":{"$error":"#VALUE!"}},{"$f":"COUNTIF(IF(ISERROR(INDIRECT(\"'Voksen \"&A270&\"'!$H$50\",TRUE)),\"\",INDIRECT(\"'Voksen \"&A270&\"'!$H$50\",TRUE)),2)","v":{"$error":"#VALUE!"}},{"$f":"COUNTIF(IF(ISERROR(INDIRECT(\"'Voksen \"&A270&\"'!$H$58\",TRUE)),\"\",INDIRECT(\"'Voksen \"&A270&\"'!$H$58\",TRUE)),2)","v":{"$error":"#VALUE!"}},{"$f":"COUNTIF(IF(ISERROR(INDIRECT(\"'Voksen \"&A270&\"'!$H$69\",TRUE)),\"\",INDIRECT(\"'Voksen \"&A270&\"'!$H$69\",TRUE)),2)","v":{"$error":"#VALUE!"}},{"$f":"COUNTIF(IF(ISERROR(INDIRECT(\"'Voksen \"&A270&\"'!$H$77\",TRUE)),\"\",INDIRECT(\"'Voksen \"&A270&\"'!$H$77\",TRUE)),2)","v":{"$error":"#VALUE!"}},null,null,{"$f":"COUNTIF(IF(ISERROR(INDIRECT(\"'Børn \"&A270&\"'!$H$31\",TRUE)),\"\",INDIRECT(\"'Børn \"&A270&\"'!$H$31\",TRUE)),2)","v":{"$error":"#VALUE!"}},{"$f":"COUNTIF(IF(ISERROR(INDIRECT(\"'Børn \"&A270&\"'!$H$44\",TRUE)),\"\",INDIRECT(\"'Børn \"&A270&\"'!$H$44\",TRUE)),2)","v":{"$error":"#VALUE!"}},{"$f":"COUNTIF(IF(ISERROR(INDIRECT(\"'Børn \"&A270&\"'!$H$53\",TRUE)),\"\",INDIRECT(\"'Børn \"&A270&\"'!$H$53\",TRUE)),2)","v":{"$error":"#VALUE!"}},{"$f":"COUNTIF(IF(ISERROR(INDIRECT(\"'Børn \"&A270&\"'!$H$61\",TRUE)),\"\",INDIRECT(\"'Børn \"&A270&\"'!$H$61\",TRUE)),2)","v":{"$error":"#VALUE!"}},{"$f":"COUNTIF(IF(ISERROR(INDIRECT(\"'Børn \"&A270&\"'!$H$68\",TRUE)),\"\",INDIRECT(\"'Børn \"&A270&\"'!$H$68\",TRUE)),2)","v":{"$error":"#VALUE!"}},{"$f":"COUNTIF(IF(ISERROR(INDIRECT(\"'Børn \"&A270&\"'!$H$79\",TRUE)),\"\",INDIRECT(\"'Børn \"&A270&\"'!$H$79\",TRUE)),2)","v":{"$error":"#VALUE!"}},{"$f":"COUNTIF(IF(ISERROR(INDIRECT(\"'Børn \"&A270&\"'!$H$87\",TRUE)),\"\",INDIRECT(\"'Børn \"&A270&\"'!$H$87\",TRUE)),2)","v":{"$error":"#VALUE!"}}]
["Tilsyn 70","Status:  rød",{"$f":"COUNTIF(IF(ISERROR(INDIRECT(\"'Voksen \"&A271&\"'!$H$31\",TRUE)),\"\",INDIRECT(\"'Voksen \"&A271&\"'!$H$31\",TRUE)),3)","v":{"$error":"#VALUE!"}},{"$f":"COUNTIF(IF(ISERROR(INDIRECT(\"'Voksen \"&A271&\"'!$H$41\",TRUE)),\"\",INDIRECT(\"'Voksen \"&A271&\"'!$H$41\",TRUE)),3)","v":{"$error":"#VALUE!"}},{"$f":"COUNTIF(IF(ISERROR(INDIRECT(\"'Voksen \"&A271&\"'!$H$50\",TRUE)),\"\",INDIRECT(\"'Voksen \"&A271&\"'!$H$50\",TRUE)),3)","v":{"$error":"#VALUE!"}},{"$f":"COUNTIF(IF(ISERROR(INDIRECT(\"'Voksen \"&A271&\"'!$H$58\",TRUE)),\"\",INDIRECT(\"'Voksen \"&A271&\"'!$H$58\",TRUE)),3)","v":{"$error":"#VALUE!"}},{"$f":"COUNTIF(IF(ISERROR(INDIRECT(\"'Voksen \"&A271&\"'!$H$69\",TRUE)),\"\",INDIRECT(\"'Voksen \"&A271&\"'!$H$69\",TRUE)),3)","v":{"$error":"#VALUE!"}},{"$f":"COUNTIF(IF(ISERROR(INDIRECT(\"'Voksen \"&A271&\"'!$H$77\",TRUE)),\"\",INDIRECT(\"'Voksen \"&A271&\"'!$H$77\",TRUE)),3)","v":{"$error":"#VALUE!"}},null,null,{"$f":"COUNTIF(IF(ISERROR(INDIRECT(\"'Børn \"&A271&\"'!$H$31\",TRUE)),\"\",INDIRECT(\"'Børn \"&A271&\"'!$H$31\",TRUE)),3)","v":{"$error":"#VALUE!"}},{"$f":"COUNTIF(IF(ISERROR(INDIRECT(\"'Børn \"&A271&\"'!$H$44\",TRUE)),\"\",INDIRECT(\"'Børn \"&A271&\"'!$H$44\",TRUE)),3)","v":{"$error":"#VALUE!"}},{"$f":"COUNTIF(IF(ISERROR(INDIRECT(\"'Børn \"&A271&\"'!$H$53\",TRUE)),\"\",INDIRECT(\"'Børn \"&A271&\"'!$H$53\",TRUE)),3)","v":{"$error":"#VALUE!"}},{"$f":"COUNTIF(IF(ISERROR(INDIRECT(\"'Børn \"&A271&\"'!$H$61\",TRUE)),\"\",INDIRECT(\"'Børn \"&A271&\"'!$H$61\",TRUE)),3)","v":{"$error":"#VALUE!"}},{"$f":"COUNTIF(IF(ISERROR(INDIRECT(\"'Børn \"&A271&\"'!$H$68\",TRUE)),\"\",INDIRECT(\"'Børn \"&A271&\"'!$H$68\",TRUE)),3)","v":{"$error":"#VALUE!"}},{"$f":"COUNTIF(IF(ISERROR(INDIRECT(\"'Børn \"&A271&\"'!$H$79\",TRUE)),\"\",INDIRECT(\"'Børn \"&A271&\"'!$H$79\",TRUE)),3)","v":{"$error":"#VALUE!"}},{"$f":"COUNTIF(IF(ISERROR(INDIRECT(\"'Børn \"&A271&\"'!$H$87\",TRUE)),\"\",INDIRECT(\"'Børn \"&A271&\"'!$H$87\",TRUE)),3)","v":{"$error":"#VALUE!"}}]
["Tilsyn 71","Status:  grøn",{"$f":"COUNTIF(IF(ISERROR(INDIRECT(\"'Voksen \"&A272&\"'!$H$31\",TRUE)),\"\",INDIRECT(\"'Voksen \"&A272&\"'!$H$31\",TRUE)),1)","v":{"$error":"#VALUE!"}},{"$f":"COUNTIF(IF(ISERROR(INDIRECT(\"'Voksen \"&A272&\"'!$H$41\",TRUE)),\"\",INDIRECT(\"'Voksen \"&A272&\"'!$H$41\",TRUE)),1)","v":{"$error":"#VALUE!"}},{"$f":"COUNTIF(IF(ISERROR(INDIRECT(\"'Voksen \"&A272&\"'!$H$50\",TRUE)),\"\",INDIRECT(\"'Voksen \"&A272&\"'!$H$50\",TRUE)),1)","v":{"$error":"#VALUE!"}},{"$f":"COUNTIF(IF(ISERROR(INDIRECT(\"'Voksen \"&A272&\"'!$H$58\",TRUE)),\"\",INDIRECT(\"'Voksen \"&A272&\"'!$H$58\",TRUE)),1)","v":{"$error":"#VALUE!"}},{"$f":"COUNTIF(IF(ISERROR(INDIRECT(\"'Voksen \"&A272&\"'!$H$69\",TRUE)),\"\",INDIRECT(\"'Voksen \"&A272&\"'!$H$69\",TRUE)),1)","v":{"$error":"#VALUE!"}},{"$f":"COUNTIF(IF(ISERROR(INDIRECT(\"'Voksen \"&A272&\"'!$H$77\",TRUE)),\"\",INDIRECT(\"'Voksen \"&A272&\"'!$H$77\",TRUE)),1)","v":{"$error":"#VALUE!"}},null,null,{"$f":"COUNTIF(IF(ISERROR(INDIRECT(\"'Børn \"&A272&\"'!$H$31\",TRUE)),\"\",INDIRECT(\"'Børn \"&A272&\"'!$H$31\",TRUE)),1)","v":{"$error":"#VALUE!"}},{"$f":"COUNTIF(IF(ISERROR(INDIRECT(\"'Børn \"&A272&\"'!$H$44\",TRUE)),\"\",INDIRECT(\"'Børn \"&A272&\"'!$H$44\",TRUE)),1)","v":{"$error":"#VALUE!"}},{"$f":"COUNTIF(IF(ISERROR(INDIRECT(\"'Børn \"&A272&\"'!$H$53\",TRUE)),\"\",INDIRECT(\"'Børn \"&A272&\"'!$H$53\",TRUE)),1)","v":{"$error":"#VALUE!"}},{"$f":"COUNTIF(IF(ISERROR(INDIRECT(\"'Børn \"&A272&\"'!$H$61\",TRUE)),\"\",INDIRECT(\"'Børn \"&A272&\"'!$H$61\",TRUE)),1)","v":{"$error":"#VALUE!"}},{"$f":"COUNTIF(IF(ISERROR(INDIRECT(\"'Børn \"&A272&\"'!$H$68\",TRUE)),\"\",INDIRECT(\"'Børn \"&A272&\"'!$H$68\",TRUE)),1)","v":{"$error":"#VALUE!"}},{"$f":"COUNTIF(IF(ISERROR(INDIRECT(\"'Børn \"&A272&\"'!$H$79\",TRUE)),\"\",INDIRECT(\"'Børn \"&A272&\"'!$H$79\",TRUE)),1)","v":{"$error":"#VALUE!"}},{"$f":"COUNTIF(IF(ISERROR(INDIRECT(\"'Børn \"&A272&\"'!$H$87\",TRUE)),\"\",INDIRECT(\"'Børn \"&A272&\"'!$H$87\",TRUE)),1)","v":{"$error":"#VALUE!"}}]
["Tilsyn 71","Status:  gul",{"$f":"COUNTIF(IF(ISERROR(INDIRECT(\"'Voksen \"&A273&\"'!$H$31\",TRUE)),\"\",INDIRECT(\"'Voksen \"&A273&\"'!$H$31\",TRUE)),2)","v":{"$error":"#VALUE!"}},{"$f":"COUNTIF(IF(ISERROR(INDIRECT(\"'Voksen \"&A273&\"'!$H$41\",TRUE)),\"\",INDIRECT(\"'Voksen \"&A273&\"'!$H$41\",TRUE)),2)","v":{"$error":"#VALUE!"}},{"$f":"COUNTIF(IF(ISERROR(INDIRECT(\"'Voksen \"&A273&\"'!$H$50\",TRUE)),\"\",INDIRECT(\"'Voksen \"&A273&\"'!$H$50\",TRUE)),2)","v":{"$error":"#VALUE!"}},{"$f":"COUNTIF(IF(ISERROR(INDIRECT(\"'Voksen \"&A273&\"'!$H$58\",TRUE)),\"\",INDIRECT(\"'Voksen \"&A273&\"'!$H$58\",TRUE)),2)","v":{"$error":"#VALUE!"}},{"$f":"COUNTIF(IF(ISERROR(INDIRECT(\"'Voksen \"&A273&\"'!$H$69\",TRUE)),\"\",INDIRECT(\"'Voksen \"&A273&\"'!$H$69\",TRUE)),2)","v":{"$error":"#VALUE!"}},{"$f":"COUNTIF(IF(ISERROR(INDIRECT(\"'Voksen \"&A273&\"'!$H$77\",TRUE)),\"\",INDIRECT(\"'Voksen \"&A273&\"'!$H$77\",TRUE)),2)","v":{"$error":"#VALUE!"}},null,null,{"$f":"COUNTIF(IF(ISERROR(INDIRECT(\"'Børn \"&A273&\"'!$H$31\",TRUE)),\"\",INDIRECT(\"'Børn \"&A273&\"'!$H$31\",TRUE)),2)","v":{"$error":"#VALUE!"}},{"$f":"COUNTIF(IF(ISERROR(INDIRECT(\"'Børn \"&A273&\"'!$H$44\",TRUE)),\"\",INDIRECT(\"'Børn \"&A273&\"'!$H$44\",TRUE)),2)","v":{"$error":"#VALUE!"}},{"$f":"COUNTIF(IF(ISERROR(INDIRECT(\"'Børn \"&A273&\"'!$H$53\",TRUE)),\"\",INDIRECT(\"'Børn \"&A273&\"'!$H$53\",TRUE)),2)","v":{"$error":"#VALUE!"}},{"$f":"COUNTIF(IF(ISERROR(INDIRECT(\"'Børn \"&A273&\"'!$H$61\",TRUE)),\"\",INDIRECT(\"'Børn \"&A273&\"'!$H$61\",TRUE)),2)","v":{"$error":"#VALUE!"}},{"$f":"COUNTIF(IF(ISERROR(INDIRECT(\"'Børn \"&A273&\"'!$H$68\",TRUE)),\"\",INDIRECT(\"'Børn \"&A273&\"'!$H$68\",TRUE)),2)","v":{"$error":"#VALUE!"}},{"$f":"COUNTIF(IF(ISERROR(INDIRECT(\"'Børn \"&A273&\"'!$H$79\",TRUE)),\"\",INDIRECT(\"'Børn \"&A273&\"'!$H$79\",TRUE)),2)","v":{"$error":"#VALUE!"}},{"$f":"COUNTIF(IF(ISERROR(INDIRECT(\"'Børn \"&A273&\"'!$H$87\",TRUE)),\"\",INDIRECT(\"'Børn \"&A273&\"'!$H$87\",TRUE)),2)","v":{"$error":"#VALUE!"}}]
["Tilsyn 71","Status:  rød",{"$f":"COUNTIF(IF(ISERROR(INDIRECT(\"'Voksen \"&A274&\"'!$H$31\",TRUE)),\"\",INDIRECT(\"'Voksen \"&A274&\"'!$H$31\",TRUE)),3)","v":{"$error":"#VALUE!"}},{"$f":"COUNTIF(IF(ISERROR(INDIRECT(\"'Voksen \"&A274&\"'!$H$41\",TRUE)),\"\",INDIRECT(\"'Voksen \"&A274&\"'!$H$41\",TRUE)),3)","v":{"$error":"#VALUE!"}},{"$f":"COUNTIF(IF(ISERROR(INDIRECT(\"'Voksen \"&A274&\"'!$H$50\",TRUE)),\"\",INDIRECT(\"'Voksen \"&A274&\"'!$H$50\",TRUE)),3)","v":{"$error":"#VALUE!"}},{"$f":"COUNTIF(IF(ISERROR(INDIRECT(\"'Voksen \"&A274&\"'!$H$58\",TRUE)),\"\",INDIRECT(\"'Voksen \"&A274&\"'!$H$58\",TRUE)),3)","v":{"$error":"#VALUE!"}},{"$f":"COUNTIF(IF(ISERROR(INDIRECT(\"'Voksen \"&A274&\"'!$H$69\",TRUE)),\"\",INDIRECT(\"'Voksen \"&A274&\"'!$H$69\",TRUE)),3)","v":{"$error":"#VALUE!"}},{"$f":"COUNTIF(IF(ISERROR(INDIRECT(\"'Voksen \"&A274&\"'!$H$77\",TRUE)),\"\",INDIRECT(\"'Voksen \"&A274&\"'!$H$77\",TRUE)),3)","v":{"$error":"#VALUE!"}},null,null,{"$f":"COUNTIF(IF(ISERROR(INDIRECT(\"'Børn \"&A274&\"'!$H$31\",TRUE)),\"\",INDIRECT(\"'Børn \"&A274&\"'!$H$31\",TRUE)),3)","v":{"$error":"#VALUE!"}},{"$f":"COUNTIF(IF(ISERROR(INDIRECT(\"'Børn \"&A274&\"'!$H$44\",TRUE)),\"\",INDIRECT(\"'Børn \"&A274&\"'!$H$44\",TRUE)),3)","v":{"$error":"#VALUE!"}},{"$f":"COUNTIF(IF(ISERROR(INDIRECT(\"'Børn \"&A274&\"'!$H$53\",TRUE)),\"\",INDIRECT(\"'Børn \"&A274&\"'!$H$53\",TRUE)),3)","v":{"$error":"#VALUE!"}},{"$f":"COUNTIF(IF(ISERROR(INDIRECT(\"'Børn \"&A274&\"'!$H$61\",TRUE)),\"\",INDIRECT(\"'Børn \"&A274&\"'!$H$61\",TRUE)),3)","v":{"$error":"#VALUE!"}},{"$f":"COUNTIF(IF(ISERROR(INDIRECT(\"'Børn \"&A274&\"'!$H$68\",TRUE)),\"\",INDIRECT(\"'Børn \"&A274&\"'!$H$68\",TRUE)),3)","v":{"$error":"#VALUE!"}},{"$f":"COUNTIF(IF(ISERROR(INDIRECT(\"'Børn \"&A274&\"'!$H$79\",TRUE)),\"\",INDIRECT(\"'Børn \"&A274&\"'!$H$79\",TRUE)),3)","v":{"$error":"#VALUE!"}},{"$f":"COUNTIF(IF(ISERROR(INDIRECT(\"'Børn \"&A274&\"'!$H$87\",TRUE)),\"\",INDIRECT(\"'Børn \"&A274&\"'!$H$87\",TRUE)),3)","v":{"$error":"#VALUE!"}}]
["Tilsyn 72","Status:  grøn",{"$f":"COUNTIF(IF(ISERROR(INDIRECT(\"'Voksen \"&A275&\"'!$H$31\",TRUE)),\"\",INDIRECT(\"'Voksen \"&A275&\"'!$H$31\",TRUE)),1)","v":{"$error":"#VALUE!"}},{"$f":"COUNTIF(IF(ISERROR(INDIRECT(\"'Voksen \"&A275&\"'!$H$41\",TRUE)),\"\",INDIRECT(\"'Voksen \"&A275&\"'!$H$41\",TRUE)),1)","v":{"$error":"#VALUE!"}},{"$f":"COUNTIF(IF(ISERROR(INDIRECT(\"'Voksen \"&A275&\"'!$H$50\",TRUE)),\"\",INDIRECT(\"'Voksen \"&A275&\"'!$H$50\",TRUE)),1)","v":{"$error":"#VALUE!"}},{"$f":"COUNTIF(IF(ISERROR(INDIRECT(\"'Voksen \"&A275&\"'!$H$58\",TRUE)),\"\",INDIRECT(\"'Voksen \"&A275&\"'!$H$58\",TRUE)),1)","v":{"$error":"#VALUE!"}},{"$f":"COUNTIF(IF(ISERROR(INDIRECT(\"'Voksen \"&A275&\"'!$H$69\",TRUE)),\"\",INDIRECT(\"'Voksen \"&A275&\"'!$H$69\",TRUE)),1)","v":{"$error":"#VALUE!"}},{"$f":"COUNTIF(IF(ISERROR(INDIRECT(\"'Voksen \"&A275&\"'!$H$77\",TRUE)),\"\",INDIRECT(\"'Voksen \"&A275&\"'!$H$77\",TRUE)),1)","v":{"$error":"#VALUE!"}},null,null,{"$f":"COUNTIF(IF(ISERROR(INDIRECT(\"'Børn \"&A275&\"'!$H$31\",TRUE)),\"\",INDIRECT(\"'Børn \"&A275&\"'!$H$31\",TRUE)),1)","v":{"$error":"#VALUE!"}},{"$f":"COUNTIF(IF(ISERROR(INDIRECT(\"'Børn \"&A275&\"'!$H$44\",TRUE)),\"\",INDIRECT(\"'Børn \"&A275&\"'!$H$44\",TRUE)),1)","v":{"$error":"#VALUE!"}},{"$f":"COUNTIF(IF(ISERROR(INDIRECT(\"'Børn \"&A275&\"'!$H$53\",TRUE)),\"\",INDIRECT(\"'Børn \"&A275&\"'!$H$53\",TRUE)),1)","v":{"$error":"#VALUE!"}},{"$f":"COUNTIF(IF(ISERROR(INDIRECT(\"'Børn \"&A275&\"'!$H$61\",TRUE)),\"\",INDIRECT(\"'Børn \"&A275&\"'!$H$61\",TRUE)),1)","v":{"$error":"#VALUE!"}},{"$f":"COUNTIF(IF(ISERROR(INDIRECT(\"'Børn \"&A275&\"'!$H$68\",TRUE)),\"\",INDIRECT(\"'Børn \"&A275&\"'!$H$68\",TRUE)),1)","v":{"$error":"#VALUE!"}},{"$f":"COUNTIF(IF(ISERROR(INDIRECT(\"'Børn \"&A275&\"'!$H$79\",TRUE)),\"\",INDIRECT(\"'Børn \"&A275&\"'!$H$79\",TRUE)),1)","v":{"$error":"#VALUE!"}},{"$f":"COUNTIF(IF(ISERROR(INDIRECT(\"'Børn \"&A275&\"'!$H$87\",TRUE)),\"\",INDIRECT(\"'Børn \"&A275&\"'!$H$87\",TRUE)),1)","v":{"$error":"#VALUE!"}}]
["Tilsyn 72","Status:  gul",{"$f":"COUNTIF(IF(ISERROR(INDIRECT(\"'Voksen \"&A276&\"'!$H$31\",TRUE)),\"\",INDIRECT(\"'Voksen \"&A276&\"'!$H$31\",TRUE)),2)","v":{"$error":"#VALUE!"}},{"$f":"COUNTIF(IF(ISERROR(INDIRECT(\"'Voksen \"&A276&\"'!$H$41\",TRUE)),\"\",INDIRECT(\"'Voksen \"&A276&\"'!$H$41\",TRUE)),2)","v":{"$error":"#VALUE!"}},{"$f":"COUNTIF(IF(ISERROR(INDIRECT(\"'Voksen \"&A276&\"'!$H$50\",TRUE)),\"\",INDIRECT(\"'Voksen \"&A276&\"'!$H$50\",TRUE)),2)","v":{"$error":"#VALUE!"}},{"$f":"COUNTIF(IF(ISERROR(INDIRECT(\"'Voksen \"&A276&\"'!$H$58\",TRUE)),\"\",INDIRECT(\"'Voksen \"&A276&\"'!$H$58\",TRUE)),2)","v":{"$error":"#VALUE!"}},{"$f":"COUNTIF(IF(ISERROR(INDIRECT(\"'Voksen \"&A276&\"'!$H$69\",TRUE)),\"\",INDIRECT(\"'Voksen \"&A276&\"'!$H$69\",TRUE)),2)","v":{"$error":"#VALUE!"}},{"$f":"COUNTIF(IF(ISERROR(INDIRECT(\"'Voksen \"&A276&\"'!$H$77\",TRUE)),\"\",INDIRECT(\"'Voksen \"&A276&\"'!$H$77\",TRUE)),2)","v":{"$error":"#VALUE!"}},null,null,{"$f":"COUNTIF(IF(ISERROR(INDIRECT(\"'Børn \"&A276&\"'!$H$31\",TRUE)),\"\",INDIRECT(\"'Børn \"&A276&\"'!$H$31\",TRUE)),2)","v":{"$error":"#VALUE!"}},{"$f":"COUNTIF(IF(ISERROR(INDIRECT(\"'Børn \"&A276&\"'!$H$44\",TRUE)),\"\",INDIRECT(\"'Børn \"&A276&\"'!$H$44\",TRUE)),2)","v":{"$error":"#VALUE!"}},{"$f":"COUNTIF(IF(ISERROR(INDIRECT(\"'Børn \"&A276&\"'!$H$53\",TRUE)),\"\",INDIRECT(\"'Børn \"&A276&\"'!$H$53\",TRUE)),2)","v":{"$error":"#VALUE!"}},{"$f":"COUNTIF(IF(ISERROR(INDIRECT(\"'Børn \"&A276&\"'!$H$61\",TRUE)),\"\",INDIRECT(\"'Børn \"&A276&\"'!$H$61\",TRUE)),2)","v":{"$error":"#VALUE!"}},{"$f":"COUNTIF(IF(ISERROR(INDIRECT(\"'Børn \"&A276&\"'!$H$68\",TRUE)),\"\",INDIRECT(\"'Børn \"&A276&\"'!$H$68\",TRUE)),2)","v":{"$error":"#VALUE!"}},{"$f":"COUNTIF(IF(ISERROR(INDIRECT(\"'Børn \"&A276&\"'!$H$79\",TRUE)),\"\",INDIRECT(\"'Børn \"&A276&\"'!$H$79\",TRUE)),2)","v":{"$error":"#VALUE!"}},{"$f":"COUNTIF(IF(ISERROR(INDIRECT(\"'Børn \"&A276&\"'!$H$87\",TRUE)),\"\",INDIRECT(\"'Børn \"&A276&\"'!$H$87\",TRUE)),2)","v":{"$error":"#VALUE!"}}]
["Tilsyn 72","Status:  rød",{"$f":"COUNTIF(IF(ISERROR(INDIRECT(\"'Voksen \"&A277&\"'!$H$31\",TRUE)),\"\",INDIRECT(\"'Voksen \"&A277&\"'!$H$31\",TRUE)),3)","v":{"$error":"#VALUE!"}},{"$f":"COUNTIF(IF(ISERROR(INDIRECT(\"'Voksen \"&A277&\"'!$H$41\",TRUE)),\"\",INDIRECT(\"'Voksen \"&A277&\"'!$H$41\",TRUE)),3)","v":{"$error":"#VALUE!"}},{"$f":"COUNTIF(IF(ISERROR(INDIRECT(\"'Voksen \"&A277&\"'!$H$50\",TRUE)),\"\",INDIRECT(\"'Voksen \"&A277&\"'!$H$50\",TRUE)),3)","v":{"$error":"#VALUE!"}},{"$f":"COUNTIF(IF(ISERROR(INDIRECT(\"'Voksen \"&A277&\"'!$H$58\",TRUE)),\"\",INDIRECT(\"'Voksen \"&A277&\"'!$H$58\",TRUE)),3)","v":{"$error":"#VALUE!"}},{"$f":"COUNTIF(IF(ISERROR(INDIRECT(\"'Voksen \"&A277&\"'!$H$69\",TRUE)),\"\",INDIRECT(\"'Voksen \"&A277&\"'!$H$69\",TRUE)),3)","v":{"$error":"#VALUE!"}},{"$f":"COUNTIF(IF(ISERROR(INDIRECT(\"'Voksen \"&A277&\"'!$H$77\",TRUE)),\"\",INDIRECT(\"'Voksen \"&A277&\"'!$H$77\",TRUE)),3)","v":{"$error":"#VALUE!"}},null,null,{"$f":"COUNTIF(IF(ISERROR(INDIRECT(\"'Børn \"&A277&\"'!$H$31\",TRUE)),\"\",INDIRECT(\"'Børn \"&A277&\"'!$H$31\",TRUE)),3)","v":{"$error":"#VALUE!"}},{"$f":"COUNTIF(IF(ISERROR(INDIRECT(\"'Børn \"&A277&\"'!$H$44\",TRUE)),\"\",INDIRECT(\"'Børn \"&A277&\"'!$H$44\",TRUE)),3)","v":{"$error":"#VALUE!"}},{"$f":"COUNTIF(IF(ISERROR(INDIRECT(\"'Børn \"&A277&\"'!$H$53\",TRUE)),\"\",INDIRECT(\"'Børn \"&A277&\"'!$H$53\",TRUE)),3)","v":{"$error":"#VALUE!"}},{"$f":"COUNTIF(IF(ISERROR(INDIRECT(\"'Børn \"&A277&\"'!$H$61\",TRUE)),\"\",INDIRECT(\"'Børn \"&A277&\"'!$H$61\",TRUE)),3)","v":{"$error":"#VALUE!"}},{"$f":"COUNTIF(IF(ISERROR(INDIRECT(\"'Børn \"&A277&\"'!$H$68\",TRUE)),\"\",INDIRECT(\"'Børn \"&A277&\"'!$H$68\",TRUE)),3)","v":{"$error":"#VALUE!"}},{"$f":"COUNTIF(IF(ISERROR(INDIRECT(\"'Børn \"&A277&\"'!$H$79\",TRUE)),\"\",INDIRECT(\"'Børn \"&A277&\"'!$H$79\",TRUE)),3)","v":{"$error":"#VALUE!"}},{"$f":"COUNTIF(IF(ISERROR(INDIRECT(\"'Børn \"&A277&\"'!$H$87\",TRUE)),\"\",INDIRECT(\"'Børn \"&A277&\"'!$H$87\",TRUE)),3)","v":{"$error":"#VALUE!"}}]
["Tilsyn 73","Status:  grøn",{"$f":"COUNTIF(IF(ISERROR(INDIRECT(\"'Voksen \"&A278&\"'!$H$31\",TRUE)),\"\",INDIRECT(\"'Voksen \"&A278&\"'!$H$31\",TRUE)),1)","v":{"$error":"#VALUE!"}},{"$f":"COUNTIF(IF(ISERROR(INDIRECT(\"'Voksen \"&A278&\"'!$H$41\",TRUE)),\"\",INDIRECT(\"'Voksen \"&A278&\"'!$H$41\",TRUE)),1)","v":{"$error":"#VALUE!"}},{"$f":"COUNTIF(IF(ISERROR(INDIRECT(\"'Voksen \"&A278&\"'!$H$50\",TRUE)),\"\",INDIRECT(\"'Voksen \"&A278&\"'!$H$50\",TRUE)),1)","v":{"$error":"#VALUE!"}},{"$f":"COUNTIF(IF(ISERROR(INDIRECT(\"'Voksen \"&A278&\"'!$H$58\",TRUE)),\"\",INDIRECT(\"'Voksen \"&A278&\"'!$H$58\",TRUE)),1)","v":{"$error":"#VALUE!"}},{"$f":"COUNTIF(IF(ISERROR(INDIRECT(\"'Voksen \"&A278&\"'!$H$69\",TRUE)),\"\",INDIRECT(\"'Voksen \"&A278&\"'!$H$69\",TRUE)),1)","v":{"$error":"#VALUE!"}},{"$f":"COUNTIF(IF(ISERROR(INDIRECT(\"'Voksen \"&A278&\"'!$H$77\",TRUE)),\"\",INDIRECT(\"'Voksen \"&A278&\"'!$H$77\",TRUE)),1)","v":{"$error":"#VALUE!"}},null,null,{"$f":"COUNTIF(IF(ISERROR(INDIRECT(\"'Børn \"&A278&\"'!$H$31\",TRUE)),\"\",INDIRECT(\"'Børn \"&A278&\"'!$H$31\",TRUE)),1)","v":{"$error":"#VALUE!"}},{"$f":"COUNTIF(IF(ISERROR(INDIRECT(\"'Børn \"&A278&\"'!$H$44\",TRUE)),\"\",INDIRECT(\"'Børn \"&A278&\"'!$H$44\",TRUE)),1)","v":{"$error":"#VALUE!"}},{"$f":"COUNTIF(IF(ISERROR(INDIRECT(\"'Børn \"&A278&\"'!$H$53\",TRUE)),\"\",INDIRECT(\"'Børn \"&A278&\"'!$H$53\",TRUE)),1)","v":{"$error":"#VALUE!"}},{"$f":"COUNTIF(IF(ISERROR(INDIRECT(\"'Børn \"&A278&\"'!$H$61\",TRUE)),\"\",INDIRECT(\"'Børn \"&A278&\"'!$H$61\",TRUE)),1)","v":{"$error":"#VALUE!"}},{"$f":"COUNTIF(IF(ISERROR(INDIRECT(\"'Børn \"&A278&\"'!$H$68\",TRUE)),\"\",INDIRECT(\"'Børn \"&A278&\"'!$H$68\",TRUE)),1)","v":{"$error":"#VALUE!"}},{"$f":"COUNTIF(IF(ISERROR(INDIRECT(\"'Børn \"&A278&\"'!$H$79\",TRUE)),\"\",INDIRECT(\"'Børn \"&A278&\"'!$H$79\",TRUE)),1)","v":{"$error":"#VALUE!"}},{"$f":"COUNTIF(IF(ISERROR(INDIRECT(\"'Børn \"&A278&\"'!$H$87\",TRUE)),\"\",INDIRECT(\"'Børn \"&A278&\"'!$H$87\",TRUE)),1)","v":{"$error":"#VALUE!"}}]
["Tilsyn 73","Status:  gul",{"$f":"COUNTIF(IF(ISERROR(INDIRECT(\"'Voksen \"&A279&\"'!$H$31\",TRUE)),\"\",INDIRECT(\"'Voksen \"&A279&\"'!$H$31\",TRUE)),2)","v":{"$error":"#VALUE!"}},{"$f":"COUNTIF(IF(ISERROR(INDIRECT(\"'Voksen \"&A279&\"'!$H$41\",TRUE)),\"\",INDIRECT(\"'Voksen \"&A279&\"'!$H$41\",TRUE)),2)","v":{"$error":"#VALUE!"}},{"$f":"COUNTIF(IF(ISERROR(INDIRECT(\"'Voksen \"&A279&\"'!$H$50\",TRUE)),\"\",INDIRECT(\"'Voksen \"&A279&\"'!$H$50\",TRUE)),2)","v":{"$error":"#VALUE!"}},{"$f":"COUNTIF(IF(ISERROR(INDIRECT(\"'Voksen \"&A279&\"'!$H$58\",TRUE)),\"\",INDIRECT(\"'Voksen \"&A279&\"'!$H$58\",TRUE)),2)","v":{"$error":"#VALUE!"}},{"$f":"COUNTIF(IF(ISERROR(INDIRECT(\"'Voksen \"&A279&\"'!$H$69\",TRUE)),\"\",INDIRECT(\"'Voksen \"&A279&\"'!$H$69\",TRUE)),2)","v":{"$error":"#VALUE!"}},{"$f":"COUNTIF(IF(ISERROR(INDIRECT(\"'Voksen \"&A279&\"'!$H$77\",TRUE)),\"\",INDIRECT(\"'Voksen \"&A279&\"'!$H$77\",TRUE)),2)","v":{"$error":"#VALUE!"}},null,null,{"$f":"COUNTIF(IF(ISERROR(INDIRECT(\"'Børn \"&A279&\"'!$H$31\",TRUE)),\"\",INDIRECT(\"'Børn \"&A279&\"'!$H$31\",TRUE)),2)","v":{"$error":"#VALUE!"}},{"$f":"COUNTIF(IF(ISERROR(INDIRECT(\"'Børn \"&A279&\"'!$H$44\",TRUE)),\"\",INDIRECT(\"'Børn \"&A279&\"'!$H$44\",TRUE)),2)","v":{"$error":"#VALUE!"}},{"$f":"COUNTIF(IF(ISERROR(INDIRECT(\"'Børn \"&A279&\"'!$H$53\",TRUE)),\"\",INDIRECT(\"'Børn \"&A279&\"'!$H$53\",TRUE)),2)","v":{"$error":"#VALUE!"}},{"$f":"COUNTIF(IF(ISERROR(INDIRECT(\"'Børn \"&A279&\"'!$H$61\",TRUE)),\"\",INDIRECT(\"'Børn \"&A279&\"'!$H$61\",TRUE)),2)","v":{"$error":"#VALUE!"}},{"$f":"COUNTIF(IF(ISERROR(INDIRECT(\"'Børn \"&A279&\"'!$H$68\",TRUE)),\"\",INDIRECT(\"'Børn \"&A279&\"'!$H$68\",TRUE)),2)","v":{"$error":"#VALUE!"}},{"$f":"COUNTIF(IF(ISERROR(INDIRECT(\"'Børn \"&A279&\"'!$H$79\",TRUE)),\"\",INDIRECT(\"'Børn \"&A279&\"'!$H$79\",TRUE)),2)","v":{"$error":"#VALUE!"}},{"$f":"COUNTIF(IF(ISERROR(INDIRECT(\"'Børn \"&A279&\"'!$H$87\",TRUE)),\"\",INDIRECT(\"'Børn \"&A279&\"'!$H$87\",TRUE)),2)","v":{"$error":"#VALUE!"}}]
["Tilsyn 73","Status:  rød",{"$f":"COUNTIF(IF(ISERROR(INDIRECT(\"'Voksen \"&A280&\"'!$H$31\",TRUE)),\"\",INDIRECT(\"'Voksen \"&A280&\"'!$H$31\",TRUE)),3)","v":{"$error":"#VALUE!"}},{"$f":"COUNTIF(IF(ISERROR(INDIRECT(\"'Voksen \"&A280&\"'!$H$41\",TRUE)),\"\",INDIRECT(\"'Voksen \"&A280&\"'!$H$41\",TRUE)),3)","v":{"$error":"#VALUE!"}},{"$f":"COUNTIF(IF(ISERROR(INDIRECT(\"'Voksen \"&A280&\"'!$H$50\",TRUE)),\"\",INDIRECT(\"'Voksen \"&A280&\"'!$H$50\",TRUE)),3)","v":{"$error":"#VALUE!"}},{"$f":"COUNTIF(IF(ISERROR(INDIRECT(\"'Voksen \"&A280&\"'!$H$58\",TRUE)),\"\",INDIRECT(\"'Voksen \"&A280&\"'!$H$58\",TRUE)),3)","v":{"$error":"#VALUE!"}},{"$f":"COUNTIF(IF(ISERROR(INDIRECT(\"'Voksen \"&A280&\"'!$H$69\",TRUE)),\"\",INDIRECT(\"'Voksen \"&A280&\"'!$H$69\",TRUE)),3)","v":{"$error":"#VALUE!"}},{"$f":"COUNTIF(IF(ISERROR(INDIRECT(\"'Voksen \"&A280&\"'!$H$77\",TRUE)),\"\",INDIRECT(\"'Voksen \"&A280&\"'!$H$77\",TRUE)),3)","v":{"$error":"#VALUE!"}},null,null,{"$f":"COUNTIF(IF(ISERROR(INDIRECT(\"'Børn \"&A280&\"'!$H$31\",TRUE)),\"\",INDIRECT(\"'Børn \"&A280&\"'!$H$31\",TRUE)),3)","v":{"$error":"#VALUE!"}},{"$f":"COUNTIF(IF(ISERROR(INDIRECT(\"'Børn \"&A280&\"'!$H$44\",TRUE)),\"\",INDIRECT(\"'Børn \"&A280&\"'!$H$44\",TRUE)),3)","v":{"$error":"#VALUE!"}},{"$f":"COUNTIF(IF(ISERROR(INDIRECT(\"'Børn \"&A280&\"'!$H$53\",TRUE)),\"\",INDIRECT(\"'Børn \"&A280&\"'!$H$53\",TRUE)),3)","v":{"$error":"#VALUE!"}},{"$f":"COUNTIF(IF(ISERROR(INDIRECT(\"'Børn \"&A280&\"'!$H$61\",TRUE)),\"\",INDIRECT(\"'Børn \"&A280&\"'!$H$61\",TRUE)),3)","v":{"$error":"#VALUE!"}},{"$f":"COUNTIF(IF(ISERROR(INDIRECT(\"'Børn \"&A280&\"'!$H$68\",TRUE)),\"\",INDIRECT(\"'Børn \"&A280&\"'!$H$68\",TRUE)),3)","v":{"$error":"#VALUE!"}},{"$f":"COUNTIF(IF(ISERROR(INDIRECT(\"'Børn \"&A280&\"'!$H$79\",TRUE)),\"\",INDIRECT(\"'Børn \"&A280&\"'!$H$79\",TRUE)),3)","v":{"$error":"#VALUE!"}},{"$f":"COUNTIF(IF(ISERROR(INDIRECT(\"'Børn \"&A280&\"'!$H$87\",TRUE)),\"\",INDIRECT(\"'Børn \"&A280&\"'!$H$87\",TRUE)),3)","v":{"$error":"#VALUE!"}}]
["Tilsyn 74","Status:  grøn",{"$f":"COUNTIF(IF(ISERROR(INDIRECT(\"'Voksen \"&A281&\"'!$H$31\",TRUE)),\"\",INDIRECT(\"'Voksen \"&A281&\"'!$H$31\",TRUE)),1)","v":{"$error":"#VALUE!"}},{"$f":"COUNTIF(IF(ISERROR(INDIRECT(\"'Voksen \"&A281&\"'!$H$41\",TRUE)),\"\",INDIRECT(\"'Voksen \"&A281&\"'!$H$41\",TRUE)),1)","v":{"$error":"#VALUE!"}},{"$f":"COUNTIF(IF(ISERROR(INDIRECT(\"'Voksen \"&A281&\"'!$H$50\",TRUE)),\"\",INDIRECT(\"'Voksen \"&A281&\"'!$H$50\",TRUE)),1)","v":{"$error":"#VALUE!"}},{"$f":"COUNTIF(IF(ISERROR(INDIRECT(\"'Voksen \"&A281&\"'!$H$58\",TRUE)),\"\",INDIRECT(\"'Voksen \"&A281&\"'!$H$58\",TRUE)),1)","v":{"$error":"#VALUE!"}},{"$f":"COUNTIF(IF(ISERROR(INDIRECT(\"'Voksen \"&A281&\"'!$H$69\",TRUE)),\"\",INDIRECT(\"'Voksen \"&A281&\"'!$H$69\",TRUE)),1)","v":{"$error":"#VALUE!"}},{"$f":"COUNTIF(IF(ISERROR(INDIRECT(\"'Voksen \"&A281&\"'!$H$77\",TRUE)),\"\",INDIRECT(\"'Voksen \"&A281&\"'!$H$77\",TRUE)),1)","v":{"$error":"#VALUE!"}},null,null,{"$f":"COUNTIF(IF(ISERROR(INDIRECT(\"'Børn \"&A281&\"'!$H$31\",TRUE)),\"\",INDIRECT(\"'Børn \"&A281&\"'!$H$31\",TRUE)),1)","v":{"$error":"#VALUE!"}},{"$f":"COUNTIF(IF(ISERROR(INDIRECT(\"'Børn \"&A281&\"'!$H$44\",TRUE)),\"\",INDIRECT(\"'Børn \"&A281&\"'!$H$44\",TRUE)),1)","v":{"$error":"#VALUE!"}},{"$f":"COUNTIF(IF(ISERROR(INDIRECT(\"'Børn \"&A281&\"'!$H$53\",TRUE)),\"\",INDIRECT(\"'Børn \"&A281&\"'!$H$53\",TRUE)),1)","v":{"$error":"#VALUE!"}},{"$f":"COUNTIF(IF(ISERROR(INDIRECT(\"'Børn \"&A281&\"'!$H$61\",TRUE)),\"\",INDIRECT(\"'Børn \"&A281&\"'!$H$61\",TRUE)),1)","v":{"$error":"#VALUE!"}},{"$f":"COUNTIF(IF(ISERROR(INDIRECT(\"'Børn \"&A281&\"'!$H$68\",TRUE)),\"\",INDIRECT(\"'Børn \"&A281&\"'!$H$68\",TRUE)),1)","v":{"$error":"#VALUE!"}},{"$f":"COUNTIF(IF(ISERROR(INDIRECT(\"'Børn \"&A281&\"'!$H$79\",TRUE)),\"\",INDIRECT(\"'Børn \"&A281&\"'!$H$79\",TRUE)),1)","v":{"$error":"#VALUE!"}},{"$f":"COUNTIF(IF(ISERROR(INDIRECT(\"'Børn \"&A281&\"'!$H$87\",TRUE)),\"\",INDIRECT(\"'Børn \"&A281&\"'!$H$87\",TRUE)),1)","v":{"$error":"#VALUE!"}}]
["Tilsyn 74","Status:  gul",{"$f":"COUNTIF(IF(ISERROR(INDIRECT(\"'Voksen \"&A282&\"'!$H$31\",TRUE)),\"\",INDIRECT(\"'Voksen \"&A282&\"'!$H$31\",TRUE)),2)","v":{"$error":"#VALUE!"}},{"$f":"COUNTIF(IF(ISERROR(INDIRECT(\"'Voksen \"&A282&\"'!$H$41\",TRUE)),\"\",INDIRECT(\"'Voksen \"&A282&\"'!$H$41\",TRUE)),2)","v":{"$error":"#VALUE!"}},{"$f":"COUNTIF(IF(ISERROR(INDIRECT(\"'Voksen \"&A282&\"'!$H$50\",TRUE)),\"\",INDIRECT(\"'Voksen \"&A282&\"'!$H$50\",TRUE)),2)","v":{"$error":"#VALUE!"}},{"$f":"COUNTIF(IF(ISERROR(INDIRECT(\"'Voksen \"&A282&\"'!$H$58\",TRUE)),\"\",INDIRECT(\"'Voksen \"&A282&\"'!$H$58\",TRUE)),2)","v":{"$error":"#VALUE!"}},{"$f":"COUNTIF(IF(ISERROR(INDIRECT(\"'Voksen \"&A282&\"'!$H$69\",TRUE)),\"\",INDIRECT(\"'Voksen \"&A282&\"'!$H$69\",TRUE)),2)","v":{"$error":"#VALUE!"}},{"$f":"COUNTIF(IF(ISERROR(INDIRECT(\"'Voksen \"&A282&\"'!$H$77\",TRUE)),\"\",INDIRECT(\"'Voksen \"&A282&\"'!$H$77\",TRUE)),2)","v":{"$error":"#VALUE!"}},null,null,{"$f":"COUNTIF(IF(ISERROR(INDIRECT(\"'Børn \"&A282&\"'!$H$31\",TRUE)),\"\",INDIRECT(\"'Børn \"&A282&\"'!$H$31\",TRUE)),2)","v":{"$error":"#VALUE!"}},{"$f":"COUNTIF(IF(ISERROR(INDIRECT(\"'Børn \"&A282&\"'!$H$44\",TRUE)),\"\",INDIRECT(\"'Børn \"&A282&\"'!$H$44\",TRUE)),2)","v":{"$error":"#VALUE!"}},{"$f":"COUNTIF(IF(ISERROR(INDIRECT(\"'Børn \"&A282&\"'!$H$53\",TRUE)),\"\",INDIRECT(\"'Børn \"&A282&\"'!$H$53\",TRUE)),2)","v":{"$error":"#VALUE!"}},{"$f":"COUNTIF(IF(ISERROR(INDIRECT(\"'Børn \"&A282&\"'!$H$61\",TRUE)),\"\",INDIRECT(\"'Børn \"&A282&\"'!$H$61\",TRUE)),2)","v":{"$error":"#VALUE!"}},{"$f":"COUNTIF(IF(ISERROR(INDIRECT(\"'Børn \"&A282&\"'!$H$68\",TRUE)),\"\",INDIRECT(\"'Børn \"&A282&\"'!$H$68\",TRUE)),2)","v":{"$error":"#VALUE!"}},{"$f":"COUNTIF(IF(ISERROR(INDIRECT(\"'Børn \"&A282&\"'!$H$79\",TRUE)),\"\",INDIRECT(\"'Børn \"&A282&\"'!$H$79\",TRUE)),2)","v":{"$error":"#VALUE!"}},{"$f":"COUNTIF(IF(ISERROR(INDIRECT(\"'Børn \"&A282&\"'!$H$87\",TRUE)),\"\",INDIRECT(\"'Børn \"&A282&\"'!$H$87\",TRUE)),2)","v":{"$error":"#VALUE!"}}]
["Tilsyn 74","Status:  rød",{"$f":"COUNTIF(IF(ISERROR(INDIRECT(\"'Voksen \"&A283&\"'!$H$31\",TRUE)),\"\",INDIRECT(\"'Voksen \"&A283&\"'!$H$31\",TRUE)),3)","v":{"$error":"#VALUE!"}},{"$f":"COUNTIF(IF(ISERROR(INDIRECT(\"'Voksen \"&A283&\"'!$H$41\",TRUE)),\"\",INDIRECT(\"'Voksen \"&A283&\"'!$H$41\",TRUE)),3)","v":{"$error":"#VALUE!"}},{"$f":"COUNTIF(IF(ISERROR(INDIRECT(\"'Voksen \"&A283&\"'!$H$50\",TRUE)),\"\",INDIRECT(\"'Voksen \"&A283&\"'!$H$50\",TRUE)),3)","v":{"$error":"#VALUE!"}},{"$f":"COUNTIF(IF(ISERROR(INDIRECT(\"'Voksen \"&A283&\"'!$H$58\",TRUE)),\"\",INDIRECT(\"'Voksen \"&A283&\"'!$H$58\",TRUE)),3)","v":{"$error":"#VALUE!"}},{"$f":"COUNTIF(IF(ISERROR(INDIRECT(\"'Voksen \"&A283&\"'!$H$69\",TRUE)),\"\",INDIRECT(\"'Voksen \"&A283&\"'!$H$69\",TRUE)),3)","v":{"$error":"#VALUE!"}},{"$f":"COUNTIF(IF(ISERROR(INDIRECT(\"'Voksen \"&A283&\"'!$H$77\",TRUE)),\"\",INDIRECT(\"'Voksen \"&A283&\"'!$H$77\",TRUE)),3)","v":{"$error":"#VALUE!"}},null,null,{"$f":"COUNTIF(IF(ISERROR(INDIRECT(\"'Børn \"&A283&\"'!$H$31\",TRUE)),\"\",INDIRECT(\"'Børn \"&A283&\"'!$H$31\",TRUE)),3)","v":{"$error":"#VALUE!"}},{"$f":"COUNTIF(IF(ISERROR(INDIRECT(\"'Børn \"&A283&\"'!$H$44\",TRUE)),\"\",INDIRECT(\"'Børn \"&A283&\"'!$H$44\",TRUE)),3)","v":{"$error":"#VALUE!"}},{"$f":"COUNTIF(IF(ISERROR(INDIRECT(\"'Børn \"&A283&\"'!$H$53\",TRUE)),\"\",INDIRECT(\"'Børn \"&A283&\"'!$H$53\",TRUE)),3)","v":{"$error":"#VALUE!"}},{"$f":"COUNTIF(IF(ISERROR(INDIRECT(\"'Børn \"&A283&\"'!$H$61\",TRUE)),\"\",INDIRECT(\"'Børn \"&A283&\"'!$H$61\",TRUE)),3)","v":{"$error":"#VALUE!"}},{"$f":"COUNTIF(IF(ISERROR(INDIRECT(\"'Børn \"&A283&\"'!$H$68\",TRUE)),\"\",INDIRECT(\"'Børn \"&A283&\"'!$H$68\",TRUE)),3)","v":{"$error":"#VALUE!"}},{"$f":"COUNTIF(IF(ISERROR(INDIRECT(\"'Børn \"&A283&\"'!$H$79\",TRUE)),\"\",INDIRECT(\"'Børn \"&A283&\"'!$H$79\",TRUE)),3)","v":{"$error":"#VALUE!"}},{"$f":"COUNTIF(IF(ISERROR(INDIRECT(\"'Børn \"&A283&\"'!$H$87\",TRUE)),\"\",INDIRECT(\"'Børn \"&A283&\"'!$H$87\",TRUE)),3)","v":{"$error":"#VALUE!"}}]
["Tilsyn 75","Status:  grøn",{"$f":"COUNTIF(IF(ISERROR(INDIRECT(\"'Voksen \"&A284&\"'!$H$31\",TRUE)),\"\",INDIRECT(\"'Voksen \"&A284&\"'!$H$31\",TRUE)),1)","v":{"$error":"#VALUE!"}},{"$f":"COUNTIF(IF(ISERROR(INDIRECT(\"'Voksen \"&A284&\"'!$H$41\",TRUE)),\"\",INDIRECT(\"'Voksen \"&A284&\"'!$H$41\",TRUE)),1)","v":{"$error":"#VALUE!"}},{"$f":"COUNTIF(IF(ISERROR(INDIRECT(\"'Voksen \"&A284&\"'!$H$50\",TRUE)),\"\",INDIRECT(\"'Voksen \"&A284&\"'!$H$50\",TRUE)),1)","v":{"$error":"#VALUE!"}},{"$f":"COUNTIF(IF(ISERROR(INDIRECT(\"'Voksen \"&A284&\"'!$H$58\",TRUE)),\"\",INDIRECT(\"'Voksen \"&A284&\"'!$H$58\",TRUE)),1)","v":{"$error":"#VALUE!"}},{"$f":"COUNTIF(IF(ISERROR(INDIRECT(\"'Voksen \"&A284&\"'!$H$69\",TRUE)),\"\",INDIRECT(\"'Voksen \"&A284&\"'!$H$69\",TRUE)),1)","v":{"$error":"#VALUE!"}},{"$f":"COUNTIF(IF(ISERROR(INDIRECT(\"'Voksen \"&A284&\"'!$H$77\",TRUE)),\"\",INDIRECT(\"'Voksen \"&A284&\"'!$H$77\",TRUE)),1)","v":{"$error":"#VALUE!"}},null,null,{"$f":"COUNTIF(IF(ISERROR(INDIRECT(\"'Børn \"&A284&\"'!$H$31\",TRUE)),\"\",INDIRECT(\"'Børn \"&A284&\"'!$H$31\",TRUE)),1)","v":{"$error":"#VALUE!"}},{"$f":"COUNTIF(IF(ISERROR(INDIRECT(\"'Børn \"&A284&\"'!$H$44\",TRUE)),\"\",INDIRECT(\"'Børn \"&A284&\"'!$H$44\",TRUE)),1)","v":{"$error":"#VALUE!"}},{"$f":"COUNTIF(IF(ISERROR(INDIRECT(\"'Børn \"&A284&\"'!$H$53\",TRUE)),\"\",INDIRECT(\"'Børn \"&A284&\"'!$H$53\",TRUE)),1)","v":{"$error":"#VALUE!"}},{"$f":"COUNTIF(IF(ISERROR(INDIRECT(\"'Børn \"&A284&\"'!$H$61\",TRUE)),\"\",INDIRECT(\"'Børn \"&A284&\"'!$H$61\",TRUE)),1)","v":{"$error":"#VALUE!"}},{"$f":"COUNTIF(IF(ISERROR(INDIRECT(\"'Børn \"&A284&\"'!$H$68\",TRUE)),\"\",INDIRECT(\"'Børn \"&A284&\"'!$H$68\",TRUE)),1)","v":{"$error":"#VALUE!"}},{"$f":"COUNTIF(IF(ISERROR(INDIRECT(\"'Børn \"&A284&\"'!$H$79\",TRUE)),\"\",INDIRECT(\"'Børn \"&A284&\"'!$H$79\",TRUE)),1)","v":{"$error":"#VALUE!"}},{"$f":"COUNTIF(IF(ISERROR(INDIRECT(\"'Børn \"&A284&\"'!$H$87\",TRUE)),\"\",INDIRECT(\"'Børn \"&A284&\"'!$H$87\",TRUE)),1)","v":{"$error":"#VALUE!"}}]
["Tilsyn 75","Status:  gul",{"$f":"COUNTIF(IF(ISERROR(INDIRECT(\"'Voksen \"&A285&\"'!$H$31\",TRUE)),\"\",INDIRECT(\"'Voksen \"&A285&\"'!$H$31\",TRUE)),2)","v":{"$error":"#VALUE!"}},{"$f":"COUNTIF(IF(ISERROR(INDIRECT(\"'Voksen \"&A285&\"'!$H$41\",TRUE)),\"\",INDIRECT(\"'Voksen \"&A285&\"'!$H$41\",TRUE)),2)","v":{"$error":"#VALUE!"}},{"$f":"COUNTIF(IF(ISERROR(INDIRECT(\"'Voksen \"&A285&\"'!$H$50\",TRUE)),\"\",INDIRECT(\"'Voksen \"&A285&\"'!$H$50\",TRUE)),2)","v":{"$error":"#VALUE!"}},{"$f":"COUNTIF(IF(ISERROR(INDIRECT(\"'Voksen \"&A285&\"'!$H$58\",TRUE)),\"\",INDIRECT(\"'Voksen \"&A285&\"'!$H$58\",TRUE)),2)","v":{"$error":"#VALUE!"}},{"$f":"COUNTIF(IF(ISERROR(INDIRECT(\"'Voksen \"&A285&\"'!$H$69\",TRUE)),\"\",INDIRECT(\"'Voksen \"&A285&\"'!$H$69\",TRUE)),2)","v":{"$error":"#VALUE!"}},{"$f":"COUNTIF(IF(ISERROR(INDIRECT(\"'Voksen \"&A285&\"'!$H$77\",TRUE)),\"\",INDIRECT(\"'Voksen \"&A285&\"'!$H$77\",TRUE)),2)","v":{"$error":"#VALUE!"}},null,null,{"$f":"COUNTIF(IF(ISERROR(INDIRECT(\"'Børn \"&A285&\"'!$H$31\",TRUE)),\"\",INDIRECT(\"'Børn \"&A285&\"'!$H$31\",TRUE)),2)","v":{"$error":"#VALUE!"}},{"$f":"COUNTIF(IF(ISERROR(INDIRECT(\"'Børn \"&A285&\"'!$H$44\",TRUE)),\"\",INDIRECT(\"'Børn \"&A285&\"'!$H$44\",TRUE)),2)","v":{"$error":"#VALUE!"}},{"$f":"COUNTIF(IF(ISERROR(INDIRECT(\"'Børn \"&A285&\"'!$H$53\",TRUE)),\"\",INDIRECT(\"'Børn \"&A285&\"'!$H$53\",TRUE)),2)","v":{"$error":"#VALUE!"}},{"$f":"COUNTIF(IF(ISERROR(INDIRECT(\"'Børn \"&A285&\"'!$H$61\",TRUE)),\"\",INDIRECT(\"'Børn \"&A285&\"'!$H$61\",TRUE)),2)","v":{"$error":"#VALUE!"}},{"$f":"COUNTIF(IF(ISERROR(INDIRECT(\"'Børn \"&A285&\"'!$H$68\",TRUE)),\"\",INDIRECT(\"'Børn \"&A285&\"'!$H$68\",TRUE)),2)","v":{"$error":"#VALUE!"}},{"$f":"COUNTIF(IF(ISERROR(INDIRECT(\"'Børn \"&A285&\"'!$H$79\",TRUE)),\"\",INDIRECT(\"'Børn \"&A285&\"'!$H$79\",TRUE)),2)","v":{"$error":"#VALUE!"}},{"$f":"COUNTIF(IF(ISERROR(INDIRECT(\"'Børn \"&A285&\"'!$H$87\",TRUE)),\"\",INDIRECT(\"'Børn \"&A285&\"'!$H$87\",TRUE)),2)","v":{"$error":"#VALUE!"}}]
["Tilsyn 75","Status:  rød",{"$f":"COUNTIF(IF(ISERROR(INDIRECT(\"'Voksen \"&A286&\"'!$H$31\",TRUE)),\"\",INDIRECT(\"'Voksen \"&A286&\"'!$H$31\",TRUE)),3)","v":{"$error":"#VALUE!"}},{"$f":"COUNTIF(IF(ISERROR(INDIRECT(\"'Voksen \"&A286&\"'!$H$41\",TRUE)),\"\",INDIRECT(\"'Voksen \"&A286&\"'!$H$41\",TRUE)),3)","v":{"$error":"#VALUE!"}},{"$f":"COUNTIF(IF(ISERROR(INDIRECT(\"'Voksen \"&A286&\"'!$H$50\",TRUE)),\"\",INDIRECT(\"'Voksen \"&A286&\"'!$H$50\",TRUE)),3)","v":{"$error":"#VALUE!"}},{"$f":"COUNTIF(IF(ISERROR(INDIRECT(\"'Voksen \"&A286&\"'!$H$58\",TRUE)),\"\",INDIRECT(\"'Voksen \"&A286&\"'!$H$58\",TRUE)),3)","v":{"$error":"#VALUE!"}},{"$f":"COUNTIF(IF(ISERROR(INDIRECT(\"'Voksen \"&A286&\"'!$H$69\",TRUE)),\"\",INDIRECT(\"'Voksen \"&A286&\"'!$H$69\",TRUE)),3)","v":{"$error":"#VALUE!"}},{"$f":"COUNTIF(IF(ISERROR(INDIRECT(\"'Voksen \"&A286&\"'!$H$77\",TRUE)),\"\",INDIRECT(\"'Voksen \"&A286&\"'!$H$77\",TRUE)),3)","v":{"$error":"#VALUE!"}},null,null,{"$f":"COUNTIF(IF(ISERROR(INDIRECT(\"'Børn \"&A286&\"'!$H$31\",TRUE)),\"\",INDIRECT(\"'Børn \"&A286&\"'!$H$31\",TRUE)),3)","v":{"$error":"#VALUE!"}},{"$f":"COUNTIF(IF(ISERROR(INDIRECT(\"'Børn \"&A286&\"'!$H$44\",TRUE)),\"\",INDIRECT(\"'Børn \"&A286&\"'!$H$44\",TRUE)),3)","v":{"$error":"#VALUE!"}},{"$f":"COUNTIF(IF(ISERROR(INDIRECT(\"'Børn \"&A286&\"'!$H$53\",TRUE)),\"\",INDIRECT(\"'Børn \"&A286&\"'!$H$53\",TRUE)),3)","v":{"$error":"#VALUE!"}},{"$f":"COUNTIF(IF(ISERROR(INDIRECT(\"'Børn \"&A286&\"'!$H$61\",TRUE)),\"\",INDIRECT(\"'Børn \"&A286&\"'!$H$61\",TRUE)),3)","v":{"$error":"#VALUE!"}},{"$f":"COUNTIF(IF(ISERROR(INDIRECT(\"'Børn \"&A286&\"'!$H$68\",TRUE)),\"\",INDIRECT(\"'Børn \"&A286&\"'!$H$68\",TRUE)),3)","v":{"$error":"#VALUE!"}},{"$f":"COUNTIF(IF(ISERROR(INDIRECT(\"'Børn \"&A286&\"'!$H$79\",TRUE)),\"\",INDIRECT(\"'Børn \"&A286&\"'!$H$79\",TRUE)),3)","v":{"$error":"#VALUE!"}},{"$f":"COUNTIF(IF(ISERROR(INDIRECT(\"'Børn \"&A286&\"'!$H$87\",TRUE)),\"\",INDIRECT(\"'Børn \"&A286&\"'!$H$87\",TRUE)),3)","v":{"$error":"#VALUE!"}}]
["Tilsyn 76","Status:  grøn",{"$f":"COUNTIF(IF(ISERROR(INDIRECT(\"'Voksen \"&A287&\"'!$H$31\",TRUE)),\"\",INDIRECT(\"'Voksen \"&A287&\"'!$H$31\",TRUE)),1)","v":{"$error":"#VALUE!"}},{"$f":"COUNTIF(IF(ISERROR(INDIRECT(\"'Voksen \"&A287&\"'!$H$41\",TRUE)),\"\",INDIRECT(\"'Voksen \"&A287&\"'!$H$41\",TRUE)),1)","v":{"$error":"#VALUE!"}},{"$f":"COUNTIF(IF(ISERROR(INDIRECT(\"'Voksen \"&A287&\"'!$H$50\",TRUE)),\"\",INDIRECT(\"'Voksen \"&A287&\"'!$H$50\",TRUE)),1)","v":{"$error":"#VALUE!"}},{"$f":"COUNTIF(IF(ISERROR(INDIRECT(\"'Voksen \"&A287&\"'!$H$58\",TRUE)),\"\",INDIRECT(\"'Voksen \"&A287&\"'!$H$58\",TRUE)),1)","v":{"$error":"#VALUE!"}},{"$f":"COUNTIF(IF(ISERROR(INDIRECT(\"'Voksen \"&A287&\"'!$H$69\",TRUE)),\"\",INDIRECT(\"'Voksen \"&A287&\"'!$H$69\",TRUE)),1)","v":{"$error":"#VALUE!"}},{"$f":"COUNTIF(IF(ISERROR(INDIRECT(\"'Voksen \"&A287&\"'!$H$77\",TRUE)),\"\",INDIRECT(\"'Voksen \"&A287&\"'!$H$77\",TRUE)),1)","v":{"$error":"#VALUE!"}},null,null,{"$f":"COUNTIF(IF(ISERROR(INDIRECT(\"'Børn \"&A287&\"'!$H$31\",TRUE)),\"\",INDIRECT(\"'Børn \"&A287&\"'!$H$31\",TRUE)),1)","v":{"$error":"#VALUE!"}},{"$f":"COUNTIF(IF(ISERROR(INDIRECT(\"'Børn \"&A287&\"'!$H$44\",TRUE)),\"\",INDIRECT(\"'Børn \"&A287&\"'!$H$44\",TRUE)),1)","v":{"$error":"#VALUE!"}},{"$f":"COUNTIF(IF(ISERROR(INDIRECT(\"'Børn \"&A287&\"'!$H$53\",TRUE)),\"\",INDIRECT(\"'Børn \"&A287&\"'!$H$53\",TRUE)),1)","v":{"$error":"#VALUE!"}},{"$f":"COUNTIF(IF(ISERROR(INDIRECT(\"'Børn \"&A287&\"'!$H$61\",TRUE)),\"\",INDIRECT(\"'Børn \"&A287&\"'!$H$61\",TRUE)),1)","v":{"$error":"#VALUE!"}},{"$f":"COUNTIF(IF(ISERROR(INDIRECT(\"'Børn \"&A287&\"'!$H$68\",TRUE)),\"\",INDIRECT(\"'Børn \"&A287&\"'!$H$68\",TRUE)),1)","v":{"$error":"#VALUE!"}},{"$f":"COUNTIF(IF(ISERROR(INDIRECT(\"'Børn \"&A287&\"'!$H$79\",TRUE)),\"\",INDIRECT(\"'Børn \"&A287&\"'!$H$79\",TRUE)),1)","v":{"$error":"#VALUE!"}},{"$f":"COUNTIF(IF(ISERROR(INDIRECT(\"'Børn \"&A287&\"'!$H$87\",TRUE)),\"\",INDIRECT(\"'Børn \"&A287&\"'!$H$87\",TRUE)),1)","v":{"$error":"#VALUE!"}}]
["Tilsyn 76","Status:  gul",{"$f":"COUNTIF(IF(ISERROR(INDIRECT(\"'Voksen \"&A288&\"'!$H$31\",TRUE)),\"\",INDIRECT(\"'Voksen \"&A288&\"'!$H$31\",TRUE)),2)","v":{"$error":"#VALUE!"}},{"$f":"COUNTIF(IF(ISERROR(INDIRECT(\"'Voksen \"&A288&\"'!$H$41\",TRUE)),\"\",INDIRECT(\"'Voksen \"&A288&\"'!$H$41\",TRUE)),2)","v":{"$error":"#VALUE!"}},{"$f":"COUNTIF(IF(ISERROR(INDIRECT(\"'Voksen \"&A288&\"'!$H$50\",TRUE)),\"\",INDIRECT(\"'Voksen \"&A288&\"'!$H$50\",TRUE)),2)","v":{"$error":"#VALUE!"}},{"$f":"COUNTIF(IF(ISERROR(INDIRECT(\"'Voksen \"&A288&\"'!$H$58\",TRUE)),\"\",INDIRECT(\"'Voksen \"&A288&\"'!$H$58\",TRUE)),2)","v":{"$error":"#VALUE!"}},{"$f":"COUNTIF(IF(ISERROR(INDIRECT(\"'Voksen \"&A288&\"'!$H$69\",TRUE)),\"\",INDIRECT(\"'Voksen \"&A288&\"'!$H$69\",TRUE)),2)","v":{"$error":"#VALUE!"}},{"$f":"COUNTIF(IF(ISERROR(INDIRECT(\"'Voksen \"&A288&\"'!$H$77\",TRUE)),\"\",INDIRECT(\"'Voksen \"&A288&\"'!$H$77\",TRUE)),2)","v":{"$error":"#VALUE!"}},null,null,{"$f":"COUNTIF(IF(ISERROR(INDIRECT(\"'Børn \"&A288&\"'!$H$31\",TRUE)),\"\",INDIRECT(\"'Børn \"&A288&\"'!$H$31\",TRUE)),2)","v":{"$error":"#VALUE!"}},{"$f":"COUNTIF(IF(ISERROR(INDIRECT(\"'Børn \"&A288&\"'!$H$44\",TRUE)),\"\",INDIRECT(\"'Børn \"&A288&\"'!$H$44\",TRUE)),2)","v":{"$error":"#VALUE!"}},{"$f":"COUNTIF(IF(ISERROR(INDIRECT(\"'Børn \"&A288&\"'!$H$53\",TRUE)),\"\",INDIRECT(\"'Børn \"&A288&\"'!$H$53\",TRUE)),2)","v":{"$error":"#VALUE!"}},{"$f":"COUNTIF(IF(ISERROR(INDIRECT(\"'Børn \"&A288&\"'!$H$61\",TRUE)),\"\",INDIRECT(\"'Børn \"&A288&\"'!$H$61\",TRUE)),2)","v":{"$error":"#VALUE!"}},{"$f":"COUNTIF(IF(ISERROR(INDIRECT(\"'Børn \"&A288&\"'!$H$68\",TRUE)),\"\",INDIRECT(\"'Børn \"&A288&\"'!$H$68\",TRUE)),2)","v":{"$error":"#VALUE!"}},{"$f":"COUNTIF(IF(ISERROR(INDIRECT(\"'Børn \"&A288&\"'!$H$79\",TRUE)),\"\",INDIRECT(\"'Børn \"&A288&\"'!$H$79\",TRUE)),2)","v":{"$error":"#VALUE!"}},{"$f":"COUNTIF(IF(ISERROR(INDIRECT(\"'Børn \"&A288&\"'!$H$87\",TRUE)),\"\",INDIRECT(\"'Børn \"&A288&\"'!$H$87\",TRUE)),2)","v":{"$error":"#VALUE!"}}]
["Tilsyn 76","Status:  rød",{"$f":"COUNTIF(IF(ISERROR(INDIRECT(\"'Voksen \"&A289&\"'!$H$31\",TRUE)),\"\",INDIRECT(\"'Voksen \"&A289&\"'!$H$31\",TRUE)),3)","v":{"$error":"#VALUE!"}},{"$f":"COUNTIF(IF(ISERROR(INDIRECT(\"'Voksen \"&A289&\"'!$H$41\",TRUE)),\"\",INDIRECT(\"'Voksen \"&A289&\"'!$H$41\",TRUE)),3)","v":{"$error":"#VALUE!"}},{"$f":"COUNTIF(IF(ISERROR(INDIRECT(\"'Voksen \"&A289&\"'!$H$50\",TRUE)),\"\",INDIRECT(\"'Voksen \"&A289&\"'!$H$50\",TRUE)),3)","v":{"$error":"#VALUE!"}},{"$f":"COUNTIF(IF(ISERROR(INDIRECT(\"'Voksen \"&A289&\"'!$H$58\",TRUE)),\"\",INDIRECT(\"'Voksen \"&A289&\"'!$H$58\",TRUE)),3)","v":{"$error":"#VALUE!"}},{"$f":"COUNTIF(IF(ISERROR(INDIRECT(\"'Voksen \"&A289&\"'!$H$69\",TRUE)),\"\",INDIRECT(\"'Voksen \"&A289&\"'!$H$69\",TRUE)),3)","v":{"$error":"#VALUE!"}},{"$f":"COUNTIF(IF(ISERROR(INDIRECT(\"'Voksen \"&A289&\"'!$H$77\",TRUE)),\"\",INDIRECT(\"'Voksen \"&A289&\"'!$H$77\",TRUE)),3)","v":{"$error":"#VALUE!"}},null,null,{"$f":"COUNTIF(IF(ISERROR(INDIRECT(\"'Børn \"&A289&\"'!$H$31\",TRUE)),\"\",INDIRECT(\"'Børn \"&A289&\"'!$H$31\",TRUE)),3)","v":{"$error":"#VALUE!"}},{"$f":"COUNTIF(IF(ISERROR(INDIRECT(\"'Børn \"&A289&\"'!$H$44\",TRUE)),\"\",INDIRECT(\"'Børn \"&A289&\"'!$H$44\",TRUE)),3)","v":{"$error":"#VALUE!"}},{"$f":"COUNTIF(IF(ISERROR(INDIRECT(\"'Børn \"&A289&\"'!$H$53\",TRUE)),\"\",INDIRECT(\"'Børn \"&A289&\"'!$H$53\",TRUE)),3)","v":{"$error":"#VALUE!"}},{"$f":"COUNTIF(IF(ISERROR(INDIRECT(\"'Børn \"&A289&\"'!$H$61\",TRUE)),\"\",INDIRECT(\"'Børn \"&A289&\"'!$H$61\",TRUE)),3)","v":{"$error":"#VALUE!"}},{"$f":"COUNTIF(IF(ISERROR(INDIRECT(\"'Børn \"&A289&\"'!$H$68\",TRUE)),\"\",INDIRECT(\"'Børn \"&A289&\"'!$H$68\",TRUE)),3)","v":{"$error":"#VALUE!"}},{"$f":"COUNTIF(IF(ISERROR(INDIRECT(\"'Børn \"&A289&\"'!$H$79\",TRUE)),\"\",INDIRECT(\"'Børn \"&A289&\"'!$H$79\",TRUE)),3)","v":{"$error":"#VALUE!"}},{"$f":"COUNTIF(IF(ISERROR(INDIRECT(\"'Børn \"&A289&\"'!$H$87\",TRUE)),\"\",INDIRECT(\"'Børn \"&A289&\"'!$H$87\",TRUE)),3)","v":{"$error":"#VALUE!"}}]
["Tilsyn 77","Status:  grøn",{"$f":"COUNTIF(IF(ISERROR(INDIRECT(\"'Voksen \"&A290&\"'!$H$31\",TRUE)),\"\",INDIRECT(\"'Voksen \"&A290&\"'!$H$31\",TRUE)),1)","v":{"$error":"#VALUE!"}},{"$f":"COUNTIF(IF(ISERROR(INDIRECT(\"'Voksen \"&A290&\"'!$H$41\",TRUE)),\"\",INDIRECT(\"'Voksen \"&A290&\"'!$H$41\",TRUE)),1)","v":{"$error":"#VALUE!"}},{"$f":"COUNTIF(IF(ISERROR(INDIRECT(\"'Voksen \"&A290&\"'!$H$50\",TRUE)),\"\",INDIRECT(\"'Voksen \"&A290&\"'!$H$50\",TRUE)),1)","v":{"$error":"#VALUE!"}},{"$f":"COUNTIF(IF(ISERROR(INDIRECT(\"'Voksen \"&A290&\"'!$H$58\",TRUE)),\"\",INDIRECT(\"'Voksen \"&A290&\"'!$H$58\",TRUE)),1)","v":{"$error":"#VALUE!"}},{"$f":"COUNTIF(IF(ISERROR(INDIRECT(\"'Voksen \"&A290&\"'!$H$69\",TRUE)),\"\",INDIRECT(\"'Voksen \"&A290&\"'!$H$69\",TRUE)),1)","v":{"$error":"#VALUE!"}},{"$f":"COUNTIF(IF(ISERROR(INDIRECT(\"'Voksen \"&A290&\"'!$H$77\",TRUE)),\"\",INDIRECT(\"'Voksen \"&A290&\"'!$H$77\",TRUE)),1)","v":{"$error":"#VALUE!"}},null,null,{"$f":"COUNTIF(IF(ISERROR(INDIRECT(\"'Børn \"&A290&\"'!$H$31\",TRUE)),\"\",INDIRECT(\"'Børn \"&A290&\"'!$H$31\",TRUE)),1)","v":{"$error":"#VALUE!"}},{"$f":"COUNTIF(IF(ISERROR(INDIRECT(\"'Børn \"&A290&\"'!$H$44\",TRUE)),\"\",INDIRECT(\"'Børn \"&A290&\"'!$H$44\",TRUE)),1)","v":{"$error":"#VALUE!"}},{"$f":"COUNTIF(IF(ISERROR(INDIRECT(\"'Børn \"&A290&\"'!$H$53\",TRUE)),\"\",INDIRECT(\"'Børn \"&A290&\"'!$H$53\",TRUE)),1)","v":{"$error":"#VALUE!"}},{"$f":"COUNTIF(IF(ISERROR(INDIRECT(\"'Børn \"&A290&\"'!$H$61\",TRUE)),\"\",INDIRECT(\"'Børn \"&A290&\"'!$H$61\",TRUE)),1)","v":{"$error":"#VALUE!"}},{"$f":"COUNTIF(IF(ISERROR(INDIRECT(\"'Børn \"&A290&\"'!$H$68\",TRUE)),\"\",INDIRECT(\"'Børn \"&A290&\"'!$H$68\",TRUE)),1)","v":{"$error":"#VALUE!"}},{"$f":"COUNTIF(IF(ISERROR(INDIRECT(\"'Børn \"&A290&\"'!$H$79\",TRUE)),\"\",INDIRECT(\"'Børn \"&A290&\"'!$H$79\",TRUE)),1)","v":{"$error":"#VALUE!"}},{"$f":"COUNTIF(IF(ISERROR(INDIRECT(\"'Børn \"&A290&\"'!$H$87\",TRUE)),\"\",INDIRECT(\"'Børn \"&A290&\"'!$H$87\",TRUE)),1)","v":{"$error":"#VALUE!"}}]
["Tilsyn 77","Status:  gul",{"$f":"COUNTIF(IF(ISERROR(INDIRECT(\"'Voksen \"&A291&\"'!$H$31\",TRUE)),\"\",INDIRECT(\"'Voksen \"&A291&\"'!$H$31\",TRUE)),2)","v":{"$error":"#VALUE!"}},{"$f":"COUNTIF(IF(ISERROR(INDIRECT(\"'Voksen \"&A291&\"'!$H$41\",TRUE)),\"\",INDIRECT(\"'Voksen \"&A291&\"'!$H$41\",TRUE)),2)","v":{"$error":"#VALUE!"}},{"$f":"COUNTIF(IF(ISERROR(INDIRECT(\"'Voksen \"&A291&\"'!$H$50\",TRUE)),\"\",INDIRECT(\"'Voksen \"&A291&\"'!$H$50\",TRUE)),2)","v":{"$error":"#VALUE!"}},{"$f":"COUNTIF(IF(ISERROR(INDIRECT(\"'Voksen \"&A291&\"'!$H$58\",TRUE)),\"\",INDIRECT(\"'Voksen \"&A291&\"'!$H$58\",TRUE)),2)","v":{"$error":"#VALUE!"}},{"$f":"COUNTIF(IF(ISERROR(INDIRECT(\"'Voksen \"&A291&\"'!$H$69\",TRUE)),\"\",INDIRECT(\"'Voksen \"&A291&\"'!$H$69\",TRUE)),2)","v":{"$error":"#VALUE!"}},{"$f":"COUNTIF(IF(ISERROR(INDIRECT(\"'Voksen \"&A291&\"'!$H$77\",TRUE)),\"\",INDIRECT(\"'Voksen \"&A291&\"'!$H$77\",TRUE)),2)","v":{"$error":"#VALUE!"}},null,null,{"$f":"COUNTIF(IF(ISERROR(INDIRECT(\"'Børn \"&A291&\"'!$H$31\",TRUE)),\"\",INDIRECT(\"'Børn \"&A291&\"'!$H$31\",TRUE)),2)","v":{"$error":"#VALUE!"}},{"$f":"COUNTIF(IF(ISERROR(INDIRECT(\"'Børn \"&A291&\"'!$H$44\",TRUE)),\"\",INDIRECT(\"'Børn \"&A291&\"'!$H$44\",TRUE)),2)","v":{"$error":"#VALUE!"}},{"$f":"COUNTIF(IF(ISERROR(INDIRECT(\"'Børn \"&A291&\"'!$H$53\",TRUE)),\"\",INDIRECT(\"'Børn \"&A291&\"'!$H$53\",TRUE)),2)","v":{"$error":"#VALUE!"}},{"$f":"COUNTIF(IF(ISERROR(INDIRECT(\"'Børn \"&A291&\"'!$H$61\",TRUE)),\"\",INDIRECT(\"'Børn \"&A291&\"'!$H$61\",TRUE)),2)","v":{"$error":"#VALUE!"}},{"$f":"COUNTIF(IF(ISERROR(INDIRECT(\"'Børn \"&A291&\"'!$H$68\",TRUE)),\"\",INDIRECT(\"'Børn \"&A291&\"'!$H$68\",TRUE)),2)","v":{"$error":"#VALUE!"}},{"$f":"COUNTIF(IF(ISERROR(INDIRECT(\"'Børn \"&A291&\"'!$H$79\",TRUE)),\"\",INDIRECT(\"'Børn \"&A291&\"'!$H$79\",TRUE)),2)","v":{"$error":"#VALUE!"}},{"$f":"COUNTIF(IF(ISERROR(INDIRECT(\"'Børn \"&A291&\"'!$H$87\",TRUE)),\"\",INDIRECT(\"'Børn \"&A291&\"'!$H$87\",TRUE)),2)","v":{"$error":"#VALUE!"}}]
["Tilsyn 77","Status:  rød",{"$f":"COUNTIF(IF(ISERROR(INDIRECT(\"'Voksen \"&A292&\"'!$H$31\",TRUE)),\"\",INDIRECT(\"'Voksen \"&A292&\"'!$H$31\",TRUE)),3)","v":{"$error":"#VALUE!"}},{"$f":"COUNTIF(IF(ISERROR(INDIRECT(\"'Voksen \"&A292&\"'!$H$41\",TRUE)),\"\",INDIRECT(\"'Voksen \"&A292&\"'!$H$41\",TRUE)),3)","v":{"$error":"#VALUE!"}},{"$f":"COUNTIF(IF(ISERROR(INDIRECT(\"'Voksen \"&A292&\"'!$H$50\",TRUE)),\"\",INDIRECT(\"'Voksen \"&A292&\"'!$H$50\",TRUE)),3)","v":{"$error":"#VALUE!"}},{"$f":"COUNTIF(IF(ISERROR(INDIRECT(\"'Voksen \"&A292&\"'!$H$58\",TRUE)),\"\",INDIRECT(\"'Voksen \"&A292&\"'!$H$58\",TRUE)),3)","v":{"$error":"#VALUE!"}},{"$f":"COUNTIF(IF(ISERROR(INDIRECT(\"'Voksen \"&A292&\"'!$H$69\",TRUE)),\"\",INDIRECT(\"'Voksen \"&A292&\"'!$H$69\",TRUE)),3)","v":{"$error":"#VALUE!"}},{"$f":"COUNTIF(IF(ISERROR(INDIRECT(\"'Voksen \"&A292&\"'!$H$77\",TRUE)),\"\",INDIRECT(\"'Voksen \"&A292&\"'!$H$77\",TRUE)),3)","v":{"$error":"#VALUE!"}},null,null,{"$f":"COUNTIF(IF(ISERROR(INDIRECT(\"'Børn \"&A292&\"'!$H$31\",TRUE)),\"\",INDIRECT(\"'Børn \"&A292&\"'!$H$31\",TRUE)),3)","v":{"$error":"#VALUE!"}},{"$f":"COUNTIF(IF(ISERROR(INDIRECT(\"'Børn \"&A292&\"'!$H$44\",TRUE)),\"\",INDIRECT(\"'Børn \"&A292&\"'!$H$44\",TRUE)),3)","v":{"$error":"#VALUE!"}},{"$f":"COUNTIF(IF(ISERROR(INDIRECT(\"'Børn \"&A292&\"'!$H$53\",TRUE)),\"\",INDIRECT(\"'Børn \"&A292&\"'!$H$53\",TRUE)),3)","v":{"$error":"#VALUE!"}},{"$f":"COUNTIF(IF(ISERROR(INDIRECT(\"'Børn \"&A292&\"'!$H$61\",TRUE)),\"\",INDIRECT(\"'Børn \"&A292&\"'!$H$61\",TRUE)),3)","v":{"$error":"#VALUE!"}},{"$f":"COUNTIF(IF(ISERROR(INDIRECT(\"'Børn \"&A292&\"'!$H$68\",TRUE)),\"\",INDIRECT(\"'Børn \"&A292&\"'!$H$68\",TRUE)),3)","v":{"$error":"#VALUE!"}},{"$f":"COUNTIF(IF(ISERROR(INDIRECT(\"'Børn \"&A292&\"'!$H$79\",TRUE)),\"\",INDIRECT(\"'Børn \"&A292&\"'!$H$79\",TRUE)),3)","v":{"$error":"#VALUE!"}},{"$f":"COUNTIF(IF(ISERROR(INDIRECT(\"'Børn \"&A292&\"'!$H$87\",TRUE)),\"\",INDIRECT(\"'Børn \"&A292&\"'!$H$87\",TRUE)),3)","v":{"$error":"#VALUE!"}}]
["Tilsyn 78","Status:  grøn",{"$f":"COUNTIF(IF(ISERROR(INDIRECT(\"'Voksen \"&A293&\"'!$H$31\",TRUE)),\"\",INDIRECT(\"'Voksen \"&A293&\"'!$H$31\",TRUE)),1)","v":{"$error":"#VALUE!"}},{"$f":"COUNTIF(IF(ISERROR(INDIRECT(\"'Voksen \"&A293&\"'!$H$41\",TRUE)),\"\",INDIRECT(\"'Voksen \"&A293&\"'!$H$41\",TRUE)),1)","v":{"$error":"#VALUE!"}},{"$f":"COUNTIF(IF(ISERROR(INDIRECT(\"'Voksen \"&A293&\"'!$H$50\",TRUE)),\"\",INDIRECT(\"'Voksen \"&A293&\"'!$H$50\",TRUE)),1)","v":{"$error":"#VALUE!"}},{"$f":"COUNTIF(IF(ISERROR(INDIRECT(\"'Voksen \"&A293&\"'!$H$58\",TRUE)),\"\",INDIRECT(\"'Voksen \"&A293&\"'!$H$58\",TRUE)),1)","v":{"$error":"#VALUE!"}},{"$f":"COUNTIF(IF(ISERROR(INDIRECT(\"'Voksen \"&A293&\"'!$H$69\",TRUE)),\"\",INDIRECT(\"'Voksen \"&A293&\"'!$H$69\",TRUE)),1)","v":{"$error":"#VALUE!"}},{"$f":"COUNTIF(IF(ISERROR(INDIRECT(\"'Voksen \"&A293&\"'!$H$77\",TRUE)),\"\",INDIRECT(\"'Voksen \"&A293&\"'!$H$77\",TRUE)),1)","v":{"$error":"#VALUE!"}},null,null,{"$f":"COUNTIF(IF(ISERROR(INDIRECT(\"'Børn \"&A293&\"'!$H$31\",TRUE)),\"\",INDIRECT(\"'Børn \"&A293&\"'!$H$31\",TRUE)),1)","v":{"$error":"#VALUE!"}},{"$f":"COUNTIF(IF(ISERROR(INDIRECT(\"'Børn \"&A293&\"'!$H$44\",TRUE)),\"\",INDIRECT(\"'Børn \"&A293&\"'!$H$44\",TRUE)),1)","v":{"$error":"#VALUE!"}},{"$f":"COUNTIF(IF(ISERROR(INDIRECT(\"'Børn \"&A293&\"'!$H$53\",TRUE)),\"\",INDIRECT(\"'Børn \"&A293&\"'!$H$53\",TRUE)),1)","v":{"$error":"#VALUE!"}},{"$f":"COUNTIF(IF(ISERROR(INDIRECT(\"'Børn \"&A293&\"'!$H$61\",TRUE)),\"\",INDIRECT(\"'Børn \"&A293&\"'!$H$61\",TRUE)),1)","v":{"$error":"#VALUE!"}},{"$f":"COUNTIF(IF(ISERROR(INDIRECT(\"'Børn \"&A293&\"'!$H$68\",TRUE)),\"\",INDIRECT(\"'Børn \"&A293&\"'!$H$68\",TRUE)),1)","v":{"$error":"#VALUE!"}},{"$f":"COUNTIF(IF(ISERROR(INDIRECT(\"'Børn \"&A293&\"'!$H$79\",TRUE)),\"\",INDIRECT(\"'Børn \"&A293&\"'!$H$79\",TRUE)),1)","v":{"$error":"#VALUE!"}},{"$f":"COUNTIF(IF(ISERROR(INDIRECT(\"'Børn \"&A293&\"'!$H$87\",TRUE)),\"\",INDIRECT(\"'Børn \"&A293&\"'!$H$87\",TRUE)),1)","v":{"$error":"#VALUE!"}}]
["Tilsyn 78","Status:  gul",{"$f":"COUNTIF(IF(ISERROR(INDIRECT(\"'Voksen \"&A294&\"'!$H$31\",TRUE)),\"\",INDIRECT(\"'Voksen \"&A294&\"'!$H$31\",TRUE)),2)","v":{"$error":"#VALUE!"}},{"$f":"COUNTIF(IF(ISERROR(INDIRECT(\"'Voksen \"&A294&\"'!$H$41\",TRUE)),\"\",INDIRECT(\"'Voksen \"&A294&\"'!$H$41\",TRUE)),2)","v":{"$error":"#VALUE!"}},{"$f":"COUNTIF(IF(ISERROR(INDIRECT(\"'Voksen \"&A294&\"'!$H$50\",TRUE)),\"\",INDIRECT(\"'Voksen \"&A294&\"'!$H$50\",TRUE)),2)","v":{"$error":"#VALUE!"}},{"$f":"COUNTIF(IF(ISERROR(INDIRECT(\"'Voksen \"&A294&\"'!$H$58\",TRUE)),\"\",INDIRECT(\"'Voksen \"&A294&\"'!$H$58\",TRUE)),2)","v":{"$error":"#VALUE!"}},{"$f":"COUNTIF(IF(ISERROR(INDIRECT(\"'Voksen \"&A294&\"'!$H$69\",TRUE)),\"\",INDIRECT(\"'Voksen \"&A294&\"'!$H$69\",TRUE)),2)","v":{"$error":"#VALUE!"}},{"$f":"COUNTIF(IF(ISERROR(INDIRECT(\"'Voksen \"&A294&\"'!$H$77\",TRUE)),\"\",INDIRECT(\"'Voksen \"&A294&\"'!$H$77\",TRUE)),2)","v":{"$error":"#VALUE!"}},null,null,{"$f":"COUNTIF(IF(ISERROR(INDIRECT(\"'Børn \"&A294&\"'!$H$31\",TRUE)),\"\",INDIRECT(\"'Børn \"&A294&\"'!$H$31\",TRUE)),2)","v":{"$error":"#VALUE!"}},{"$f":"COUNTIF(IF(ISERROR(INDIRECT(\"'Børn \"&A294&\"'!$H$44\",TRUE)),\"\",INDIRECT(\"'Børn \"&A294&\"'!$H$44\",TRUE)),2)","v":{"$error":"#VALUE!"}},{"$f":"COUNTIF(IF(ISERROR(INDIRECT(\"'Børn \"&A294&\"'!$H$53\",TRUE)),\"\",INDIRECT(\"'Børn \"&A294&\"'!$H$53\",TRUE)),2)","v":{"$error":"#VALUE!"}},{"$f":"COUNTIF(IF(ISERROR(INDIRECT(\"'Børn \"&A294&\"'!$H$61\",TRUE)),\"\",INDIRECT(\"'Børn \"&A294&\"'!$H$61\",TRUE)),2)","v":{"$error":"#VALUE!"}},{"$f":"COUNTIF(IF(ISERROR(INDIRECT(\"'Børn \"&A294&\"'!$H$68\",TRUE)),\"\",INDIRECT(\"'Børn \"&A294&\"'!$H$68\",TRUE)),2)","v":{"$error":"#VALUE!"}},{"$f":"COUNTIF(IF(ISERROR(INDIRECT(\"'Børn \"&A294&\"'!$H$79\",TRUE)),\"\",INDIRECT(\"'Børn \"&A294&\"'!$H$79\",TRUE)),2)","v":{"$error":"#VALUE!"}},{"$f":"COUNTIF(IF(ISERROR(INDIRECT(\"'Børn \"&A294&\"'!$H$87\",TRUE)),\"\",INDIRECT(\"'Børn \"&A294&\"'!$H$87\",TRUE)),2)","v":{"$error":"#VALUE!"}}]
["Tilsyn 78","Status:  rød",{"$f":"COUNTIF(IF(ISERROR(INDIRECT(\"'Voksen \"&A295&\"'!$H$31\",TRUE)),\"\",INDIRECT(\"'Voksen \"&A295&\"'!$H$31\",TRUE)),3)","v":{"$error":"#VALUE!"}},{"$f":"COUNTIF(IF(ISERROR(INDIRECT(\"'Voksen \"&A295&\"'!$H$41\",TRUE)),\"\",INDIRECT(\"'Voksen \"&A295&\"'!$H$41\",TRUE)),3)","v":{"$error":"#VALUE!"}},{"$f":"COUNTIF(IF(ISERROR(INDIRECT(\"'Voksen \"&A295&\"'!$H$50\",TRUE)),\"\",INDIRECT(\"'Voksen \"&A295&\"'!$H$50\",TRUE)),3)","v":{"$error":"#VALUE!"}},{"$f":"COUNTIF(IF(ISERROR(INDIRECT(\"'Voksen \"&A295&\"'!$H$58\",TRUE)),\"\",INDIRECT(\"'Voksen \"&A295&\"'!$H$58\",TRUE)),3)","v":{"$error":"#VALUE!"}},{"$f":"COUNTIF(IF(ISERROR(INDIRECT(\"'Voksen \"&A295&\"'!$H$69\",TRUE)),\"\",INDIRECT(\"'Voksen \"&A295&\"'!$H$69\",TRUE)),3)","v":{"$error":"#VALUE!"}},{"$f":"COUNTIF(IF(ISERROR(INDIRECT(\"'Voksen \"&A295&\"'!$H$77\",TRUE)),\"\",INDIRECT(\"'Voksen \"&A295&\"'!$H$77\",TRUE)),3)","v":{"$error":"#VALUE!"}},null,null,{"$f":"COUNTIF(IF(ISERROR(INDIRECT(\"'Børn \"&A295&\"'!$H$31\",TRUE)),\"\",INDIRECT(\"'Børn \"&A295&\"'!$H$31\",TRUE)),3)","v":{"$error":"#VALUE!"}},{"$f":"COUNTIF(IF(ISERROR(INDIRECT(\"'Børn \"&A295&\"'!$H$44\",TRUE)),\"\",INDIRECT(\"'Børn \"&A295&\"'!$H$44\",TRUE)),3)","v":{"$error":"#VALUE!"}},{"$f":"COUNTIF(IF(ISERROR(INDIRECT(\"'Børn \"&A295&\"'!$H$53\",TRUE)),\"\",INDIRECT(\"'Børn \"&A295&\"'!$H$53\",TRUE)),3)","v":{"$error":"#VALUE!"}},{"$f":"COUNTIF(IF(ISERROR(INDIRECT(\"'Børn \"&A295&\"'!$H$61\",TRUE)),\"\",INDIRECT(\"'Børn \"&A295&\"'!$H$61\",TRUE)),3)","v":{"$error":"#VALUE!"}},{"$f":"COUNTIF(IF(ISERROR(INDIRECT(\"'Børn \"&A295&\"'!$H$68\",TRUE)),\"\",INDIRECT(\"'Børn \"&A295&\"'!$H$68\",TRUE)),3)","v":{"$error":"#VALUE!"}},{"$f":"COUNTIF(IF(ISERROR(INDIRECT(\"'Børn \"&A295&\"'!$H$79\",TRUE)),\"\",INDIRECT(\"'Børn \"&A295&\"'!$H$79\",TRUE)),3)","v":{"$error":"#VALUE!"}},{"$f":"COUNTIF(IF(ISERROR(INDIRECT(\"'Børn \"&A295&\"'!$H$87\",TRUE)),\"\",INDIRECT(\"'Børn \"&A295&\"'!$H$87\",TRUE)),3)","v":{"$error":"#VALUE!"}}]
["Tilsyn 79","Status:  grøn",{"$f":"COUNTIF(IF(ISERROR(INDIRECT(\"'Voksen \"&A296&\"'!$H$31\",TRUE)),\"\",INDIRECT(\"'Voksen \"&A296&\"'!$H$31\",TRUE)),1)","v":{"$error":"#VALUE!"}},{"$f":"COUNTIF(IF(ISERROR(INDIRECT(\"'Voksen \"&A296&\"'!$H$41\",TRUE)),\"\",INDIRECT(\"'Voksen \"&A296&\"'!$H$41\",TRUE)),1)","v":{"$error":"#VALUE!"}},{"$f":"COUNTIF(IF(ISERROR(INDIRECT(\"'Voksen \"&A296&\"'!$H$50\",TRUE)),\"\",INDIRECT(\"'Voksen \"&A296&\"'!$H$50\",TRUE)),1)","v":{"$error":"#VALUE!"}},{"$f":"COUNTIF(IF(ISERROR(INDIRECT(\"'Voksen \"&A296&\"'!$H$58\",TRUE)),\"\",INDIRECT(\"'Voksen \"&A296&\"'!$H$58\",TRUE)),1)","v":{"$error":"#VALUE!"}},{"$f":"COUNTIF(IF(ISERROR(INDIRECT(\"'Voksen \"&A296&\"'!$H$69\",TRUE)),\"\",INDIRECT(\"'Voksen \"&A296&\"'!$H$69\",TRUE)),1)","v":{"$error":"#VALUE!"}},{"$f":"COUNTIF(IF(ISERROR(INDIRECT(\"'Voksen \"&A296&\"'!$H$77\",TRUE)),\"\",INDIRECT(\"'Voksen \"&A296&\"'!$H$77\",TRUE)),1)","v":{"$error":"#VALUE!"}},null,null,{"$f":"COUNTIF(IF(ISERROR(INDIRECT(\"'Børn \"&A296&\"'!$H$31\",TRUE)),\"\",INDIRECT(\"'Børn \"&A296&\"'!$H$31\",TRUE)),1)","v":{"$error":"#VALUE!"}},{"$f":"COUNTIF(IF(ISERROR(INDIRECT(\"'Børn \"&A296&\"'!$H$44\",TRUE)),\"\",INDIRECT(\"'Børn \"&A296&\"'!$H$44\",TRUE)),1)","v":{"$error":"#VALUE!"}},{"$f":"COUNTIF(IF(ISERROR(INDIRECT(\"'Børn \"&A296&\"'!$H$53\",TRUE)),\"\",INDIRECT(\"'Børn \"&A296&\"'!$H$53\",TRUE)),1)","v":{"$error":"#VALUE!"}},{"$f":"COUNTIF(IF(ISERROR(INDIRECT(\"'Børn \"&A296&\"'!$H$61\",TRUE)),\"\",INDIRECT(\"'Børn \"&A296&\"'!$H$61\",TRUE)),1)","v":{"$error":"#VALUE!"}},{"$f":"COUNTIF(IF(ISERROR(INDIRECT(\"'Børn \"&A296&\"'!$H$68\",TRUE)),\"\",INDIRECT(\"'Børn \"&A296&\"'!$H$68\",TRUE)),1)","v":{"$error":"#VALUE!"}},{"$f":"COUNTIF(IF(ISERROR(INDIRECT(\"'Børn \"&A296&\"'!$H$79\",TRUE)),\"\",INDIRECT(\"'Børn \"&A296&\"'!$H$79\",TRUE)),1)","v":{"$error":"#VALUE!"}},{"$f":"COUNTIF(IF(ISERROR(INDIRECT(\"'Børn \"&A296&\"'!$H$87\",TRUE)),\"\",INDIRECT(\"'Børn \"&A296&\"'!$H$87\",TRUE)),1)","v":{"$error":"#VALUE!"}}]
["Tilsyn 79","Status:  gul",{"$f":"COUNTIF(IF(ISERROR(INDIRECT(\"'Voksen \"&A297&\"'!$H$31\",TRUE)),\"\",INDIRECT(\"'Voksen \"&A297&\"'!$H$31\",TRUE)),2)","v":{"$error":"#VALUE!"}},{"$f":"COUNTIF(IF(ISERROR(INDIRECT(\"'Voksen \"&A297&\"'!$H$41\",TRUE)),\"\",INDIRECT(\"'Voksen \"&A297&\"'!$H$41\",TRUE)),2)","v":{"$error":"#VALUE!"}},{"$f":"COUNTIF(IF(ISERROR(INDIRECT(\"'Voksen \"&A297&\"'!$H$50\",TRUE)),\"\",INDIRECT(\"'Voksen \"&A297&\"'!$H$50\",TRUE)),2)","v":{"$error":"#VALUE!"}},{"$f":"COUNTIF(IF(ISERROR(INDIRECT(\"'Voksen \"&A297&\"'!$H$58\",TRUE)),\"\",INDIRECT(\"'Voksen \"&A297&\"'!$H$58\",TRUE)),2)","v":{"$error":"#VALUE!"}},{"$f":"COUNTIF(IF(ISERROR(INDIRECT(\"'Voksen \"&A297&\"'!$H$69\",TRUE)),\"\",INDIRECT(\"'Voksen \"&A297&\"'!$H$69\",TRUE)),2)","v":{"$error":"#VALUE!"}},{"$f":"COUNTIF(IF(ISERROR(INDIRECT(\"'Voksen \"&A297&\"'!$H$77\",TRUE)),\"\",INDIRECT(\"'Voksen \"&A297&\"'!$H$77\",TRUE)),2)","v":{"$error":"#VALUE!"}},null,null,{"$f":"COUNTIF(IF(ISERROR(INDIRECT(\"'Børn \"&A297&\"'!$H$31\",TRUE)),\"\",INDIRECT(\"'Børn \"&A297&\"'!$H$31\",TRUE)),2)","v":{"$error":"#VALUE!"}},{"$f":"COUNTIF(IF(ISERROR(INDIRECT(\"'Børn \"&A297&\"'!$H$44\",TRUE)),\"\",INDIRECT(\"'Børn \"&A297&\"'!$H$44\",TRUE)),2)","v":{"$error":"#VALUE!"}},{"$f":"COUNTIF(IF(ISERROR(INDIRECT(\"'Børn \"&A297&\"'!$H$53\",TRUE)),\"\",INDIRECT(\"'Børn \"&A297&\"'!$H$53\",TRUE)),2)","v":{"$error":"#VALUE!"}},{"$f":"COUNTIF(IF(ISERROR(INDIRECT(\"'Børn \"&A297&\"'!$H$61\",TRUE)),\"\",INDIRECT(\"'Børn \"&A297&\"'!$H$61\",TRUE)),2)","v":{"$error":"#VALUE!"}},{"$f":"COUNTIF(IF(ISERROR(INDIRECT(\"'Børn \"&A297&\"'!$H$68\",TRUE)),\"\",INDIRECT(\"'Børn \"&A297&\"'!$H$68\",TRUE)),2)","v":{"$error":"#VALUE!"}},{"$f":"COUNTIF(IF(ISERROR(INDIRECT(\"'Børn \"&A297&\"'!$H$79\",TRUE)),\"\",INDIRECT(\"'Børn \"&A297&\"'!$H$79\",TRUE)),2)","v":{"$error":"#VALUE!"}},{"$f":"COUNTIF(IF(ISERROR(INDIRECT(\"'Børn \"&A297&\"'!$H$87\",TRUE)),\"\",INDIRECT(\"'Børn \"&A297&\"'!$H$87\",TRUE)),2)","v":{"$error":"#VALUE!"}}]
["Tilsyn 79","Status:  rød",{"$f":"COUNTIF(IF(ISERROR(INDIRECT(\"'Voksen \"&A298&\"'!$H$31\",TRUE)),\"\",INDIRECT(\"'Voksen \"&A298&\"'!$H$31\",TRUE)),3)","v":{"$error":"#VALUE!"}},{"$f":"COUNTIF(IF(ISERROR(INDIRECT(\"'Voksen \"&A298&\"'!$H$41\",TRUE)),\"\",INDIRECT(\"'Voksen \"&A298&\"'!$H$41\",TRUE)),3)","v":{"$error":"#VALUE!"}},{"$f":"COUNTIF(IF(ISERROR(INDIRECT(\"'Voksen \"&A298&\"'!$H$50\",TRUE)),\"\",INDIRECT(\"'Voksen \"&A298&\"'!$H$50\",TRUE)),3)","v":{"$error":"#VALUE!"}},{"$f":"COUNTIF(IF(ISERROR(INDIRECT(\"'Voksen \"&A298&\"'!$H$58\",TRUE)),\"\",INDIRECT(\"'Voksen \"&A298&\"'!$H$58\",TRUE)),3)","v":{"$error":"#VALUE!"}},{"$f":"COUNTIF(IF(ISERROR(INDIRECT(\"'Voksen \"&A298&\"'!$H$69\",TRUE)),\"\",INDIRECT(\"'Voksen \"&A298&\"'!$H$69\",TRUE)),3)","v":{"$error":"#VALUE!"}},{"$f":"COUNTIF(IF(ISERROR(INDIRECT(\"'Voksen \"&A298&\"'!$H$77\",TRUE)),\"\",INDIRECT(\"'Voksen \"&A298&\"'!$H$77\",TRUE)),3)","v":{"$error":"#VALUE!"}},null,null,{"$f":"COUNTIF(IF(ISERROR(INDIRECT(\"'Børn \"&A298&\"'!$H$31\",TRUE)),\"\",INDIRECT(\"'Børn \"&A298&\"'!$H$31\",TRUE)),3)","v":{"$error":"#VALUE!"}},{"$f":"COUNTIF(IF(ISERROR(INDIRECT(\"'Børn \"&A298&\"'!$H$44\",TRUE)),\"\",INDIRECT(\"'Børn \"&A298&\"'!$H$44\",TRUE)),3)","v":{"$error":"#VALUE!"}},{"$f":"COUNTIF(IF(ISERROR(INDIRECT(\"'Børn \"&A298&\"'!$H$53\",TRUE)),\"\",INDIRECT(\"'Børn \"&A298&\"'!$H$53\",TRUE)),3)","v":{"$error":"#VALUE!"}},{"$f":"COUNTIF(IF(ISERROR(INDIRECT(\"'Børn \"&A298&\"'!$H$61\",TRUE)),\"\",INDIRECT(\"'Børn \"&A298&\"'!$H$61\",TRUE)),3)","v":{"$error":"#VALUE!"}},{"$f":"COUNTIF(IF(ISERROR(INDIRECT(\"'Børn \"&A298&\"'!$H$68\",TRUE)),\"\",INDIRECT(\"'Børn \"&A298&\"'!$H$68\",TRUE)),3)","v":{"$error":"#VALUE!"}},{"$f":"COUNTIF(IF(ISERROR(INDIRECT(\"'Børn \"&A298&\"'!$H$79\",TRUE)),\"\",INDIRECT(\"'Børn \"&A298&\"'!$H$79\",TRUE)),3)","v":{"$error":"#VALUE!"}},{"$f":"COUNTIF(IF(ISERROR(INDIRECT(\"'Børn \"&A298&\"'!$H$87\",TRUE)),\"\",INDIRECT(\"'Børn \"&A298&\"'!$H$87\",TRUE)),3)","v":{"$error":"#VALUE!"}}]
["Tilsyn 80","Status:  grøn",{"$f":"COUNTIF(IF(ISERROR(INDIRECT(\"'Voksen \"&A299&\"'!$H$31\",TRUE)),\"\",INDIRECT(\"'Voksen \"&A299&\"'!$H$31\",TRUE)),1)","v":{"$error":"#VALUE!"}},{"$f":"COUNTIF(IF(ISERROR(INDIRECT(\"'Voksen \"&A299&\"'!$H$41\",TRUE)),\"\",INDIRECT(\"'Voksen \"&A299&\"'!$H$41\",TRUE)),1)","v":{"$error":"#VALUE!"}},{"$f":"COUNTIF(IF(ISERROR(INDIRECT(\"'Voksen \"&A299&\"'!$H$50\",TRUE)),\"\",INDIRECT(\"'Voksen \"&A299&\"'!$H$50\",TRUE)),1)","v":{"$error":"#VALUE!"}},{"$f":"COUNTIF(IF(ISERROR(INDIRECT(\"'Voksen \"&A299&\"'!$H$58\",TRUE)),\"\",INDIRECT(\"'Voksen \"&A299&\"'!$H$58\",TRUE)),1)","v":{"$error":"#VALUE!"}},{"$f":"COUNTIF(IF(ISERROR(INDIRECT(\"'Voksen \"&A299&\"'!$H$69\",TRUE)),\"\",INDIRECT(\"'Voksen \"&A299&\"'!$H$69\",TRUE)),1)","v":{"$error":"#VALUE!"}},{"$f":"COUNTIF(IF(ISERROR(INDIRECT(\"'Voksen \"&A299&\"'!$H$77\",TRUE)),\"\",INDIRECT(\"'Voksen \"&A299&\"'!$H$77\",TRUE)),1)","v":{"$error":"#VALUE!"}},null,null,{"$f":"COUNTIF(IF(ISERROR(INDIRECT(\"'Børn \"&A299&\"'!$H$31\",TRUE)),\"\",INDIRECT(\"'Børn \"&A299&\"'!$H$31\",TRUE)),1)","v":{"$error":"#VALUE!"}},{"$f":"COUNTIF(IF(ISERROR(INDIRECT(\"'Børn \"&A299&\"'!$H$44\",TRUE)),\"\",INDIRECT(\"'Børn \"&A299&\"'!$H$44\",TRUE)),1)","v":{"$error":"#VALUE!"}},{"$f":"COUNTIF(IF(ISERROR(INDIRECT(\"'Børn \"&A299&\"'!$H$53\",TRUE)),\"\",INDIRECT(\"'Børn \"&A299&\"'!$H$53\",TRUE)),1)","v":{"$error":"#VALUE!"}},{"$f":"COUNTIF(IF(ISERROR(INDIRECT(\"'Børn \"&A299&\"'!$H$61\",TRUE)),\"\",INDIRECT(\"'Børn \"&A299&\"'!$H$61\",TRUE)),1)","v":{"$error":"#VALUE!"}},{"$f":"COUNTIF(IF(ISERROR(INDIRECT(\"'Børn \"&A299&\"'!$H$68\",TRUE)),\"\",INDIRECT(\"'Børn \"&A299&\"'!$H$68\",TRUE)),1)","v":{"$error":"#VALUE!"}},{"$f":"COUNTIF(IF(ISERROR(INDIRECT(\"'Børn \"&A299&\"'!$H$79\",TRUE)),\"\",INDIRECT(\"'Børn \"&A299&\"'!$H$79\",TRUE)),1)","v":{"$error":"#VALUE!"}},{"$f":"COUNTIF(IF(ISERROR(INDIRECT(\"'Børn \"&A299&\"'!$H$87\",TRUE)),\"\",INDIRECT(\"'Børn \"&A299&\"'!$H$87\",TRUE)),1)","v":{"$error":"#VALUE!"}}]
["Tilsyn 80","Status:  gul",{"$f":"COUNTIF(IF(ISERROR(INDIRECT(\"'Voksen \"&A300&\"'!$H$31\",TRUE)),\"\",INDIRECT(\"'Voksen \"&A300&\"'!$H$31\",TRUE)),2)","v":{"$error":"#VALUE!"}},{"$f":"COUNTIF(IF(ISERROR(INDIRECT(\"'Voksen \"&A300&\"'!$H$41\",TRUE)),\"\",INDIRECT(\"'Voksen \"&A300&\"'!$H$41\",TRUE)),2)","v":{"$error":"#VALUE!"}},{"$f":"COUNTIF(IF(ISERROR(INDIRECT(\"'Voksen \"&A300&\"'!$H$50\",TRUE)),\"\",INDIRECT(\"'Voksen \"&A300&\"'!$H$50\",TRUE)),2)","v":{"$error":"#VALUE!"}},{"$f":"COUNTIF(IF(ISERROR(INDIRECT(\"'Voksen \"&A300&\"'!$H$58\",TRUE)),\"\",INDIRECT(\"'Voksen \"&A300&\"'!$H$58\",TRUE)),2)","v":{"$error":"#VALUE!"}},{"$f":"COUNTIF(IF(ISERROR(INDIRECT(\"'Voksen \"&A300&\"'!$H$69\",TRUE)),\"\",INDIRECT(\"'Voksen \"&A300&\"'!$H$69\",TRUE)),2)","v":{"$error":"#VALUE!"}},{"$f":"COUNTIF(IF(ISERROR(INDIRECT(\"'Voksen \"&A300&\"'!$H$77\",TRUE)),\"\",INDIRECT(\"'Voksen \"&A300&\"'!$H$77\",TRUE)),2)","v":{"$error":"#VALUE!"}},null,null,{"$f":"COUNTIF(IF(ISERROR(INDIRECT(\"'Børn \"&A300&\"'!$H$31\",TRUE)),\"\",INDIRECT(\"'Børn \"&A300&\"'!$H$31\",TRUE)),2)","v":{"$error":"#VALUE!"}},{"$f":"COUNTIF(IF(ISERROR(INDIRECT(\"'Børn \"&A300&\"'!$H$44\",TRUE)),\"\",INDIRECT(\"'Børn \"&A300&\"'!$H$44\",TRUE)),2)","v":{"$error":"#VALUE!"}},{"$f":"COUNTIF(IF(ISERROR(INDIRECT(\"'Børn \"&A300&\"'!$H$53\",TRUE)),\"\",INDIRECT(\"'Børn \"&A300&\"'!$H$53\",TRUE)),2)","v":{"$error":"#VALUE!"}},{"$f":"COUNTIF(IF(ISERROR(INDIRECT(\"'Børn \"&A300&\"'!$H$61\",TRUE)),\"\",INDIRECT(\"'Børn \"&A300&\"'!$H$61\",TRUE)),2)","v":{"$error":"#VALUE!"}},{"$f":"COUNTIF(IF(ISERROR(INDIRECT(\"'Børn \"&A300&\"'!$H$68\",TRUE)),\"\",INDIRECT(\"'Børn \"&A300&\"'!$H$68\",TRUE)),2)","v":{"$error":"#VALUE!"}},{"$f":"COUNTIF(IF(ISERROR(INDIRECT(\"'Børn \"&A300&\"'!$H$79\",TRUE)),\"\",INDIRECT(\"'Børn \"&A300&\"'!$H$79\",TRUE)),2)","v":{"$error":"#VALUE!"}},{"$f":"COUNTIF(IF(ISERROR(INDIRECT(\"'Børn \"&A300&\"'!$H$87\",TRUE)),\"\",INDIRECT(\"'Børn \"&A300&\"'!$H$87\",TRUE)),2)","v":{"$error":"#VALUE!"}}]
["Tilsyn 80","Status:  rød",{"$f":"COUNTIF(IF(ISERROR(INDIRECT(\"'Voksen \"&A301&\"'!$H$31\",TRUE)),\"\",INDIRECT(\"'Voksen \"&A301&\"'!$H$31\",TRUE)),3)","v":{"$error":"#VALUE!"}},{"$f":"COUNTIF(IF(ISERROR(INDIRECT(\"'Voksen \"&A301&\"'!$H$41\",TRUE)),\"\",INDIRECT(\"'Voksen \"&A301&\"'!$H$41\",TRUE)),3)","v":{"$error":"#VALUE!"}},{"$f":"COUNTIF(IF(ISERROR(INDIRECT(\"'Voksen \"&A301&\"'!$H$50\",TRUE)),\"\",INDIRECT(\"'Voksen \"&A301&\"'!$H$50\",TRUE)),3)","v":{"$error":"#VALUE!"}},{"$f":"COUNTIF(IF(ISERROR(INDIRECT(\"'Voksen \"&A301&\"'!$H$58\",TRUE)),\"\",INDIRECT(\"'Voksen \"&A301&\"'!$H$58\",TRUE)),3)","v":{"$error":"#VALUE!"}},{"$f":"COUNTIF(IF(ISERROR(INDIRECT(\"'Voksen \"&A301&\"'!$H$69\",TRUE)),\"\",INDIRECT(\"'Voksen \"&A301&\"'!$H$69\",TRUE)),3)","v":{"$error":"#VALUE!"}},{"$f":"COUNTIF(IF(ISERROR(INDIRECT(\"'Voksen \"&A301&\"'!$H$77\",TRUE)),\"\",INDIRECT(\"'Voksen \"&A301&\"'!$H$77\",TRUE)),3)","v":{"$error":"#VALUE!"}},null,null,{"$f":"COUNTIF(IF(ISERROR(INDIRECT(\"'Børn \"&A301&\"'!$H$31\",TRUE)),\"\",INDIRECT(\"'Børn \"&A301&\"'!$H$31\",TRUE)),3)","v":{"$error":"#VALUE!"}},{"$f":"COUNTIF(IF(ISERROR(INDIRECT(\"'Børn \"&A301&\"'!$H$44\",TRUE)),\"\",INDIRECT(\"'Børn \"&A301&\"'!$H$44\",TRUE)),3)","v":{"$error":"#VALUE!"}},{"$f":"COUNTIF(IF(ISERROR(INDIRECT(\"'Børn \"&A301&\"'!$H$53\",TRUE)),\"\",INDIRECT(\"'Børn \"&A301&\"'!$H$53\",TRUE)),3)","v":{"$error":"#VALUE!"}},{"$f":"COUNTIF(IF(ISERROR(INDIRECT(\"'Børn \"&A301&\"'!$H$61\",TRUE)),\"\",INDIRECT(\"'Børn \"&A301&\"'!$H$61\",TRUE)),3)","v":{"$error":"#VALUE!"}},{"$f":"COUNTIF(IF(ISERROR(INDIRECT(\"'Børn \"&A301&\"'!$H$68\",TRUE)),\"\",INDIRECT(\"'Børn \"&A301&\"'!$H$68\",TRUE)),3)","v":{"$error":"#VALUE!"}},{"$f":"COUNTIF(IF(ISERROR(INDIRECT(\"'Børn \"&A301&\"'!$H$79\",TRUE)),\"\",INDIRECT(\"'Børn \"&A301&\"'!$H$79\",TRUE)),3)","v":{"$error":"#VALUE!"}},{"$f":"COUNTIF(IF(ISERROR(INDIRECT(\"'Børn \"&A301&\"'!$H$87\",TRUE)),\"\",INDIRECT(\"'Børn \"&A301&\"'!$H$87\",TRUE)),3)","v":{"$error":"#VALUE!"}}]
["Tilsyn 81","Status:  grøn",{"$f":"COUNTIF(IF(ISERROR(INDIRECT(\"'Voksen \"&A302&\"'!$H$31\",TRUE)),\"\",INDIRECT(\"'Voksen \"&A302&\"'!$H$31\",TRUE)),1)","v":{"$error":"#VALUE!"}},{"$f":"COUNTIF(IF(ISERROR(INDIRECT(\"'Voksen \"&A302&\"'!$H$41\",TRUE)),\"\",INDIRECT(\"'Voksen \"&A302&\"'!$H$41\",TRUE)),1)","v":{"$error":"#VALUE!"}},{"$f":"COUNTIF(IF(ISERROR(INDIRECT(\"'Voksen \"&A302&\"'!$H$50\",TRUE)),\"\",INDIRECT(\"'Voksen \"&A302&\"'!$H$50\",TRUE)),1)","v":{"$error":"#VALUE!"}},{"$f":"COUNTIF(IF(ISERROR(INDIRECT(\"'Voksen \"&A302&\"'!$H$58\",TRUE)),\"\",INDIRECT(\"'Voksen \"&A302&\"'!$H$58\",TRUE)),1)","v":{"$error":"#VALUE!"}},{"$f":"COUNTIF(IF(ISERROR(INDIRECT(\"'Voksen \"&A302&\"'!$H$69\",TRUE)),\"\",INDIRECT(\"'Voksen \"&A302&\"'!$H$69\",TRUE)),1)","v":{"$error":"#VALUE!"}},{"$f":"COUNTIF(IF(ISERROR(INDIRECT(\"'Voksen \"&A302&\"'!$H$77\",TRUE)),\"\",INDIRECT(\"'Voksen \"&A302&\"'!$H$77\",TRUE)),1)","v":{"$error":"#VALUE!"}},null,null,{"$f":"COUNTIF(IF(ISERROR(INDIRECT(\"'Børn \"&A302&\"'!$H$31\",TRUE)),\"\",INDIRECT(\"'Børn \"&A302&\"'!$H$31\",TRUE)),1)","v":{"$error":"#VALUE!"}},{"$f":"COUNTIF(IF(ISERROR(INDIRECT(\"'Børn \"&A302&\"'!$H$44\",TRUE)),\"\",INDIRECT(\"'Børn \"&A302&\"'!$H$44\",TRUE)),1)","v":{"$error":"#VALUE!"}},{"$f":"COUNTIF(IF(ISERROR(INDIRECT(\"'Børn \"&A302&\"'!$H$53\",TRUE)),\"\",INDIRECT(\"'Børn \"&A302&\"'!$H$53\",TRUE)),1)","v":{"$error":"#VALUE!"}},{"$f":"COUNTIF(IF(ISERROR(INDIRECT(\"'Børn \"&A302&\"'!$H$61\",TRUE)),\"\",INDIRECT(\"'Børn \"&A302&\"'!$H$61\",TRUE)),1)","v":{"$error":"#VALUE!"}},{"$f":"COUNTIF(IF(ISERROR(INDIRECT(\"'Børn \"&A302&\"'!$H$68\",TRUE)),\"\",INDIRECT(\"'Børn \"&A302&\"'!$H$68\",TRUE)),1)","v":{"$error":"#VALUE!"}},{"$f":"COUNTIF(IF(ISERROR(INDIRECT(\"'Børn \"&A302&\"'!$H$79\",TRUE)),\"\",INDIRECT(\"'Børn \"&A302&\"'!$H$79\",TRUE)),1)","v":{"$error":"#VALUE!"}},{"$f":"COUNTIF(IF(ISERROR(INDIRECT(\"'Børn \"&A302&\"'!$H$87\",TRUE)),\"\",INDIRECT(\"'Børn \"&A302&\"'!$H$87\",TRUE)),1)","v":{"$error":"#VALUE!"}}]
["Tilsyn 81","Status:  gul",{"$f":"COUNTIF(IF(ISERROR(INDIRECT(\"'Voksen \"&A303&\"'!$H$31\",TRUE)),\"\",INDIRECT(\"'Voksen \"&A303&\"'!$H$31\",TRUE)),2)","v":{"$error":"#VALUE!"}},{"$f":"COUNTIF(IF(ISERROR(INDIRECT(\"'Voksen \"&A303&\"'!$H$41\",TRUE)),\"\",INDIRECT(\"'Voksen \"&A303&\"'!$H$41\",TRUE)),2)","v":{"$error":"#VALUE!"}},{"$f":"COUNTIF(IF(ISERROR(INDIRECT(\"'Voksen \"&A303&\"'!$H$50\",TRUE)),\"\",INDIRECT(\"'Voksen \"&A303&\"'!$H$50\",TRUE)),2)","v":{"$error":"#VALUE!"}},{"$f":"COUNTIF(IF(ISERROR(INDIRECT(\"'Voksen \"&A303&\"'!$H$58\",TRUE)),\"\",INDIRECT(\"'Voksen \"&A303&\"'!$H$58\",TRUE)),2)","v":{"$error":"#VALUE!"}},{"$f":"COUNTIF(IF(ISERROR(INDIRECT(\"'Voksen \"&A303&\"'!$H$69\",TRUE)),\"\",INDIRECT(\"'Voksen \"&A303&\"'!$H$69\",TRUE)),2)","v":{"$error":"#VALUE!"}},{"$f":"COUNTIF(IF(ISERROR(INDIRECT(\"'Voksen \"&A303&\"'!$H$77\",TRUE)),\"\",INDIRECT(\"'Voksen \"&A303&\"'!$H$77\",TRUE)),2)","v":{"$error":"#VALUE!"}},null,null,{"$f":"COUNTIF(IF(ISERROR(INDIRECT(\"'Børn \"&A303&\"'!$H$31\",TRUE)),\"\",INDIRECT(\"'Børn \"&A303&\"'!$H$31\",TRUE)),2)","v":{"$error":"#VALUE!"}},{"$f":"COUNTIF(IF(ISERROR(INDIRECT(\"'Børn \"&A303&\"'!$H$44\",TRUE)),\"\",INDIRECT(\"'Børn \"&A303&\"'!$H$44\",TRUE)),2)","v":{"$error":"#VALUE!"}},{"$f":"COUNTIF(IF(ISERROR(INDIRECT(\"'Børn \"&A303&\"'!$H$53\",TRUE)),\"\",INDIRECT(\"'Børn \"&A303&\"'!$H$53\",TRUE)),2)","v":{"$error":"#VALUE!"}},{"$f":"COUNTIF(IF(ISERROR(INDIRECT(\"'Børn \"&A303&\"'!$H$61\",TRUE)),\"\",INDIRECT(\"'Børn \"&A303&\"'!$H$61\",TRUE)),2)","v":{"$error":"#VALUE!"}},{"$f":"COUNTIF(IF(ISERROR(INDIRECT(\"'Børn \"&A303&\"'!$H$68\",TRUE)),\"\",INDIRECT(\"'Børn \"&A303&\"'!$H$68\",TRUE)),2)","v":{"$error":"#VALUE!"}},{"$f":"COUNTIF(IF(ISERROR(INDIRECT(\"'Børn \"&A303&\"'!$H$79\",TRUE)),\"\",INDIRECT(\"'Børn \"&A303&\"'!$H$79\",TRUE)),2)","v":{"$error":"#VALUE!"}},{"$f":"COUNTIF(IF(ISERROR(INDIRECT(\"'Børn \"&A303&\"'!$H$87\",TRUE)),\"\",INDIRECT(\"'Børn \"&A303&\"'!$H$87\",TRUE)),2)","v":{"$error":"#VALUE!"}}]
["Tilsyn 81","Status:  rød",{"$f":"COUNTIF(IF(ISERROR(INDIRECT(\"'Voksen \"&A304&\"'!$H$31\",TRUE)),\"\",INDIRECT(\"'Voksen \"&A304&\"'!$H$31\",TRUE)),3)","v":{"$error":"#VALUE!"}},{"$f":"COUNTIF(IF(ISERROR(INDIRECT(\"'Voksen \"&A304&\"'!$H$41\",TRUE)),\"\",INDIRECT(\"'Voksen \"&A304&\"'!$H$41\",TRUE)),3)","v":{"$error":"#VALUE!"}},{"$f":"COUNTIF(IF(ISERROR(INDIRECT(\"'Voksen \"&A304&\"'!$H$50\",TRUE)),\"\",INDIRECT(\"'Voksen \"&A304&\"'!$H$50\",TRUE)),3)","v":{"$error":"#VALUE!"}},{"$f":"COUNTIF(IF(ISERROR(INDIRECT(\"'Voksen \"&A304&\"'!$H$58\",TRUE)),\"\",INDIRECT(\"'Voksen \"&A304&\"'!$H$58\",TRUE)),3)","v":{"$error":"#VALUE!"}},{"$f":"COUNTIF(IF(ISERROR(INDIRECT(\"'Voksen \"&A304&\"'!$H$69\",TRUE)),\"\",INDIRECT(\"'Voksen \"&A304&\"'!$H$69\",TRUE)),3)","v":{"$error":"#VALUE!"}},{"$f":"COUNTIF(IF(ISERROR(INDIRECT(\"'Voksen \"&A304&\"'!$H$77\",TRUE)),\"\",INDIRECT(\"'Voksen \"&A304&\"'!$H$77\",TRUE)),3)","v":{"$error":"#VALUE!"}},null,null,{"$f":"COUNTIF(IF(ISERROR(INDIRECT(\"'Børn \"&A304&\"'!$H$31\",TRUE)),\"\",INDIRECT(\"'Børn \"&A304&\"'!$H$31\",TRUE)),3)","v":{"$error":"#VALUE!"}},{"$f":"COUNTIF(IF(ISERROR(INDIRECT(\"'Børn \"&A304&\"'!$H$44\",TRUE)),\"\",INDIRECT(\"'Børn \"&A304&\"'!$H$44\",TRUE)),3)","v":{"$error":"#VALUE!"}},{"$f":"COUNTIF(IF(ISERROR(INDIRECT(\"'Børn \"&A304&\"'!$H$53\",TRUE)),\"\",INDIRECT(\"'Børn \"&A304&\"'!$H$53\",TRUE)),3)","v":{"$error":"#VALUE!"}},{"$f":"COUNTIF(IF(ISERROR(INDIRECT(\"'Børn \"&A304&\"'!$H$61\",TRUE)),\"\",INDIRECT(\"'Børn \"&A304&\"'!$H$61\",TRUE)),3)","v":{"$error":"#VALUE!"}},{"$f":"COUNTIF(IF(ISERROR(INDIRECT(\"'Børn \"&A304&\"'!$H$68\",TRUE)),\"\",INDIRECT(\"'Børn \"&A304&\"'!$H$68\",TRUE)),3)","v":{"$error":"#VALUE!"}},{"$f":"COUNTIF(IF(ISERROR(INDIRECT(\"'Børn \"&A304&\"'!$H$79\",TRUE)),\"\",INDIRECT(\"'Børn \"&A304&\"'!$H$79\",TRUE)),3)","v":{"$error":"#VALUE!"}},{"$f":"COUNTIF(IF(ISERROR(INDIRECT(\"'Børn \"&A304&\"'!$H$87\",TRUE)),\"\",INDIRECT(\"'Børn \"&A304&\"'!$H$87\",TRUE)),3)","v":{"$error":"#VALUE!"}}]
["Tilsyn 82","Status:  grøn",{"$f":"COUNTIF(IF(ISERROR(INDIRECT(\"'Voksen \"&A305&\"'!$H$31\",TRUE)),\"\",INDIRECT(\"'Voksen \"&A305&\"'!$H$31\",TRUE)),1)","v":{"$error":"#VALUE!"}},{"$f":"COUNTIF(IF(ISERROR(INDIRECT(\"'Voksen \"&A305&\"'!$H$41\",TRUE)),\"\",INDIRECT(\"'Voksen \"&A305&\"'!$H$41\",TRUE)),1)","v":{"$error":"#VALUE!"}},{"$f":"COUNTIF(IF(ISERROR(INDIRECT(\"'Voksen \"&A305&\"'!$H$50\",TRUE)),\"\",INDIRECT(\"'Voksen \"&A305&\"'!$H$50\",TRUE)),1)","v":{"$error":"#VALUE!"}},{"$f":"COUNTIF(IF(ISERROR(INDIRECT(\"'Voksen \"&A305&\"'!$H$58\",TRUE)),\"\",INDIRECT(\"'Voksen \"&A305&\"'!$H$58\",TRUE)),1)","v":{"$error":"#VALUE!"}},{"$f":"COUNTIF(IF(ISERROR(INDIRECT(\"'Voksen \"&A305&\"'!$H$69\",TRUE)),\"\",INDIRECT(\"'Voksen \"&A305&\"'!$H$69\",TRUE)),1)","v":{"$error":"#VALUE!"}},{"$f":"COUNTIF(IF(ISERROR(INDIRECT(\"'Voksen \"&A305&\"'!$H$77\",TRUE)),\"\",INDIRECT(\"'Voksen \"&A305&\"'!$H$77\",TRUE)),1)","v":{"$error":"#VALUE!"}},null,null,{"$f":"COUNTIF(IF(ISERROR(INDIRECT(\"'Børn \"&A305&\"'!$H$31\",TRUE)),\"\",INDIRECT(\"'Børn \"&A305&\"'!$H$31\",TRUE)),1)","v":{"$error":"#VALUE!"}},{"$f":"COUNTIF(IF(ISERROR(INDIRECT(\"'Børn \"&A305&\"'!$H$44\",TRUE)),\"\",INDIRECT(\"'Børn \"&A305&\"'!$H$44\",TRUE)),1)","v":{"$error":"#VALUE!"}},{"$f":"COUNTIF(IF(ISERROR(INDIRECT(\"'Børn \"&A305&\"'!$H$53\",TRUE)),\"\",INDIRECT(\"'Børn \"&A305&\"'!$H$53\",TRUE)),1)","v":{"$error":"#VALUE!"}},{"$f":"COUNTIF(IF(ISERROR(INDIRECT(\"'Børn \"&A305&\"'!$H$61\",TRUE)),\"\",INDIRECT(\"'Børn \"&A305&\"'!$H$61\",TRUE)),1)","v":{"$error":"#VALUE!"}},{"$f":"COUNTIF(IF(ISERROR(INDIRECT(\"'Børn \"&A305&\"'!$H$68\",TRUE)),\"\",INDIRECT(\"'Børn \"&A305&\"'!$H$68\",TRUE)),1)","v":{"$error":"#VALUE!"}},{"$f":"COUNTIF(IF(ISERROR(INDIRECT(\"'Børn \"&A305&\"'!$H$79\",TRUE)),\"\",INDIRECT(\"'Børn \"&A305&\"'!$H$79\",TRUE)),1)","v":{"$error":"#VALUE!"}},{"$f":"COUNTIF(IF(ISERROR(INDIRECT(\"'Børn \"&A305&\"'!$H$87\",TRUE)),\"\",INDIRECT(\"'Børn \"&A305&\"'!$H$87\",TRUE)),1)","v":{"$error":"#VALUE!"}}]
["Tilsyn 82","Status:  gul",{"$f":"COUNTIF(IF(ISERROR(INDIRECT(\"'Voksen \"&A306&\"'!$H$31\",TRUE)),\"\",INDIRECT(\"'Voksen \"&A306&\"'!$H$31\",TRUE)),2)","v":{"$error":"#VALUE!"}},{"$f":"COUNTIF(IF(ISERROR(INDIRECT(\"'Voksen \"&A306&\"'!$H$41\",TRUE)),\"\",INDIRECT(\"'Voksen \"&A306&\"'!$H$41\",TRUE)),2)","v":{"$error":"#VALUE!"}},{"$f":"COUNTIF(IF(ISERROR(INDIRECT(\"'Voksen \"&A306&\"'!$H$50\",TRUE)),\"\",INDIRECT(\"'Voksen \"&A306&\"'!$H$50\",TRUE)),2)","v":{"$error":"#VALUE!"}},{"$f":"COUNTIF(IF(ISERROR(INDIRECT(\"'Voksen \"&A306&\"'!$H$58\",TRUE)),\"\",INDIRECT(\"'Voksen \"&A306&\"'!$H$58\",TRUE)),2)","v":{"$error":"#VALUE!"}},{"$f":"COUNTIF(IF(ISERROR(INDIRECT(\"'Voksen \"&A306&\"'!$H$69\",TRUE)),\"\",INDIRECT(\"'Voksen \"&A306&\"'!$H$69\",TRUE)),2)","v":{"$error":"#VALUE!"}},{"$f":"COUNTIF(IF(ISERROR(INDIRECT(\"'Voksen \"&A306&\"'!$H$77\",TRUE)),\"\",INDIRECT(\"'Voksen \"&A306&\"'!$H$77\",TRUE)),2)","v":{"$error":"#VALUE!"}},null,null,{"$f":"COUNTIF(IF(ISERROR(INDIRECT(\"'Børn \"&A306&\"'!$H$31\",TRUE)),\"\",INDIRECT(\"'Børn \"&A306&\"'!$H$31\",TRUE)),2)","v":{"$error":"#VALUE!"}},{"$f":"COUNTIF(IF(ISERROR(INDIRECT(\"'Børn \"&A306&\"'!$H$44\",TRUE)),\"\",INDIRECT(\"'Børn \"&A306&\"'!$H$44\",TRUE)),2)","v":{"$error":"#VALUE!"}},{"$f":"COUNTIF(IF(ISERROR(INDIRECT(\"'Børn \"&A306&\"'!$H$53\",TRUE)),\"\",INDIRECT(\"'Børn \"&A306&\"'!$H$53\",TRUE)),2)","v":{"$error":"#VALUE!"}},{"$f":"COUNTIF(IF(ISERROR(INDIRECT(\"'Børn \"&A306&\"'!$H$61\",TRUE)),\"\",INDIRECT(\"'Børn \"&A306&\"'!$H$61\",TRUE)),2)","v":{"$error":"#VALUE!"}},{"$f":"COUNTIF(IF(ISERROR(INDIRECT(\"'Børn \"&A306&\"'!$H$68\",TRUE)),\"\",INDIRECT(\"'Børn \"&A306&\"'!$H$68\",TRUE)),2)","v":{"$error":"#VALUE!"}},{"$f":"COUNTIF(IF(ISERROR(INDIRECT(\"'Børn \"&A306&\"'!$H$79\",TRUE)),\"\",INDIRECT(\"'Børn \"&A306&\"'!$H$79\",TRUE)),2)","v":{"$error":"#VALUE!"}},{"$f":"COUNTIF(IF(ISERROR(INDIRECT(\"'Børn \"&A306&\"'!$H$87\",TRUE)),\"\",INDIRECT(\"'Børn \"&A306&\"'!$H$87\",TRUE)),2)","v":{"$error":"#VALUE!"}}]
["Tilsyn 82","Status:  rød",{"$f":"COUNTIF(IF(ISERROR(INDIRECT(\"'Voksen \"&A307&\"'!$H$31\",TRUE)),\"\",INDIRECT(\"'Voksen \"&A307&\"'!$H$31\",TRUE)),3)","v":{"$error":"#VALUE!"}},{"$f":"COUNTIF(IF(ISERROR(INDIRECT(\"'Voksen \"&A307&\"'!$H$41\",TRUE)),\"\",INDIRECT(\"'Voksen \"&A307&\"'!$H$41\",TRUE)),3)","v":{"$error":"#VALUE!"}},{"$f":"COUNTIF(IF(ISERROR(INDIRECT(\"'Voksen \"&A307&\"'!$H$50\",TRUE)),\"\",INDIRECT(\"'Voksen \"&A307&\"'!$H$50\",TRUE)),3)","v":{"$error":"#VALUE!"}},{"$f":"COUNTIF(IF(ISERROR(INDIRECT(\"'Voksen \"&A307&\"'!$H$58\",TRUE)),\"\",INDIRECT(\"'Voksen \"&A307&\"'!$H$58\",TRUE)),3)","v":{"$error":"#VALUE!"}},{"$f":"COUNTIF(IF(ISERROR(INDIRECT(\"'Voksen \"&A307&\"'!$H$69\",TRUE)),\"\",INDIRECT(\"'Voksen \"&A307&\"'!$H$69\",TRUE)),3)","v":{"$error":"#VALUE!"}},{"$f":"COUNTIF(IF(ISERROR(INDIRECT(\"'Voksen \"&A307&\"'!$H$77\",TRUE)),\"\",INDIRECT(\"'Voksen \"&A307&\"'!$H$77\",TRUE)),3)","v":{"$error":"#VALUE!"}},null,null,{"$f":"COUNTIF(IF(ISERROR(INDIRECT(\"'Børn \"&A307&\"'!$H$31\",TRUE)),\"\",INDIRECT(\"'Børn \"&A307&\"'!$H$31\",TRUE)),3)","v":{"$error":"#VALUE!"}},{"$f":"COUNTIF(IF(ISERROR(INDIRECT(\"'Børn \"&A307&\"'!$H$44\",TRUE)),\"\",INDIRECT(\"'Børn \"&A307&\"'!$H$44\",TRUE)),3)","v":{"$error":"#VALUE!"}},{"$f":"COUNTIF(IF(ISERROR(INDIRECT(\"'Børn \"&A307&\"'!$H$53\",TRUE)),\"\",INDIRECT(\"'Børn \"&A307&\"'!$H$53\",TRUE)),3)","v":{"$error":"#VALUE!"}},{"$f":"COUNTIF(IF(ISERROR(INDIRECT(\"'Børn \"&A307&\"'!$H$61\",TRUE)),\"\",INDIRECT(\"'Børn \"&A307&\"'!$H$61\",TRUE)),3)","v":{"$error":"#VALUE!"}},{"$f":"COUNTIF(IF(ISERROR(INDIRECT(\"'Børn \"&A307&\"'!$H$68\",TRUE)),\"\",INDIRECT(\"'Børn \"&A307&\"'!$H$68\",TRUE)),3)","v":{"$error":"#VALUE!"}},{"$f":"COUNTIF(IF(ISERROR(INDIRECT(\"'Børn \"&A307&\"'!$H$79\",TRUE)),\"\",INDIRECT(\"'Børn \"&A307&\"'!$H$79\",TRUE)),3)","v":{"$error":"#VALUE!"}},{"$f":"COUNTIF(IF(ISERROR(INDIRECT(\"'Børn \"&A307&\"'!$H$87\",TRUE)),\"\",INDIRECT(\"'Børn \"&A307&\"'!$H$87\",TRUE)),3)","v":{"$error":"#VALUE!"}}]
["Tilsyn 83","Status:  grøn",{"$f":"COUNTIF(IF(ISERROR(INDIRECT(\"'Voksen \"&A308&\"'!$H$31\",TRUE)),\"\",INDIRECT(\"'Voksen \"&A308&\"'!$H$31\",TRUE)),1)","v":{"$error":"#VALUE!"}},{"$f":"COUNTIF(IF(ISERROR(INDIRECT(\"'Voksen \"&A308&\"'!$H$41\",TRUE)),\"\",INDIRECT(\"'Voksen \"&A308&\"'!$H$41\",TRUE)),1)","v":{"$error":"#VALUE!"}},{"$f":"COUNTIF(IF(ISERROR(INDIRECT(\"'Voksen \"&A308&\"'!$H$50\",TRUE)),\"\",INDIRECT(\"'Voksen \"&A308&\"'!$H$50\",TRUE)),1)","v":{"$error":"#VALUE!"}},{"$f":"COUNTIF(IF(ISERROR(INDIRECT(\"'Voksen \"&A308&\"'!$H$58\",TRUE)),\"\",INDIRECT(\"'Voksen \"&A308&\"'!$H$58\",TRUE)),1)","v":{"$error":"#VALUE!"}},{"$f":"COUNTIF(IF(ISERROR(INDIRECT(\"'Voksen \"&A308&\"'!$H$69\",TRUE)),\"\",INDIRECT(\"'Voksen \"&A308&\"'!$H$69\",TRUE)),1)","v":{"$error":"#VALUE!"}},{"$f":"COUNTIF(IF(ISERROR(INDIRECT(\"'Voksen \"&A308&\"'!$H$77\",TRUE)),\"\",INDIRECT(\"'Voksen \"&A308&\"'!$H$77\",TRUE)),1)","v":{"$error":"#VALUE!"}},null,null,{"$f":"COUNTIF(IF(ISERROR(INDIRECT(\"'Børn \"&A308&\"'!$H$31\",TRUE)),\"\",INDIRECT(\"'Børn \"&A308&\"'!$H$31\",TRUE)),1)","v":{"$error":"#VALUE!"}},{"$f":"COUNTIF(IF(ISERROR(INDIRECT(\"'Børn \"&A308&\"'!$H$44\",TRUE)),\"\",INDIRECT(\"'Børn \"&A308&\"'!$H$44\",TRUE)),1)","v":{"$error":"#VALUE!"}},{"$f":"COUNTIF(IF(ISERROR(INDIRECT(\"'Børn \"&A308&\"'!$H$53\",TRUE)),\"\",INDIRECT(\"'Børn \"&A308&\"'!$H$53\",TRUE)),1)","v":{"$error":"#VALUE!"}},{"$f":"COUNTIF(IF(ISERROR(INDIRECT(\"'Børn \"&A308&\"'!$H$61\",TRUE)),\"\",INDIRECT(\"'Børn \"&A308&\"'!$H$61\",TRUE)),1)","v":{"$error":"#VALUE!"}},{"$f":"COUNTIF(IF(ISERROR(INDIRECT(\"'Børn \"&A308&\"'!$H$68\",TRUE)),\"\",INDIRECT(\"'Børn \"&A308&\"'!$H$68\",TRUE)),1)","v":{"$error":"#VALUE!"}},{"$f":"COUNTIF(IF(ISERROR(INDIRECT(\"'Børn \"&A308&\"'!$H$79\",TRUE)),\"\",INDIRECT(\"'Børn \"&A308&\"'!$H$79\",TRUE)),1)","v":{"$error":"#VALUE!"}},{"$f":"COUNTIF(IF(ISERROR(INDIRECT(\"'Børn \"&A308&\"'!$H$87\",TRUE)),\"\",INDIRECT(\"'Børn \"&A308&\"'!$H$87\",TRUE)),1)","v":{"$error":"#VALUE!"}}]
["Tilsyn 83","Status:  gul",{"$f":"COUNTIF(IF(ISERROR(INDIRECT(\"'Voksen \"&A309&\"'!$H$31\",TRUE)),\"\",INDIRECT(\"'Voksen \"&A309&\"'!$H$31\",TRUE)),2)","v":{"$error":"#VALUE!"}},{"$f":"COUNTIF(IF(ISERROR(INDIRECT(\"'Voksen \"&A309&\"'!$H$41\",TRUE)),\"\",INDIRECT(\"'Voksen \"&A309&\"'!$H$41\",TRUE)),2)","v":{"$error":"#VALUE!"}},{"$f":"COUNTIF(IF(ISERROR(INDIRECT(\"'Voksen \"&A309&\"'!$H$50\",TRUE)),\"\",INDIRECT(\"'Voksen \"&A309&\"'!$H$50\",TRUE)),2)","v":{"$error":"#VALUE!"}},{"$f":"COUNTIF(IF(ISERROR(INDIRECT(\"'Voksen \"&A309&\"'!$H$58\",TRUE)),\"\",INDIRECT(\"'Voksen \"&A309&\"'!$H$58\",TRUE)),2)","v":{"$error":"#VALUE!"}},{"$f":"COUNTIF(IF(ISERROR(INDIRECT(\"'Voksen \"&A309&\"'!$H$69\",TRUE)),\"\",INDIRECT(\"'Voksen \"&A309&\"'!$H$69\",TRUE)),2)","v":{"$error":"#VALUE!"}},{"$f":"COUNTIF(IF(ISERROR(INDIRECT(\"'Voksen \"&A309&\"'!$H$77\",TRUE)),\"\",INDIRECT(\"'Voksen \"&A309&\"'!$H$77\",TRUE)),2)","v":{"$error":"#VALUE!"}},null,null,{"$f":"COUNTIF(IF(ISERROR(INDIRECT(\"'Børn \"&A309&\"'!$H$31\",TRUE)),\"\",INDIRECT(\"'Børn \"&A309&\"'!$H$31\",TRUE)),2)","v":{"$error":"#VALUE!"}},{"$f":"COUNTIF(IF(ISERROR(INDIRECT(\"'Børn \"&A309&\"'!$H$44\",TRUE)),\"\",INDIRECT(\"'Børn \"&A309&\"'!$H$44\",TRUE)),2)","v":{"$error":"#VALUE!"}},{"$f":"COUNTIF(IF(ISERROR(INDIRECT(\"'Børn \"&A309&\"'!$H$53\",TRUE)),\"\",INDIRECT(\"'Børn \"&A309&\"'!$H$53\",TRUE)),2)","v":{"$error":"#VALUE!"}},{"$f":"COUNTIF(IF(ISERROR(INDIRECT(\"'Børn \"&A309&\"'!$H$61\",TRUE)),\"\",INDIRECT(\"'Børn \"&A309&\"'!$H$61\",TRUE)),2)","v":{"$error":"#VALUE!"}},{"$f":"COUNTIF(IF(ISERROR(INDIRECT(\"'Børn \"&A309&\"'!$H$68\",TRUE)),\"\",INDIRECT(\"'Børn \"&A309&\"'!$H$68\",TRUE)),2)","v":{"$error":"#VALUE!"}},{"$f":"COUNTIF(IF(ISERROR(INDIRECT(\"'Børn \"&A309&\"'!$H$79\",TRUE)),\"\",INDIRECT(\"'Børn \"&A309&\"'!$H$79\",TRUE)),2)","v":{"$error":"#VALUE!"}},{"$f":"COUNTIF(IF(ISERROR(INDIRECT(\"'Børn \"&A309&\"'!$H$87\",TRUE)),\"\",INDIRECT(\"'Børn \"&A309&\"'!$H$87\",TRUE)),2)","v":{"$error":"#VALUE!"}}]
["Tilsyn 83","Status:  rød",{"$f":"COUNTIF(IF(ISERROR(INDIRECT(\"'Voksen \"&A310&\"'!$H$31\",TRUE)),\"\",INDIRECT(\"'Voksen \"&A310&\"'!$H$31\",TRUE)),3)","v":{"$error":"#VALUE!"}},{"$f":"COUNTIF(IF(ISERROR(INDIRECT(\"'Voksen \"&A310&\"'!$H$41\",TRUE)),\"\",INDIRECT(\"'Voksen \"&A310&\"'!$H$41\",TRUE)),3)","v":{"$error":"#VALUE!"}},{"$f":"COUNTIF(IF(ISERROR(INDIRECT(\"'Voksen \"&A310&\"'!$H$50\",TRUE)),\"\",INDIRECT(\"'Voksen \"&A310&\"'!$H$50\",TRUE)),3)","v":{"$error":"#VALUE!"}},{"$f":"COUNTIF(IF(ISERROR(INDIRECT(\"'Voksen \"&A310&\"'!$H$58\",TRUE)),\"\",INDIRECT(\"'Voksen \"&A310&\"'!$H$58\",TRUE)),3)","v":{"$error":"#VALUE!"}},{"$f":"COUNTIF(IF(ISERROR(INDIRECT(\"'Voksen \"&A310&\"'!$H$69\",TRUE)),\"\",INDIRECT(\"'Voksen \"&A310&\"'!$H$69\",TRUE)),3)","v":{"$error":"#VALUE!"}},{"$f":"COUNTIF(IF(ISERROR(INDIRECT(\"'Voksen \"&A310&\"'!$H$77\",TRUE)),\"\",INDIRECT(\"'Voksen \"&A310&\"'!$H$77\",TRUE)),3)","v":{"$error":"#VALUE!"}},null,null,{"$f":"COUNTIF(IF(ISERROR(INDIRECT(\"'Børn \"&A310&\"'!$H$31\",TRUE)),\"\",INDIRECT(\"'Børn \"&A310&\"'!$H$31\",TRUE)),3)","v":{"$error":"#VALUE!"}},{"$f":"COUNTIF(IF(ISERROR(INDIRECT(\"'Børn \"&A310&\"'!$H$44\",TRUE)),\"\",INDIRECT(\"'Børn \"&A310&\"'!$H$44\",TRUE)),3)","v":{"$error":"#VALUE!"}},{"$f":"COUNTIF(IF(ISERROR(INDIRECT(\"'Børn \"&A310&\"'!$H$53\",TRUE)),\"\",INDIRECT(\"'Børn \"&A310&\"'!$H$53\",TRUE)),3)","v":{"$error":"#VALUE!"}},{"$f":"COUNTIF(IF(ISERROR(INDIRECT(\"'Børn \"&A310&\"'!$H$61\",TRUE)),\"\",INDIRECT(\"'Børn \"&A310&\"'!$H$61\",TRUE)),3)","v":{"$error":"#VALUE!"}},{"$f":"COUNTIF(IF(ISERROR(INDIRECT(\"'Børn \"&A310&\"'!$H$68\",TRUE)),\"\",INDIRECT(\"'Børn \"&A310&\"'!$H$68\",TRUE)),3)","v":{"$error":"#VALUE!"}},{"$f":"COUNTIF(IF(ISERROR(INDIRECT(\"'Børn \"&A310&\"'!$H$79\",TRUE)),\"\",INDIRECT(\"'Børn \"&A310&\"'!$H$79\",TRUE)),3)","v":{"$error":"#VALUE!"}},{"$f":"COUNTIF(IF(ISERROR(INDIRECT(\"'Børn \"&A310&\"'!$H$87\",TRUE)),\"\",INDIRECT(\"'Børn \"&A310&\"'!$H$87\",TRUE)),3)","v":{"$error":"#VALUE!"}}]
["Tilsyn 84","Status:  grøn",{"$f":"COUNTIF(IF(ISERROR(INDIRECT(\"'Voksen \"&A311&\"'!$H$31\",TRUE)),\"\",INDIRECT(\"'Voksen \"&A311&\"'!$H$31\",TRUE)),1)","v":{"$error":"#VALUE!"}},{"$f":"COUNTIF(IF(ISERROR(INDIRECT(\"'Voksen \"&A311&\"'!$H$41\",TRUE)),\"\",INDIRECT(\"'Voksen \"&A311&\"'!$H$41\",TRUE)),1)","v":{"$error":"#VALUE!"}},{"$f":"COUNTIF(IF(ISERROR(INDIRECT(\"'Voksen \"&A311&\"'!$H$50\",TRUE)),\"\",INDIRECT(\"'Voksen \"&A311&\"'!$H$50\",TRUE)),1)","v":{"$error":"#VALUE!"}},{"$f":"COUNTIF(IF(ISERROR(INDIRECT(\"'Voksen \"&A311&\"'!$H$58\",TRUE)),\"\",INDIRECT(\"'Voksen \"&A311&\"'!$H$58\",TRUE)),1)","v":{"$error":"#VALUE!"}},{"$f":"COUNTIF(IF(ISERROR(INDIRECT(\"'Voksen \"&A311&\"'!$H$69\",TRUE)),\"\",INDIRECT(\"'Voksen \"&A311&\"'!$H$69\",TRUE)),1)","v":{"$error":"#VALUE!"}},{"$f":"COUNTIF(IF(ISERROR(INDIRECT(\"'Voksen \"&A311&\"'!$H$77\",TRUE)),\"\",INDIRECT(\"'Voksen \"&A311&\"'!$H$77\",TRUE)),1)","v":{"$error":"#VALUE!"}},null,null,{"$f":"COUNTIF(IF(ISERROR(INDIRECT(\"'Børn \"&A311&\"'!$H$31\",TRUE)),\"\",INDIRECT(\"'Børn \"&A311&\"'!$H$31\",TRUE)),1)","v":{"$error":"#VALUE!"}},{"$f":"COUNTIF(IF(ISERROR(INDIRECT(\"'Børn \"&A311&\"'!$H$44\",TRUE)),\"\",INDIRECT(\"'Børn \"&A311&\"'!$H$44\",TRUE)),1)","v":{"$error":"#VALUE!"}},{"$f":"COUNTIF(IF(ISERROR(INDIRECT(\"'Børn \"&A311&\"'!$H$53\",TRUE)),\"\",INDIRECT(\"'Børn \"&A311&\"'!$H$53\",TRUE)),1)","v":{"$error":"#VALUE!"}},{"$f":"COUNTIF(IF(ISERROR(INDIRECT(\"'Børn \"&A311&\"'!$H$61\",TRUE)),\"\",INDIRECT(\"'Børn \"&A311&\"'!$H$61\",TRUE)),1)","v":{"$error":"#VALUE!"}},{"$f":"COUNTIF(IF(ISERROR(INDIRECT(\"'Børn \"&A311&\"'!$H$68\",TRUE)),\"\",INDIRECT(\"'Børn \"&A311&\"'!$H$68\",TRUE)),1)","v":{"$error":"#VALUE!"}},{"$f":"COUNTIF(IF(ISERROR(INDIRECT(\"'Børn \"&A311&\"'!$H$79\",TRUE)),\"\",INDIRECT(\"'Børn \"&A311&\"'!$H$79\",TRUE)),1)","v":{"$error":"#VALUE!"}},{"$f":"COUNTIF(IF(ISERROR(INDIRECT(\"'Børn \"&A311&\"'!$H$87\",TRUE)),\"\",INDIRECT(\"'Børn \"&A311&\"'!$H$87\",TRUE)),1)","v":{"$error":"#VALUE!"}}]
["Tilsyn 84","Status:  gul",{"$f":"COUNTIF(IF(ISERROR(INDIRECT(\"'Voksen \"&A312&\"'!$H$31\",TRUE)),\"\",INDIRECT(\"'Voksen \"&A312&\"'!$H$31\",TRUE)),2)","v":{"$error":"#VALUE!"}},{"$f":"COUNTIF(IF(ISERROR(INDIRECT(\"'Voksen \"&A312&\"'!$H$41\",TRUE)),\"\",INDIRECT(\"'Voksen \"&A312&\"'!$H$41\",TRUE)),2)","v":{"$error":"#VALUE!"}},{"$f":"COUNTIF(IF(ISERROR(INDIRECT(\"'Voksen \"&A312&\"'!$H$50\",TRUE)),\"\",INDIRECT(\"'Voksen \"&A312&\"'!$H$50\",TRUE)),2)","v":{"$error":"#VALUE!"}},{"$f":"COUNTIF(IF(ISERROR(INDIRECT(\"'Voksen \"&A312&\"'!$H$58\",TRUE)),\"\",INDIRECT(\"'Voksen \"&A312&\"'!$H$58\",TRUE)),2)","v":{"$error":"#VALUE!"}},{"$f":"COUNTIF(IF(ISERROR(INDIRECT(\"'Voksen \"&A312&\"'!$H$69\",TRUE)),\"\",INDIRECT(\"'Voksen \"&A312&\"'!$H$69\",TRUE)),2)","v":{"$error":"#VALUE!"}},{"$f":"COUNTIF(IF(ISERROR(INDIRECT(\"'Voksen \"&A312&\"'!$H$77\",TRUE)),\"\",INDIRECT(\"'Voksen \"&A312&\"'!$H$77\",TRUE)),2)","v":{"$error":"#VALUE!"}},null,null,{"$f":"COUNTIF(IF(ISERROR(INDIRECT(\"'Børn \"&A312&\"'!$H$31\",TRUE)),\"\",INDIRECT(\"'Børn \"&A312&\"'!$H$31\",TRUE)),2)","v":{"$error":"#VALUE!"}},{"$f":"COUNTIF(IF(ISERROR(INDIRECT(\"'Børn \"&A312&\"'!$H$44\",TRUE)),\"\",INDIRECT(\"'Børn \"&A312&\"'!$H$44\",TRUE)),2)","v":{"$error":"#VALUE!"}},{"$f":"COUNTIF(IF(ISERROR(INDIRECT(\"'Børn \"&A312&\"'!$H$53\",TRUE)),\"\",INDIRECT(\"'Børn \"&A312&\"'!$H$53\",TRUE)),2)","v":{"$error":"#VALUE!"}},{"$f":"COUNTIF(IF(ISERROR(INDIRECT(\"'Børn \"&A312&\"'!$H$61\",TRUE)),\"\",INDIRECT(\"'Børn \"&A312&\"'!$H$61\",TRUE)),2)","v":{"$error":"#VALUE!"}},{"$f":"COUNTIF(IF(ISERROR(INDIRECT(\"'Børn \"&A312&\"'!$H$68\",TRUE)),\"\",INDIRECT(\"'Børn \"&A312&\"'!$H$68\",TRUE)),2)","v":{"$error":"#VALUE!"}},{"$f":"COUNTIF(IF(ISERROR(INDIRECT(\"'Børn \"&A312&\"'!$H$79\",TRUE)),\"\",INDIRECT(\"'Børn \"&A312&\"'!$H$79\",TRUE)),2)","v":{"$error":"#VALUE!"}},{"$f":"COUNTIF(IF(ISERROR(INDIRECT(\"'Børn \"&A312&\"'!$H$87\",TRUE)),\"\",INDIRECT(\"'Børn \"&A312&\"'!$H$87\",TRUE)),2)","v":{"$error":"#VALUE!"}}]
["Tilsyn 84","Status:  rød",{"$f":"COUNTIF(IF(ISERROR(INDIRECT(\"'Voksen \"&A313&\"'!$H$31\",TRUE)),\"\",INDIRECT(\"'Voksen \"&A313&\"'!$H$31\",TRUE)),3)","v":{"$error":"#VALUE!"}},{"$f":"COUNTIF(IF(ISERROR(INDIRECT(\"'Voksen \"&A313&\"'!$H$41\",TRUE)),\"\",INDIRECT(\"'Voksen \"&A313&\"'!$H$41\",TRUE)),3)","v":{"$error":"#VALUE!"}},{"$f":"COUNTIF(IF(ISERROR(INDIRECT(\"'Voksen \"&A313&\"'!$H$50\",TRUE)),\"\",INDIRECT(\"'Voksen \"&A313&\"'!$H$50\",TRUE)),3)","v":{"$error":"#VALUE!"}},{"$f":"COUNTIF(IF(ISERROR(INDIRECT(\"'Voksen \"&A313&\"'!$H$58\",TRUE)),\"\",INDIRECT(\"'Voksen \"&A313&\"'!$H$58\",TRUE)),3)","v":{"$error":"#VALUE!"}},{"$f":"COUNTIF(IF(ISERROR(INDIRECT(\"'Voksen \"&A313&\"'!$H$69\",TRUE)),\"\",INDIRECT(\"'Voksen \"&A313&\"'!$H$69\",TRUE)),3)","v":{"$error":"#VALUE!"}},{"$f":"COUNTIF(IF(ISERROR(INDIRECT(\"'Voksen \"&A313&\"'!$H$77\",TRUE)),\"\",INDIRECT(\"'Voksen \"&A313&\"'!$H$77\",TRUE)),3)","v":{"$error":"#VALUE!"}},null,null,{"$f":"COUNTIF(IF(ISERROR(INDIRECT(\"'Børn \"&A313&\"'!$H$31\",TRUE)),\"\",INDIRECT(\"'Børn \"&A313&\"'!$H$31\",TRUE)),3)","v":{"$error":"#VALUE!"}},{"$f":"COUNTIF(IF(ISERROR(INDIRECT(\"'Børn \"&A313&\"'!$H$44\",TRUE)),\"\",INDIRECT(\"'Børn \"&A313&\"'!$H$44\",TRUE)),3)","v":{"$error":"#VALUE!"}},{"$f":"COUNTIF(IF(ISERROR(INDIRECT(\"'Børn \"&A313&\"'!$H$53\",TRUE)),\"\",INDIRECT(\"'Børn \"&A313&\"'!$H$53\",TRUE)),3)","v":{"$error":"#VALUE!"}},{"$f":"COUNTIF(IF(ISERROR(INDIRECT(\"'Børn \"&A313&\"'!$H$61\",TRUE)),\"\",INDIRECT(\"'Børn \"&A313&\"'!$H$61\",TRUE)),3)","v":{"$error":"#VALUE!"}},{"$f":"COUNTIF(IF(ISERROR(INDIRECT(\"'Børn \"&A313&\"'!$H$68\",TRUE)),\"\",INDIRECT(\"'Børn \"&A313&\"'!$H$68\",TRUE)),3)","v":{"$error":"#VALUE!"}},{"$f":"COUNTIF(IF(ISERROR(INDIRECT(\"'Børn \"&A313&\"'!$H$79\",TRUE)),\"\",INDIRECT(\"'Børn \"&A313&\"'!$H$79\",TRUE)),3)","v":{"$error":"#VALUE!"}},{"$f":"COUNTIF(IF(ISERROR(INDIRECT(\"'Børn \"&A313&\"'!$H$87\",TRUE)),\"\",INDIRECT(\"'Børn \"&A313&\"'!$H$87\",TRUE)),3)","v":{"$error":"#VALUE!"}}]
["Tilsyn 85","Status:  grøn",{"$f":"COUNTIF(IF(ISERROR(INDIRECT(\"'Voksen \"&A314&\"'!$H$31\",TRUE)),\"\",INDIRECT(\"'Voksen \"&A314&\"'!$H$31\",TRUE)),1)","v":{"$error":"#VALUE!"}},{"$f":"COUNTIF(IF(ISERROR(INDIRECT(\"'Voksen \"&A314&\"'!$H$41\",TRUE)),\"\",INDIRECT(\"'Voksen \"&A314&\"'!$H$41\",TRUE)),1)","v":{"$error":"#VALUE!"}},{"$f":"COUNTIF(IF(ISERROR(INDIRECT(\"'Voksen \"&A314&\"'!$H$50\",TRUE)),\"\",INDIRECT(\"'Voksen \"&A314&\"'!$H$50\",TRUE)),1)","v":{"$error":"#VALUE!"}},{"$f":"COUNTIF(IF(ISERROR(INDIRECT(\"'Voksen \"&A314&\"'!$H$58\",TRUE)),\"\",INDIRECT(\"'Voksen \"&A314&\"'!$H$58\",TRUE)),1)","v":{"$error":"#VALUE!"}},{"$f":"COUNTIF(IF(ISERROR(INDIRECT(\"'Voksen \"&A314&\"'!$H$69\",TRUE)),\"\",INDIRECT(\"'Voksen \"&A314&\"'!$H$69\",TRUE)),1)","v":{"$error":"#VALUE!"}},{"$f":"COUNTIF(IF(ISERROR(INDIRECT(\"'Voksen \"&A314&\"'!$H$77\",TRUE)),\"\",INDIRECT(\"'Voksen \"&A314&\"'!$H$77\",TRUE)),1)","v":{"$error":"#VALUE!"}},null,null,{"$f":"COUNTIF(IF(ISERROR(INDIRECT(\"'Børn \"&A314&\"'!$H$31\",TRUE)),\"\",INDIRECT(\"'Børn \"&A314&\"'!$H$31\",TRUE)),1)","v":{"$error":"#VALUE!"}},{"$f":"COUNTIF(IF(ISERROR(INDIRECT(\"'Børn \"&A314&\"'!$H$44\",TRUE)),\"\",INDIRECT(\"'Børn \"&A314&\"'!$H$44\",TRUE)),1)","v":{"$error":"#VALUE!"}},{"$f":"COUNTIF(IF(ISERROR(INDIRECT(\"'Børn \"&A314&\"'!$H$53\",TRUE)),\"\",INDIRECT(\"'Børn \"&A314&\"'!$H$53\",TRUE)),1)","v":{"$error":"#VALUE!"}},{"$f":"COUNTIF(IF(ISERROR(INDIRECT(\"'Børn \"&A314&\"'!$H$61\",TRUE)),\"\",INDIRECT(\"'Børn \"&A314&\"'!$H$61\",TRUE)),1)","v":{"$error":"#VALUE!"}},{"$f":"COUNTIF(IF(ISERROR(INDIRECT(\"'Børn \"&A314&\"'!$H$68\",TRUE)),\"\",INDIRECT(\"'Børn \"&A314&\"'!$H$68\",TRUE)),1)","v":{"$error":"#VALUE!"}},{"$f":"COUNTIF(IF(ISERROR(INDIRECT(\"'Børn \"&A314&\"'!$H$79\",TRUE)),\"\",INDIRECT(\"'Børn \"&A314&\"'!$H$79\",TRUE)),1)","v":{"$error":"#VALUE!"}},{"$f":"COUNTIF(IF(ISERROR(INDIRECT(\"'Børn \"&A314&\"'!$H$87\",TRUE)),\"\",INDIRECT(\"'Børn \"&A314&\"'!$H$87\",TRUE)),1)","v":{"$error":"#VALUE!"}}]
["Tilsyn 85","Status:  gul",{"$f":"COUNTIF(IF(ISERROR(INDIRECT(\"'Voksen \"&A315&\"'!$H$31\",TRUE)),\"\",INDIRECT(\"'Voksen \"&A315&\"'!$H$31\",TRUE)),2)","v":{"$error":"#VALUE!"}},{"$f":"COUNTIF(IF(ISERROR(INDIRECT(\"'Voksen \"&A315&\"'!$H$41\",TRUE)),\"\",INDIRECT(\"'Voksen \"&A315&\"'!$H$41\",TRUE)),2)","v":{"$error":"#VALUE!"}},{"$f":"COUNTIF(IF(ISERROR(INDIRECT(\"'Voksen \"&A315&\"'!$H$50\",TRUE)),\"\",INDIRECT(\"'Voksen \"&A315&\"'!$H$50\",TRUE)),2)","v":{"$error":"#VALUE!"}},{"$f":"COUNTIF(IF(ISERROR(INDIRECT(\"'Voksen \"&A315&\"'!$H$58\",TRUE)),\"\",INDIRECT(\"'Voksen \"&A315&\"'!$H$58\",TRUE)),2)","v":{"$error":"#VALUE!"}},{"$f":"COUNTIF(IF(ISERROR(INDIRECT(\"'Voksen \"&A315&\"'!$H$69\",TRUE)),\"\",INDIRECT(\"'Voksen \"&A315&\"'!$H$69\",TRUE)),2)","v":{"$error":"#VALUE!"}},{"$f":"COUNTIF(IF(ISERROR(INDIRECT(\"'Voksen \"&A315&\"'!$H$77\",TRUE)),\"\",INDIRECT(\"'Voksen \"&A315&\"'!$H$77\",TRUE)),2)","v":{"$error":"#VALUE!"}},null,null,{"$f":"COUNTIF(IF(ISERROR(INDIRECT(\"'Børn \"&A315&\"'!$H$31\",TRUE)),\"\",INDIRECT(\"'Børn \"&A315&\"'!$H$31\",TRUE)),2)","v":{"$error":"#VALUE!"}},{"$f":"COUNTIF(IF(ISERROR(INDIRECT(\"'Børn \"&A315&\"'!$H$44\",TRUE)),\"\",INDIRECT(\"'Børn \"&A315&\"'!$H$44\",TRUE)),2)","v":{"$error":"#VALUE!"}},{"$f":"COUNTIF(IF(ISERROR(INDIRECT(\"'Børn \"&A315&\"'!$H$53\",TRUE)),\"\",INDIRECT(\"'Børn \"&A315&\"'!$H$53\",TRUE)),2)","v":{"$error":"#VALUE!"}},{"$f":"COUNTIF(IF(ISERROR(INDIRECT(\"'Børn \"&A315&\"'!$H$61\",TRUE)),\"\",INDIRECT(\"'Børn \"&A315&\"'!$H$61\",TRUE)),2)","v":{"$error":"#VALUE!"}},{"$f":"COUNTIF(IF(ISERROR(INDIRECT(\"'Børn \"&A315&\"'!$H$68\",TRUE)),\"\",INDIRECT(\"'Børn \"&A315&\"'!$H$68\",TRUE)),2)","v":{"$error":"#VALUE!"}},{"$f":"COUNTIF(IF(ISERROR(INDIRECT(\"'Børn \"&A315&\"'!$H$79\",TRUE)),\"\",INDIRECT(\"'Børn \"&A315&\"'!$H$79\",TRUE)),2)","v":{"$error":"#VALUE!"}},{"$f":"COUNTIF(IF(ISERROR(INDIRECT(\"'Børn \"&A315&\"'!$H$87\",TRUE)),\"\",INDIRECT(\"'Børn \"&A315&\"'!$H$87\",TRUE)),2)","v":{"$error":"#VALUE!"}}]
["Tilsyn 85","Status:  rød",{"$f":"COUNTIF(IF(ISERROR(INDIRECT(\"'Voksen \"&A316&\"'!$H$31\",TRUE)),\"\",INDIRECT(\"'Voksen \"&A316&\"'!$H$31\",TRUE)),3)","v":{"$error":"#VALUE!"}},{"$f":"COUNTIF(IF(ISERROR(INDIRECT(\"'Voksen \"&A316&\"'!$H$41\",TRUE)),\"\",INDIRECT(\"'Voksen \"&A316&\"'!$H$41\",TRUE)),3)","v":{"$error":"#VALUE!"}},{"$f":"COUNTIF(IF(ISERROR(INDIRECT(\"'Voksen \"&A316&\"'!$H$50\",TRUE)),\"\",INDIRECT(\"'Voksen \"&A316&\"'!$H$50\",TRUE)),3)","v":{"$error":"#VALUE!"}},{"$f":"COUNTIF(IF(ISERROR(INDIRECT(\"'Voksen \"&A316&\"'!$H$58\",TRUE)),\"\",INDIRECT(\"'Voksen \"&A316&\"'!$H$58\",TRUE)),3)","v":{"$error":"#VALUE!"}},{"$f":"COUNTIF(IF(ISERROR(INDIRECT(\"'Voksen \"&A316&\"'!$H$69\",TRUE)),\"\",INDIRECT(\"'Voksen \"&A316&\"'!$H$69\",TRUE)),3)","v":{"$error":"#VALUE!"}},{"$f":"COUNTIF(IF(ISERROR(INDIRECT(\"'Voksen \"&A316&\"'!$H$77\",TRUE)),\"\",INDIRECT(\"'Voksen \"&A316&\"'!$H$77\",TRUE)),3)","v":{"$error":"#VALUE!"}},null,null,{"$f":"COUNTIF(IF(ISERROR(INDIRECT(\"'Børn \"&A316&\"'!$H$31\",TRUE)),\"\",INDIRECT(\"'Børn \"&A316&\"'!$H$31\",TRUE)),3)","v":{"$error":"#VALUE!"}},{"$f":"COUNTIF(IF(ISERROR(INDIRECT(\"'Børn \"&A316&\"'!$H$44\",TRUE)),\"\",INDIRECT(\"'Børn \"&A316&\"'!$H$44\",TRUE)),3)","v":{"$error":"#VALUE!"}},{"$f":"COUNTIF(IF(ISERROR(INDIRECT(\"'Børn \"&A316&\"'!$H$53\",TRUE)),\"\",INDIRECT(\"'Børn \"&A316&\"'!$H$53\",TRUE)),3)","v":{"$error":"#VALUE!"}},{"$f":"COUNTIF(IF(ISERROR(INDIRECT(\"'Børn \"&A316&\"'!$H$61\",TRUE)),\"\",INDIRECT(\"'Børn \"&A316&\"'!$H$61\",TRUE)),3)","v":{"$error":"#VALUE!"}},{"$f":"COUNTIF(IF(ISERROR(INDIRECT(\"'Børn \"&A316&\"'!$H$68\",TRUE)),\"\",INDIRECT(\"'Børn \"&A316&\"'!$H$68\",TRUE)),3)","v":{"$error":"#VALUE!"}},{"$f":"COUNTIF(IF(ISERROR(INDIRECT(\"'Børn \"&A316&\"'!$H$79\",TRUE)),\"\",INDIRECT(\"'Børn \"&A316&\"'!$H$79\",TRUE)),3)","v":{"$error":"#VALUE!"}},{"$f":"COUNTIF(IF(ISERROR(INDIRECT(\"'Børn \"&A316&\"'!$H$87\",TRUE)),\"\",INDIRECT(\"'Børn \"&A316&\"'!$H$87\",TRUE)),3)","v":{"$error":"#VALUE!"}}]
["Tilsyn 86","Status:  grøn",{"$f":"COUNTIF(IF(ISERROR(INDIRECT(\"'Voksen \"&A317&\"'!$H$31\",TRUE)),\"\",INDIRECT(\"'Voksen \"&A317&\"'!$H$31\",TRUE)),1)","v":{"$error":"#VALUE!"}},{"$f":"COUNTIF(IF(ISERROR(INDIRECT(\"'Voksen \"&A317&\"'!$H$41\",TRUE)),\"\",INDIRECT(\"'Voksen \"&A317&\"'!$H$41\",TRUE)),1)","v":{"$error":"#VALUE!"}},{"$f":"COUNTIF(IF(ISERROR(INDIRECT(\"'Voksen \"&A317&\"'!$H$50\",TRUE)),\"\",INDIRECT(\"'Voksen \"&A317&\"'!$H$50\",TRUE)),1)","v":{"$error":"#VALUE!"}},{"$f":"COUNTIF(IF(ISERROR(INDIRECT(\"'Voksen \"&A317&\"'!$H$58\",TRUE)),\"\",INDIRECT(\"'Voksen \"&A317&\"'!$H$58\",TRUE)),1)","v":{"$error":"#VALUE!"}},{"$f":"COUNTIF(IF(ISERROR(INDIRECT(\"'Voksen \"&A317&\"'!$H$69\",TRUE)),\"\",INDIRECT(\"'Voksen \"&A317&\"'!$H$69\",TRUE)),1)","v":{"$error":"#VALUE!"}},{"$f":"COUNTIF(IF(ISERROR(INDIRECT(\"'Voksen \"&A317&\"'!$H$77\",TRUE)),\"\",INDIRECT(\"'Voksen \"&A317&\"'!$H$77\",TRUE)),1)","v":{"$error":"#VALUE!"}},null,null,{"$f":"COUNTIF(IF(ISERROR(INDIRECT(\"'Børn \"&A317&\"'!$H$31\",TRUE)),\"\",INDIRECT(\"'Børn \"&A317&\"'!$H$31\",TRUE)),1)","v":{"$error":"#VALUE!"}},{"$f":"COUNTIF(IF(ISERROR(INDIRECT(\"'Børn \"&A317&\"'!$H$44\",TRUE)),\"\",INDIRECT(\"'Børn \"&A317&\"'!$H$44\",TRUE)),1)","v":{"$error":"#VALUE!"}},{"$f":"COUNTIF(IF(ISERROR(INDIRECT(\"'Børn \"&A317&\"'!$H$53\",TRUE)),\"\",INDIRECT(\"'Børn \"&A317&\"'!$H$53\",TRUE)),1)","v":{"$error":"#VALUE!"}},{"$f":"COUNTIF(IF(ISERROR(INDIRECT(\"'Børn \"&A317&\"'!$H$61\",TRUE)),\"\",INDIRECT(\"'Børn \"&A317&\"'!$H$61\",TRUE)),1)","v":{"$error":"#VALUE!"}},{"$f":"COUNTIF(IF(ISERROR(INDIRECT(\"'Børn \"&A317&\"'!$H$68\",TRUE)),\"\",INDIRECT(\"'Børn \"&A317&\"'!$H$68\",TRUE)),1)","v":{"$error":"#VALUE!"}},{"$f":"COUNTIF(IF(ISERROR(INDIRECT(\"'Børn \"&A317&\"'!$H$79\",TRUE)),\"\",INDIRECT(\"'Børn \"&A317&\"'!$H$79\",TRUE)),1)","v":{"$error":"#VALUE!"}},{"$f":"COUNTIF(IF(ISERROR(INDIRECT(\"'Børn \"&A317&\"'!$H$87\",TRUE)),\"\",INDIRECT(\"'Børn \"&A317&\"'!$H$87\",TRUE)),1)","v":{"$error":"#VALUE!"}}]
["Tilsyn 86","Status:  gul",{"$f":"COUNTIF(IF(ISERROR(INDIRECT(\"'Voksen \"&A318&\"'!$H$31\",TRUE)),\"\",INDIRECT(\"'Voksen \"&A318&\"'!$H$31\",TRUE)),2)","v":{"$error":"#VALUE!"}},{"$f":"COUNTIF(IF(ISERROR(INDIRECT(\"'Voksen \"&A318&\"'!$H$41\",TRUE)),\"\",INDIRECT(\"'Voksen \"&A318&\"'!$H$41\",TRUE)),2)","v":{"$error":"#VALUE!"}},{"$f":"COUNTIF(IF(ISERROR(INDIRECT(\"'Voksen \"&A318&\"'!$H$50\",TRUE)),\"\",INDIRECT(\"'Voksen \"&A318&\"'!$H$50\",TRUE)),2)","v":{"$error":"#VALUE!"}},{"$f":"COUNTIF(IF(ISERROR(INDIRECT(\"'Voksen \"&A318&\"'!$H$58\",TRUE)),\"\",INDIRECT(\"'Voksen \"&A318&\"'!$H$58\",TRUE)),2)","v":{"$error":"#VALUE!"}},{"$f":"COUNTIF(IF(ISERROR(INDIRECT(\"'Voksen \"&A318&\"'!$H$69\",TRUE)),\"\",INDIRECT(\"'Voksen \"&A318&\"'!$H$69\",TRUE)),2)","v":{"$error":"#VALUE!"}},{"$f":"COUNTIF(IF(ISERROR(INDIRECT(\"'Voksen \"&A318&\"'!$H$77\",TRUE)),\"\",INDIRECT(\"'Voksen \"&A318&\"'!$H$77\",TRUE)),2)","v":{"$error":"#VALUE!"}},null,null,{"$f":"COUNTIF(IF(ISERROR(INDIRECT(\"'Børn \"&A318&\"'!$H$31\",TRUE)),\"\",INDIRECT(\"'Børn \"&A318&\"'!$H$31\",TRUE)),2)","v":{"$error":"#VALUE!"}},{"$f":"COUNTIF(IF(ISERROR(INDIRECT(\"'Børn \"&A318&\"'!$H$44\",TRUE)),\"\",INDIRECT(\"'Børn \"&A318&\"'!$H$44\",TRUE)),2)","v":{"$error":"#VALUE!"}},{"$f":"COUNTIF(IF(ISERROR(INDIRECT(\"'Børn \"&A318&\"'!$H$53\",TRUE)),\"\",INDIRECT(\"'Børn \"&A318&\"'!$H$53\",TRUE)),2)","v":{"$error":"#VALUE!"}},{"$f":"COUNTIF(IF(ISERROR(INDIRECT(\"'Børn \"&A318&\"'!$H$61\",TRUE)),\"\",INDIRECT(\"'Børn \"&A318&\"'!$H$61\",TRUE)),2)","v":{"$error":"#VALUE!"}},{"$f":"COUNTIF(IF(ISERROR(INDIRECT(\"'Børn \"&A318&\"'!$H$68\",TRUE)),\"\",INDIRECT(\"'Børn \"&A318&\"'!$H$68\",TRUE)),2)","v":{"$error":"#VALUE!"}},{"$f":"COUNTIF(IF(ISERROR(INDIRECT(\"'Børn \"&A318&\"'!$H$79\",TRUE)),\"\",INDIRECT(\"'Børn \"&A318&\"'!$H$79\",TRUE)),2)","v":{"$error":"#VALUE!"}},{"$f":"COUNTIF(IF(ISERROR(INDIRECT(\"'Børn \"&A318&\"'!$H$87\",TRUE)),\"\",INDIRECT(\"'Børn \"&A318&\"'!$H$87\",TRUE)),2)","v":{"$error":"#VALUE!"}}]
["Tilsyn 86","Status:  rød",{"$f":"COUNTIF(IF(ISERROR(INDIRECT(\"'Voksen \"&A319&\"'!$H$31\",TRUE)),\"\",INDIRECT(\"'Voksen \"&A319&\"'!$H$31\",TRUE)),3)","v":{"$error":"#VALUE!"}},{"$f":"COUNTIF(IF(ISERROR(INDIRECT(\"'Voksen \"&A319&\"'!$H$41\",TRUE)),\"\",INDIRECT(\"'Voksen \"&A319&\"'!$H$41\",TRUE)),3)","v":{"$error":"#VALUE!"}},{"$f":"COUNTIF(IF(ISERROR(INDIRECT(\"'Voksen \"&A319&\"'!$H$50\",TRUE)),\"\",INDIRECT(\"'Voksen \"&A319&\"'!$H$50\",TRUE)),3)","v":{"$error":"#VALUE!"}},{"$f":"COUNTIF(IF(ISERROR(INDIRECT(\"'Voksen \"&A319&\"'!$H$58\",TRUE)),\"\",INDIRECT(\"'Voksen \"&A319&\"'!$H$58\",TRUE)),3)","v":{"$error":"#VALUE!"}},{"$f":"COUNTIF(IF(ISERROR(INDIRECT(\"'Voksen \"&A319&\"'!$H$69\",TRUE)),\"\",INDIRECT(\"'Voksen \"&A319&\"'!$H$69\",TRUE)),3)","v":{"$error":"#VALUE!"}},{"$f":"COUNTIF(IF(ISERROR(INDIRECT(\"'Voksen \"&A319&\"'!$H$77\",TRUE)),\"\",INDIRECT(\"'Voksen \"&A319&\"'!$H$77\",TRUE)),3)","v":{"$error":"#VALUE!"}},null,null,{"$f":"COUNTIF(IF(ISERROR(INDIRECT(\"'Børn \"&A319&\"'!$H$31\",TRUE)),\"\",INDIRECT(\"'Børn \"&A319&\"'!$H$31\",TRUE)),3)","v":{"$error":"#VALUE!"}},{"$f":"COUNTIF(IF(ISERROR(INDIRECT(\"'Børn \"&A319&\"'!$H$44\",TRUE)),\"\",INDIRECT(\"'Børn \"&A319&\"'!$H$44\",TRUE)),3)","v":{"$error":"#VALUE!"}},{"$f":"COUNTIF(IF(ISERROR(INDIRECT(\"'Børn \"&A319&\"'!$H$53\",TRUE)),\"\",INDIRECT(\"'Børn \"&A319&\"'!$H$53\",TRUE)),3)","v":{"$error":"#VALUE!"}},{"$f":"COUNTIF(IF(ISERROR(INDIRECT(\"'Børn \"&A319&\"'!$H$61\",TRUE)),\"\",INDIRECT(\"'Børn \"&A319&\"'!$H$61\",TRUE)),3)","v":{"$error":"#VALUE!"}},{"$f":"COUNTIF(IF(ISERROR(INDIRECT(\"'Børn \"&A319&\"'!$H$68\",TRUE)),\"\",INDIRECT(\"'Børn \"&A319&\"'!$H$68\",TRUE)),3)","v":{"$error":"#VALUE!"}},{"$f":"COUNTIF(IF(ISERROR(INDIRECT(\"'Børn \"&A319&\"'!$H$79\",TRUE)),\"\",INDIRECT(\"'Børn \"&A319&\"'!$H$79\",TRUE)),3)","v":{"$error":"#VALUE!"}},{"$f":"COUNTIF(IF(ISERROR(INDIRECT(\"'Børn \"&A319&\"'!$H$87\",TRUE)),\"\",INDIRECT(\"'Børn \"&A319&\"'!$H$87\",TRUE)),3)","v":{"$error":"#VALUE!"}}]
["Tilsyn 87","Status:  grøn",{"$f":"COUNTIF(IF(ISERROR(INDIRECT(\"'Voksen \"&A320&\"'!$H$31\",TRUE)),\"\",INDIRECT(\"'Voksen \"&A320&\"'!$H$31\",TRUE)),1)","v":{"$error":"#VALUE!"}},{"$f":"COUNTIF(IF(ISERROR(INDIRECT(\"'Voksen \"&A320&\"'!$H$41\",TRUE)),\"\",INDIRECT(\"'Voksen \"&A320&\"'!$H$41\",TRUE)),1)","v":{"$error":"#VALUE!"}},{"$f":"COUNTIF(IF(ISERROR(INDIRECT(\"'Voksen \"&A320&\"'!$H$50\",TRUE)),\"\",INDIRECT(\"'Voksen \"&A320&\"'!$H$50\",TRUE)),1)","v":{"$error":"#VALUE!"}},{"$f":"COUNTIF(IF(ISERROR(INDIRECT(\"'Voksen \"&A320&\"'!$H$58\",TRUE)),\"\",INDIRECT(\"'Voksen \"&A320&\"'!$H$58\",TRUE)),1)","v":{"$error":"#VALUE!"}},{"$f":"COUNTIF(IF(ISERROR(INDIRECT(\"'Voksen \"&A320&\"'!$H$69\",TRUE)),\"\",INDIRECT(\"'Voksen \"&A320&\"'!$H$69\",TRUE)),1)","v":{"$error":"#VALUE!"}},{"$f":"COUNTIF(IF(ISERROR(INDIRECT(\"'Voksen \"&A320&\"'!$H$77\",TRUE)),\"\",INDIRECT(\"'Voksen \"&A320&\"'!$H$77\",TRUE)),1)","v":{"$error":"#VALUE!"}},null,null,{"$f":"COUNTIF(IF(ISERROR(INDIRECT(\"'Børn \"&A320&\"'!$H$31\",TRUE)),\"\",INDIRECT(\"'Børn \"&A320&\"'!$H$31\",TRUE)),1)","v":{"$error":"#VALUE!"}},{"$f":"COUNTIF(IF(ISERROR(INDIRECT(\"'Børn \"&A320&\"'!$H$44\",TRUE)),\"\",INDIRECT(\"'Børn \"&A320&\"'!$H$44\",TRUE)),1)","v":{"$error":"#VALUE!"}},{"$f":"COUNTIF(IF(ISERROR(INDIRECT(\"'Børn \"&A320&\"'!$H$53\",TRUE)),\"\",INDIRECT(\"'Børn \"&A320&\"'!$H$53\",TRUE)),1)","v":{"$error":"#VALUE!"}},{"$f":"COUNTIF(IF(ISERROR(INDIRECT(\"'Børn \"&A320&\"'!$H$61\",TRUE)),\"\",INDIRECT(\"'Børn \"&A320&\"'!$H$61\",TRUE)),1)","v":{"$error":"#VALUE!"}},{"$f":"COUNTIF(IF(ISERROR(INDIRECT(\"'Børn \"&A320&\"'!$H$68\",TRUE)),\"\",INDIRECT(\"'Børn \"&A320&\"'!$H$68\",TRUE)),1)","v":{"$error":"#VALUE!"}},{"$f":"COUNTIF(IF(ISERROR(INDIRECT(\"'Børn \"&A320&\"'!$H$79\",TRUE)),\"\",INDIRECT(\"'Børn \"&A320&\"'!$H$79\",TRUE)),1)","v":{"$error":"#VALUE!"}},{"$f":"COUNTIF(IF(ISERROR(INDIRECT(\"'Børn \"&A320&\"'!$H$87\",TRUE)),\"\",INDIRECT(\"'Børn \"&A320&\"'!$H$87\",TRUE)),1)","v":{"$error":"#VALUE!"}}]
["Tilsyn 87","Status:  gul",{"$f":"COUNTIF(IF(ISERROR(INDIRECT(\"'Voksen \"&A321&\"'!$H$31\",TRUE)),\"\",INDIRECT(\"'Voksen \"&A321&\"'!$H$31\",TRUE)),2)","v":{"$error":"#VALUE!"}},{"$f":"COUNTIF(IF(ISERROR(INDIRECT(\"'Voksen \"&A321&\"'!$H$41\",TRUE)),\"\",INDIRECT(\"'Voksen \"&A321&\"'!$H$41\",TRUE)),2)","v":{"$error":"#VALUE!"}},{"$f":"COUNTIF(IF(ISERROR(INDIRECT(\"'Voksen \"&A321&\"'!$H$50\",TRUE)),\"\",INDIRECT(\"'Voksen \"&A321&\"'!$H$50\",TRUE)),2)","v":{"$error":"#VALUE!"}},{"$f":"COUNTIF(IF(ISERROR(INDIRECT(\"'Voksen \"&A321&\"'!$H$58\",TRUE)),\"\",INDIRECT(\"'Voksen \"&A321&\"'!$H$58\",TRUE)),2)","v":{"$error":"#VALUE!"}},{"$f":"COUNTIF(IF(ISERROR(INDIRECT(\"'Voksen \"&A321&\"'!$H$69\",TRUE)),\"\",INDIRECT(\"'Voksen \"&A321&\"'!$H$69\",TRUE)),2)","v":{"$error":"#VALUE!"}},{"$f":"COUNTIF(IF(ISERROR(INDIRECT(\"'Voksen \"&A321&\"'!$H$77\",TRUE)),\"\",INDIRECT(\"'Voksen \"&A321&\"'!$H$77\",TRUE)),2)","v":{"$error":"#VALUE!"}},null,null,{"$f":"COUNTIF(IF(ISERROR(INDIRECT(\"'Børn \"&A321&\"'!$H$31\",TRUE)),\"\",INDIRECT(\"'Børn \"&A321&\"'!$H$31\",TRUE)),2)","v":{"$error":"#VALUE!"}},{"$f":"COUNTIF(IF(ISERROR(INDIRECT(\"'Børn \"&A321&\"'!$H$44\",TRUE)),\"\",INDIRECT(\"'Børn \"&A321&\"'!$H$44\",TRUE)),2)","v":{"$error":"#VALUE!"}},{"$f":"COUNTIF(IF(ISERROR(INDIRECT(\"'Børn \"&A321&\"'!$H$53\",TRUE)),\"\",INDIRECT(\"'Børn \"&A321&\"'!$H$53\",TRUE)),2)","v":{"$error":"#VALUE!"}},{"$f":"COUNTIF(IF(ISERROR(INDIRECT(\"'Børn \"&A321&\"'!$H$61\",TRUE)),\"\",INDIRECT(\"'Børn \"&A321&\"'!$H$61\",TRUE)),2)","v":{"$error":"#VALUE!"}},{"$f":"COUNTIF(IF(ISERROR(INDIRECT(\"'Børn \"&A321&\"'!$H$68\",TRUE)),\"\",INDIRECT(\"'Børn \"&A321&\"'!$H$68\",TRUE)),2)","v":{"$error":"#VALUE!"}},{"$f":"COUNTIF(IF(ISERROR(INDIRECT(\"'Børn \"&A321&\"'!$H$79\",TRUE)),\"\",INDIRECT(\"'Børn \"&A321&\"'!$H$79\",TRUE)),2)","v":{"$error":"#VALUE!"}},{"$f":"COUNTIF(IF(ISERROR(INDIRECT(\"'Børn \"&A321&\"'!$H$87\",TRUE)),\"\",INDIRECT(\"'Børn \"&A321&\"'!$H$87\",TRUE)),2)","v":{"$error":"#VALUE!"}}]
["Tilsyn 87","Status:  rød",{"$f":"COUNTIF(IF(ISERROR(INDIRECT(\"'Voksen \"&A322&\"'!$H$31\",TRUE)),\"\",INDIRECT(\"'Voksen \"&A322&\"'!$H$31\",TRUE)),3)","v":{"$error":"#VALUE!"}},{"$f":"COUNTIF(IF(ISERROR(INDIRECT(\"'Voksen \"&A322&\"'!$H$41\",TRUE)),\"\",INDIRECT(\"'Voksen \"&A322&\"'!$H$41\",TRUE)),3)","v":{"$error":"#VALUE!"}},{"$f":"COUNTIF(IF(ISERROR(INDIRECT(\"'Voksen \"&A322&\"'!$H$50\",TRUE)),\"\",INDIRECT(\"'Voksen \"&A322&\"'!$H$50\",TRUE)),3)","v":{"$error":"#VALUE!"}},{"$f":"COUNTIF(IF(ISERROR(INDIRECT(\"'Voksen \"&A322&\"'!$H$58\",TRUE)),\"\",INDIRECT(\"'Voksen \"&A322&\"'!$H$58\",TRUE)),3)","v":{"$error":"#VALUE!"}},{"$f":"COUNTIF(IF(ISERROR(INDIRECT(\"'Voksen \"&A322&\"'!$H$69\",TRUE)),\"\",INDIRECT(\"'Voksen \"&A322&\"'!$H$69\",TRUE)),3)","v":{"$error":"#VALUE!"}},{"$f":"COUNTIF(IF(ISERROR(INDIRECT(\"'Voksen \"&A322&\"'!$H$77\",TRUE)),\"\",INDIRECT(\"'Voksen \"&A322&\"'!$H$77\",TRUE)),3)","v":{"$error":"#VALUE!"}},null,null,{"$f":"COUNTIF(IF(ISERROR(INDIRECT(\"'Børn \"&A322&\"'!$H$31\",TRUE)),\"\",INDIRECT(\"'Børn \"&A322&\"'!$H$31\",TRUE)),3)","v":{"$error":"#VALUE!"}},{"$f":"COUNTIF(IF(ISERROR(INDIRECT(\"'Børn \"&A322&\"'!$H$44\",TRUE)),\"\",INDIRECT(\"'Børn \"&A322&\"'!$H$44\",TRUE)),3)","v":{"$error":"#VALUE!"}},{"$f":"COUNTIF(IF(ISERROR(INDIRECT(\"'Børn \"&A322&\"'!$H$53\",TRUE)),\"\",INDIRECT(\"'Børn \"&A322&\"'!$H$53\",TRUE)),3)","v":{"$error":"#VALUE!"}},{"$f":"COUNTIF(IF(ISERROR(INDIRECT(\"'Børn \"&A322&\"'!$H$61\",TRUE)),\"\",INDIRECT(\"'Børn \"&A322&\"'!$H$61\",TRUE)),3)","v":{"$error":"#VALUE!"}},{"$f":"COUNTIF(IF(ISERROR(INDIRECT(\"'Børn \"&A322&\"'!$H$68\",TRUE)),\"\",INDIRECT(\"'Børn \"&A322&\"'!$H$68\",TRUE)),3)","v":{"$error":"#VALUE!"}},{"$f":"COUNTIF(IF(ISERROR(INDIRECT(\"'Børn \"&A322&\"'!$H$79\",TRUE)),\"\",INDIRECT(\"'Børn \"&A322&\"'!$H$79\",TRUE)),3)","v":{"$error":"#VALUE!"}},{"$f":"COUNTIF(IF(ISERROR(INDIRECT(\"'Børn \"&A322&\"'!$H$87\",TRUE)),\"\",INDIRECT(\"'Børn \"&A322&\"'!$H$87\",TRUE)),3)","v":{"$error":"#VALUE!"}}]
["Tilsyn 88","Status:  grøn",{"$f":"COUNTIF(IF(ISERROR(INDIRECT(\"'Voksen \"&A323&\"'!$H$31\",TRUE)),\"\",INDIRECT(\"'Voksen \"&A323&\"'!$H$31\",TRUE)),1)","v":{"$error":"#VALUE!"}},{"$f":"COUNTIF(IF(ISERROR(INDIRECT(\"'Voksen \"&A323&\"'!$H$41\",TRUE)),\"\",INDIRECT(\"'Voksen \"&A323&\"'!$H$41\",TRUE)),1)","v":{"$error":"#VALUE!"}},{"$f":"COUNTIF(IF(ISERROR(INDIRECT(\"'Voksen \"&A323&\"'!$H$50\",TRUE)),\"\",INDIRECT(\"'Voksen \"&A323&\"'!$H$50\",TRUE)),1)","v":{"$error":"#VALUE!"}},{"$f":"COUNTIF(IF(ISERROR(INDIRECT(\"'Voksen \"&A323&\"'!$H$58\",TRUE)),\"\",INDIRECT(\"'Voksen \"&A323&\"'!$H$58\",TRUE)),1)","v":{"$error":"#VALUE!"}},{"$f":"COUNTIF(IF(ISERROR(INDIRECT(\"'Voksen \"&A323&\"'!$H$69\",TRUE)),\"\",INDIRECT(\"'Voksen \"&A323&\"'!$H$69\",TRUE)),1)","v":{"$error":"#VALUE!"}},{"$f":"COUNTIF(IF(ISERROR(INDIRECT(\"'Voksen \"&A323&\"'!$H$77\",TRUE)),\"\",INDIRECT(\"'Voksen \"&A323&\"'!$H$77\",TRUE)),1)","v":{"$error":"#VALUE!"}},null,null,{"$f":"COUNTIF(IF(ISERROR(INDIRECT(\"'Børn \"&A323&\"'!$H$31\",TRUE)),\"\",INDIRECT(\"'Børn \"&A323&\"'!$H$31\",TRUE)),1)","v":{"$error":"#VALUE!"}},{"$f":"COUNTIF(IF(ISERROR(INDIRECT(\"'Børn \"&A323&\"'!$H$44\",TRUE)),\"\",INDIRECT(\"'Børn \"&A323&\"'!$H$44\",TRUE)),1)","v":{"$error":"#VALUE!"}},{"$f":"COUNTIF(IF(ISERROR(INDIRECT(\"'Børn \"&A323&\"'!$H$53\",TRUE)),\"\",INDIRECT(\"'Børn \"&A323&\"'!$H$53\",TRUE)),1)","v":{"$error":"#VALUE!"}},{"$f":"COUNTIF(IF(ISERROR(INDIRECT(\"'Børn \"&A323&\"'!$H$61\",TRUE)),\"\",INDIRECT(\"'Børn \"&A323&\"'!$H$61\",TRUE)),1)","v":{"$error":"#VALUE!"}},{"$f":"COUNTIF(IF(ISERROR(INDIRECT(\"'Børn \"&A323&\"'!$H$68\",TRUE)),\"\",INDIRECT(\"'Børn \"&A323&\"'!$H$68\",TRUE)),1)","v":{"$error":"#VALUE!"}},{"$f":"COUNTIF(IF(ISERROR(INDIRECT(\"'Børn \"&A323&\"'!$H$79\",TRUE)),\"\",INDIRECT(\"'Børn \"&A323&\"'!$H$79\",TRUE)),1)","v":{"$error":"#VALUE!"}},{"$f":"COUNTIF(IF(ISERROR(INDIRECT(\"'Børn \"&A323&\"'!$H$87\",TRUE)),\"\",INDIRECT(\"'Børn \"&A323&\"'!$H$87\",TRUE)),1)","v":{"$error":"#VALUE!"}}]
["Tilsyn 88","Status:  gul",{"$f":"COUNTIF(IF(ISERROR(INDIRECT(\"'Voksen \"&A324&\"'!$H$31\",TRUE)),\"\",INDIRECT(\"'Voksen \"&A324&\"'!$H$31\",TRUE)),2)","v":{"$error":"#VALUE!"}},{"$f":"COUNTIF(IF(ISERROR(INDIRECT(\"'Voksen \"&A324&\"'!$H$41\",TRUE)),\"\",INDIRECT(\"'Voksen \"&A324&\"'!$H$41\",TRUE)),2)","v":{"$error":"#VALUE!"}},{"$f":"COUNTIF(IF(ISERROR(INDIRECT(\"'Voksen \"&A324&\"'!$H$50\",TRUE)),\"\",INDIRECT(\"'Voksen \"&A324&\"'!$H$50\",TRUE)),2)","v":{"$error":"#VALUE!"}},{"$f":"COUNTIF(IF(ISERROR(INDIRECT(\"'Voksen \"&A324&\"'!$H$58\",TRUE)),\"\",INDIRECT(\"'Voksen \"&A324&\"'!$H$58\",TRUE)),2)","v":{"$error":"#VALUE!"}},{"$f":"COUNTIF(IF(ISERROR(INDIRECT(\"'Voksen \"&A324&\"'!$H$69\",TRUE)),\"\",INDIRECT(\"'Voksen \"&A324&\"'!$H$69\",TRUE)),2)","v":{"$error":"#VALUE!"}},{"$f":"COUNTIF(IF(ISERROR(INDIRECT(\"'Voksen \"&A324&\"'!$H$77\",TRUE)),\"\",INDIRECT(\"'Voksen \"&A324&\"'!$H$77\",TRUE)),2)","v":{"$error":"#VALUE!"}},null,null,{"$f":"COUNTIF(IF(ISERROR(INDIRECT(\"'Børn \"&A324&\"'!$H$31\",TRUE)),\"\",INDIRECT(\"'Børn \"&A324&\"'!$H$31\",TRUE)),2)","v":{"$error":"#VALUE!"}},{"$f":"COUNTIF(IF(ISERROR(INDIRECT(\"'Børn \"&A324&\"'!$H$44\",TRUE)),\"\",INDIRECT(\"'Børn \"&A324&\"'!$H$44\",TRUE)),2)","v":{"$error":"#VALUE!"}},{"$f":"COUNTIF(IF(ISERROR(INDIRECT(\"'Børn \"&A324&\"'!$H$53\",TRUE)),\"\",INDIRECT(\"'Børn \"&A324&\"'!$H$53\",TRUE)),2)","v":{"$error":"#VALUE!"}},{"$f":"COUNTIF(IF(ISERROR(INDIRECT(\"'Børn \"&A324&\"'!$H$61\",TRUE)),\"\",INDIRECT(\"'Børn \"&A324&\"'!$H$61\",TRUE)),2)","v":{"$error":"#VALUE!"}},{"$f":"COUNTIF(IF(ISERROR(INDIRECT(\"'Børn \"&A324&\"'!$H$68\",TRUE)),\"\",INDIRECT(\"'Børn \"&A324&\"'!$H$68\",TRUE)),2)","v":{"$error":"#VALUE!"}},{"$f":"COUNTIF(IF(ISERROR(INDIRECT(\"'Børn \"&A324&\"'!$H$79\",TRUE)),\"\",INDIRECT(\"'Børn \"&A324&\"'!$H$79\",TRUE)),2)","v":{"$error":"#VALUE!"}},{"$f":"COUNTIF(IF(ISERROR(INDIRECT(\"'Børn \"&A324&\"'!$H$87\",TRUE)),\"\",INDIRECT(\"'Børn \"&A324&\"'!$H$87\",TRUE)),2)","v":{"$error":"#VALUE!"}}]
["Tilsyn 88","Status:  rød",{"$f":"COUNTIF(IF(ISERROR(INDIRECT(\"'Voksen \"&A325&\"'!$H$31\",TRUE)),\"\",INDIRECT(\"'Voksen \"&A325&\"'!$H$31\",TRUE)),3)","v":{"$error":"#VALUE!"}},{"$f":"COUNTIF(IF(ISERROR(INDIRECT(\"'Voksen \"&A325&\"'!$H$41\",TRUE)),\"\",INDIRECT(\"'Voksen \"&A325&\"'!$H$41\",TRUE)),3)","v":{"$error":"#VALUE!"}},{"$f":"COUNTIF(IF(ISERROR(INDIRECT(\"'Voksen \"&A325&\"'!$H$50\",TRUE)),\"\",INDIRECT(\"'Voksen \"&A325&\"'!$H$50\",TRUE)),3)","v":{"$error":"#VALUE!"}},{"$f":"COUNTIF(IF(ISERROR(INDIRECT(\"'Voksen \"&A325&\"'!$H$58\",TRUE)),\"\",INDIRECT(\"'Voksen \"&A325&\"'!$H$58\",TRUE)),3)","v":{"$error":"#VALUE!"}},{"$f":"COUNTIF(IF(ISERROR(INDIRECT(\"'Voksen \"&A325&\"'!$H$69\",TRUE)),\"\",INDIRECT(\"'Voksen \"&A325&\"'!$H$69\",TRUE)),3)","v":{"$error":"#VALUE!"}},{"$f":"COUNTIF(IF(ISERROR(INDIRECT(\"'Voksen \"&A325&\"'!$H$77\",TRUE)),\"\",INDIRECT(\"'Voksen \"&A325&\"'!$H$77\",TRUE)),3)","v":{"$error":"#VALUE!"}},null,null,{"$f":"COUNTIF(IF(ISERROR(INDIRECT(\"'Børn \"&A325&\"'!$H$31\",TRUE)),\"\",INDIRECT(\"'Børn \"&A325&\"'!$H$31\",TRUE)),3)","v":{"$error":"#VALUE!"}},{"$f":"COUNTIF(IF(ISERROR(INDIRECT(\"'Børn \"&A325&\"'!$H$44\",TRUE)),\"\",INDIRECT(\"'Børn \"&A325&\"'!$H$44\",TRUE)),3)","v":{"$error":"#VALUE!"}},{"$f":"COUNTIF(IF(ISERROR(INDIRECT(\"'Børn \"&A325&\"'!$H$53\",TRUE)),\"\",INDIRECT(\"'Børn \"&A325&\"'!$H$53\",TRUE)),3)","v":{"$error":"#VALUE!"}},{"$f":"COUNTIF(IF(ISERROR(INDIRECT(\"'Børn \"&A325&\"'!$H$61\",TRUE)),\"\",INDIRECT(\"'Børn \"&A325&\"'!$H$61\",TRUE)),3)","v":{"$error":"#VALUE!"}},{"$f":"COUNTIF(IF(ISERROR(INDIRECT(\"'Børn \"&A325&\"'!$H$68\",TRUE)),\"\",INDIRECT(\"'Børn \"&A325&\"'!$H$68\",TRUE)),3)","v":{"$error":"#VALUE!"}},{"$f":"COUNTIF(IF(ISERROR(INDIRECT(\"'Børn \"&A325&\"'!$H$79\",TRUE)),\"\",INDIRECT(\"'Børn \"&A325&\"'!$H$79\",TRUE)),3)","v":{"$error":"#VALUE!"}},{"$f":"COUNTIF(IF(ISERROR(INDIRECT(\"'Børn \"&A325&\"'!$H$87\",TRUE)),\"\",INDIRECT(\"'Børn \"&A325&\"'!$H$87\",TRUE)),3)","v":{"$error":"#VALUE!"}}]
["Tilsyn 89","Status:  grøn",{"$f":"COUNTIF(IF(ISERROR(INDIRECT(\"'Voksen \"&A326&\"'!$H$31\",TRUE)),\"\",INDIRECT(\"'Voksen \"&A326&\"'!$H$31\",TRUE)),1)","v":{"$error":"#VALUE!"}},{"$f":"COUNTIF(IF(ISERROR(INDIRECT(\"'Voksen \"&A326&\"'!$H$41\",TRUE)),\"\",INDIRECT(\"'Voksen \"&A326&\"'!$H$41\",TRUE)),1)","v":{"$error":"#VALUE!"}},{"$f":"COUNTIF(IF(ISERROR(INDIRECT(\"'Voksen \"&A326&\"'!$H$50\",TRUE)),\"\",INDIRECT(\"'Voksen \"&A326&\"'!$H$50\",TRUE)),1)","v":{"$error":"#VALUE!"}},{"$f":"COUNTIF(IF(ISERROR(INDIRECT(\"'Voksen \"&A326&\"'!$H$58\",TRUE)),\"\",INDIRECT(\"'Voksen \"&A326&\"'!$H$58\",TRUE)),1)","v":{"$error":"#VALUE!"}},{"$f":"COUNTIF(IF(ISERROR(INDIRECT(\"'Voksen \"&A326&\"'!$H$69\",TRUE)),\"\",INDIRECT(\"'Voksen \"&A326&\"'!$H$69\",TRUE)),1)","v":{"$error":"#VALUE!"}},{"$f":"COUNTIF(IF(ISERROR(INDIRECT(\"'Voksen \"&A326&\"'!$H$77\",TRUE)),\"\",INDIRECT(\"'Voksen \"&A326&\"'!$H$77\",TRUE)),1)","v":{"$error":"#VALUE!"}},null,null,{"$f":"COUNTIF(IF(ISERROR(INDIRECT(\"'Børn \"&A326&\"'!$H$31\",TRUE)),\"\",INDIRECT(\"'Børn \"&A326&\"'!$H$31\",TRUE)),1)","v":{"$error":"#VALUE!"}},{"$f":"COUNTIF(IF(ISERROR(INDIRECT(\"'Børn \"&A326&\"'!$H$44\",TRUE)),\"\",INDIRECT(\"'Børn \"&A326&\"'!$H$44\",TRUE)),1)","v":{"$error":"#VALUE!"}},{"$f":"COUNTIF(IF(ISERROR(INDIRECT(\"'Børn \"&A326&\"'!$H$53\",TRUE)),\"\",INDIRECT(\"'Børn \"&A326&\"'!$H$53\",TRUE)),1)","v":{"$error":"#VALUE!"}},{"$f":"COUNTIF(IF(ISERROR(INDIRECT(\"'Børn \"&A326&\"'!$H$61\",TRUE)),\"\",INDIRECT(\"'Børn \"&A326&\"'!$H$61\",TRUE)),1)","v":{"$error":"#VALUE!"}},{"$f":"COUNTIF(IF(ISERROR(INDIRECT(\"'Børn \"&A326&\"'!$H$68\",TRUE)),\"\",INDIRECT(\"'Børn \"&A326&\"'!$H$68\",TRUE)),1)","v":{"$error":"#VALUE!"}},{"$f":"COUNTIF(IF(ISERROR(INDIRECT(\"'Børn \"&A326&\"'!$H$79\",TRUE)),\"\",INDIRECT(\"'Børn \"&A326&\"'!$H$79\",TRUE)),1)","v":{"$error":"#VALUE!"}},{"$f":"COUNTIF(IF(ISERROR(INDIRECT(\"'Børn \"&A326&\"'!$H$87\",TRUE)),\"\",INDIRECT(\"'Børn \"&A326&\"'!$H$87\",TRUE)),1)","v":{"$error":"#VALUE!"}}]
["Tilsyn 89","Status:  gul",{"$f":"COUNTIF(IF(ISERROR(INDIRECT(\"'Voksen \"&A327&\"'!$H$31\",TRUE)),\"\",INDIRECT(\"'Voksen \"&A327&\"'!$H$31\",TRUE)),2)","v":{"$error":"#VALUE!"}},{"$f":"COUNTIF(IF(ISERROR(INDIRECT(\"'Voksen \"&A327&\"'!$H$41\",TRUE)),\"\",INDIRECT(\"'Voksen \"&A327&\"'!$H$41\",TRUE)),2)","v":{"$error":"#VALUE!"}},{"$f":"COUNTIF(IF(ISERROR(INDIRECT(\"'Voksen \"&A327&\"'!$H$50\",TRUE)),\"\",INDIRECT(\"'Voksen \"&A327&\"'!$H$50\",TRUE)),2)","v":{"$error":"#VALUE!"}},{"$f":"COUNTIF(IF(ISERROR(INDIRECT(\"'Voksen \"&A327&\"'!$H$58\",TRUE)),\"\",INDIRECT(\"'Voksen \"&A327&\"'!$H$58\",TRUE)),2)","v":{"$error":"#VALUE!"}},{"$f":"COUNTIF(IF(ISERROR(INDIRECT(\"'Voksen \"&A327&\"'!$H$69\",TRUE)),\"\",INDIRECT(\"'Voksen \"&A327&\"'!$H$69\",TRUE)),2)","v":{"$error":"#VALUE!"}},{"$f":"COUNTIF(IF(ISERROR(INDIRECT(\"'Voksen \"&A327&\"'!$H$77\",TRUE)),\"\",INDIRECT(\"'Voksen \"&A327&\"'!$H$77\",TRUE)),2)","v":{"$error":"#VALUE!"}},null,null,{"$f":"COUNTIF(IF(ISERROR(INDIRECT(\"'Børn \"&A327&\"'!$H$31\",TRUE)),\"\",INDIRECT(\"'Børn \"&A327&\"'!$H$31\",TRUE)),2)","v":{"$error":"#VALUE!"}},{"$f":"COUNTIF(IF(ISERROR(INDIRECT(\"'Børn \"&A327&\"'!$H$44\",TRUE)),\"\",INDIRECT(\"'Børn \"&A327&\"'!$H$44\",TRUE)),2)","v":{"$error":"#VALUE!"}},{"$f":"COUNTIF(IF(ISERROR(INDIRECT(\"'Børn \"&A327&\"'!$H$53\",TRUE)),\"\",INDIRECT(\"'Børn \"&A327&\"'!$H$53\",TRUE)),2)","v":{"$error":"#VALUE!"}},{"$f":"COUNTIF(IF(ISERROR(INDIRECT(\"'Børn \"&A327&\"'!$H$61\",TRUE)),\"\",INDIRECT(\"'Børn \"&A327&\"'!$H$61\",TRUE)),2)","v":{"$error":"#VALUE!"}},{"$f":"COUNTIF(IF(ISERROR(INDIRECT(\"'Børn \"&A327&\"'!$H$68\",TRUE)),\"\",INDIRECT(\"'Børn \"&A327&\"'!$H$68\",TRUE)),2)","v":{"$error":"#VALUE!"}},{"$f":"COUNTIF(IF(ISERROR(INDIRECT(\"'Børn \"&A327&\"'!$H$79\",TRUE)),\"\",INDIRECT(\"'Børn \"&A327&\"'!$H$79\",TRUE)),2)","v":{"$error":"#VALUE!"}},{"$f":"COUNTIF(IF(ISERROR(INDIRECT(\"'Børn \"&A327&\"'!$H$87\",TRUE)),\"\",INDIRECT(\"'Børn \"&A327&\"'!$H$87\",TRUE)),2)","v":{"$error":"#VALUE!"}}]
["Tilsyn 89","Status:  rød",{"$f":"COUNTIF(IF(ISERROR(INDIRECT(\"'Voksen \"&A328&\"'!$H$31\",TRUE)),\"\",INDIRECT(\"'Voksen \"&A328&\"'!$H$31\",TRUE)),3)","v":{"$error":"#VALUE!"}},{"$f":"COUNTIF(IF(ISERROR(INDIRECT(\"'Voksen \"&A328&\"'!$H$41\",TRUE)),\"\",INDIRECT(\"'Voksen \"&A328&\"'!$H$41\",TRUE)),3)","v":{"$error":"#VALUE!"}},{"$f":"COUNTIF(IF(ISERROR(INDIRECT(\"'Voksen \"&A328&\"'!$H$50\",TRUE)),\"\",INDIRECT(\"'Voksen \"&A328&\"'!$H$50\",TRUE)),3)","v":{"$error":"#VALUE!"}},{"$f":"COUNTIF(IF(ISERROR(INDIRECT(\"'Voksen \"&A328&\"'!$H$58\",TRUE)),\"\",INDIRECT(\"'Voksen \"&A328&\"'!$H$58\",TRUE)),3)","v":{"$error":"#VALUE!"}},{"$f":"COUNTIF(IF(ISERROR(INDIRECT(\"'Voksen \"&A328&\"'!$H$69\",TRUE)),\"\",INDIRECT(\"'Voksen \"&A328&\"'!$H$69\",TRUE)),3)","v":{"$error":"#VALUE!"}},{"$f":"COUNTIF(IF(ISERROR(INDIRECT(\"'Voksen \"&A328&\"'!$H$77\",TRUE)),\"\",INDIRECT(\"'Voksen \"&A328&\"'!$H$77\",TRUE)),3)","v":{"$error":"#VALUE!"}},null,null,{"$f":"COUNTIF(IF(ISERROR(INDIRECT(\"'Børn \"&A328&\"'!$H$31\",TRUE)),\"\",INDIRECT(\"'Børn \"&A328&\"'!$H$31\",TRUE)),3)","v":{"$error":"#VALUE!"}},{"$f":"COUNTIF(IF(ISERROR(INDIRECT(\"'Børn \"&A328&\"'!$H$44\",TRUE)),\"\",INDIRECT(\"'Børn \"&A328&\"'!$H$44\",TRUE)),3)","v":{"$error":"#VALUE!"}},{"$f":"COUNTIF(IF(ISERROR(INDIRECT(\"'Børn \"&A328&\"'!$H$53\",TRUE)),\"\",INDIRECT(\"'Børn \"&A328&\"'!$H$53\",TRUE)),3)","v":{"$error":"#VALUE!"}},{"$f":"COUNTIF(IF(ISERROR(INDIRECT(\"'Børn \"&A328&\"'!$H$61\",TRUE)),\"\",INDIRECT(\"'Børn \"&A328&\"'!$H$61\",TRUE)),3)","v":{"$error":"#VALUE!"}},{"$f":"COUNTIF(IF(ISERROR(INDIRECT(\"'Børn \"&A328&\"'!$H$68\",TRUE)),\"\",INDIRECT(\"'Børn \"&A328&\"'!$H$68\",TRUE)),3)","v":{"$error":"#VALUE!"}},{"$f":"COUNTIF(IF(ISERROR(INDIRECT(\"'Børn \"&A328&\"'!$H$79\",TRUE)),\"\",INDIRECT(\"'Børn \"&A328&\"'!$H$79\",TRUE)),3)","v":{"$error":"#VALUE!"}},{"$f":"COUNTIF(IF(ISERROR(INDIRECT(\"'Børn \"&A328&\"'!$H$87\",TRUE)),\"\",INDIRECT(\"'Børn \"&A328&\"'!$H$87\",TRUE)),3)","v":{"$error":"#VALUE!"}}]
["Tilsyn 90","Status:  grøn",{"$f":"COUNTIF(IF(ISERROR(INDIRECT(\"'Voksen \"&A329&\"'!$H$31\",TRUE)),\"\",INDIRECT(\"'Voksen \"&A329&\"'!$H$31\",TRUE)),1)","v":{"$error":"#VALUE!"}},{"$f":"COUNTIF(IF(ISERROR(INDIRECT(\"'Voksen \"&A329&\"'!$H$41\",TRUE)),\"\",INDIRECT(\"'Voksen \"&A329&\"'!$H$41\",TRUE)),1)","v":{"$error":"#VALUE!"}},{"$f":"COUNTIF(IF(ISERROR(INDIRECT(\"'Voksen \"&A329&\"'!$H$50\",TRUE)),\"\",INDIRECT(\"'Voksen \"&A329&\"'!$H$50\",TRUE)),1)","v":{"$error":"#VALUE!"}},{"$f":"COUNTIF(IF(ISERROR(INDIRECT(\"'Voksen \"&A329&\"'!$H$58\",TRUE)),\"\",INDIRECT(\"'Voksen \"&A329&\"'!$H$58\",TRUE)),1)","v":{"$error":"#VALUE!"}},{"$f":"COUNTIF(IF(ISERROR(INDIRECT(\"'Voksen \"&A329&\"'!$H$69\",TRUE)),\"\",INDIRECT(\"'Voksen \"&A329&\"'!$H$69\",TRUE)),1)","v":{"$error":"#VALUE!"}},{"$f":"COUNTIF(IF(ISERROR(INDIRECT(\"'Voksen \"&A329&\"'!$H$77\",TRUE)),\"\",INDIRECT(\"'Voksen \"&A329&\"'!$H$77\",TRUE)),1)","v":{"$error":"#VALUE!"}},null,null,{"$f":"COUNTIF(IF(ISERROR(INDIRECT(\"'Børn \"&A329&\"'!$H$31\",TRUE)),\"\",INDIRECT(\"'Børn \"&A329&\"'!$H$31\",TRUE)),1)","v":{"$error":"#VALUE!"}},{"$f":"COUNTIF(IF(ISERROR(INDIRECT(\"'Børn \"&A329&\"'!$H$44\",TRUE)),\"\",INDIRECT(\"'Børn \"&A329&\"'!$H$44\",TRUE)),1)","v":{"$error":"#VALUE!"}},{"$f":"COUNTIF(IF(ISERROR(INDIRECT(\"'Børn \"&A329&\"'!$H$53\",TRUE)),\"\",INDIRECT(\"'Børn \"&A329&\"'!$H$53\",TRUE)),1)","v":{"$error":"#VALUE!"}},{"$f":"COUNTIF(IF(ISERROR(INDIRECT(\"'Børn \"&A329&\"'!$H$61\",TRUE)),\"\",INDIRECT(\"'Børn \"&A329&\"'!$H$61\",TRUE)),1)","v":{"$error":"#VALUE!"}},{"$f":"COUNTIF(IF(ISERROR(INDIRECT(\"'Børn \"&A329&\"'!$H$68\",TRUE)),\"\",INDIRECT(\"'Børn \"&A329&\"'!$H$68\",TRUE)),1)","v":{"$error":"#VALUE!"}},{"$f":"COUNTIF(IF(ISERROR(INDIRECT(\"'Børn \"&A329&\"'!$H$79\",TRUE)),\"\",INDIRECT(\"'Børn \"&A329&\"'!$H$79\",TRUE)),1)","v":{"$error":"#VALUE!"}},{"$f":"COUNTIF(IF(ISERROR(INDIRECT(\"'Børn \"&A329&\"'!$H$87\",TRUE)),\"\",INDIRECT(\"'Børn \"&A329&\"'!$H$87\",TRUE)),1)","v":{"$error":"#VALUE!"}}]
["Tilsyn 90","Status:  gul",{"$f":"COUNTIF(IF(ISERROR(INDIRECT(\"'Voksen \"&A330&\"'!$H$31\",TRUE)),\"\",INDIRECT(\"'Voksen \"&A330&\"'!$H$31\",TRUE)),2)","v":{"$error":"#VALUE!"}},{"$f":"COUNTIF(IF(ISERROR(INDIRECT(\"'Voksen \"&A330&\"'!$H$41\",TRUE)),\"\",INDIRECT(\"'Voksen \"&A330&\"'!$H$41\",TRUE)),2)","v":{"$error":"#VALUE!"}},{"$f":"COUNTIF(IF(ISERROR(INDIRECT(\"'Voksen \"&A330&\"'!$H$50\",TRUE)),\"\",INDIRECT(\"'Voksen \"&A330&\"'!$H$50\",TRUE)),2)","v":{"$error":"#VALUE!"}},{"$f":"COUNTIF(IF(ISERROR(INDIRECT(\"'Voksen \"&A330&\"'!$H$58\",TRUE)),\"\",INDIRECT(\"'Voksen \"&A330&\"'!$H$58\",TRUE)),2)","v":{"$error":"#VALUE!"}},{"$f":"COUNTIF(IF(ISERROR(INDIRECT(\"'Voksen \"&A330&\"'!$H$69\",TRUE)),\"\",INDIRECT(\"'Voksen \"&A330&\"'!$H$69\",TRUE)),2)","v":{"$error":"#VALUE!"}},{"$f":"COUNTIF(IF(ISERROR(INDIRECT(\"'Voksen \"&A330&\"'!$H$77\",TRUE)),\"\",INDIRECT(\"'Voksen \"&A330&\"'!$H$77\",TRUE)),2)","v":{"$error":"#VALUE!"}},null,null,{"$f":"COUNTIF(IF(ISERROR(INDIRECT(\"'Børn \"&A330&\"'!$H$31\",TRUE)),\"\",INDIRECT(\"'Børn \"&A330&\"'!$H$31\",TRUE)),2)","v":{"$error":"#VALUE!"}},{"$f":"COUNTIF(IF(ISERROR(INDIRECT(\"'Børn \"&A330&\"'!$H$44\",TRUE)),\"\",INDIRECT(\"'Børn \"&A330&\"'!$H$44\",TRUE)),2)","v":{"$error":"#VALUE!"}},{"$f":"COUNTIF(IF(ISERROR(INDIRECT(\"'Børn \"&A330&\"'!$H$53\",TRUE)),\"\",INDIRECT(\"'Børn \"&A330&\"'!$H$53\",TRUE)),2)","v":{"$error":"#VALUE!"}},{"$f":"COUNTIF(IF(ISERROR(INDIRECT(\"'Børn \"&A330&\"'!$H$61\",TRUE)),\"\",INDIRECT(\"'Børn \"&A330&\"'!$H$61\",TRUE)),2)","v":{"$error":"#VALUE!"}},{"$f":"COUNTIF(IF(ISERROR(INDIRECT(\"'Børn \"&A330&\"'!$H$68\",TRUE)),\"\",INDIRECT(\"'Børn \"&A330&\"'!$H$68\",TRUE)),2)","v":{"$error":"#VALUE!"}},{"$f":"COUNTIF(IF(ISERROR(INDIRECT(\"'Børn \"&A330&\"'!$H$79\",TRUE)),\"\",INDIRECT(\"'Børn \"&A330&\"'!$H$79\",TRUE)),2)","v":{"$error":"#VALUE!"}},{"$f":"COUNTIF(IF(ISERROR(INDIRECT(\"'Børn \"&A330&\"'!$H$87\",TRUE)),\"\",INDIRECT(\"'Børn \"&A330&\"'!$H$87\",TRUE)),2)","v":{"$error":"#VALUE!"}}]
["Tilsyn 90","Status:  rød",{"$f":"COUNTIF(IF(ISERROR(INDIRECT(\"'Voksen \"&A331&\"'!$H$31\",TRUE)),\"\",INDIRECT(\"'Voksen \"&A331&\"'!$H$31\",TRUE)),3)","v":{"$error":"#VALUE!"}},{"$f":"COUNTIF(IF(ISERROR(INDIRECT(\"'Voksen \"&A331&\"'!$H$41\",TRUE)),\"\",INDIRECT(\"'Voksen \"&A331&\"'!$H$41\",TRUE)),3)","v":{"$error":"#VALUE!"}},{"$f":"COUNTIF(IF(ISERROR(INDIRECT(\"'Voksen \"&A331&\"'!$H$50\",TRUE)),\"\",INDIRECT(\"'Voksen \"&A331&\"'!$H$50\",TRUE)),3)","v":{"$error":"#VALUE!"}},{"$f":"COUNTIF(IF(ISERROR(INDIRECT(\"'Voksen \"&A331&\"'!$H$58\",TRUE)),\"\",INDIRECT(\"'Voksen \"&A331&\"'!$H$58\",TRUE)),3)","v":{"$error":"#VALUE!"}},{"$f":"COUNTIF(IF(ISERROR(INDIRECT(\"'Voksen \"&A331&\"'!$H$69\",TRUE)),\"\",INDIRECT(\"'Voksen \"&A331&\"'!$H$69\",TRUE)),3)","v":{"$error":"#VALUE!"}},{"$f":"COUNTIF(IF(ISERROR(INDIRECT(\"'Voksen \"&A331&\"'!$H$77\",TRUE)),\"\",INDIRECT(\"'Voksen \"&A331&\"'!$H$77\",TRUE)),3)","v":{"$error":"#VALUE!"}},null,null,{"$f":"COUNTIF(IF(ISERROR(INDIRECT(\"'Børn \"&A331&\"'!$H$31\",TRUE)),\"\",INDIRECT(\"'Børn \"&A331&\"'!$H$31\",TRUE)),3)","v":{"$error":"#VALUE!"}},{"$f":"COUNTIF(IF(ISERROR(INDIRECT(\"'Børn \"&A331&\"'!$H$44\",TRUE)),\"\",INDIRECT(\"'Børn \"&A331&\"'!$H$44\",TRUE)),3)","v":{"$error":"#VALUE!"}},{"$f":"COUNTIF(IF(ISERROR(INDIRECT(\"'Børn \"&A331&\"'!$H$53\",TRUE)),\"\",INDIRECT(\"'Børn \"&A331&\"'!$H$53\",TRUE)),3)","v":{"$error":"#VALUE!"}},{"$f":"COUNTIF(IF(ISERROR(INDIRECT(\"'Børn \"&A331&\"'!$H$61\",TRUE)),\"\",INDIRECT(\"'Børn \"&A331&\"'!$H$61\",TRUE)),3)","v":{"$error":"#VALUE!"}},{"$f":"COUNTIF(IF(ISERROR(INDIRECT(\"'Børn \"&A331&\"'!$H$68\",TRUE)),\"\",INDIRECT(\"'Børn \"&A331&\"'!$H$68\",TRUE)),3)","v":{"$error":"#VALUE!"}},{"$f":"COUNTIF(IF(ISERROR(INDIRECT(\"'Børn \"&A331&\"'!$H$79\",TRUE)),\"\",INDIRECT(\"'Børn \"&A331&\"'!$H$79\",TRUE)),3)","v":{"$error":"#VALUE!"}},{"$f":"COUNTIF(IF(ISERROR(INDIRECT(\"'Børn \"&A331&\"'!$H$87\",TRUE)),\"\",INDIRECT(\"'Børn \"&A331&\"'!$H$87\",TRUE)),3)","v":{"$error":"#VALUE!"}}]
["Tilsyn 91","Status:  grøn",{"$f":"COUNTIF(IF(ISERROR(INDIRECT(\"'Voksen \"&A332&\"'!$H$31\",TRUE)),\"\",INDIRECT(\"'Voksen \"&A332&\"'!$H$31\",TRUE)),1)","v":{"$error":"#VALUE!"}},{"$f":"COUNTIF(IF(ISERROR(INDIRECT(\"'Voksen \"&A332&\"'!$H$41\",TRUE)),\"\",INDIRECT(\"'Voksen \"&A332&\"'!$H$41\",TRUE)),1)","v":{"$error":"#VALUE!"}},{"$f":"COUNTIF(IF(ISERROR(INDIRECT(\"'Voksen \"&A332&\"'!$H$50\",TRUE)),\"\",INDIRECT(\"'Voksen \"&A332&\"'!$H$50\",TRUE)),1)","v":{"$error":"#VALUE!"}},{"$f":"COUNTIF(IF(ISERROR(INDIRECT(\"'Voksen \"&A332&\"'!$H$58\",TRUE)),\"\",INDIRECT(\"'Voksen \"&A332&\"'!$H$58\",TRUE)),1)","v":{"$error":"#VALUE!"}},{"$f":"COUNTIF(IF(ISERROR(INDIRECT(\"'Voksen \"&A332&\"'!$H$69\",TRUE)),\"\",INDIRECT(\"'Voksen \"&A332&\"'!$H$69\",TRUE)),1)","v":{"$error":"#VALUE!"}},{"$f":"COUNTIF(IF(ISERROR(INDIRECT(\"'Voksen \"&A332&\"'!$H$77\",TRUE)),\"\",INDIRECT(\"'Voksen \"&A332&\"'!$H$77\",TRUE)),1)","v":{"$error":"#VALUE!"}},null,null,{"$f":"COUNTIF(IF(ISERROR(INDIRECT(\"'Børn \"&A332&\"'!$H$31\",TRUE)),\"\",INDIRECT(\"'Børn \"&A332&\"'!$H$31\",TRUE)),1)","v":{"$error":"#VALUE!"}},{"$f":"COUNTIF(IF(ISERROR(INDIRECT(\"'Børn \"&A332&\"'!$H$44\",TRUE)),\"\",INDIRECT(\"'Børn \"&A332&\"'!$H$44\",TRUE)),1)","v":{"$error":"#VALUE!"}},{"$f":"COUNTIF(IF(ISERROR(INDIRECT(\"'Børn \"&A332&\"'!$H$53\",TRUE)),\"\",INDIRECT(\"'Børn \"&A332&\"'!$H$53\",TRUE)),1)","v":{"$error":"#VALUE!"}},{"$f":"COUNTIF(IF(ISERROR(INDIRECT(\"'Børn \"&A332&\"'!$H$61\",TRUE)),\"\",INDIRECT(\"'Børn \"&A332&\"'!$H$61\",TRUE)),1)","v":{"$error":"#VALUE!"}},{"$f":"COUNTIF(IF(ISERROR(INDIRECT(\"'Børn \"&A332&\"'!$H$68\",TRUE)),\"\",INDIRECT(\"'Børn \"&A332&\"'!$H$68\",TRUE)),1)","v":{"$error":"#VALUE!"}},{"$f":"COUNTIF(IF(ISERROR(INDIRECT(\"'Børn \"&A332&\"'!$H$79\",TRUE)),\"\",INDIRECT(\"'Børn \"&A332&\"'!$H$79\",TRUE)),1)","v":{"$error":"#VALUE!"}},{"$f":"COUNTIF(IF(ISERROR(INDIRECT(\"'Børn \"&A332&\"'!$H$87\",TRUE)),\"\",INDIRECT(\"'Børn \"&A332&\"'!$H$87\",TRUE)),1)","v":{"$error":"#VALUE!"}}]
["Tilsyn 91","Status:  gul",{"$f":"COUNTIF(IF(ISERROR(INDIRECT(\"'Voksen \"&A333&\"'!$H$31\",TRUE)),\"\",INDIRECT(\"'Voksen \"&A333&\"'!$H$31\",TRUE)),2)","v":{"$error":"#VALUE!"}},{"$f":"COUNTIF(IF(ISERROR(INDIRECT(\"'Voksen \"&A333&\"'!$H$41\",TRUE)),\"\",INDIRECT(\"'Voksen \"&A333&\"'!$H$41\",TRUE)),2)","v":{"$error":"#VALUE!"}},{"$f":"COUNTIF(IF(ISERROR(INDIRECT(\"'Voksen \"&A333&\"'!$H$50\",TRUE)),\"\",INDIRECT(\"'Voksen \"&A333&\"'!$H$50\",TRUE)),2)","v":{"$error":"#VALUE!"}},{"$f":"COUNTIF(IF(ISERROR(INDIRECT(\"'Voksen \"&A333&\"'!$H$58\",TRUE)),\"\",INDIRECT(\"'Voksen \"&A333&\"'!$H$58\",TRUE)),2)","v":{"$error":"#VALUE!"}},{"$f":"COUNTIF(IF(ISERROR(INDIRECT(\"'Voksen \"&A333&\"'!$H$69\",TRUE)),\"\",INDIRECT(\"'Voksen \"&A333&\"'!$H$69\",TRUE)),2)","v":{"$error":"#VALUE!"}},{"$f":"COUNTIF(IF(ISERROR(INDIRECT(\"'Voksen \"&A333&\"'!$H$77\",TRUE)),\"\",INDIRECT(\"'Voksen \"&A333&\"'!$H$77\",TRUE)),2)","v":{"$error":"#VALUE!"}},null,null,{"$f":"COUNTIF(IF(ISERROR(INDIRECT(\"'Børn \"&A333&\"'!$H$31\",TRUE)),\"\",INDIRECT(\"'Børn \"&A333&\"'!$H$31\",TRUE)),2)","v":{"$error":"#VALUE!"}},{"$f":"COUNTIF(IF(ISERROR(INDIRECT(\"'Børn \"&A333&\"'!$H$44\",TRUE)),\"\",INDIRECT(\"'Børn \"&A333&\"'!$H$44\",TRUE)),2)","v":{"$error":"#VALUE!"}},{"$f":"COUNTIF(IF(ISERROR(INDIRECT(\"'Børn \"&A333&\"'!$H$53\",TRUE)),\"\",INDIRECT(\"'Børn \"&A333&\"'!$H$53\",TRUE)),2)","v":{"$error":"#VALUE!"}},{"$f":"COUNTIF(IF(ISERROR(INDIRECT(\"'Børn \"&A333&\"'!$H$61\",TRUE)),\"\",INDIRECT(\"'Børn \"&A333&\"'!$H$61\",TRUE)),2)","v":{"$error":"#VALUE!"}},{"$f":"COUNTIF(IF(ISERROR(INDIRECT(\"'Børn \"&A333&\"'!$H$68\",TRUE)),\"\",INDIRECT(\"'Børn \"&A333&\"'!$H$68\",TRUE)),2)","v":{"$error":"#VALUE!"}},{"$f":"COUNTIF(IF(ISERROR(INDIRECT(\"'Børn \"&A333&\"'!$H$79\",TRUE)),\"\",INDIRECT(\"'Børn \"&A333&\"'!$H$79\",TRUE)),2)","v":{"$error":"#VALUE!"}},{"$f":"COUNTIF(IF(ISERROR(INDIRECT(\"'Børn \"&A333&\"'!$H$87\",TRUE)),\"\",INDIRECT(\"'Børn \"&A333&\"'!$H$87\",TRUE)),2)","v":{"$error":"#VALUE!"}}]
["Tilsyn 91","Status:  rød",{"$f":"COUNTIF(IF(ISERROR(INDIRECT(\"'Voksen \"&A334&\"'!$H$31\",TRUE)),\"\",INDIRECT(\"'Voksen \"&A334&\"'!$H$31\",TRUE)),3)","v":{"$error":"#VALUE!"}},{"$f":"COUNTIF(IF(ISERROR(INDIRECT(\"'Voksen \"&A334&\"'!$H$41\",TRUE)),\"\",INDIRECT(\"'Voksen \"&A334&\"'!$H$41\",TRUE)),3)","v":{"$error":"#VALUE!"}},{"$f":"COUNTIF(IF(ISERROR(INDIRECT(\"'Voksen \"&A334&\"'!$H$50\",TRUE)),\"\",INDIRECT(\"'Voksen \"&A334&\"'!$H$50\",TRUE)),3)","v":{"$error":"#VALUE!"}},{"$f":"COUNTIF(IF(ISERROR(INDIRECT(\"'Voksen \"&A334&\"'!$H$58\",TRUE)),\"\",INDIRECT(\"'Voksen \"&A334&\"'!$H$58\",TRUE)),3)","v":{"$error":"#VALUE!"}},{"$f":"COUNTIF(IF(ISERROR(INDIRECT(\"'Voksen \"&A334&\"'!$H$69\",TRUE)),\"\",INDIRECT(\"'Voksen \"&A334&\"'!$H$69\",TRUE)),3)","v":{"$error":"#VALUE!"}},{"$f":"COUNTIF(IF(ISERROR(INDIRECT(\"'Voksen \"&A334&\"'!$H$77\",TRUE)),\"\",INDIRECT(\"'Voksen \"&A334&\"'!$H$77\",TRUE)),3)","v":{"$error":"#VALUE!"}},null,null,{"$f":"COUNTIF(IF(ISERROR(INDIRECT(\"'Børn \"&A334&\"'!$H$31\",TRUE)),\"\",INDIRECT(\"'Børn \"&A334&\"'!$H$31\",TRUE)),3)","v":{"$error":"#VALUE!"}},{"$f":"COUNTIF(IF(ISERROR(INDIRECT(\"'Børn \"&A334&\"'!$H$44\",TRUE)),\"\",INDIRECT(\"'Børn \"&A334&\"'!$H$44\",TRUE)),3)","v":{"$error":"#VALUE!"}},{"$f":"COUNTIF(IF(ISERROR(INDIRECT(\"'Børn \"&A334&\"'!$H$53\",TRUE)),\"\",INDIRECT(\"'Børn \"&A334&\"'!$H$53\",TRUE)),3)","v":{"$error":"#VALUE!"}},{"$f":"COUNTIF(IF(ISERROR(INDIRECT(\"'Børn \"&A334&\"'!$H$61\",TRUE)),\"\",INDIRECT(\"'Børn \"&A334&\"'!$H$61\",TRUE)),3)","v":{"$error":"#VALUE!"}},{"$f":"COUNTIF(IF(ISERROR(INDIRECT(\"'Børn \"&A334&\"'!$H$68\",TRUE)),\"\",INDIRECT(\"'Børn \"&A334&\"'!$H$68\",TRUE)),3)","v":{"$error":"#VALUE!"}},{"$f":"COUNTIF(IF(ISERROR(INDIRECT(\"'Børn \"&A334&\"'!$H$79\",TRUE)),\"\",INDIRECT(\"'Børn \"&A334&\"'!$H$79\",TRUE)),3)","v":{"$error":"#VALUE!"}},{"$f":"COUNTIF(IF(ISERROR(INDIRECT(\"'Børn \"&A334&\"'!$H$87\",TRUE)),\"\",INDIRECT(\"'Børn \"&A334&\"'!$H$87\",TRUE)),3)","v":{"$error":"#VALUE!"}}]
["Tilsyn 92","Status:  grøn",{"$f":"COUNTIF(IF(ISERROR(INDIRECT(\"'Voksen \"&A335&\"'!$H$31\",TRUE)),\"\",INDIRECT(\"'Voksen \"&A335&\"'!$H$31\",TRUE)),1)","v":{"$error":"#VALUE!"}},{"$f":"COUNTIF(IF(ISERROR(INDIRECT(\"'Voksen \"&A335&\"'!$H$41\",TRUE)),\"\",INDIRECT(\"'Voksen \"&A335&\"'!$H$41\",TRUE)),1)","v":{"$error":"#VALUE!"}},{"$f":"COUNTIF(IF(ISERROR(INDIRECT(\"'Voksen \"&A335&\"'!$H$50\",TRUE)),\"\",INDIRECT(\"'Voksen \"&A335&\"'!$H$50\",TRUE)),1)","v":{"$error":"#VALUE!"}},{"$f":"COUNTIF(IF(ISERROR(INDIRECT(\"'Voksen \"&A335&\"'!$H$58\",TRUE)),\"\",INDIRECT(\"'Voksen \"&A335&\"'!$H$58\",TRUE)),1)","v":{"$error":"#VALUE!"}},{"$f":"COUNTIF(IF(ISERROR(INDIRECT(\"'Voksen \"&A335&\"'!$H$69\",TRUE)),\"\",INDIRECT(\"'Voksen \"&A335&\"'!$H$69\",TRUE)),1)","v":{"$error":"#VALUE!"}},{"$f":"COUNTIF(IF(ISERROR(INDIRECT(\"'Voksen \"&A335&\"'!$H$77\",TRUE)),\"\",INDIRECT(\"'Voksen \"&A335&\"'!$H$77\",TRUE)),1)","v":{"$error":"#VALUE!"}},null,null,{"$f":"COUNTIF(IF(ISERROR(INDIRECT(\"'Børn \"&A335&\"'!$H$31\",TRUE)),\"\",INDIRECT(\"'Børn \"&A335&\"'!$H$31\",TRUE)),1)","v":{"$error":"#VALUE!"}},{"$f":"COUNTIF(IF(ISERROR(INDIRECT(\"'Børn \"&A335&\"'!$H$44\",TRUE)),\"\",INDIRECT(\"'Børn \"&A335&\"'!$H$44\",TRUE)),1)","v":{"$error":"#VALUE!"}},{"$f":"COUNTIF(IF(ISERROR(INDIRECT(\"'Børn \"&A335&\"'!$H$53\",TRUE)),\"\",INDIRECT(\"'Børn \"&A335&\"'!$H$53\",TRUE)),1)","v":{"$error":"#VALUE!"}},{"$f":"COUNTIF(IF(ISERROR(INDIRECT(\"'Børn \"&A335&\"'!$H$61\",TRUE)),\"\",INDIRECT(\"'Børn \"&A335&\"'!$H$61\",TRUE)),1)","v":{"$error":"#VALUE!"}},{"$f":"COUNTIF(IF(ISERROR(INDIRECT(\"'Børn \"&A335&\"'!$H$68\",TRUE)),\"\",INDIRECT(\"'Børn \"&A335&\"'!$H$68\",TRUE)),1)","v":{"$error":"#VALUE!"}},{"$f":"COUNTIF(IF(ISERROR(INDIRECT(\"'Børn \"&A335&\"'!$H$79\",TRUE)),\"\",INDIRECT(\"'Børn \"&A335&\"'!$H$79\",TRUE)),1)","v":{"$error":"#VALUE!"}},{"$f":"COUNTIF(IF(ISERROR(INDIRECT(\"'Børn \"&A335&\"'!$H$87\",TRUE)),\"\",INDIRECT(\"'Børn \"&A335&\"'!$H$87\",TRUE)),1)","v":{"$error":"#VALUE!"}}]
["Tilsyn 92","Status:  gul",{"$f":"COUNTIF(IF(ISERROR(INDIRECT(\"'Voksen \"&A336&\"'!$H$31\",TRUE)),\"\",INDIRECT(\"'Voksen \"&A336&\"'!$H$31\",TRUE)),2)","v":{"$error":"#VALUE!"}},{"$f":"COUNTIF(IF(ISERROR(INDIRECT(\"'Voksen \"&A336&\"'!$H$41\",TRUE)),\"\",INDIRECT(\"'Voksen \"&A336&\"'!$H$41\",TRUE)),2)","v":{"$error":"#VALUE!"}},{"$f":"COUNTIF(IF(ISERROR(INDIRECT(\"'Voksen \"&A336&\"'!$H$50\",TRUE)),\"\",INDIRECT(\"'Voksen \"&A336&\"'!$H$50\",TRUE)),2)","v":{"$error":"#VALUE!"}},{"$f":"COUNTIF(IF(ISERROR(INDIRECT(\"'Voksen \"&A336&\"'!$H$58\",TRUE)),\"\",INDIRECT(\"'Voksen \"&A336&\"'!$H$58\",TRUE)),2)","v":{"$error":"#VALUE!"}},{"$f":"COUNTIF(IF(ISERROR(INDIRECT(\"'Voksen \"&A336&\"'!$H$69\",TRUE)),\"\",INDIRECT(\"'Voksen \"&A336&\"'!$H$69\",TRUE)),2)","v":{"$error":"#VALUE!"}},{"$f":"COUNTIF(IF(ISERROR(INDIRECT(\"'Voksen \"&A336&\"'!$H$77\",TRUE)),\"\",INDIRECT(\"'Voksen \"&A336&\"'!$H$77\",TRUE)),2)","v":{"$error":"#VALUE!"}},null,null,{"$f":"COUNTIF(IF(ISERROR(INDIRECT(\"'Børn \"&A336&\"'!$H$31\",TRUE)),\"\",INDIRECT(\"'Børn \"&A336&\"'!$H$31\",TRUE)),2)","v":{"$error":"#VALUE!"}},{"$f":"COUNTIF(IF(ISERROR(INDIRECT(\"'Børn \"&A336&\"'!$H$44\",TRUE)),\"\",INDIRECT(\"'Børn \"&A336&\"'!$H$44\",TRUE)),2)","v":{"$error":"#VALUE!"}},{"$f":"COUNTIF(IF(ISERROR(INDIRECT(\"'Børn \"&A336&\"'!$H$53\",TRUE)),\"\",INDIRECT(\"'Børn \"&A336&\"'!$H$53\",TRUE)),2)","v":{"$error":"#VALUE!"}},{"$f":"COUNTIF(IF(ISERROR(INDIRECT(\"'Børn \"&A336&\"'!$H$61\",TRUE)),\"\",INDIRECT(\"'Børn \"&A336&\"'!$H$61\",TRUE)),2)","v":{"$error":"#VALUE!"}},{"$f":"COUNTIF(IF(ISERROR(INDIRECT(\"'Børn \"&A336&\"'!$H$68\",TRUE)),\"\",INDIRECT(\"'Børn \"&A336&\"'!$H$68\",TRUE)),2)","v":{"$error":"#VALUE!"}},{"$f":"COUNTIF(IF(ISERROR(INDIRECT(\"'Børn \"&A336&\"'!$H$79\",TRUE)),\"\",INDIRECT(\"'Børn \"&A336&\"'!$H$79\",TRUE)),2)","v":{"$error":"#VALUE!"}},{"$f":"COUNTIF(IF(ISERROR(INDIRECT(\"'Børn \"&A336&\"'!$H$87\",TRUE)),\"\",INDIRECT(\"'Børn \"&A336&\"'!$H$87\",TRUE)),2)","v":{"$error":"#VALUE!"}}]
["Tilsyn 92","Status:  rød",{"$f":"COUNTIF(IF(ISERROR(INDIRECT(\"'Voksen \"&A337&\"'!$H$31\",TRUE)),\"\",INDIRECT(\"'Voksen \"&A337&\"'!$H$31\",TRUE)),3)","v":{"$error":"#VALUE!"}},{"$f":"COUNTIF(IF(ISERROR(INDIRECT(\"'Voksen \"&A337&\"'!$H$41\",TRUE)),\"\",INDIRECT(\"'Voksen \"&A337&\"'!$H$41\",TRUE)),3)","v":{"$error":"#VALUE!"}},{"$f":"COUNTIF(IF(ISERROR(INDIRECT(\"'Voksen \"&A337&\"'!$H$50\",TRUE)),\"\",INDIRECT(\"'Voksen \"&A337&\"'!$H$50\",TRUE)),3)","v":{"$error":"#VALUE!"}},{"$f":"COUNTIF(IF(ISERROR(INDIRECT(\"'Voksen \"&A337&\"'!$H$58\",TRUE)),\"\",INDIRECT(\"'Voksen \"&A337&\"'!$H$58\",TRUE)),3)","v":{"$error":"#VALUE!"}},{"$f":"COUNTIF(IF(ISERROR(INDIRECT(\"'Voksen \"&A337&\"'!$H$69\",TRUE)),\"\",INDIRECT(\"'Voksen \"&A337&\"'!$H$69\",TRUE)),3)","v":{"$error":"#VALUE!"}},{"$f":"COUNTIF(IF(ISERROR(INDIRECT(\"'Voksen \"&A337&\"'!$H$77\",TRUE)),\"\",INDIRECT(\"'Voksen \"&A337&\"'!$H$77\",TRUE)),3)","v":{"$error":"#VALUE!"}},null,null,{"$f":"COUNTIF(IF(ISERROR(INDIRECT(\"'Børn \"&A337&\"'!$H$31\",TRUE)),\"\",INDIRECT(\"'Børn \"&A337&\"'!$H$31\",TRUE)),3)","v":{"$error":"#VALUE!"}},{"$f":"COUNTIF(IF(ISERROR(INDIRECT(\"'Børn \"&A337&\"'!$H$44\",TRUE)),\"\",INDIRECT(\"'Børn \"&A337&\"'!$H$44\",TRUE)),3)","v":{"$error":"#VALUE!"}},{"$f":"COUNTIF(IF(ISERROR(INDIRECT(\"'Børn \"&A337&\"'!$H$53\",TRUE)),\"\",INDIRECT(\"'Børn \"&A337&\"'!$H$53\",TRUE)),3)","v":{"$error":"#VALUE!"}},{"$f":"COUNTIF(IF(ISERROR(INDIRECT(\"'Børn \"&A337&\"'!$H$61\",TRUE)),\"\",INDIRECT(\"'Børn \"&A337&\"'!$H$61\",TRUE)),3)","v":{"$error":"#VALUE!"}},{"$f":"COUNTIF(IF(ISERROR(INDIRECT(\"'Børn \"&A337&\"'!$H$68\",TRUE)),\"\",INDIRECT(\"'Børn \"&A337&\"'!$H$68\",TRUE)),3)","v":{"$error":"#VALUE!"}},{"$f":"COUNTIF(IF(ISERROR(INDIRECT(\"'Børn \"&A337&\"'!$H$79\",TRUE)),\"\",INDIRECT(\"'Børn \"&A337&\"'!$H$79\",TRUE)),3)","v":{"$error":"#VALUE!"}},{"$f":"COUNTIF(IF(ISERROR(INDIRECT(\"'Børn \"&A337&\"'!$H$87\",TRUE)),\"\",INDIRECT(\"'Børn \"&A337&\"'!$H$87\",TRUE)),3)","v":{"$error":"#VALUE!"}}]
["Tilsyn 93","Status:  grøn",{"$f":"COUNTIF(IF(ISERROR(INDIRECT(\"'Voksen \"&A338&\"'!$H$31\",TRUE)),\"\",INDIRECT(\"'Voksen \"&A338&\"'!$H$31\",TRUE)),1)","v":{"$error":"#VALUE!"}},{"$f":"COUNTIF(IF(ISERROR(INDIRECT(\"'Voksen \"&A338&\"'!$H$41\",TRUE)),\"\",INDIRECT(\"'Voksen \"&A338&\"'!$H$41\",TRUE)),1)","v":{"$error":"#VALUE!"}},{"$f":"COUNTIF(IF(ISERROR(INDIRECT(\"'Voksen \"&A338&\"'!$H$50\",TRUE)),\"\",INDIRECT(\"'Voksen \"&A338&\"'!$H$50\",TRUE)),1)","v":{"$error":"#VALUE!"}},{"$f":"COUNTIF(IF(ISERROR(INDIRECT(\"'Voksen \"&A338&\"'!$H$58\",TRUE)),\"\",INDIRECT(\"'Voksen \"&A338&\"'!$H$58\",TRUE)),1)","v":{"$error":"#VALUE!"}},{"$f":"COUNTIF(IF(ISERROR(INDIRECT(\"'Voksen \"&A338&\"'!$H$69\",TRUE)),\"\",INDIRECT(\"'Voksen \"&A338&\"'!$H$69\",TRUE)),1)","v":{"$error":"#VALUE!"}},{"$f":"COUNTIF(IF(ISERROR(INDIRECT(\"'Voksen \"&A338&\"'!$H$77\",TRUE)),\"\",INDIRECT(\"'Voksen \"&A338&\"'!$H$77\",TRUE)),1)","v":{"$error":"#VALUE!"}},null,null,{"$f":"COUNTIF(IF(ISERROR(INDIRECT(\"'Børn \"&A338&\"'!$H$31\",TRUE)),\"\",INDIRECT(\"'Børn \"&A338&\"'!$H$31\",TRUE)),1)","v":{"$error":"#VALUE!"}},{"$f":"COUNTIF(IF(ISERROR(INDIRECT(\"'Børn \"&A338&\"'!$H$44\",TRUE)),\"\",INDIRECT(\"'Børn \"&A338&\"'!$H$44\",TRUE)),1)","v":{"$error":"#VALUE!"}},{"$f":"COUNTIF(IF(ISERROR(INDIRECT(\"'Børn \"&A338&\"'!$H$53\",TRUE)),\"\",INDIRECT(\"'Børn \"&A338&\"'!$H$53\",TRUE)),1)","v":{"$error":"#VALUE!"}},{"$f":"COUNTIF(IF(ISERROR(INDIRECT(\"'Børn \"&A338&\"'!$H$61\",TRUE)),\"\",INDIRECT(\"'Børn \"&A338&\"'!$H$61\",TRUE)),1)","v":{"$error":"#VALUE!"}},{"$f":"COUNTIF(IF(ISERROR(INDIRECT(\"'Børn \"&A338&\"'!$H$68\",TRUE)),\"\",INDIRECT(\"'Børn \"&A338&\"'!$H$68\",TRUE)),1)","v":{"$error":"#VALUE!"}},{"$f":"COUNTIF(IF(ISERROR(INDIRECT(\"'Børn \"&A338&\"'!$H$79\",TRUE)),\"\",INDIRECT(\"'Børn \"&A338&\"'!$H$79\",TRUE)),1)","v":{"$error":"#VALUE!"}},{"$f":"COUNTIF(IF(ISERROR(INDIRECT(\"'Børn \"&A338&\"'!$H$87\",TRUE)),\"\",INDIRECT(\"'Børn \"&A338&\"'!$H$87\",TRUE)),1)","v":{"$error":"#VALUE!"}}]
["Tilsyn 93","Status:  gul",{"$f":"COUNTIF(IF(ISERROR(INDIRECT(\"'Voksen \"&A339&\"'!$H$31\",TRUE)),\"\",INDIRECT(\"'Voksen \"&A339&\"'!$H$31\",TRUE)),2)","v":{"$error":"#VALUE!"}},{"$f":"COUNTIF(IF(ISERROR(INDIRECT(\"'Voksen \"&A339&\"'!$H$41\",TRUE)),\"\",INDIRECT(\"'Voksen \"&A339&\"'!$H$41\",TRUE)),2)","v":{"$error":"#VALUE!"}},{"$f":"COUNTIF(IF(ISERROR(INDIRECT(\"'Voksen \"&A339&\"'!$H$50\",TRUE)),\"\",INDIRECT(\"'Voksen \"&A339&\"'!$H$50\",TRUE)),2)","v":{"$error":"#VALUE!"}},{"$f":"COUNTIF(IF(ISERROR(INDIRECT(\"'Voksen \"&A339&\"'!$H$58\",TRUE)),\"\",INDIRECT(\"'Voksen \"&A339&\"'!$H$58\",TRUE)),2)","v":{"$error":"#VALUE!"}},{"$f":"COUNTIF(IF(ISERROR(INDIRECT(\"'Voksen \"&A339&\"'!$H$69\",TRUE)),\"\",INDIRECT(\"'Voksen \"&A339&\"'!$H$69\",TRUE)),2)","v":{"$error":"#VALUE!"}},{"$f":"COUNTIF(IF(ISERROR(INDIRECT(\"'Voksen \"&A339&\"'!$H$77\",TRUE)),\"\",INDIRECT(\"'Voksen \"&A339&\"'!$H$77\",TRUE)),2)","v":{"$error":"#VALUE!"}},null,null,{"$f":"COUNTIF(IF(ISERROR(INDIRECT(\"'Børn \"&A339&\"'!$H$31\",TRUE)),\"\",INDIRECT(\"'Børn \"&A339&\"'!$H$31\",TRUE)),2)","v":{"$error":"#VALUE!"}},{"$f":"COUNTIF(IF(ISERROR(INDIRECT(\"'Børn \"&A339&\"'!$H$44\",TRUE)),\"\",INDIRECT(\"'Børn \"&A339&\"'!$H$44\",TRUE)),2)","v":{"$error":"#VALUE!"}},{"$f":"COUNTIF(IF(ISERROR(INDIRECT(\"'Børn \"&A339&\"'!$H$53\",TRUE)),\"\",INDIRECT(\"'Børn \"&A339&\"'!$H$53\",TRUE)),2)","v":{"$error":"#VALUE!"}},{"$f":"COUNTIF(IF(ISERROR(INDIRECT(\"'Børn \"&A339&\"'!$H$61\",TRUE)),\"\",INDIRECT(\"'Børn \"&A339&\"'!$H$61\",TRUE)),2)","v":{"$error":"#VALUE!"}},{"$f":"COUNTIF(IF(ISERROR(INDIRECT(\"'Børn \"&A339&\"'!$H$68\",TRUE)),\"\",INDIRECT(\"'Børn \"&A339&\"'!$H$68\",TRUE)),2)","v":{"$error":"#VALUE!"}},{"$f":"COUNTIF(IF(ISERROR(INDIRECT(\"'Børn \"&A339&\"'!$H$79\",TRUE)),\"\",INDIRECT(\"'Børn \"&A339&\"'!$H$79\",TRUE)),2)","v":{"$error":"#VALUE!"}},{"$f":"COUNTIF(IF(ISERROR(INDIRECT(\"'Børn \"&A339&\"'!$H$87\",TRUE)),\"\",INDIRECT(\"'Børn \"&A339&\"'!$H$87\",TRUE)),2)","v":{"$error":"#VALUE!"}}]
["Tilsyn 93","Status:  rød",{"$f":"COUNTIF(IF(ISERROR(INDIRECT(\"'Voksen \"&A340&\"'!$H$31\",TRUE)),\"\",INDIRECT(\"'Voksen \"&A340&\"'!$H$31\",TRUE)),3)","v":{"$error":"#VALUE!"}},{"$f":"COUNTIF(IF(ISERROR(INDIRECT(\"'Voksen \"&A340&\"'!$H$41\",TRUE)),\"\",INDIRECT(\"'Voksen \"&A340&\"'!$H$41\",TRUE)),3)","v":{"$error":"#VALUE!"}},{"$f":"COUNTIF(IF(ISERROR(INDIRECT(\"'Voksen \"&A340&\"'!$H$50\",TRUE)),\"\",INDIRECT(\"'Voksen \"&A340&\"'!$H$50\",TRUE)),3)","v":{"$error":"#VALUE!"}},{"$f":"COUNTIF(IF(ISERROR(INDIRECT(\"'Voksen \"&A340&\"'!$H$58\",TRUE)),\"\",INDIRECT(\"'Voksen \"&A340&\"'!$H$58\",TRUE)),3)","v":{"$error":"#VALUE!"}},{"$f":"COUNTIF(IF(ISERROR(INDIRECT(\"'Voksen \"&A340&\"'!$H$69\",TRUE)),\"\",INDIRECT(\"'Voksen \"&A340&\"'!$H$69\",TRUE)),3)","v":{"$error":"#VALUE!"}},{"$f":"COUNTIF(IF(ISERROR(INDIRECT(\"'Voksen \"&A340&\"'!$H$77\",TRUE)),\"\",INDIRECT(\"'Voksen \"&A340&\"'!$H$77\",TRUE)),3)","v":{"$error":"#VALUE!"}},null,null,{"$f":"COUNTIF(IF(ISERROR(INDIRECT(\"'Børn \"&A340&\"'!$H$31\",TRUE)),\"\",INDIRECT(\"'Børn \"&A340&\"'!$H$31\",TRUE)),3)","v":{"$error":"#VALUE!"}},{"$f":"COUNTIF(IF(ISERROR(INDIRECT(\"'Børn \"&A340&\"'!$H$44\",TRUE)),\"\",INDIRECT(\"'Børn \"&A340&\"'!$H$44\",TRUE)),3)","v":{"$error":"#VALUE!"}},{"$f":"COUNTIF(IF(ISERROR(INDIRECT(\"'Børn \"&A340&\"'!$H$53\",TRUE)),\"\",INDIRECT(\"'Børn \"&A340&\"'!$H$53\",TRUE)),3)","v":{"$error":"#VALUE!"}},{"$f":"COUNTIF(IF(ISERROR(INDIRECT(\"'Børn \"&A340&\"'!$H$61\",TRUE)),\"\",INDIRECT(\"'Børn \"&A340&\"'!$H$61\",TRUE)),3)","v":{"$error":"#VALUE!"}},{"$f":"COUNTIF(IF(ISERROR(INDIRECT(\"'Børn \"&A340&\"'!$H$68\",TRUE)),\"\",INDIRECT(\"'Børn \"&A340&\"'!$H$68\",TRUE)),3)","v":{"$error":"#VALUE!"}},{"$f":"COUNTIF(IF(ISERROR(INDIRECT(\"'Børn \"&A340&\"'!$H$79\",TRUE)),\"\",INDIRECT(\"'Børn \"&A340&\"'!$H$79\",TRUE)),3)","v":{"$error":"#VALUE!"}},{"$f":"COUNTIF(IF(ISERROR(INDIRECT(\"'Børn \"&A340&\"'!$H$87\",TRUE)),\"\",INDIRECT(\"'Børn \"&A340&\"'!$H$87\",TRUE)),3)","v":{"$error":"#VALUE!"}}]
["Tilsyn 94","Status:  grøn",{"$f":"COUNTIF(IF(ISERROR(INDIRECT(\"'Voksen \"&A341&\"'!$H$31\",TRUE)),\"\",INDIRECT(\"'Voksen \"&A341&\"'!$H$31\",TRUE)),1)","v":{"$error":"#VALUE!"}},{"$f":"COUNTIF(IF(ISERROR(INDIRECT(\"'Voksen \"&A341&\"'!$H$41\",TRUE)),\"\",INDIRECT(\"'Voksen \"&A341&\"'!$H$41\",TRUE)),1)","v":{"$error":"#VALUE!"}},{"$f":"COUNTIF(IF(ISERROR(INDIRECT(\"'Voksen \"&A341&\"'!$H$50\",TRUE)),\"\",INDIRECT(\"'Voksen \"&A341&\"'!$H$50\",TRUE)),1)","v":{"$error":"#VALUE!"}},{"$f":"COUNTIF(IF(ISERROR(INDIRECT(\"'Voksen \"&A341&\"'!$H$58\",TRUE)),\"\",INDIRECT(\"'Voksen \"&A341&\"'!$H$58\",TRUE)),1)","v":{"$error":"#VALUE!"}},{"$f":"COUNTIF(IF(ISERROR(INDIRECT(\"'Voksen \"&A341&\"'!$H$69\",TRUE)),\"\",INDIRECT(\"'Voksen \"&A341&\"'!$H$69\",TRUE)),1)","v":{"$error":"#VALUE!"}},{"$f":"COUNTIF(IF(ISERROR(INDIRECT(\"'Voksen \"&A341&\"'!$H$77\",TRUE)),\"\",INDIRECT(\"'Voksen \"&A341&\"'!$H$77\",TRUE)),1)","v":{"$error":"#VALUE!"}},null,null,{"$f":"COUNTIF(IF(ISERROR(INDIRECT(\"'Børn \"&A341&\"'!$H$31\",TRUE)),\"\",INDIRECT(\"'Børn \"&A341&\"'!$H$31\",TRUE)),1)","v":{"$error":"#VALUE!"}},{"$f":"COUNTIF(IF(ISERROR(INDIRECT(\"'Børn \"&A341&\"'!$H$44\",TRUE)),\"\",INDIRECT(\"'Børn \"&A341&\"'!$H$44\",TRUE)),1)","v":{"$error":"#VALUE!"}},{"$f":"COUNTIF(IF(ISERROR(INDIRECT(\"'Børn \"&A341&\"'!$H$53\",TRUE)),\"\",INDIRECT(\"'Børn \"&A341&\"'!$H$53\",TRUE)),1)","v":{"$error":"#VALUE!"}},{"$f":"COUNTIF(IF(ISERROR(INDIRECT(\"'Børn \"&A341&\"'!$H$61\",TRUE)),\"\",INDIRECT(\"'Børn \"&A341&\"'!$H$61\",TRUE)),1)","v":{"$error":"#VALUE!"}},{"$f":"COUNTIF(IF(ISERROR(INDIRECT(\"'Børn \"&A341&\"'!$H$68\",TRUE)),\"\",INDIRECT(\"'Børn \"&A341&\"'!$H$68\",TRUE)),1)","v":{"$error":"#VALUE!"}},{"$f":"COUNTIF(IF(ISERROR(INDIRECT(\"'Børn \"&A341&\"'!$H$79\",TRUE)),\"\",INDIRECT(\"'Børn \"&A341&\"'!$H$79\",TRUE)),1)","v":{"$error":"#VALUE!"}},{"$f":"COUNTIF(IF(ISERROR(INDIRECT(\"'Børn \"&A341&\"'!$H$87\",TRUE)),\"\",INDIRECT(\"'Børn \"&A341&\"'!$H$87\",TRUE)),1)","v":{"$error":"#VALUE!"}}]
["Tilsyn 94","Status:  gul",{"$f":"COUNTIF(IF(ISERROR(INDIRECT(\"'Voksen \"&A342&\"'!$H$31\",TRUE)),\"\",INDIRECT(\"'Voksen \"&A342&\"'!$H$31\",TRUE)),2)","v":{"$error":"#VALUE!"}},{"$f":"COUNTIF(IF(ISERROR(INDIRECT(\"'Voksen \"&A342&\"'!$H$41\",TRUE)),\"\",INDIRECT(\"'Voksen \"&A342&\"'!$H$41\",TRUE)),2)","v":{"$error":"#VALUE!"}},{"$f":"COUNTIF(IF(ISERROR(INDIRECT(\"'Voksen \"&A342&\"'!$H$50\",TRUE)),\"\",INDIRECT(\"'Voksen \"&A342&\"'!$H$50\",TRUE)),2)","v":{"$error":"#VALUE!"}},{"$f":"COUNTIF(IF(ISERROR(INDIRECT(\"'Voksen \"&A342&\"'!$H$58\",TRUE)),\"\",INDIRECT(\"'Voksen \"&A342&\"'!$H$58\",TRUE)),2)","v":{"$error":"#VALUE!"}},{"$f":"COUNTIF(IF(ISERROR(INDIRECT(\"'Voksen \"&A342&\"'!$H$69\",TRUE)),\"\",INDIRECT(\"'Voksen \"&A342&\"'!$H$69\",TRUE)),2)","v":{"$error":"#VALUE!"}},{"$f":"COUNTIF(IF(ISERROR(INDIRECT(\"'Voksen \"&A342&\"'!$H$77\",TRUE)),\"\",INDIRECT(\"'Voksen \"&A342&\"'!$H$77\",TRUE)),2)","v":{"$error":"#VALUE!"}},null,null,{"$f":"COUNTIF(IF(ISERROR(INDIRECT(\"'Børn \"&A342&\"'!$H$31\",TRUE)),\"\",INDIRECT(\"'Børn \"&A342&\"'!$H$31\",TRUE)),2)","v":{"$error":"#VALUE!"}},{"$f":"COUNTIF(IF(ISERROR(INDIRECT(\"'Børn \"&A342&\"'!$H$44\",TRUE)),\"\",INDIRECT(\"'Børn \"&A342&\"'!$H$44\",TRUE)),2)","v":{"$error":"#VALUE!"}},{"$f":"COUNTIF(IF(ISERROR(INDIRECT(\"'Børn \"&A342&\"'!$H$53\",TRUE)),\"\",INDIRECT(\"'Børn \"&A342&\"'!$H$53\",TRUE)),2)","v":{"$error":"#VALUE!"}},{"$f":"COUNTIF(IF(ISERROR(INDIRECT(\"'Børn \"&A342&\"'!$H$61\",TRUE)),\"\",INDIRECT(\"'Børn \"&A342&\"'!$H$61\",TRUE)),2)","v":{"$error":"#VALUE!"}},{"$f":"COUNTIF(IF(ISERROR(INDIRECT(\"'Børn \"&A342&\"'!$H$68\",TRUE)),\"\",INDIRECT(\"'Børn \"&A342&\"'!$H$68\",TRUE)),2)","v":{"$error":"#VALUE!"}},{"$f":"COUNTIF(IF(ISERROR(INDIRECT(\"'Børn \"&A342&\"'!$H$79\",TRUE)),\"\",INDIRECT(\"'Børn \"&A342&\"'!$H$79\",TRUE)),2)","v":{"$error":"#VALUE!"}},{"$f":"COUNTIF(IF(ISERROR(INDIRECT(\"'Børn \"&A342&\"'!$H$87\",TRUE)),\"\",INDIRECT(\"'Børn \"&A342&\"'!$H$87\",TRUE)),2)","v":{"$error":"#VALUE!"}}]
["Tilsyn 94","Status:  rød",{"$f":"COUNTIF(IF(ISERROR(INDIRECT(\"'Voksen \"&A343&\"'!$H$31\",TRUE)),\"\",INDIRECT(\"'Voksen \"&A343&\"'!$H$31\",TRUE)),3)","v":{"$error":"#VALUE!"}},{"$f":"COUNTIF(IF(ISERROR(INDIRECT(\"'Voksen \"&A343&\"'!$H$41\",TRUE)),\"\",INDIRECT(\"'Voksen \"&A343&\"'!$H$41\",TRUE)),3)","v":{"$error":"#VALUE!"}},{"$f":"COUNTIF(IF(ISERROR(INDIRECT(\"'Voksen \"&A343&\"'!$H$50\",TRUE)),\"\",INDIRECT(\"'Voksen \"&A343&\"'!$H$50\",TRUE)),3)","v":{"$error":"#VALUE!"}},{"$f":"COUNTIF(IF(ISERROR(INDIRECT(\"'Voksen \"&A343&\"'!$H$58\",TRUE)),\"\",INDIRECT(\"'Voksen \"&A343&\"'!$H$58\",TRUE)),3)","v":{"$error":"#VALUE!"}},{"$f":"COUNTIF(IF(ISERROR(INDIRECT(\"'Voksen \"&A343&\"'!$H$69\",TRUE)),\"\",INDIRECT(\"'Voksen \"&A343&\"'!$H$69\",TRUE)),3)","v":{"$error":"#VALUE!"}},{"$f":"COUNTIF(IF(ISERROR(INDIRECT(\"'Voksen \"&A343&\"'!$H$77\",TRUE)),\"\",INDIRECT(\"'Voksen \"&A343&\"'!$H$77\",TRUE)),3)","v":{"$error":"#VALUE!"}},null,null,{"$f":"COUNTIF(IF(ISERROR(INDIRECT(\"'Børn \"&A343&\"'!$H$31\",TRUE)),\"\",INDIRECT(\"'Børn \"&A343&\"'!$H$31\",TRUE)),3)","v":{"$error":"#VALUE!"}},{"$f":"COUNTIF(IF(ISERROR(INDIRECT(\"'Børn \"&A343&\"'!$H$44\",TRUE)),\"\",INDIRECT(\"'Børn \"&A343&\"'!$H$44\",TRUE)),3)","v":{"$error":"#VALUE!"}},{"$f":"COUNTIF(IF(ISERROR(INDIRECT(\"'Børn \"&A343&\"'!$H$53\",TRUE)),\"\",INDIRECT(\"'Børn \"&A343&\"'!$H$53\",TRUE)),3)","v":{"$error":"#VALUE!"}},{"$f":"COUNTIF(IF(ISERROR(INDIRECT(\"'Børn \"&A343&\"'!$H$61\",TRUE)),\"\",INDIRECT(\"'Børn \"&A343&\"'!$H$61\",TRUE)),3)","v":{"$error":"#VALUE!"}},{"$f":"COUNTIF(IF(ISERROR(INDIRECT(\"'Børn \"&A343&\"'!$H$68\",TRUE)),\"\",INDIRECT(\"'Børn \"&A343&\"'!$H$68\",TRUE)),3)","v":{"$error":"#VALUE!"}},{"$f":"COUNTIF(IF(ISERROR(INDIRECT(\"'Børn \"&A343&\"'!$H$79\",TRUE)),\"\",INDIRECT(\"'Børn \"&A343&\"'!$H$79\",TRUE)),3)","v":{"$error":"#VALUE!"}},{"$f":"COUNTIF(IF(ISERROR(INDIRECT(\"'Børn \"&A343&\"'!$H$87\",TRUE)),\"\",INDIRECT(\"'Børn \"&A343&\"'!$H$87\",TRUE)),3)","v":{"$error":"#VALUE!"}}]
["Tilsyn 95","Status:  grøn",{"$f":"COUNTIF(IF(ISERROR(INDIRECT(\"'Voksen \"&A344&\"'!$H$31\",TRUE)),\"\",INDIRECT(\"'Voksen \"&A344&\"'!$H$31\",TRUE)),1)","v":{"$error":"#VALUE!"}},{"$f":"COUNTIF(IF(ISERROR(INDIRECT(\"'Voksen \"&A344&\"'!$H$41\",TRUE)),\"\",INDIRECT(\"'Voksen \"&A344&\"'!$H$41\",TRUE)),1)","v":{"$error":"#VALUE!"}},{"$f":"COUNTIF(IF(ISERROR(INDIRECT(\"'Voksen \"&A344&\"'!$H$50\",TRUE)),\"\",INDIRECT(\"'Voksen \"&A344&\"'!$H$50\",TRUE)),1)","v":{"$error":"#VALUE!"}},{"$f":"COUNTIF(IF(ISERROR(INDIRECT(\"'Voksen \"&A344&\"'!$H$58\",TRUE)),\"\",INDIRECT(\"'Voksen \"&A344&\"'!$H$58\",TRUE)),1)","v":{"$error":"#VALUE!"}},{"$f":"COUNTIF(IF(ISERROR(INDIRECT(\"'Voksen \"&A344&\"'!$H$69\",TRUE)),\"\",INDIRECT(\"'Voksen \"&A344&\"'!$H$69\",TRUE)),1)","v":{"$error":"#VALUE!"}},{"$f":"COUNTIF(IF(ISERROR(INDIRECT(\"'Voksen \"&A344&\"'!$H$77\",TRUE)),\"\",INDIRECT(\"'Voksen \"&A344&\"'!$H$77\",TRUE)),1)","v":{"$error":"#VALUE!"}},null,null,{"$f":"COUNTIF(IF(ISERROR(INDIRECT(\"'Børn \"&A344&\"'!$H$31\",TRUE)),\"\",INDIRECT(\"'Børn \"&A344&\"'!$H$31\",TRUE)),1)","v":{"$error":"#VALUE!"}},{"$f":"COUNTIF(IF(ISERROR(INDIRECT(\"'Børn \"&A344&\"'!$H$44\",TRUE)),\"\",INDIRECT(\"'Børn \"&A344&\"'!$H$44\",TRUE)),1)","v":{"$error":"#VALUE!"}},{"$f":"COUNTIF(IF(ISERROR(INDIRECT(\"'Børn \"&A344&\"'!$H$53\",TRUE)),\"\",INDIRECT(\"'Børn \"&A344&\"'!$H$53\",TRUE)),1)","v":{"$error":"#VALUE!"}},{"$f":"COUNTIF(IF(ISERROR(INDIRECT(\"'Børn \"&A344&\"'!$H$61\",TRUE)),\"\",INDIRECT(\"'Børn \"&A344&\"'!$H$61\",TRUE)),1)","v":{"$error":"#VALUE!"}},{"$f":"COUNTIF(IF(ISERROR(INDIRECT(\"'Børn \"&A344&\"'!$H$68\",TRUE)),\"\",INDIRECT(\"'Børn \"&A344&\"'!$H$68\",TRUE)),1)","v":{"$error":"#VALUE!"}},{"$f":"COUNTIF(IF(ISERROR(INDIRECT(\"'Børn \"&A344&\"'!$H$79\",TRUE)),\"\",INDIRECT(\"'Børn \"&A344&\"'!$H$79\",TRUE)),1)","v":{"$error":"#VALUE!"}},{"$f":"COUNTIF(IF(ISERROR(INDIRECT(\"'Børn \"&A344&\"'!$H$87\",TRUE)),\"\",INDIRECT(\"'Børn \"&A344&\"'!$H$87\",TRUE)),1)","v":{"$error":"#VALUE!"}}]
["Tilsyn 95","Status:  gul",{"$f":"COUNTIF(IF(ISERROR(INDIRECT(\"'Voksen \"&A345&\"'!$H$31\",TRUE)),\"\",INDIRECT(\"'Voksen \"&A345&\"'!$H$31\",TRUE)),2)","v":{"$error":"#VALUE!"}},{"$f":"COUNTIF(IF(ISERROR(INDIRECT(\"'Voksen \"&A345&\"'!$H$41\",TRUE)),\"\",INDIRECT(\"'Voksen \"&A345&\"'!$H$41\",TRUE)),2)","v":{"$error":"#VALUE!"}},{"$f":"COUNTIF(IF(ISERROR(INDIRECT(\"'Voksen \"&A345&\"'!$H$50\",TRUE)),\"\",INDIRECT(\"'Voksen \"&A345&\"'!$H$50\",TRUE)),2)","v":{"$error":"#VALUE!"}},{"$f":"COUNTIF(IF(ISERROR(INDIRECT(\"'Voksen \"&A345&\"'!$H$58\",TRUE)),\"\",INDIRECT(\"'Voksen \"&A345&\"'!$H$58\",TRUE)),2)","v":{"$error":"#VALUE!"}},{"$f":"COUNTIF(IF(ISERROR(INDIRECT(\"'Voksen \"&A345&\"'!$H$69\",TRUE)),\"\",INDIRECT(\"'Voksen \"&A345&\"'!$H$69\",TRUE)),2)","v":{"$error":"#VALUE!"}},{"$f":"COUNTIF(IF(ISERROR(INDIRECT(\"'Voksen \"&A345&\"'!$H$77\",TRUE)),\"\",INDIRECT(\"'Voksen \"&A345&\"'!$H$77\",TRUE)),2)","v":{"$error":"#VALUE!"}},null,null,{"$f":"COUNTIF(IF(ISERROR(INDIRECT(\"'Børn \"&A345&\"'!$H$31\",TRUE)),\"\",INDIRECT(\"'Børn \"&A345&\"'!$H$31\",TRUE)),2)","v":{"$error":"#VALUE!"}},{"$f":"COUNTIF(IF(ISERROR(INDIRECT(\"'Børn \"&A345&\"'!$H$44\",TRUE)),\"\",INDIRECT(\"'Børn \"&A345&\"'!$H$44\",TRUE)),2)","v":{"$error":"#VALUE!"}},{"$f":"COUNTIF(IF(ISERROR(INDIRECT(\"'Børn \"&A345&\"'!$H$53\",TRUE)),\"\",INDIRECT(\"'Børn \"&A345&\"'!$H$53\",TRUE)),2)","v":{"$error":"#VALUE!"}},{"$f":"COUNTIF(IF(ISERROR(INDIRECT(\"'Børn \"&A345&\"'!$H$61\",TRUE)),\"\",INDIRECT(\"'Børn \"&A345&\"'!$H$61\",TRUE)),2)","v":{"$error":"#VALUE!"}},{"$f":"COUNTIF(IF(ISERROR(INDIRECT(\"'Børn \"&A345&\"'!$H$68\",TRUE)),\"\",INDIRECT(\"'Børn \"&A345&\"'!$H$68\",TRUE)),2)","v":{"$error":"#VALUE!"}},{"$f":"COUNTIF(IF(ISERROR(INDIRECT(\"'Børn \"&A345&\"'!$H$79\",TRUE)),\"\",INDIRECT(\"'Børn \"&A345&\"'!$H$79\",TRUE)),2)","v":{"$error":"#VALUE!"}},{"$f":"COUNTIF(IF(ISERROR(INDIRECT(\"'Børn \"&A345&\"'!$H$87\",TRUE)),\"\",INDIRECT(\"'Børn \"&A345&\"'!$H$87\",TRUE)),2)","v":{"$error":"#VALUE!"}}]
["Tilsyn 95","Status:  rød",{"$f":"COUNTIF(IF(ISERROR(INDIRECT(\"'Voksen \"&A346&\"'!$H$31\",TRUE)),\"\",INDIRECT(\"'Voksen \"&A346&\"'!$H$31\",TRUE)),3)","v":{"$error":"#VALUE!"}},{"$f":"COUNTIF(IF(ISERROR(INDIRECT(\"'Voksen \"&A346&\"'!$H$41\",TRUE)),\"\",INDIRECT(\"'Voksen \"&A346&\"'!$H$41\",TRUE)),3)","v":{"$error":"#VALUE!"}},{"$f":"COUNTIF(IF(ISERROR(INDIRECT(\"'Voksen \"&A346&\"'!$H$50\",TRUE)),\"\",INDIRECT(\"'Voksen \"&A346&\"'!$H$50\",TRUE)),3)","v":{"$error":"#VALUE!"}},{"$f":"COUNTIF(IF(ISERROR(INDIRECT(\"'Voksen \"&A346&\"'!$H$58\",TRUE)),\"\",INDIRECT(\"'Voksen \"&A346&\"'!$H$58\",TRUE)),3)","v":{"$error":"#VALUE!"}},{"$f":"COUNTIF(IF(ISERROR(INDIRECT(\"'Voksen \"&A346&\"'!$H$69\",TRUE)),\"\",INDIRECT(\"'Voksen \"&A346&\"'!$H$69\",TRUE)),3)","v":{"$error":"#VALUE!"}},{"$f":"COUNTIF(IF(ISERROR(INDIRECT(\"'Voksen \"&A346&\"'!$H$77\",TRUE)),\"\",INDIRECT(\"'Voksen \"&A346&\"'!$H$77\",TRUE)),3)","v":{"$error":"#VALUE!"}},null,null,{"$f":"COUNTIF(IF(ISERROR(INDIRECT(\"'Børn \"&A346&\"'!$H$31\",TRUE)),\"\",INDIRECT(\"'Børn \"&A346&\"'!$H$31\",TRUE)),3)","v":{"$error":"#VALUE!"}},{"$f":"COUNTIF(IF(ISERROR(INDIRECT(\"'Børn \"&A346&\"'!$H$44\",TRUE)),\"\",INDIRECT(\"'Børn \"&A346&\"'!$H$44\",TRUE)),3)","v":{"$error":"#VALUE!"}},{"$f":"COUNTIF(IF(ISERROR(INDIRECT(\"'Børn \"&A346&\"'!$H$53\",TRUE)),\"\",INDIRECT(\"'Børn \"&A346&\"'!$H$53\",TRUE)),3)","v":{"$error":"#VALUE!"}},{"$f":"COUNTIF(IF(ISERROR(INDIRECT(\"'Børn \"&A346&\"'!$H$61\",TRUE)),\"\",INDIRECT(\"'Børn \"&A346&\"'!$H$61\",TRUE)),3)","v":{"$error":"#VALUE!"}},{"$f":"COUNTIF(IF(ISERROR(INDIRECT(\"'Børn \"&A346&\"'!$H$68\",TRUE)),\"\",INDIRECT(\"'Børn \"&A346&\"'!$H$68\",TRUE)),3)","v":{"$error":"#VALUE!"}},{"$f":"COUNTIF(IF(ISERROR(INDIRECT(\"'Børn \"&A346&\"'!$H$79\",TRUE)),\"\",INDIRECT(\"'Børn \"&A346&\"'!$H$79\",TRUE)),3)","v":{"$error":"#VALUE!"}},{"$f":"COUNTIF(IF(ISERROR(INDIRECT(\"'Børn \"&A346&\"'!$H$87\",TRUE)),\"\",INDIRECT(\"'Børn \"&A346&\"'!$H$87\",TRUE)),3)","v":{"$error":"#VALUE!"}}]
["Tilsyn 96","Status:  grøn",{"$f":"COUNTIF(IF(ISERROR(INDIRECT(\"'Voksen \"&A347&\"'!$H$31\",TRUE)),\"\",INDIRECT(\"'Voksen \"&A347&\"'!$H$31\",TRUE)),1)","v":{"$error":"#VALUE!"}},{"$f":"COUNTIF(IF(ISERROR(INDIRECT(\"'Voksen \"&A347&\"'!$H$41\",TRUE)),\"\",INDIRECT(\"'Voksen \"&A347&\"'!$H$41\",TRUE)),1)","v":{"$error":"#VALUE!"}},{"$f":"COUNTIF(IF(ISERROR(INDIRECT(\"'Voksen \"&A347&\"'!$H$50\",TRUE)),\"\",INDIRECT(\"'Voksen \"&A347&\"'!$H$50\",TRUE)),1)","v":{"$error":"#VALUE!"}},{"$f":"COUNTIF(IF(ISERROR(INDIRECT(\"'Voksen \"&A347&\"'!$H$58\",TRUE)),\"\",INDIRECT(\"'Voksen \"&A347&\"'!$H$58\",TRUE)),1)","v":{"$error":"#VALUE!"}},{"$f":"COUNTIF(IF(ISERROR(INDIRECT(\"'Voksen \"&A347&\"'!$H$69\",TRUE)),\"\",INDIRECT(\"'Voksen \"&A347&\"'!$H$69\",TRUE)),1)","v":{"$error":"#VALUE!"}},{"$f":"COUNTIF(IF(ISERROR(INDIRECT(\"'Voksen \"&A347&\"'!$H$77\",TRUE)),\"\",INDIRECT(\"'Voksen \"&A347&\"'!$H$77\",TRUE)),1)","v":{"$error":"#VALUE!"}},null,null,{"$f":"COUNTIF(IF(ISERROR(INDIRECT(\"'Børn \"&A347&\"'!$H$31\",TRUE)),\"\",INDIRECT(\"'Børn \"&A347&\"'!$H$31\",TRUE)),1)","v":{"$error":"#VALUE!"}},{"$f":"COUNTIF(IF(ISERROR(INDIRECT(\"'Børn \"&A347&\"'!$H$44\",TRUE)),\"\",INDIRECT(\"'Børn \"&A347&\"'!$H$44\",TRUE)),1)","v":{"$error":"#VALUE!"}},{"$f":"COUNTIF(IF(ISERROR(INDIRECT(\"'Børn \"&A347&\"'!$H$53\",TRUE)),\"\",INDIRECT(\"'Børn \"&A347&\"'!$H$53\",TRUE)),1)","v":{"$error":"#VALUE!"}},{"$f":"COUNTIF(IF(ISERROR(INDIRECT(\"'Børn \"&A347&\"'!$H$61\",TRUE)),\"\",INDIRECT(\"'Børn \"&A347&\"'!$H$61\",TRUE)),1)","v":{"$error":"#VALUE!"}},{"$f":"COUNTIF(IF(ISERROR(INDIRECT(\"'Børn \"&A347&\"'!$H$68\",TRUE)),\"\",INDIRECT(\"'Børn \"&A347&\"'!$H$68\",TRUE)),1)","v":{"$error":"#VALUE!"}},{"$f":"COUNTIF(IF(ISERROR(INDIRECT(\"'Børn \"&A347&\"'!$H$79\",TRUE)),\"\",INDIRECT(\"'Børn \"&A347&\"'!$H$79\",TRUE)),1)","v":{"$error":"#VALUE!"}},{"$f":"COUNTIF(IF(ISERROR(INDIRECT(\"'Børn \"&A347&\"'!$H$87\",TRUE)),\"\",INDIRECT(\"'Børn \"&A347&\"'!$H$87\",TRUE)),1)","v":{"$error":"#VALUE!"}}]
["Tilsyn 96","Status:  gul",{"$f":"COUNTIF(IF(ISERROR(INDIRECT(\"'Voksen \"&A348&\"'!$H$31\",TRUE)),\"\",INDIRECT(\"'Voksen \"&A348&\"'!$H$31\",TRUE)),2)","v":{"$error":"#VALUE!"}},{"$f":"COUNTIF(IF(ISERROR(INDIRECT(\"'Voksen \"&A348&\"'!$H$41\",TRUE)),\"\",INDIRECT(\"'Voksen \"&A348&\"'!$H$41\",TRUE)),2)","v":{"$error":"#VALUE!"}},{"$f":"COUNTIF(IF(ISERROR(INDIRECT(\"'Voksen \"&A348&\"'!$H$50\",TRUE)),\"\",INDIRECT(\"'Voksen \"&A348&\"'!$H$50\",TRUE)),2)","v":{"$error":"#VALUE!"}},{"$f":"COUNTIF(IF(ISERROR(INDIRECT(\"'Voksen \"&A348&\"'!$H$58\",TRUE)),\"\",INDIRECT(\"'Voksen \"&A348&\"'!$H$58\",TRUE)),2)","v":{"$error":"#VALUE!"}},{"$f":"COUNTIF(IF(ISERROR(INDIRECT(\"'Voksen \"&A348&\"'!$H$69\",TRUE)),\"\",INDIRECT(\"'Voksen \"&A348&\"'!$H$69\",TRUE)),2)","v":{"$error":"#VALUE!"}},{"$f":"COUNTIF(IF(ISERROR(INDIRECT(\"'Voksen \"&A348&\"'!$H$77\",TRUE)),\"\",INDIRECT(\"'Voksen \"&A348&\"'!$H$77\",TRUE)),2)","v":{"$error":"#VALUE!"}},null,null,{"$f":"COUNTIF(IF(ISERROR(INDIRECT(\"'Børn \"&A348&\"'!$H$31\",TRUE)),\"\",INDIRECT(\"'Børn \"&A348&\"'!$H$31\",TRUE)),2)","v":{"$error":"#VALUE!"}},{"$f":"COUNTIF(IF(ISERROR(INDIRECT(\"'Børn \"&A348&\"'!$H$44\",TRUE)),\"\",INDIRECT(\"'Børn \"&A348&\"'!$H$44\",TRUE)),2)","v":{"$error":"#VALUE!"}},{"$f":"COUNTIF(IF(ISERROR(INDIRECT(\"'Børn \"&A348&\"'!$H$53\",TRUE)),\"\",INDIRECT(\"'Børn \"&A348&\"'!$H$53\",TRUE)),2)","v":{"$error":"#VALUE!"}},{"$f":"COUNTIF(IF(ISERROR(INDIRECT(\"'Børn \"&A348&\"'!$H$61\",TRUE)),\"\",INDIRECT(\"'Børn \"&A348&\"'!$H$61\",TRUE)),2)","v":{"$error":"#VALUE!"}},{"$f":"COUNTIF(IF(ISERROR(INDIRECT(\"'Børn \"&A348&\"'!$H$68\",TRUE)),\"\",INDIRECT(\"'Børn \"&A348&\"'!$H$68\",TRUE)),2)","v":{"$error":"#VALUE!"}},{"$f":"COUNTIF(IF(ISERROR(INDIRECT(\"'Børn \"&A348&\"'!$H$79\",TRUE)),\"\",INDIRECT(\"'Børn \"&A348&\"'!$H$79\",TRUE)),2)","v":{"$error":"#VALUE!"}},{"$f":"COUNTIF(IF(ISERROR(INDIRECT(\"'Børn \"&A348&\"'!$H$87\",TRUE)),\"\",INDIRECT(\"'Børn \"&A348&\"'!$H$87\",TRUE)),2)","v":{"$error":"#VALUE!"}}]
["Tilsyn 96","Status:  rød",{"$f":"COUNTIF(IF(ISERROR(INDIRECT(\"'Voksen \"&A349&\"'!$H$31\",TRUE)),\"\",INDIRECT(\"'Voksen \"&A349&\"'!$H$31\",TRUE)),3)","v":{"$error":"#VALUE!"}},{"$f":"COUNTIF(IF(ISERROR(INDIRECT(\"'Voksen \"&A349&\"'!$H$41\",TRUE)),\"\",INDIRECT(\"'Voksen \"&A349&\"'!$H$41\",TRUE)),3)","v":{"$error":"#VALUE!"}},{"$f":"COUNTIF(IF(ISERROR(INDIRECT(\"'Voksen \"&A349&\"'!$H$50\",TRUE)),\"\",INDIRECT(\"'Voksen \"&A349&\"'!$H$50\",TRUE)),3)","v":{"$error":"#VALUE!"}},{"$f":"COUNTIF(IF(ISERROR(INDIRECT(\"'Voksen \"&A349&\"'!$H$58\",TRUE)),\"\",INDIRECT(\"'Voksen \"&A349&\"'!$H$58\",TRUE)),3)","v":{"$error":"#VALUE!"}},{"$f":"COUNTIF(IF(ISERROR(INDIRECT(\"'Voksen \"&A349&\"'!$H$69\",TRUE)),\"\",INDIRECT(\"'Voksen \"&A349&\"'!$H$69\",TRUE)),3)","v":{"$error":"#VALUE!"}},{"$f":"COUNTIF(IF(ISERROR(INDIRECT(\"'Voksen \"&A349&\"'!$H$77\",TRUE)),\"\",INDIRECT(\"'Voksen \"&A349&\"'!$H$77\",TRUE)),3)","v":{"$error":"#VALUE!"}},null,null,{"$f":"COUNTIF(IF(ISERROR(INDIRECT(\"'Børn \"&A349&\"'!$H$31\",TRUE)),\"\",INDIRECT(\"'Børn \"&A349&\"'!$H$31\",TRUE)),3)","v":{"$error":"#VALUE!"}},{"$f":"COUNTIF(IF(ISERROR(INDIRECT(\"'Børn \"&A349&\"'!$H$44\",TRUE)),\"\",INDIRECT(\"'Børn \"&A349&\"'!$H$44\",TRUE)),3)","v":{"$error":"#VALUE!"}},{"$f":"COUNTIF(IF(ISERROR(INDIRECT(\"'Børn \"&A349&\"'!$H$53\",TRUE)),\"\",INDIRECT(\"'Børn \"&A349&\"'!$H$53\",TRUE)),3)","v":{"$error":"#VALUE!"}},{"$f":"COUNTIF(IF(ISERROR(INDIRECT(\"'Børn \"&A349&\"'!$H$61\",TRUE)),\"\",INDIRECT(\"'Børn \"&A349&\"'!$H$61\",TRUE)),3)","v":{"$error":"#VALUE!"}},{"$f":"COUNTIF(IF(ISERROR(INDIRECT(\"'Børn \"&A349&\"'!$H$68\",TRUE)),\"\",INDIRECT(\"'Børn \"&A349&\"'!$H$68\",TRUE)),3)","v":{"$error":"#VALUE!"}},{"$f":"COUNTIF(IF(ISERROR(INDIRECT(\"'Børn \"&A349&\"'!$H$79\",TRUE)),\"\",INDIRECT(\"'Børn \"&A349&\"'!$H$79\",TRUE)),3)","v":{"$error":"#VALUE!"}},{"$f":"COUNTIF(IF(ISERROR(INDIRECT(\"'Børn \"&A349&\"'!$H$87\",TRUE)),\"\",INDIRECT(\"'Børn \"&A349&\"'!$H$87\",TRUE)),3)","v":{"$error":"#VALUE!"}}]
["Tilsyn 97","Status:  grøn",{"$f":"COUNTIF(IF(ISERROR(INDIRECT(\"'Voksen \"&A350&\"'!$H$31\",TRUE)),\"\",INDIRECT(\"'Voksen \"&A350&\"'!$H$31\",TRUE)),1)","v":{"$error":"#VALUE!"}},{"$f":"COUNTIF(IF(ISERROR(INDIRECT(\"'Voksen \"&A350&\"'!$H$41\",TRUE)),\"\",INDIRECT(\"'Voksen \"&A350&\"'!$H$41\",TRUE)),1)","v":{"$error":"#VALUE!"}},{"$f":"COUNTIF(IF(ISERROR(INDIRECT(\"'Voksen \"&A350&\"'!$H$50\",TRUE)),\"\",INDIRECT(\"'Voksen \"&A350&\"'!$H$50\",TRUE)),1)","v":{"$error":"#VALUE!"}},{"$f":"COUNTIF(IF(ISERROR(INDIRECT(\"'Voksen \"&A350&\"'!$H$58\",TRUE)),\"\",INDIRECT(\"'Voksen \"&A350&\"'!$H$58\",TRUE)),1)","v":{"$error":"#VALUE!"}},{"$f":"COUNTIF(IF(ISERROR(INDIRECT(\"'Voksen \"&A350&\"'!$H$69\",TRUE)),\"\",INDIRECT(\"'Voksen \"&A350&\"'!$H$69\",TRUE)),1)","v":{"$error":"#VALUE!"}},{"$f":"COUNTIF(IF(ISERROR(INDIRECT(\"'Voksen \"&A350&\"'!$H$77\",TRUE)),\"\",INDIRECT(\"'Voksen \"&A350&\"'!$H$77\",TRUE)),1)","v":{"$error":"#VALUE!"}},null,null,{"$f":"COUNTIF(IF(ISERROR(INDIRECT(\"'Børn \"&A350&\"'!$H$31\",TRUE)),\"\",INDIRECT(\"'Børn \"&A350&\"'!$H$31\",TRUE)),1)","v":{"$error":"#VALUE!"}},{"$f":"COUNTIF(IF(ISERROR(INDIRECT(\"'Børn \"&A350&\"'!$H$44\",TRUE)),\"\",INDIRECT(\"'Børn \"&A350&\"'!$H$44\",TRUE)),1)","v":{"$error":"#VALUE!"}},{"$f":"COUNTIF(IF(ISERROR(INDIRECT(\"'Børn \"&A350&\"'!$H$53\",TRUE)),\"\",INDIRECT(\"'Børn \"&A350&\"'!$H$53\",TRUE)),1)","v":{"$error":"#VALUE!"}},{"$f":"COUNTIF(IF(ISERROR(INDIRECT(\"'Børn \"&A350&\"'!$H$61\",TRUE)),\"\",INDIRECT(\"'Børn \"&A350&\"'!$H$61\",TRUE)),1)","v":{"$error":"#VALUE!"}},{"$f":"COUNTIF(IF(ISERROR(INDIRECT(\"'Børn \"&A350&\"'!$H$68\",TRUE)),\"\",INDIRECT(\"'Børn \"&A350&\"'!$H$68\",TRUE)),1)","v":{"$error":"#VALUE!"}},{"$f":"COUNTIF(IF(ISERROR(INDIRECT(\"'Børn \"&A350&\"'!$H$79\",TRUE)),\"\",INDIRECT(\"'Børn \"&A350&\"'!$H$79\",TRUE)),1)","v":{"$error":"#VALUE!"}},{"$f":"COUNTIF(IF(ISERROR(INDIRECT(\"'Børn \"&A350&\"'!$H$87\",TRUE)),\"\",INDIRECT(\"'Børn \"&A350&\"'!$H$87\",TRUE)),1)","v":{"$error":"#VALUE!"}}]
["Tilsyn 97","Status:  gul",{"$f":"COUNTIF(IF(ISERROR(INDIRECT(\"'Voksen \"&A351&\"'!$H$31\",TRUE)),\"\",INDIRECT(\"'Voksen \"&A351&\"'!$H$31\",TRUE)),2)","v":{"$error":"#VALUE!"}},{"$f":"COUNTIF(IF(ISERROR(INDIRECT(\"'Voksen \"&A351&\"'!$H$41\",TRUE)),\"\",INDIRECT(\"'Voksen \"&A351&\"'!$H$41\",TRUE)),2)","v":{"$error":"#VALUE!"}},{"$f":"COUNTIF(IF(ISERROR(INDIRECT(\"'Voksen \"&A351&\"'!$H$50\",TRUE)),\"\",INDIRECT(\"'Voksen \"&A351&\"'!$H$50\",TRUE)),2)","v":{"$error":"#VALUE!"}},{"$f":"COUNTIF(IF(ISERROR(INDIRECT(\"'Voksen \"&A351&\"'!$H$58\",TRUE)),\"\",INDIRECT(\"'Voksen \"&A351&\"'!$H$58\",TRUE)),2)","v":{"$error":"#VALUE!"}},{"$f":"COUNTIF(IF(ISERROR(INDIRECT(\"'Voksen \"&A351&\"'!$H$69\",TRUE)),\"\",INDIRECT(\"'Voksen \"&A351&\"'!$H$69\",TRUE)),2)","v":{"$error":"#VALUE!"}},{"$f":"COUNTIF(IF(ISERROR(INDIRECT(\"'Voksen \"&A351&\"'!$H$77\",TRUE)),\"\",INDIRECT(\"'Voksen \"&A351&\"'!$H$77\",TRUE)),2)","v":{"$error":"#VALUE!"}},null,null,{"$f":"COUNTIF(IF(ISERROR(INDIRECT(\"'Børn \"&A351&\"'!$H$31\",TRUE)),\"\",INDIRECT(\"'Børn \"&A351&\"'!$H$31\",TRUE)),2)","v":{"$error":"#VALUE!"}},{"$f":"COUNTIF(IF(ISERROR(INDIRECT(\"'Børn \"&A351&\"'!$H$44\",TRUE)),\"\",INDIRECT(\"'Børn \"&A351&\"'!$H$44\",TRUE)),2)","v":{"$error":"#VALUE!"}},{"$f":"COUNTIF(IF(ISERROR(INDIRECT(\"'Børn \"&A351&\"'!$H$53\",TRUE)),\"\",INDIRECT(\"'Børn \"&A351&\"'!$H$53\",TRUE)),2)","v":{"$error":"#VALUE!"}},{"$f":"COUNTIF(IF(ISERROR(INDIRECT(\"'Børn \"&A351&\"'!$H$61\",TRUE)),\"\",INDIRECT(\"'Børn \"&A351&\"'!$H$61\",TRUE)),2)","v":{"$error":"#VALUE!"}},{"$f":"COUNTIF(IF(ISERROR(INDIRECT(\"'Børn \"&A351&\"'!$H$68\",TRUE)),\"\",INDIRECT(\"'Børn \"&A351&\"'!$H$68\",TRUE)),2)","v":{"$error":"#VALUE!"}},{"$f":"COUNTIF(IF(ISERROR(INDIRECT(\"'Børn \"&A351&\"'!$H$79\",TRUE)),\"\",INDIRECT(\"'Børn \"&A351&\"'!$H$79\",TRUE)),2)","v":{"$error":"#VALUE!"}},{"$f":"COUNTIF(IF(ISERROR(INDIRECT(\"'Børn \"&A351&\"'!$H$87\",TRUE)),\"\",INDIRECT(\"'Børn \"&A351&\"'!$H$87\",TRUE)),2)","v":{"$error":"#VALUE!"}}]
["Tilsyn 97","Status:  rød",{"$f":"COUNTIF(IF(ISERROR(INDIRECT(\"'Voksen \"&A352&\"'!$H$31\",TRUE)),\"\",INDIRECT(\"'Voksen \"&A352&\"'!$H$31\",TRUE)),3)","v":{"$error":"#VALUE!"}},{"$f":"COUNTIF(IF(ISERROR(INDIRECT(\"'Voksen \"&A352&\"'!$H$41\",TRUE)),\"\",INDIRECT(\"'Voksen \"&A352&\"'!$H$41\",TRUE)),3)","v":{"$error":"#VALUE!"}},{"$f":"COUNTIF(IF(ISERROR(INDIRECT(\"'Voksen \"&A352&\"'!$H$50\",TRUE)),\"\",INDIRECT(\"'Voksen \"&A352&\"'!$H$50\",TRUE)),3)","v":{"$error":"#VALUE!"}},{"$f":"COUNTIF(IF(ISERROR(INDIRECT(\"'Voksen \"&A352&\"'!$H$58\",TRUE)),\"\",INDIRECT(\"'Voksen \"&A352&\"'!$H$58\",TRUE)),3)","v":{"$error":"#VALUE!"}},{"$f":"COUNTIF(IF(ISERROR(INDIRECT(\"'Voksen \"&A352&\"'!$H$69\",TRUE)),\"\",INDIRECT(\"'Voksen \"&A352&\"'!$H$69\",TRUE)),3)","v":{"$error":"#VALUE!"}},{"$f":"COUNTIF(IF(ISERROR(INDIRECT(\"'Voksen \"&A352&\"'!$H$77\",TRUE)),\"\",INDIRECT(\"'Voksen \"&A352&\"'!$H$77\",TRUE)),3)","v":{"$error":"#VALUE!"}},null,null,{"$f":"COUNTIF(IF(ISERROR(INDIRECT(\"'Børn \"&A352&\"'!$H$31\",TRUE)),\"\",INDIRECT(\"'Børn \"&A352&\"'!$H$31\",TRUE)),3)","v":{"$error":"#VALUE!"}},{"$f":"COUNTIF(IF(ISERROR(INDIRECT(\"'Børn \"&A352&\"'!$H$44\",TRUE)),\"\",INDIRECT(\"'Børn \"&A352&\"'!$H$44\",TRUE)),3)","v":{"$error":"#VALUE!"}},{"$f":"COUNTIF(IF(ISERROR(INDIRECT(\"'Børn \"&A352&\"'!$H$53\",TRUE)),\"\",INDIRECT(\"'Børn \"&A352&\"'!$H$53\",TRUE)),3)","v":{"$error":"#VALUE!"}},{"$f":"COUNTIF(IF(ISERROR(INDIRECT(\"'Børn \"&A352&\"'!$H$61\",TRUE)),\"\",INDIRECT(\"'Børn \"&A352&\"'!$H$61\",TRUE)),3)","v":{"$error":"#VALUE!"}},{"$f":"COUNTIF(IF(ISERROR(INDIRECT(\"'Børn \"&A352&\"'!$H$68\",TRUE)),\"\",INDIRECT(\"'Børn \"&A352&\"'!$H$68\",TRUE)),3)","v":{"$error":"#VALUE!"}},{"$f":"COUNTIF(IF(ISERROR(INDIRECT(\"'Børn \"&A352&\"'!$H$79\",TRUE)),\"\",INDIRECT(\"'Børn \"&A352&\"'!$H$79\",TRUE)),3)","v":{"$error":"#VALUE!"}},{"$f":"COUNTIF(IF(ISERROR(INDIRECT(\"'Børn \"&A352&\"'!$H$87\",TRUE)),\"\",INDIRECT(\"'Børn \"&A352&\"'!$H$87\",TRUE)),3)","v":{"$error":"#VALUE!"}}]
["Tilsyn 98","Status:  grøn",{"$f":"COUNTIF(IF(ISERROR(INDIRECT(\"'Voksen \"&A353&\"'!$H$31\",TRUE)),\"\",INDIRECT(\"'Voksen \"&A353&\"'!$H$31\",TRUE)),1)","v":{"$error":"#VALUE!"}},{"$f":"COUNTIF(IF(ISERROR(INDIRECT(\"'Voksen \"&A353&\"'!$H$41\",TRUE)),\"\",INDIRECT(\"'Voksen \"&A353&\"'!$H$41\",TRUE)),1)","v":{"$error":"#VALUE!"}},{"$f":"COUNTIF(IF(ISERROR(INDIRECT(\"'Voksen \"&A353&\"'!$H$50\",TRUE)),\"\",INDIRECT(\"'Voksen \"&A353&\"'!$H$50\",TRUE)),1)","v":{"$error":"#VALUE!"}},{"$f":"COUNTIF(IF(ISERROR(INDIRECT(\"'Voksen \"&A353&\"'!$H$58\",TRUE)),\"\",INDIRECT(\"'Voksen \"&A353&\"'!$H$58\",TRUE)),1)","v":{"$error":"#VALUE!"}},{"$f":"COUNTIF(IF(ISERROR(INDIRECT(\"'Voksen \"&A353&\"'!$H$69\",TRUE)),\"\",INDIRECT(\"'Voksen \"&A353&\"'!$H$69\",TRUE)),1)","v":{"$error":"#VALUE!"}},{"$f":"COUNTIF(IF(ISERROR(INDIRECT(\"'Voksen \"&A353&\"'!$H$77\",TRUE)),\"\",INDIRECT(\"'Voksen \"&A353&\"'!$H$77\",TRUE)),1)","v":{"$error":"#VALUE!"}},null,null,{"$f":"COUNTIF(IF(ISERROR(INDIRECT(\"'Børn \"&A353&\"'!$H$31\",TRUE)),\"\",INDIRECT(\"'Børn \"&A353&\"'!$H$31\",TRUE)),1)","v":{"$error":"#VALUE!"}},{"$f":"COUNTIF(IF(ISERROR(INDIRECT(\"'Børn \"&A353&\"'!$H$44\",TRUE)),\"\",INDIRECT(\"'Børn \"&A353&\"'!$H$44\",TRUE)),1)","v":{"$error":"#VALUE!"}},{"$f":"COUNTIF(IF(ISERROR(INDIRECT(\"'Børn \"&A353&\"'!$H$53\",TRUE)),\"\",INDIRECT(\"'Børn \"&A353&\"'!$H$53\",TRUE)),1)","v":{"$error":"#VALUE!"}},{"$f":"COUNTIF(IF(ISERROR(INDIRECT(\"'Børn \"&A353&\"'!$H$61\",TRUE)),\"\",INDIRECT(\"'Børn \"&A353&\"'!$H$61\",TRUE)),1)","v":{"$error":"#VALUE!"}},{"$f":"COUNTIF(IF(ISERROR(INDIRECT(\"'Børn \"&A353&\"'!$H$68\",TRUE)),\"\",INDIRECT(\"'Børn \"&A353&\"'!$H$68\",TRUE)),1)","v":{"$error":"#VALUE!"}},{"$f":"COUNTIF(IF(ISERROR(INDIRECT(\"'Børn \"&A353&\"'!$H$79\",TRUE)),\"\",INDIRECT(\"'Børn \"&A353&\"'!$H$79\",TRUE)),1)","v":{"$error":"#VALUE!"}},{"$f":"COUNTIF(IF(ISERROR(INDIRECT(\"'Børn \"&A353&\"'!$H$87\",TRUE)),\"\",INDIRECT(\"'Børn \"&A353&\"'!$H$87\",TRUE)),1)","v":{"$error":"#VALUE!"}}]
["Tilsyn 98","Status:  gul",{"$f":"COUNTIF(IF(ISERROR(INDIRECT(\"'Voksen \"&A354&\"'!$H$31\",TRUE)),\"\",INDIRECT(\"'Voksen \"&A354&\"'!$H$31\",TRUE)),2)","v":{"$error":"#VALUE!"}},{"$f":"COUNTIF(IF(ISERROR(INDIRECT(\"'Voksen \"&A354&\"'!$H$41\",TRUE)),\"\",INDIRECT(\"'Voksen \"&A354&\"'!$H$41\",TRUE)),2)","v":{"$error":"#VALUE!"}},{"$f":"COUNTIF(IF(ISERROR(INDIRECT(\"'Voksen \"&A354&\"'!$H$50\",TRUE)),\"\",INDIRECT(\"'Voksen \"&A354&\"'!$H$50\",TRUE)),2)","v":{"$error":"#VALUE!"}},{"$f":"COUNTIF(IF(ISERROR(INDIRECT(\"'Voksen \"&A354&\"'!$H$58\",TRUE)),\"\",INDIRECT(\"'Voksen \"&A354&\"'!$H$58\",TRUE)),2)","v":{"$error":"#VALUE!"}},{"$f":"COUNTIF(IF(ISERROR(INDIRECT(\"'Voksen \"&A354&\"'!$H$69\",TRUE)),\"\",INDIRECT(\"'Voksen \"&A354&\"'!$H$69\",TRUE)),2)","v":{"$error":"#VALUE!"}},{"$f":"COUNTIF(IF(ISERROR(INDIRECT(\"'Voksen \"&A354&\"'!$H$77\",TRUE)),\"\",INDIRECT(\"'Voksen \"&A354&\"'!$H$77\",TRUE)),2)","v":{"$error":"#VALUE!"}},null,null,{"$f":"COUNTIF(IF(ISERROR(INDIRECT(\"'Børn \"&A354&\"'!$H$31\",TRUE)),\"\",INDIRECT(\"'Børn \"&A354&\"'!$H$31\",TRUE)),2)","v":{"$error":"#VALUE!"}},{"$f":"COUNTIF(IF(ISERROR(INDIRECT(\"'Børn \"&A354&\"'!$H$44\",TRUE)),\"\",INDIRECT(\"'Børn \"&A354&\"'!$H$44\",TRUE)),2)","v":{"$error":"#VALUE!"}},{"$f":"COUNTIF(IF(ISERROR(INDIRECT(\"'Børn \"&A354&\"'!$H$53\",TRUE)),\"\",INDIRECT(\"'Børn \"&A354&\"'!$H$53\",TRUE)),2)","v":{"$error":"#VALUE!"}},{"$f":"COUNTIF(IF(ISERROR(INDIRECT(\"'Børn \"&A354&\"'!$H$61\",TRUE)),\"\",INDIRECT(\"'Børn \"&A354&\"'!$H$61\",TRUE)),2)","v":{"$error":"#VALUE!"}},{"$f":"COUNTIF(IF(ISERROR(INDIRECT(\"'Børn \"&A354&\"'!$H$68\",TRUE)),\"\",INDIRECT(\"'Børn \"&A354&\"'!$H$68\",TRUE)),2)","v":{"$error":"#VALUE!"}},{"$f":"COUNTIF(IF(ISERROR(INDIRECT(\"'Børn \"&A354&\"'!$H$79\",TRUE)),\"\",INDIRECT(\"'Børn \"&A354&\"'!$H$79\",TRUE)),2)","v":{"$error":"#VALUE!"}},{"$f":"COUNTIF(IF(ISERROR(INDIRECT(\"'Børn \"&A354&\"'!$H$87\",TRUE)),\"\",INDIRECT(\"'Børn \"&A354&\"'!$H$87\",TRUE)),2)","v":{"$error":"#VALUE!"}}]
["Tilsyn 98","Status:  rød",{"$f":"COUNTIF(IF(ISERROR(INDIRECT(\"'Voksen \"&A355&\"'!$H$31\",TRUE)),\"\",INDIRECT(\"'Voksen \"&A355&\"'!$H$31\",TRUE)),3)","v":{"$error":"#VALUE!"}},{"$f":"COUNTIF(IF(ISERROR(INDIRECT(\"'Voksen \"&A355&\"'!$H$41\",TRUE)),\"\",INDIRECT(\"'Voksen \"&A355&\"'!$H$41\",TRUE)),3)","v":{"$error":"#VALUE!"}},{"$f":"COUNTIF(IF(ISERROR(INDIRECT(\"'Voksen \"&A355&\"'!$H$50\",TRUE)),\"\",INDIRECT(\"'Voksen \"&A355&\"'!$H$50\",TRUE)),3)","v":{"$error":"#VALUE!"}},{"$f":"COUNTIF(IF(ISERROR(INDIRECT(\"'Voksen \"&A355&\"'!$H$58\",TRUE)),\"\",INDIRECT(\"'Voksen \"&A355&\"'!$H$58\",TRUE)),3)","v":{"$error":"#VALUE!"}},{"$f":"COUNTIF(IF(ISERROR(INDIRECT(\"'Voksen \"&A355&\"'!$H$69\",TRUE)),\"\",INDIRECT(\"'Voksen \"&A355&\"'!$H$69\",TRUE)),3)","v":{"$error":"#VALUE!"}},{"$f":"COUNTIF(IF(ISERROR(INDIRECT(\"'Voksen \"&A355&\"'!$H$77\",TRUE)),\"\",INDIRECT(\"'Voksen \"&A355&\"'!$H$77\",TRUE)),3)","v":{"$error":"#VALUE!"}},null,null,{"$f":"COUNTIF(IF(ISERROR(INDIRECT(\"'Børn \"&A355&\"'!$H$31\",TRUE)),\"\",INDIRECT(\"'Børn \"&A355&\"'!$H$31\",TRUE)),3)","v":{"$error":"#VALUE!"}},{"$f":"COUNTIF(IF(ISERROR(INDIRECT(\"'Børn \"&A355&\"'!$H$44\",TRUE)),\"\",INDIRECT(\"'Børn \"&A355&\"'!$H$44\",TRUE)),3)","v":{"$error":"#VALUE!"}},{"$f":"COUNTIF(IF(ISERROR(INDIRECT(\"'Børn \"&A355&\"'!$H$53\",TRUE)),\"\",INDIRECT(\"'Børn \"&A355&\"'!$H$53\",TRUE)),3)","v":{"$error":"#VALUE!"}},{"$f":"COUNTIF(IF(ISERROR(INDIRECT(\"'Børn \"&A355&\"'!$H$61\",TRUE)),\"\",INDIRECT(\"'Børn \"&A355&\"'!$H$61\",TRUE)),3)","v":{"$error":"#VALUE!"}},{"$f":"COUNTIF(IF(ISERROR(INDIRECT(\"'Børn \"&A355&\"'!$H$68\",TRUE)),\"\",INDIRECT(\"'Børn \"&A355&\"'!$H$68\",TRUE)),3)","v":{"$error":"#VALUE!"}},{"$f":"COUNTIF(IF(ISERROR(INDIRECT(\"'Børn \"&A355&\"'!$H$79\",TRUE)),\"\",INDIRECT(\"'Børn \"&A355&\"'!$H$79\",TRUE)),3)","v":{"$error":"#VALUE!"}},{"$f":"COUNTIF(IF(ISERROR(INDIRECT(\"'Børn \"&A355&\"'!$H$87\",TRUE)),\"\",INDIRECT(\"'Børn \"&A355&\"'!$H$87\",TRUE)),3)","v":{"$error":"#VALUE!"}}]
["Tilsyn 99","Status:  grøn",{"$f":"COUNTIF(IF(ISERROR(INDIRECT(\"'Voksen \"&A356&\"'!$H$31\",TRUE)),\"\",INDIRECT(\"'Voksen \"&A356&\"'!$H$31\",TRUE)),1)","v":{"$error":"#VALUE!"}},{"$f":"COUNTIF(IF(ISERROR(INDIRECT(\"'Voksen \"&A356&\"'!$H$41\",TRUE)),\"\",INDIRECT(\"'Voksen \"&A356&\"'!$H$41\",TRUE)),1)","v":{"$error":"#VALUE!"}},{"$f":"COUNTIF(IF(ISERROR(INDIRECT(\"'Voksen \"&A356&\"'!$H$50\",TRUE)),\"\",INDIRECT(\"'Voksen \"&A356&\"'!$H$50\",TRUE)),1)","v":{"$error":"#VALUE!"}},{"$f":"COUNTIF(IF(ISERROR(INDIRECT(\"'Voksen \"&A356&\"'!$H$58\",TRUE)),\"\",INDIRECT(\"'Voksen \"&A356&\"'!$H$58\",TRUE)),1)","v":{"$error":"#VALUE!"}},{"$f":"COUNTIF(IF(ISERROR(INDIRECT(\"'Voksen \"&A356&\"'!$H$69\",TRUE)),\"\",INDIRECT(\"'Voksen \"&A356&\"'!$H$69\",TRUE)),1)","v":{"$error":"#VALUE!"}},{"$f":"COUNTIF(IF(ISERROR(INDIRECT(\"'Voksen \"&A356&\"'!$H$77\",TRUE)),\"\",INDIRECT(\"'Voksen \"&A356&\"'!$H$77\",TRUE)),1)","v":{"$error":"#VALUE!"}},null,null,{"$f":"COUNTIF(IF(ISERROR(INDIRECT(\"'Børn \"&A356&\"'!$H$31\",TRUE)),\"\",INDIRECT(\"'Børn \"&A356&\"'!$H$31\",TRUE)),1)","v":{"$error":"#VALUE!"}},{"$f":"COUNTIF(IF(ISERROR(INDIRECT(\"'Børn \"&A356&\"'!$H$44\",TRUE)),\"\",INDIRECT(\"'Børn \"&A356&\"'!$H$44\",TRUE)),1)","v":{"$error":"#VALUE!"}},{"$f":"COUNTIF(IF(ISERROR(INDIRECT(\"'Børn \"&A356&\"'!$H$53\",TRUE)),\"\",INDIRECT(\"'Børn \"&A356&\"'!$H$53\",TRUE)),1)","v":{"$error":"#VALUE!"}},{"$f":"COUNTIF(IF(ISERROR(INDIRECT(\"'Børn \"&A356&\"'!$H$61\",TRUE)),\"\",INDIRECT(\"'Børn \"&A356&\"'!$H$61\",TRUE)),1)","v":{"$error":"#VALUE!"}},{"$f":"COUNTIF(IF(ISERROR(INDIRECT(\"'Børn \"&A356&\"'!$H$68\",TRUE)),\"\",INDIRECT(\"'Børn \"&A356&\"'!$H$68\",TRUE)),1)","v":{"$error":"#VALUE!"}},{"$f":"COUNTIF(IF(ISERROR(INDIRECT(\"'Børn \"&A356&\"'!$H$79\",TRUE)),\"\",INDIRECT(\"'Børn \"&A356&\"'!$H$79\",TRUE)),1)","v":{"$error":"#VALUE!"}},{"$f":"COUNTIF(IF(ISERROR(INDIRECT(\"'Børn \"&A356&\"'!$H$87\",TRUE)),\"\",INDIRECT(\"'Børn \"&A356&\"'!$H$87\",TRUE)),1)","v":{"$error":"#VALUE!"}}]
["Tilsyn 99","Status:  gul",{"$f":"COUNTIF(IF(ISERROR(INDIRECT(\"'Voksen \"&A357&\"'!$H$31\",TRUE)),\"\",INDIRECT(\"'Voksen \"&A357&\"'!$H$31\",TRUE)),2)","v":{"$error":"#VALUE!"}},{"$f":"COUNTIF(IF(ISERROR(INDIRECT(\"'Voksen \"&A357&\"'!$H$41\",TRUE)),\"\",INDIRECT(\"'Voksen \"&A357&\"'!$H$41\",TRUE)),2)","v":{"$error":"#VALUE!"}},{"$f":"COUNTIF(IF(ISERROR(INDIRECT(\"'Voksen \"&A357&\"'!$H$50\",TRUE)),\"\",INDIRECT(\"'Voksen \"&A357&\"'!$H$50\",TRUE)),2)","v":{"$error":"#VALUE!"}},{"$f":"COUNTIF(IF(ISERROR(INDIRECT(\"'Voksen \"&A357&\"'!$H$58\",TRUE)),\"\",INDIRECT(\"'Voksen \"&A357&\"'!$H$58\",TRUE)),2)","v":{"$error":"#VALUE!"}},{"$f":"COUNTIF(IF(ISERROR(INDIRECT(\"'Voksen \"&A357&\"'!$H$69\",TRUE)),\"\",INDIRECT(\"'Voksen \"&A357&\"'!$H$69\",TRUE)),2)","v":{"$error":"#VALUE!"}},{"$f":"COUNTIF(IF(ISERROR(INDIRECT(\"'Voksen \"&A357&\"'!$H$77\",TRUE)),\"\",INDIRECT(\"'Voksen \"&A357&\"'!$H$77\",TRUE)),2)","v":{"$error":"#VALUE!"}},null,null,{"$f":"COUNTIF(IF(ISERROR(INDIRECT(\"'Børn \"&A357&\"'!$H$31\",TRUE)),\"\",INDIRECT(\"'Børn \"&A357&\"'!$H$31\",TRUE)),2)","v":{"$error":"#VALUE!"}},{"$f":"COUNTIF(IF(ISERROR(INDIRECT(\"'Børn \"&A357&\"'!$H$44\",TRUE)),\"\",INDIRECT(\"'Børn \"&A357&\"'!$H$44\",TRUE)),2)","v":{"$error":"#VALUE!"}},{"$f":"COUNTIF(IF(ISERROR(INDIRECT(\"'Børn \"&A357&\"'!$H$53\",TRUE)),\"\",INDIRECT(\"'Børn \"&A357&\"'!$H$53\",TRUE)),2)","v":{"$error":"#VALUE!"}},{"$f":"COUNTIF(IF(ISERROR(INDIRECT(\"'Børn \"&A357&\"'!$H$61\",TRUE)),\"\",INDIRECT(\"'Børn \"&A357&\"'!$H$61\",TRUE)),2)","v":{"$error":"#VALUE!"}},{"$f":"COUNTIF(IF(ISERROR(INDIRECT(\"'Børn \"&A357&\"'!$H$68\",TRUE)),\"\",INDIRECT(\"'Børn \"&A357&\"'!$H$68\",TRUE)),2)","v":{"$error":"#VALUE!"}},{"$f":"COUNTIF(IF(ISERROR(INDIRECT(\"'Børn \"&A357&\"'!$H$79\",TRUE)),\"\",INDIRECT(\"'Børn \"&A357&\"'!$H$79\",TRUE)),2)","v":{"$error":"#VALUE!"}},{"$f":"COUNTIF(IF(ISERROR(INDIRECT(\"'Børn \"&A357&\"'!$H$87\",TRUE)),\"\",INDIRECT(\"'Børn \"&A357&\"'!$H$87\",TRUE)),2)","v":{"$error":"#VALUE!"}}]
["Tilsyn 99","Status:  rød",{"$f":"COUNTIF(IF(ISERROR(INDIRECT(\"'Voksen \"&A358&\"'!$H$31\",TRUE)),\"\",INDIRECT(\"'Voksen \"&A358&\"'!$H$31\",TRUE)),3)","v":{"$error":"#VALUE!"}},{"$f":"COUNTIF(IF(ISERROR(INDIRECT(\"'Voksen \"&A358&\"'!$H$41\",TRUE)),\"\",INDIRECT(\"'Voksen \"&A358&\"'!$H$41\",TRUE)),3)","v":{"$error":"#VALUE!"}},{"$f":"COUNTIF(IF(ISERROR(INDIRECT(\"'Voksen \"&A358&\"'!$H$50\",TRUE)),\"\",INDIRECT(\"'Voksen \"&A358&\"'!$H$50\",TRUE)),3)","v":{"$error":"#VALUE!"}},{"$f":"COUNTIF(IF(ISERROR(INDIRECT(\"'Voksen \"&A358&\"'!$H$58\",TRUE)),\"\",INDIRECT(\"'Voksen \"&A358&\"'!$H$58\",TRUE)),3)","v":{"$error":"#VALUE!"}},{"$f":"COUNTIF(IF(ISERROR(INDIRECT(\"'Voksen \"&A358&\"'!$H$69\",TRUE)),\"\",INDIRECT(\"'Voksen \"&A358&\"'!$H$69\",TRUE)),3)","v":{"$error":"#VALUE!"}},{"$f":"COUNTIF(IF(ISERROR(INDIRECT(\"'Voksen \"&A358&\"'!$H$77\",TRUE)),\"\",INDIRECT(\"'Voksen \"&A358&\"'!$H$77\",TRUE)),3)","v":{"$error":"#VALUE!"}},null,null,{"$f":"COUNTIF(IF(ISERROR(INDIRECT(\"'Børn \"&A358&\"'!$H$31\",TRUE)),\"\",INDIRECT(\"'Børn \"&A358&\"'!$H$31\",TRUE)),3)","v":{"$error":"#VALUE!"}},{"$f":"COUNTIF(IF(ISERROR(INDIRECT(\"'Børn \"&A358&\"'!$H$44\",TRUE)),\"\",INDIRECT(\"'Børn \"&A358&\"'!$H$44\",TRUE)),3)","v":{"$error":"#VALUE!"}},{"$f":"COUNTIF(IF(ISERROR(INDIRECT(\"'Børn \"&A358&\"'!$H$53\",TRUE)),\"\",INDIRECT(\"'Børn \"&A358&\"'!$H$53\",TRUE)),3)","v":{"$error":"#VALUE!"}},{"$f":"COUNTIF(IF(ISERROR(INDIRECT(\"'Børn \"&A358&\"'!$H$61\",TRUE)),\"\",INDIRECT(\"'Børn \"&A358&\"'!$H$61\",TRUE)),3)","v":{"$error":"#VALUE!"}},{"$f":"COUNTIF(IF(ISERROR(INDIRECT(\"'Børn \"&A358&\"'!$H$68\",TRUE)),\"\",INDIRECT(\"'Børn \"&A358&\"'!$H$68\",TRUE)),3)","v":{"$error":"#VALUE!"}},{"$f":"COUNTIF(IF(ISERROR(INDIRECT(\"'Børn \"&A358&\"'!$H$79\",TRUE)),\"\",INDIRECT(\"'Børn \"&A358&\"'!$H$79\",TRUE)),3)","v":{"$error":"#VALUE!"}},{"$f":"COUNTIF(IF(ISERROR(INDIRECT(\"'Børn \"&A358&\"'!$H$87\",TRUE)),\"\",INDIRECT(\"'Børn \"&A358&\"'!$H$87\",TRUE)),3)","v":{"$error":"#VALUE!"}}]
["Tilsyn 100","Status:  grøn",{"$f":"COUNTIF(IF(ISERROR(INDIRECT(\"'Voksen \"&A359&\"'!$H$31\",TRUE)),\"\",INDIRECT(\"'Voksen \"&A359&\"'!$H$31\",TRUE)),1)","v":{"$error":"#VALUE!"}},{"$f":"COUNTIF(IF(ISERROR(INDIRECT(\"'Voksen \"&A359&\"'!$H$41\",TRUE)),\"\",INDIRECT(\"'Voksen \"&A359&\"'!$H$41\",TRUE)),1)","v":{"$error":"#VALUE!"}},{"$f":"COUNTIF(IF(ISERROR(INDIRECT(\"'Voksen \"&A359&\"'!$H$50\",TRUE)),\"\",INDIRECT(\"'Voksen \"&A359&\"'!$H$50\",TRUE)),1)","v":{"$error":"#VALUE!"}},{"$f":"COUNTIF(IF(ISERROR(INDIRECT(\"'Voksen \"&A359&\"'!$H$58\",TRUE)),\"\",INDIRECT(\"'Voksen \"&A359&\"'!$H$58\",TRUE)),1)","v":{"$error":"#VALUE!"}},{"$f":"COUNTIF(IF(ISERROR(INDIRECT(\"'Voksen \"&A359&\"'!$H$69\",TRUE)),\"\",INDIRECT(\"'Voksen \"&A359&\"'!$H$69\",TRUE)),1)","v":{"$error":"#VALUE!"}},{"$f":"COUNTIF(IF(ISERROR(INDIRECT(\"'Voksen \"&A359&\"'!$H$77\",TRUE)),\"\",INDIRECT(\"'Voksen \"&A359&\"'!$H$77\",TRUE)),1)","v":{"$error":"#VALUE!"}},null,null,{"$f":"COUNTIF(IF(ISERROR(INDIRECT(\"'Børn \"&A359&\"'!$H$31\",TRUE)),\"\",INDIRECT(\"'Børn \"&A359&\"'!$H$31\",TRUE)),1)","v":{"$error":"#VALUE!"}},{"$f":"COUNTIF(IF(ISERROR(INDIRECT(\"'Børn \"&A359&\"'!$H$44\",TRUE)),\"\",INDIRECT(\"'Børn \"&A359&\"'!$H$44\",TRUE)),1)","v":{"$error":"#VALUE!"}},{"$f":"COUNTIF(IF(ISERROR(INDIRECT(\"'Børn \"&A359&\"'!$H$53\",TRUE)),\"\",INDIRECT(\"'Børn \"&A359&\"'!$H$53\",TRUE)),1)","v":{"$error":"#VALUE!"}},{"$f":"COUNTIF(IF(ISERROR(INDIRECT(\"'Børn \"&A359&\"'!$H$61\",TRUE)),\"\",INDIRECT(\"'Børn \"&A359&\"'!$H$61\",TRUE)),1)","v":{"$error":"#VALUE!"}},{"$f":"COUNTIF(IF(ISERROR(INDIRECT(\"'Børn \"&A359&\"'!$H$68\",TRUE)),\"\",INDIRECT(\"'Børn \"&A359&\"'!$H$68\",TRUE)),1)","v":{"$error":"#VALUE!"}},{"$f":"COUNTIF(IF(ISERROR(INDIRECT(\"'Børn \"&A359&\"'!$H$79\",TRUE)),\"\",INDIRECT(\"'Børn \"&A359&\"'!$H$79\",TRUE)),1)","v":{"$error":"#VALUE!"}},{"$f":"COUNTIF(IF(ISERROR(INDIRECT(\"'Børn \"&A359&\"'!$H$87\",TRUE)),\"\",INDIRECT(\"'Børn \"&A359&\"'!$H$87\",TRUE)),1)","v":{"$error":"#VALUE!"}}]
["Tilsyn 100","Status:  gul",{"$f":"COUNTIF(IF(ISERROR(INDIRECT(\"'Voksen \"&A360&\"'!$H$31\",TRUE)),\"\",INDIRECT(\"'Voksen \"&A360&\"'!$H$31\",TRUE)),2)","v":{"$error":"#VALUE!"}},{"$f":"COUNTIF(IF(ISERROR(INDIRECT(\"'Voksen \"&A360&\"'!$H$41\",TRUE)),\"\",INDIRECT(\"'Voksen \"&A360&\"'!$H$41\",TRUE)),2)","v":{"$error":"#VALUE!"}},{"$f":"COUNTIF(IF(ISERROR(INDIRECT(\"'Voksen \"&A360&\"'!$H$50\",TRUE)),\"\",INDIRECT(\"'Voksen \"&A360&\"'!$H$50\",TRUE)),2)","v":{"$error":"#VALUE!"}},{"$f":"COUNTIF(IF(ISERROR(INDIRECT(\"'Voksen \"&A360&\"'!$H$58\",TRUE)),\"\",INDIRECT(\"'Voksen \"&A360&\"'!$H$58\",TRUE)),2)","v":{"$error":"#VALUE!"}},{"$f":"COUNTIF(IF(ISERROR(INDIRECT(\"'Voksen \"&A360&\"'!$H$69\",TRUE)),\"\",INDIRECT(\"'Voksen \"&A360&\"'!$H$69\",TRUE)),2)","v":{"$error":"#VALUE!"}},{"$f":"COUNTIF(IF(ISERROR(INDIRECT(\"'Voksen \"&A360&\"'!$H$77\",TRUE)),\"\",INDIRECT(\"'Voksen \"&A360&\"'!$H$77\",TRUE)),2)","v":{"$error":"#VALUE!"}},null,null,{"$f":"COUNTIF(IF(ISERROR(INDIRECT(\"'Børn \"&A360&\"'!$H$31\",TRUE)),\"\",INDIRECT(\"'Børn \"&A360&\"'!$H$31\",TRUE)),2)","v":{"$error":"#VALUE!"}},{"$f":"COUNTIF(IF(ISERROR(INDIRECT(\"'Børn \"&A360&\"'!$H$44\",TRUE)),\"\",INDIRECT(\"'Børn \"&A360&\"'!$H$44\",TRUE)),2)","v":{"$error":"#VALUE!"}},{"$f":"COUNTIF(IF(ISERROR(INDIRECT(\"'Børn \"&A360&\"'!$H$53\",TRUE)),\"\",INDIRECT(\"'Børn \"&A360&\"'!$H$53\",TRUE)),2)","v":{"$error":"#VALUE!"}},{"$f":"COUNTIF(IF(ISERROR(INDIRECT(\"'Børn \"&A360&\"'!$H$61\",TRUE)),\"\",INDIRECT(\"'Børn \"&A360&\"'!$H$61\",TRUE)),2)","v":{"$error":"#VALUE!"}},{"$f":"COUNTIF(IF(ISERROR(INDIRECT(\"'Børn \"&A360&\"'!$H$68\",TRUE)),\"\",INDIRECT(\"'Børn \"&A360&\"'!$H$68\",TRUE)),2)","v":{"$error":"#VALUE!"}},{"$f":"COUNTIF(IF(ISERROR(INDIRECT(\"'Børn \"&A360&\"'!$H$79\",TRUE)),\"\",INDIRECT(\"'Børn \"&A360&\"'!$H$79\",TRUE)),2)","v":{"$error":"#VALUE!"}},{"$f":"COUNTIF(IF(ISERROR(INDIRECT(\"'Børn \"&A360&\"'!$H$87\",TRUE)),\"\",INDIRECT(\"'Børn \"&A360&\"'!$H$87\",TRUE)),2)","v":{"$error":"#VALUE!"}}]
["Tilsyn 100","Status:  rød",{"$f":"COUNTIF(IF(ISERROR(INDIRECT(\"'Voksen \"&A361&\"'!$H$31\",TRUE)),\"\",INDIRECT(\"'Voksen \"&A361&\"'!$H$31\",TRUE)),3)","v":{"$error":"#VALUE!"}},{"$f":"COUNTIF(IF(ISERROR(INDIRECT(\"'Voksen \"&A361&\"'!$H$41\",TRUE)),\"\",INDIRECT(\"'Voksen \"&A361&\"'!$H$41\",TRUE)),3)","v":{"$error":"#VALUE!"}},{"$f":"COUNTIF(IF(ISERROR(INDIRECT(\"'Voksen \"&A361&\"'!$H$50\",TRUE)),\"\",INDIRECT(\"'Voksen \"&A361&\"'!$H$50\",TRUE)),3)","v":{"$error":"#VALUE!"}},{"$f":"COUNTIF(IF(ISERROR(INDIRECT(\"'Voksen \"&A361&\"'!$H$58\",TRUE)),\"\",INDIRECT(\"'Voksen \"&A361&\"'!$H$58\",TRUE)),3)","v":{"$error":"#VALUE!"}},{"$f":"COUNTIF(IF(ISERROR(INDIRECT(\"'Voksen \"&A361&\"'!$H$69\",TRUE)),\"\",INDIRECT(\"'Voksen \"&A361&\"'!$H$69\",TRUE)),3)","v":{"$error":"#VALUE!"}},{"$f":"COUNTIF(IF(ISERROR(INDIRECT(\"'Voksen \"&A361&\"'!$H$77\",TRUE)),\"\",INDIRECT(\"'Voksen \"&A361&\"'!$H$77\",TRUE)),3)","v":{"$error":"#VALUE!"}},null,null,{"$f":"COUNTIF(IF(ISERROR(INDIRECT(\"'Børn \"&A361&\"'!$H$31\",TRUE)),\"\",INDIRECT(\"'Børn \"&A361&\"'!$H$31\",TRUE)),3)","v":{"$error":"#VALUE!"}},{"$f":"COUNTIF(IF(ISERROR(INDIRECT(\"'Børn \"&A361&\"'!$H$44\",TRUE)),\"\",INDIRECT(\"'Børn \"&A361&\"'!$H$44\",TRUE)),3)","v":{"$error":"#VALUE!"}},{"$f":"COUNTIF(IF(ISERROR(INDIRECT(\"'Børn \"&A361&\"'!$H$53\",TRUE)),\"\",INDIRECT(\"'Børn \"&A361&\"'!$H$53\",TRUE)),3)","v":{"$error":"#VALUE!"}},{"$f":"COUNTIF(IF(ISERROR(INDIRECT(\"'Børn \"&A361&\"'!$H$61\",TRUE)),\"\",INDIRECT(\"'Børn \"&A361&\"'!$H$61\",TRUE)),3)","v":{"$error":"#VALUE!"}},{"$f":"COUNTIF(IF(ISERROR(INDIRECT(\"'Børn \"&A361&\"'!$H$68\",TRUE)),\"\",INDIRECT(\"'Børn \"&A361&\"'!$H$68\",TRUE)),3)","v":{"$error":"#VALUE!"}},{"$f":"COUNTIF(IF(ISERROR(INDIRECT(\"'Børn \"&A361&\"'!$H$79\",TRUE)),\"\",INDIRECT(\"'Børn \"&A361&\"'!$H$79\",TRUE)),3)","v":{"$error":"#VALUE!"}},{"$f":"COUNTIF(IF(ISERROR(INDIRECT(\"'Børn \"&A361&\"'!$H$87\",TRUE)),\"\",INDIRECT(\"'Børn \"&A361&\"'!$H$87\",TRUE)),3)","v":{"$error":"#VALUE!"}}]
[]
[]
[]
["<Vælg et tilsyn>",null,"<Vælg et tilsyn>"]

{"sheet":"Svarkategorier","index":10,"n_rows":94,"n_cols":15,"rows_kept":94,"cut":false,"hidden":true,"merged":[]}
["Svar 1 - overordnede ",null,null,"Svar - 2 overdordnede",null,null,"Svar - 3 Tilsynfører, uddybende",null,null,null,"Svar - 4 Tilsynfører, overordnede",null,null,null,"Sagstype"]
["Ja",null,null,"Nej",null,null,"Ingen handling",null,null,null,"Ingen opmærksomhed",null,null,null,"Ny sag"]
["Nej",null,null,"I lav grad",null,null,"Individuel læring",null,null,null,"Let opmærksomhed",null,null,null,"Opfølgningssag"]
["Fremgår ikke tydeligt af sagen",null,null,"I nogen grad",null,null,"Læring på gruppeniveau",null,null,null,"Særlig opmærksomhed"]
["Ikke relevant",null,null,"I høj grad",null,null,"Faglig kompetenceudvikling",null,null,null,"Ikke relevant"]
[null,null,null,"Fremgår ikke tydeligt af sagen",null,null,"Ændring af arbejdsgange"]
[null,null,null,"Ikke relevant",null,null,"Ændring af politiske beslutninger"]
[]
[]
[]
[]
[]
[]
[]
[]
[]
[]
[]
[]
[]
[]
[]
[]
[]
[]
[]
[]
[]
[]
[]
[]
[]
[]
[]
[]
[]
[]
[]
[]
[]
[]
[]
[]
[]
[]
[]
[]
[]
[]
[]
[]
[]
[]
[]
["Tilsyn 1"]
["Tilsyn 2"]
["Tilsyn 3"]
["Tilsyn 4"]
["Tilsyn 5"]
["Tilsyn 6"]
["Tilsyn 7"]
["Tilsyn 8"]
["Tilsyn 9"]
["Tilsyn 10"]
["Tilsyn 11"]
["Tilsyn 12"]
["Tilsyn 13"]
["Tilsyn 14"]
["Tilsyn 15"]
["Tilsyn 16"]
["Tilsyn 17"]
["Tilsyn 18"]
["Tilsyn 19"]
["Tilsyn 20"]
["Tilsyn 21"]
["Tilsyn 22"]
["Tilsyn 23"]
["Tilsyn 24"]
["Tilsyn 25"]
["Tilsyn 26"]
["Tilsyn 27"]
["Tilsyn 28"]
["Tilsyn 29"]
["Tilsyn 30"]
["Tilsyn 31"]
["Tilsyn 32"]
["Tilsyn 33"]
["Tilsyn 34"]
["Tilsyn 35"]
["Tilsyn 36"]
["Tilsyn 37"]
["Tilsyn 38"]
["Tilsyn 39"]
["Tilsyn 40"]

{"sheet":"Infobokse","index":11,"n_rows":127,"n_cols":5,"rows_kept":127,"cut":false,"hidden":true,"merged":[]}
[]
["Infoboks navn","Fane","Spørgsmål","Tekst"]
["Info_spm_1","Overordnet tilsyn  - opstart af sagen","Spm 2","Kommunen er forpligtet til at offentliggøre sagsbehandlingstiderne på de enkelte sagsområder  jf. RSL §3 stk. 2.","x"]
["Info_spm_2","Overordnet tilsyn  - opstart af sagen","Spm 3","Det følger af RSL § 3, stk. 2, at kommunen skal give borger skriftlig besked, såfremt den fastsatte frist ikke kan overholdes i en sag. Kommunen skal desuden give besked om, hvornår borger kan forvente en afgørelse.","x"]
["Info_spm_3","Overordnet tilsyn  - opstart af sagen","Spm 4","Kommunen skal jf. RSL §3 stk.1 behandle spørgsmål om hjælp så hurtigt som muligt (hurtighedsprincippet).","x"]
["Info_spm_4","Overordnet tilsyn  - oplysning af sagen","Spm 6","Ifølge officialprincippet (RSL § 10)  er det kommunens ansvar at sørge for, at der bliver indhentet tilstrækkelige oplysninger til, at myndigheden kan afgøre, hvilken hjælp borgeren er berettiget til, herunder også at afklare eventuelle tvivlsspørgsmål.","x"]
["Info_spm_5","Overordnet tilsyn  - oplysning af sagen","Spm 7","Ifølge FVL § 19 stk. 1 er kommunen forpligtet til at partshøre sagens part over oplysninger, som vedkommende ikke antages at være bekendt med, og som er til ugunst for den pågældende part, og er af væsentlig betydning for sagens afgørelse.","x"]
["Info_spm_6","Overordnet tilsyn  - oplysning af sagen","Spm 8","Er der foretaget en faglig vurdering, der vægter de analyserede oplysninger og kommer med en klar konklusion?","x"]
["Info_spm_7","Overordnet tilsyn  - Afgørelse","Spm 9","Parten har ikke krav på en skriftlig afgørelse. Parten har dog krav på at få en skriftlig begrundelse på en mundtlig afgørelse, såfremt parten forlanger dette, jf. FVL § 23 stk 1.","x"]
["Info_spm_8","Overordnet tilsyn  - Afgørelse","Spm 10","En begrundelse skal ifølge FVL § 24 indeholde en henvisning til de retsregler, i henhold til hvilke afgørelsen er truffet. I det omfang afgørelsen efter disse regler beror på et administrativt skøn, skal begrundelsen tillige angive de hovedhensyn, der har været bestemmende for skønsudøvelsen. Begrundelsen skal endvidere om fornødent indeholde en kort redegørelse for de oplysninger vedrørende sagens faktiske omstændigheder, som er tillagt væsentlig betydning for afgørelsen.","x"]
["Info_spm_9","Overordnet tilsyn  - Afgørelse","Spm 11","Ifølge FVL § 25, stk. 1 skal afgørelser, der ikke giver parten fuldt ud medhold, være ledsaget af en klagevejledning.","x"]
["Info_spm_10","Overordnet tilsyn  - Handleplan","Spm 12","Kommunalbestyrelsen skal i henhold til § 141, stk. 2, tilbyde at udarbejde en handleplan, når hjælpen ydes til:\n1) personer med betydelig nedsat fysisk eller psykisk funktionsevne eller\n2) personer med alvorlige sociale problemer, der ikke eller kun med betydelig støtte kan opholde sig i egen bolig, eller som i øvrigt har behov for betydelig støtte for at forbedre de personlige udviklingsmuligheder."]
["Info_spm_11","Overordnet tilsyn  - Handleplan","Spm 13","Er der udarbejdet en samlet handleplan, som omfatter alle de ydelser/indsatser, der er iværksat, inkl. støtte og indsatser fra det private og civilsamfundet. Kommunalbestyrelsen skal i henhold til § 141, stk. 2, tilbyde at udarbejde en handleplan, når hjælpen ydes til 1) personer med betydelig nedsat fysisk eller psykisk funktionsevne eller 2) personer med alvorlige sociale problemer, der ikke eller kun med betydelig støtte kan opholde sig i egen bolig, eller som i øvrigt har behov for betydelig støtte for at forbedre de personlige udviklingsmuligheder."]
["Info_spm_12","Overordnet tilsyn  - Opfølgning","Spm 14","Kommunen er ifølge Servicelovens § 148 stk. 2 forpligtet til løbende at følge de enkelte sager for at sikre sig, at hjælpen fortsat opfylder sit formål.","x"]
["Info_spm_13","Overordnet tilsyn  - Opfølgning","Spm 15","Kommunen er ifølge RSL § 5 forpligtet til at undersøge alle muligheder for hjælp inden for den sociale lovgivning.","x"]
["Info_spm_14","Overordnet tilsyn  - Notatpligt","Spm 18","Kommunen er ifølge OFL § 13 forpligtet til at føre notat om indhold af oplysninger eller vurderinger, der er af betydning for sagens afgørelse."]
["Info_spm_15","Overordnet tilsyn  - Notatpligt","Spm 19","Er der en rød tråd igennem, udredning, faglig vurdering og den trufne afgørelse."]
["Info_spm_16","Overordnet tilsyn  - Opsamling","Spm 21","Notér eventuelle bemærkninger, som du ønsker at give den konkrete rådgiver, hvis du arbejder med individuel feedback."]
["Info_spm_17","Overordnet tilsyn  - Opsamling","Spm 22","Notér eventuelle bemærkninger eller eksempler fra sagen, som du gerne vil huske i forbindelse med den efterfølgende opsamling, fordi det kan give god viden til hele medarbejdergruppen."]
["Info_spm_18","Overordnet tilsyn  - Opsamling","Spm 23","Notér dine overvejelser i forhold til hvilke dele af jeres sagsbehandling, som I bør kigge nærmere på i det udvidede tilsyn, eller som du kan se allerede nu, at I bør arbejde med en opkvalificering af."]
["Info_spm_19","Uddybende tilsyn - Borgers samarbejde med kommunne","Spm 4","Er borger klar over, hvem pågældende skal rette henvendelse til - og hvordan?"]
["Info_spm_20","Uddybende tilsyn - Borgers samarbejde med kommunne","spm 5","Er der aftaler for det videre forløb, indhentning af relevante oplysninger, behov for samtaler og møder, relevante deltagere og lignende?"]
["Info_spm_21","Uddybende tilsyn - Borgers samarbejde med kommunne","Spm 6","Evt. særlig form for kommunikation, mødested, deltagelse af bisidder og lignende"]
["Info_spm_22","Uddybende tilsyn - Borgers samarbejde med kommunne","Spm 1","Her noteres hvis der er observationer, som ikke passer ind i ovenstående spørgsmål, men som er relevante at reflektere over i et læringsperspektiv."]
["Info_spm_23","Uddybende tilsyn - Oplysning af sagen","Spm 2","Kommunen er ifølge RSL § 11 a, stk. 1 forpligtet til at indhente samtykke fra parten, forinden der indhentes oplysninger fra eksempelvis andre offentlige myndigheder, uddannelsesinstitutioner mv."]
["Info_spm_24","Uddybende tilsyn - Oplysning af sagen","Spm 3","Ifølge officialprincippet (RSL § 10) er det kommunens ansvar at sørge for, at der bliver indhentet tilstrækkelige oplysninger til, at myndigheden kan afgøre, hvilken hjælp borgeren er berettiget til, herunder også at afklare eventuelle tvivlsspørgsmål."]
["Info_spm_25","Uddybende tilsyn - Oplysning af sagen","Spm 5","For eksempel VUM"]
["Info_spm_26","Uddybende tilsyn - Oplysning af sagen","Spm 8","Både professionelt og/eller privat"]
["Info_spm_27","Uddybende tilsyn - Oplysning af sagen","Spm 9","Kommunen er ifølge RSL § 5 forpligtet til at undersøge alle muligheder for hjælp inden for den sociale lovgivning."]
["Info_spm_28","Uddybende tilsyn - Oplysning af sagen","Spm 10","Er indsatsen egnet til at løse det formål, den skal opfylde?"]
["Info_spm_29","Uddybende tilsyn - Oplysning af sagen","Spm 1","Her noteres hvis der er observationer, som ikke passer ind i ovenstående spørgsmål, men som er relevante at reflektere over i et læringsperspektiv."]
["Info_spm_30","Uddybende tilsyn - Inddragelse af borger og andre","Spm 2","Kommunen er ifølge RSL §11 a, stk. 1 forpligtet til at indhente samtykke fra parten, forinden der indhentes oplysninger fra eksempelvis andre offentlige myndigheder, uddannelsesinstitutioner mv."]
["Info_spm_31","Uddybende tilsyn - Inddragelse af borger og andre","Spm 3","Det følger af RSL § 12, at kommunen skriftligt skal vejlede borgeren om konsekvensen ved ikke at medvirke. Det er en gyldighedsbetingelse for at kunne træffe afgørelse på det foreliggende grundlag, hvis borger ikke vil medvirke."]
["Info_spm_32","Uddybende tilsyn - Inddragelse af borger og andre","Spm 7","Det følger af RSL § 4, at borgeren skal have mulighed for at medvirke ved behandlingen af sin sag. Kommunen skal tilrettelægge behandlingen af sagerne på en sådan måde, at borgeren kan udnytte denne mulighed."]
["Info_spm_33","Uddybende tilsyn - Inddragelse af borger og andre","Spm 8","Ifølge FVL § 19, stk. 1 er kommunen forpligtet til at partshøre sagens part over oplysninger, som vedkommende ikke antages at være bekendt med, og som er til ugunst for den pågældende part, og er af væsentlig betydning for sagens afgørelse."]
["Info_spm_34","Uddybende tilsyn - Inddragelse af borger og andre","Spm 1","Her noteres hvis der er observationer, som ikke passer ind i ovenstående spørgsmål, men som er relevante at reflektere over i et læringsperspektiv."]
["Info_spm_35","Uddybende tilsyn - Partsrepræsentation","Spm 2","Det følger af FVL § 8, stk. 1, at den, der er part i en sag, kan på ethvert tidspunkt af sagens behandling lade sig repræsentere eller bistå af andre."]
["Info_spm_36","Uddybende tilsyn - Partsrepræsentation","Spm 3","Det er kommunerne, der afgør, om repræsentanten skal fremlægge en skriftlig fuldmagt eller på en anden måde godtgøre, at den pågældende kan optræde som partsrepræsentant."]
["Info_spm_37","Uddybende tilsyn - Partsrepræsentation","Spm 4","Hvilke anliggender er partsrepræsentanten berettiget til at varetage - eks. udelukkende økonomiske anliggender."]
["Info_spm_38","Uddybende tilsyn - Partsrepræsentation","Spm 2","Her noteres hvis der er observationer, som ikke passer ind i ovenstående spørgsmål, men som er relevante at reflektere over i et læringsperspektiv."]
["Info_spm_39","Uddybende tilsyn - Værgemål","Spm 4","Værgemålslovens §§ 5, 6 eller 7"]
["Info_spm_40","Uddybende tilsyn - Værgemål","Spm 6","Kommunen skal, inden den afgør en sag om hjælp og støtte, sikre sig, at borgeren er i stand til at varetage sine interesser, jf. Ankestyrelsens principmeddelelse 60-17."]
["Info_spm_41","Uddybende tilsyn - Værgemål","Spm 1","Her noteres hvis der er observationer, som ikke passer ind i ovenstående spørgsmål, men som er relevante at reflektere over i et læringsperspektiv."]
["Info_spm_42","Uddybende tilsyn - Afgørelse","Spm 2","Det følger af FVL § 24, stk. 1, at en begrundelse skal angive de hovedhensyn, der har været bestemmende for skønsudøvelsen."]
["Info_spm_43","Uddybende tilsyn - Afgørelse","Spm 3","I tilfælde af, at kommunen har kvalitetsstandarder på et givent område, skal kommunen sikre sig, at der til enhver tid foretages en konkret og individuel vurdering af behovet for hjælp (forbud mod at sætte skøn under regel)."]
["Info_spm_44","Uddybende tilsyn - Afgørelse","Spm 6","Hvis der er oplysninger i sagen, som taler for et andet resultatet af kommunens vurdering, skal kommunen redegøre for, hvorfor man på trods af oplysningerne alligevel kommer frem til det angivne resultat. Det gælder både oplysninger, som borgeren selv kommer med, og oplysninger, som kommunen indhenter fx fra en læge eller som kommunen på anden vis bliver bekendt med."]
["Info_spm_45","Uddybende tilsyn - Afgørelse","Spm 7","Har kommunen overholdt det skærpede begrundelseskrav (FOU 2011-16-1)?"]
["Info_spm_46","Uddybende tilsyn - Afgørelse","Spm 9","Det følger af FVL § 25, at kommunens klagevejledning skal angive klageinstans og oplysning om fremgangsmåde ved indgivelse af klage, herunder om eventuel tidsfrist."]
["Info_spm_47","Uddybende tilsyn - Afgørelse","Spm 1","Her noteres hvis der er observationer, som ikke passer ind i ovenstående spørgsmål, men som er relevante at reflektere over i et læringsperspektiv."]
["Info_spm_48","Uddybende tilsyn - Handleplan","Spm 2","Er der udarbejdet en samlet handleplan, som omfatter alle de ydelser/indsatser, der er iværksat, inkl. støtte og indsatser fra det private og civilsamfundet. Kommunalbestyrelsen skal i henhold til § 141, stk. 2, tilbyde at udarbejde en handleplan, når hjælpen ydes til\n1) personer med betydelig nedsat fysisk eller psykisk funktionsevne eller\n2) personer med alvorlige sociale problemer, der ikke eller kun med betydelig støtte kan opholde sig i egen bolig, eller som i øvrigt har behov for betydelig støtte for at forbedre de personlige udviklingsmuligheder."]
["Info_spm_49","Uddybende tilsyn - Handleplan","Spm 3","Jf. Servicelovens § 141, stk. 3. skal handleplanen angive:\n1) formålet med indsatsen,\n2) hvilken indsats der er nødvendig for at opnå formålet,\n3) den forventede varighed af indsatsen og\n4) andre særlige forhold vedrørende boform, beskæftigelse, personlig hjælp, behandling, hjælpemidler m.v.\nStk. 4. Handleplanen bør udarbejdes ud fra borgerens forudsætninger og så vidt muligt i samarbejde med denne."]
["Info_spm_50","Uddybende tilsyn - Handleplan","Spm 7","Er indsatsen kompenserende eller forandringsskabende? Ses der hvilke behov, der er de mest aktuelle og vigtige, at der sættes mål for?"]
["Info_spm_51","Uddybende tilsyn - Handleplan","Spm 11","Er målene i handleplanen formuleret og prioriteret i tæt samarbejde med borgeren."]
["Info_spm_52","Uddybende tilsyn - Handleplan","Spm 1","Her noteres hvis der er observationer, som ikke passer ind i ovenstående spørgsmål, men som er relevante at reflektere over i et læringsperspektiv."]
["Info_spm_53","Uddybende tilsyn - Opfølgning","Spm 2","Kommunen er ifølge servicelovens § 148, stk. 2 forpligtet til løbende at følge de enkelte sager for at sikre sig, at hjælpen fortsat opfylder sit formål."]
["Info_spm_54","Uddybende tilsyn - Opfølgning","Spm 3","Det følger af RSL § 4, at borgeren skal have mulighed for at medvirke ved behandlingen af sin sag. Kommunen skal tilrettelægge behandlingen af sagerne på en sådan måde, at borgeren kan udnytte denne mulighed."]
["Info_spm_55","Uddybende tilsyn - Opfølgning","Spm 7","Dette kan eksempelvis være statusudtalelser fra udfører, familie, sygehus, institution/skole."]
["Info_spm_56","Uddybende tilsyn - Opfølgning","Spm 11","Kommunen er ifølge RSL § 5 forpligtet til at undersøge alle muligheder for hjælp inden for den sociale lovgivning."]
["Info_spm_57","Uddybende tilsyn - Opfølgning","Spm 13","Kommunen er ifølge servicelovens § 148, stk. 2 forpligtet til løbende at følge de enkelte sager for at sikre sig, at hjælpen fortsat opfylder sit formål."]
["Info_spm_58","Uddybende tilsyn - Opfølgning","Spm 12","Her noteres hvis der er observationer, som ikke passer ind i ovenstående spørgsmål, men som er relevante at reflektere over i et læringsperspektiv."]
["Info_spm_59","B&U Overordnet tilsyn  - opstart af sagen","Spm 2","Kommunen er forpligtet til at offentliggøre sagsbehandlingstiderne på de enkelte sagsområder  jf. RSL §3 stk. 2."]
["Info_spm_60","B&U Overordnet tilsyn  - opstart af sagen","Spm 3","Det følger af RSL § 3, stk. 2, at kommunen skal give borger skriftlig besked, såfremt den fastsatte frist ikke kan overholdes i en sag. Kommunen skal desuden give besked om, hvornår borger kan forvente en afgørelse."]
["Info_spm_61","B&U Overordnet tilsyn  - opstart af sagen","Spm 4","Kommunen skal jf. RSL §3 stk.1 behandle spørgsmål om hjælp så hurtigt som muligt (hurtighedsprincippet)."]
["Info_spm_62","B&U Overordnet tilsyn  - Oplysning af sagen og faglig udredning","Spm 8","Ifølge officialprincippet (RSL § 10)  er det kommunens ansvar at sørge for, at der bliver indhentet tilstrækkelige oplysninger til, at myndigheden kan afgøre, hvilken hjælp borgeren er berettiget til, herunder også at afklare eventuelle tvivlsspørgsmål."]
["Info_spm_63","B&U Overordnet tilsyn  - Oplysning af sagen og faglig udredning","Spm 9","Ifølge FVL § 19 stk. 1 er kommunen forpligtet til at partshøre sagens part over oplysninger, som vedkommende ikke antages at være bekendt med, og som er til ugunst for den pågældende part, og er af væsentlig betydning for sagens afgørelse."]
["Info_spm_64","B&U Overordnet tilsyn  - Oplysning af sagen og faglig udredning","Spm 12","Er der foretaget en faglig vurdering, der vægter de analyserede oplysninger og kommer med en klar konklusion?","x"]
["Info_spm_65","B&U Overordnet tilsyn  - Afgørelse","Spm 9","Parten har ikke krav på en skriftlig afgørelse. Parten har dog krav på at få en skriftlig begrundelse på en mundtlig afgørelse, såfremt parten forlanger dette, jf. FVL § 23 stk 1."]
["Info_spm_66","B&U Overordnet tilsyn  - Afgørelse","Spm 10","En begrundelse skal ifølge FVL § 24 indeholde en henvisning til de retsregler, i henhold til hvilke afgørelsen er truffet. I det omfang afgørelsen efter disse regler beror på et administrativt skøn, skal begrundelsen tillige angive de hovedhensyn, der har været bestemmende for skønsudøvelsen. Begrundelsen skal endvidere om fornødent indeholde en kort redegørelse for de oplysninger vedrørende sagens faktiske omstændigheder, som er tillagt væsentlig betydning for afgørelsen."]
["Info_spm_67","B&U Overordnet tilsyn  - Afgørelse","Spm 11","Ifølge FVL § 25, stk. 1 skal afgørelser, der ikke giver parten fuldt ud medhold, være ledsaget af en klagevejledning."]
["Info_spm_68","B&U - Overordnet tilsyn  - Handleplan","Spm 12","På børnehandicapområdet er der ikke et lovkrav om, at der udarbejdes en handleplan for handicapkompenserende ydelser."]
["Info_spm_69","B&U Overordnet tilsyn  - Opfølgning","Spm 14","Kommunen er ifølge barnets lov § 156 forpligtet til løbende at følge de enkelte sager for at sikre sig, at hjælpen fortsat opfylder sit formål."]
["Info_spm_70","B&U Overordnet tilsyn  - Opfølgning","Spm 15","Kommunen er ifølge RSL § 5 forpligtet til at undersøge alle muligheder for hjælp inden for den sociale lovgivning."]
["Info_spm_71","B&U Overordnet tilsyn  - Notatpligt","Spm 18","Kommunen er ifølge OFL § 13 forpligtet til at føre notat om indhold af oplysninger eller vurderinger, der er af betydning for sagens afgørelse."]
["Info_spm_72","B&U Overordnet tilsyn  - Notatpligt","Spm 19","Er der en rød tråd igennem, udredning, faglig vurdering og den trufne afgørelse?"]
["Info_spm_73","B&U Overordnet tilsyn  - Opsamling","Spm 21","Notér eventuelle bemærkninger, som du ønsker at give den konkrete rådgiver, hvis du arbejder med individuel feedback."]
["Info_spm_74","B&U Overordnet tilsyn  - Opsamling","Spm 22","Notér eventuelle bemærkninger eller eksempler fra sagen, som du gerne vil huske i forbindelse med den efterfølgende opsamling, fordi det kan give god viden til hele medarbejdergruppen."]
["Info_spm_75","B&U Overordnet tilsyn  - Opsamling","Spm 23","Notér dine overvejelser i forhold til hvilke dele af jeres sagsbehandling, som I bør kigge nærmere på i det udvidede tilsyn, eller som du kan se allerede nu, at I bør arbejde med en opkvalificering af."]
["Info_spm_76","Uddybende tilsyn - Samarbejde med kommunen","Spm 2","Er borger klar over, hvem pågældende skal rette henvendelse til - og hvordan?"]
["Info_spm_77","Uddybende tilsyn - Samarbejde med kommunen","Spm 4","Er der aftaler for det videre forløb, indhentning af relevante oplysninger, behov for (børne-) samtaler og møder, relevante deltagere og lignende?"]
["Info_spm_78","Uddybende tilsyn - Samarbejde med kommunen","Spm 5","Eventuelt særlig form for kommunikation, mødested, deltagelse af bisidder og lignende."]
["Info_spm_79","Uddybende tilsyn - Samarbejde med kommunen","Spm 6","Her noteres hvis der er observationer, som ikke passer ind i ovenstående spørgsmål, men som er relevante at reflektere over i et læringsperspektiv."]
["Info_spm_80","Uddybende tilsyn - Oplysning af sagen samt faglig udredning og vurdering","Spm 1","Kommunen er ifølge RSL § 11 a, stk. 1 forpligtet til at indhente samtykke fra parten, forinden der indhentes oplysninger fra eksempelvis andre offentlige myndigheder, uddannelsesinstitutioner mv."]
["Info_spm_81","Uddybende tilsyn - Oplysning af sagen samt faglig udredning og vurdering","Spm 2","Ifølge officialprincippet (RSL § 10) er det kommunens ansvar at sørge for, at der bliver indhentet tilstrækkelige oplysninger til, at myndigheden kan afgøre, hvilken hjælp borgeren er berettiget til, herunder også at afklare eventuelle tvivlsspørgsmål."]
["Info_spm_82","Uddybende tilsyn - Oplysning af sagen samt faglig udredning og vurdering","Spm 3","Det er på børnehandicapområdet ikke et krav, at der gøres brug af udredningsværktøjet."]
["Info_spm_83","Uddybende tilsyn - Oplysning af sagen samt faglig udredning og vurdering","Spm 4","Ifølge officialprincippet (RSL § 10) er det kommunens ansvar at sørge for, at der bliver indhentet tilstrækkelige oplysninger til, at myndigheden kan afgøre, hvilken hjælp borgeren er berettiget til, herunder også at afklare eventuelle tvivlsspørgsmål."]
["Info_spm_84","Uddybende tilsyn - Oplysning af sagen samt faglig udredning og vurdering","Spm 6","Kommunen er ifølge RSL § 5 forpligtet til at undersøge alle muligheder for hjælp inden for den sociale lovgivning."]
["Info_spm_85","Uddybende tilsyn - Oplysning af sagen samt faglig udredning og vurdering","Spm 7","Her noteres hvis der er observationer, som ikke passer ind i ovenstående spørgsmål, men som er relevante at reflektere over i et læringsperspektiv."]
["Info_spm_86","Uddybende tilsyn - Inddragelse af barnet, forældrene og andre","Spm 1","Kommunen er ifølge RSL § 11 a, stk. 1 forpligtet til at indhente samtykke fra parten, forinden der indhentes oplysninger fra eksempelvis andre offentlige myndigheder, uddannelsesinstitutioner mv."]
["Info_spm_87","Uddybende tilsyn - Inddragelse af barnet, forældrene og andre","Spm 2","Det følger af RSL § 12, at kommunen skriftligt skal vejlede forældrene om konsekvensen ved ikke at medvirke. Det er en gyldighedsbetingelse for at kunne træffe afgørelse på det foreliggende grundlag i medfør af RSL § 11 b, hvis borger ikke vil medvirke."]
["Info_spm_88","Uddybende tilsyn - Inddragelse af barnet, forældrene og andre","Spm 3","Det følger af RSL § 4, at borgeren skal have mulighed for at medvirke ved behandlingen af sin sag. Kommunen skal tilrettelægge behandlingen af sagerne på en sådan måde, at borgeren kan udnytte denne mulighed."]
["Info_spm_89","Uddybende tilsyn - Inddragelse af barnet, forældrene og andre","Spm 7","Ifølge FVL § 19, stk. 1 er kommunen forpligtet til at partshøre sagens part over oplysninger, som vedkommende ikke antages at være bekendt med, og som er til ugunst for den pågældende part og er af væsentlig betydning for sagens afgørelse."]
["Info_spm_90","Uddybende tilsyn - Inddragelse af barnet, forældrene og andre","Spm 8","Her noteres hvis der er observationer, som ikke passer ind i ovenstående spørgsmål, men som er relevante at reflektere over i et læringsperspektiv."]
["Info_spm_91","Uddybende tilsyn - Partsrepræsentation","Spm 1","Det følger af FVL § 8, stk. 1, at den der er part i en sag, kan på ethvert tidspunkt af sagens behandling lade sig repræsentere eller bistå af andre."]
["Info_spm_92","Uddybende tilsyn - Partsrepræsentation","Spm 2","Det er kommunen, der afgør, om repræsentanten skal fremlægge en skriftlig fuldmagt eller på anden måde godtgøre, at den pågældende kan optræde som partsrepræsentant."]
["Info_spm_93","Uddybende tilsyn - Partsrepræsentation","Spm 3","Hvilke anliggender er partsrepræsentanten berettiget til at varetage - eksempelvis udelukkende økonomiske anliggender?"]
["Info_spm_94","Uddybende tilsyn - Partsrepræsentation","Spm 4","Her noteres hvis der er observationer, som ikke passer ind i ovenstående spørgsmål, men som er relevante at reflektere over i et læringsperspektiv."]
["Info_spm_95","Uddybende tilsyn - Afgørelsens begrundelse","Spm 1","Det følger af FVL § 24, stk. 1, at en begrundelse skal angive de hovedhensyn, der har været bestemmende for skønsudøvelsen."]
["Info_spm_96","Uddybende tilsyn - Afgørelsens begrundelse","Spm 2","I tilfælde af at kommunen har kvalitetsstandarder på det givne område, skal kommunen sikre, at der til enhver tid foretages en konkret og individuel vurdering af behovet for hjælp (forbud mod at sætte skøn under regel)."]
["Info_spm_97","Uddybende tilsyn - Afgørelsens begrundelse","Spm 3","Hvis der er oplysninger i sagen, som taler for et andet resultatet af kommunens vurdering, skal kommunen redegøre for, hvorfor man på trods af oplysningerne alligevel kommer frem til det angivne resultat. Det gælder både oplysninger, som borgeren selv kommer med, og oplysninger, som kommunen indhenter fx fra en læge eller som kommunen på anden vis bliver bekendt med."]
["Info_spm_98","Uddybende tilsyn - Afgørelsens begrundelse","Spm 6","Har kommunen overholdt det skærpede begrundelseskrav (FOU 2011-16-1)?"]
["Info_spm_99","Uddybende tilsyn - Afgørelsens begrundelse","Spm 7","Det følger af FVL § 25, at kommunens klagevejledning skal angive klageinstans og oplysning om fremgangsmåde ved indgivelse af klage, herunder om eventuel tidsfrist."]
["Info_spm_100","Uddybende tilsyn - Afgørelsens begrundelse","Spm 9","Her noteres hvis der er observationer, som ikke passer ind i ovenstående spørgsmål, men som er relevante at reflektere over i et læringsperspektiv."]
["Info_spm_101","Uddybende tilsyn - Frivillig handleplan","Spm 1","På børnehandicapområdet er der ikke et lovkrav om, at der udarbejdes en handleplan for handicapkompenserende ydelser."]
["Info_spm_102","Uddybende tilsyn - Frivillig handleplan","Spm 2","Ifølge barnets lov § 32, stk. 3 skal afgørelsen angive formålet med indsatsen og forventet varighed."]
["Info_spm_103","Uddybende tilsyn - Frivillig handleplan","Spm 6","Er målene formuleret og prioriterede i tæt samarbejde med barnet og familien?"]
["Info_spm_104","Uddybende tilsyn - Frivillig handleplan","Spm 11","Her noteres hvis der er observationer, som ikke passer ind i ovenstående spørgsmål, men som er relevante at reflektere over i et læringsperspektiv."]
["Info_spm_105","Uddybende tilsyn - Opfølgning","Spm 1","Kommunen er ifølge barnets lov § 156, stk. 2 forpligtet til løbende at følge de enkelte sager for at sikre sig, at hjælpen fortsat opfylder sit formål."]
["Info_spm_106","Uddybende tilsyn - Opfølgning","Spm 2","Det følger af RSL § 4, at borgeren skal have mulighed for at medvirke ved behandlingen af sin sag. Kommunen skal tilrettelægge behandlingen af sagerne på en sådan måde, at borgeren kan udnytte denne mulighed."]
["Info_spm_107","Uddybende tilsyn - Opfølgning","Spm 3","Dette kan eksempelvis være statusudtalelser fra udfører, familie, sygehus, institution/skole."]
["Info_spm_108","Uddybende tilsyn - Opfølgning","Spm 8","Kommunen er ifølge RSL § 5 forpligtet til at undersøge alle muligheder for hjælp inden for den sociale lovgivning."]
["Info_spm_109","Uddybende tilsyn - Opfølgning","Spm 12","Her noteres hvis der er observationer, som ikke passer ind i ovenstående spørgsmål, men som er relevante at reflektere over i et læringsperspektiv."]
["Info_spm_110","Uddybende tilsyn - Opsamling","Spm 2","Notér eventuelle bemærkninger, som du ønsker at give den konkrete rådgiver ved individuel feedback."]
["Info_spm_111","Uddybende tilsyn - Opsamling","Spm 3","Notér eventuelle bemærkninger eller eksempler fra sagen, som du gerne vil huske i forbindelse med den efterfølgende opsamling, fordi det kan give god viden til hele medarbejdergruppen."]
["Info_spm_112","Uddybende tilsyn - Opsamling","Spm 4","Notér dine overvejelser i forhold til fælles opkvalificering af sagsbehandlingen, ændringer i sagsbehandlingsprocedure og lignende."]
["Info_spm_113","B&U Overordnet tilsyn  - Oplysning af sagen og faglig udredning","Spm 6","Ifølge barnets lov § 18, stk. 1 skal alle sager screenes."]
["Info_spm_114","B&U Overordnet tilsyn  - Oplysning af sagen og faglig udredning","Spm 10","Ifølge barnets lov § 5, stk. 1-3."]
["Info_spm_115","Uddybende tilsyn - Inddragelse af barnet, forældrene og andre","spm 16","Det følger af barnets lov § 5, stk. 1, at barnet eller den unge har ret til inddragelse.\nIfølge § 5, stk. 2 har barnet eller den unge ret til indflydelse på de forhold, som vedrører dem.\nIfølge barnets lov § 5, stk. 3 skal barnets eller den unges holdning og synspunkter tilvejebringes og inddrages løbende ved samtaler og anden direkte kontakt, inden der træffes beslutninger eller afgørelser.\n"]
["Info_spm_116","Uddybende tilsyn - Inddragelse af barnet, forældrene og andre","spm 21","Det følger af barnets lov § 5, stk. 4, at kravet om samtaler og anden direkte kontakt kun i helt særlige tilfælde helt eller delvist kan fraviges."]
["Info_spm_117","VOK Overordnet tilsyn  - Opsamling på det overordnet tilsyn","Opsamling","Emner i det uddybende ledelsetilsyn, som du med fordel kan arbejde videre med inden for de forskellige temaer.\n\nVed \"Opstart af sagen\" kan du arbejde videre med \n- Samarbejde med kommunen, \n- Partsrepræsentation og \n- Værgemål\n\nVed \"Oplysning af sagen samt faglige udredning og vurdering\" kan du arbejde videre med\n- Oplysning af sagen samt faglige udredning og vurdering og\n- Inddragelse af borger og andre\n\nVed \"Afgørelse\" kan du arbejde videre med\n- Afgørelse\n\nVed \"Handleplan\" kan du arbejde videre med\n- Handleplan\n\nVed \"Opfølgning\" kan du arbejde videre med\n- Opfølgning"]
["Info_spm_118","B&U Overordnet tilsyn  - Opsamling på det overordnet tilsyn","Opsamling","Emner i det uddybende ledelsetilsyn, som du med fordel kan arbejde videre med inden for de forskellige temaer.\n\nVed \"Opstart af sagen\" kan du arbejde videre med \n- Samarbejde med kommunen og\n- Partsrepræsentation\n\nVed \"Oplysning af sagen samt faglige udredning og vurdering\" kan du arbejde videre med\n- Oplysning af sagen samt faglige udredning og vurdering og\n- Inddragelse af barnet, forældrene og andre\n\nVed \"Afgørelse\" kan du arbejde videre med\n- Afgørelse\n\nVed \"Barnets plan / Ungeplan\" kan du arbejde videre med\n- Barnets plan / Ungeplan\n\nVed \"Opfølgning\" kan du arbejde videre med\n- Opfølgning"]
["Info_spm_119","Overordnet tilsyn  - oplysning af sagen",null,"Borgeren dækker i denne sammenhæng over både borger, værge eller partsrepræsentant."]
["Info_spm_120","Overordnet tilsyn  - Opfølgning",null,"Borgeren dækker i denne sammenhæng over både borger, værge eller partsrepræsentant."]
["Info_spm_121","VOK uddybende tilsyn - Oplysning af sagen","spm 7","Her kan du finde nyttig viden i analysemodellen VUM 2.0. \nSe https://www.sbst.dk/Media/638150773469000124/Analysemodellen%20i%20VUM%202%200%201.pdf"]
["Info_spm_122","VOK uddybende tilsyn - Opfølgning","spm 7","Her kan du finde nyttig viden i analysemodellen VUM 2.0. \nSe https://www.sbst.dk/Media/638150773469000124/Analysemodellen%20i%20VUM%202%200%201.pdf"]
["Info_spm_123","Uddybende tilsyn - Oplysning af sagen samt faglig udredning og vurdering","spm 4","Eksempler på private netværk: forældre, bedsteforældre, samlever, etc.\nEksempler på professionelle netværk: fagpersoner fra f.eks. Sundhedsvæsenet, PPR, skole og/eller dagtilbud."]
["Info_spm_124","Uddybende tilsyn - Inddragelse af borgeren og andre",null,"Kommunen er jf. FVL § 19, stk. 1 forpligtet til at partshøre sagens part om oplysninger, som \n1) er til ugunst for parten, \n2) inddrages i vurderingen af sagen og \n3) parten ikke kan antages at være bekendt med."]
["Info_spm_125","VOK uddybende tilsyn - Inddragelse af borgeren og andre",null,"Kommunen er jf. FVL § 19, stk. 1 forpligtet til at partshøre sagens part om oplysninger, som \n1) er til ugunst for parten, \n2) inddrages i vurderingen af sagen og \n3) parten ikke kan antages at være bekendt med."]